{"text_format":"1","workbook":"xlsx","n_sheets":55,"sheets":["Definitions","Liste_onglets","Macros","MenuConfig","MenuConfig ","Onglet_AP_Action_plan","Onglet_AP_Database_actions","Onglet_AP_Fiche_SPL","Onglet_AP_materiality","Onglet_AP_progress","Onglet_AP_translation","Onglet_Consult_Database","Onglet_consult_dataset","Onglet_consult_graph","Onglet_consult_itw","Onglet_consult_Panel","Onglet_consult_Panel_graph","Onglet_Consult_Progress","Onglet_consult_translation","Onglet_consult_upload","Onglet_corresponding_table","Onglet_Gap_P1","Onglet_Gap_P2","Onglet_Gap_P3","Onglet_Gap_P4","Onglet_Gap_Table","Onglet_mapping_database","Onglet_mapping_import_param","Onglet_mapping_matrix","Onglet_mapping_matrix_single","Onglet_mapping_parameters","Onglet_Mapping_progress","Onglet_Mapping_SEP","Onglet_mapping_SHlist","Onglet_Parameters","Onglet_SRR_database","Onglet_SRR_dataset","Onglet_SRR_Gov","Onglet_SRR_graph","Onglet_SRR_P1","Onglet_SRR_P2","Onglet_SRR_P3","Onglet_SRR_progress","Onglet_SRR_Rules","Onglet_SRR_scales","Onglet_SRR_scoringmodel","Onglet_SRR_Table","Onglet_texte_vba","Onglet_trad_menus","Onglet_trad_msg","Onglet_trad_vba","Onglet_uploads","Progress_dataset","Raccourcis","table"],"not_rendered":{"charts":38,"images":7,"macros":1,"external_links":0,"defined_names":135,"comments":0,"pivot_tables":0},"unopened":[],"bounds":{"document_bytes":16777216,"sheet_cells":100000,"rows_first":2000,"rows_last":500,"rows_between":2000,"halvings":0,"cell_chars":16384,"cell_head_chars":4096},"cells_cut":0,"cells_raw":0,"read":"whole","date_system":"1900"}

{"sheet":"Definitions","index":0,"n_rows":10,"n_cols":7,"rows_kept":10,"cut":false,"hidden":false,"merged":[]}
[]
[]
[null,null,"Current",null,"EN","FR","SP"]
[]
[null,"Introduction",{"$f":"_xlfn.IFS(Language=\"EN\",E5,Language=\"FR\",F5,Language=\"SP\",G5)","v":"The importance of dialogue for TotalEnergies is acknowledged in the following reference documents :\n▪In line with the Code of Conduct, the HSEQ Charter (CR-GR-HSE-001) places listening and dialogue with all of its stakeholders among its priorities. \n▪Expectation 01.07 of the Company Rule  One Maestro Expectations (CR-GR-HSE-001) implies that \"the relevant stakeholders are identified and mapped. Open, transparent and structured dialogue is established and maintained  in order to provide these stakeholder with information regarding the relevant HSE risks\".\n▪The Company Rule Stakeholder Management and Local Impact (CR-GR-HSE-412) requires the establishment of a structured stakeholder engagement process, based on stakeholder mapping. \n▪ Within \"Our 5 levers for a sustainable change\", Lever 4 - Our Communities mentions : \"I know the residents of my site and my stakeholders; I engage in and maintain a constructive dialogue with them, including through the careful handling of complaints. I anticipate this dialogue from the design of a new project\"\n\nIn line with CR-GR-HSE-412, the stakeholder dialogue mapping and planning tool allows:\n- the identification, mapping and prioritization of stakeholders according to their level of expectations and their potential influence;\n- the development of a simplified Stakeholder Engagement Plan.\n\nGM-GR-HSE-493 Community Stakeholder Engagement describes the stakeholder mapping process and recommendations for establishing a Stakeholder Engagement Plan."},null,"The importance of dialogue for TotalEnergies is acknowledged in the following reference documents :\n▪In line with the Code of Conduct, the HSEQ Charter (CR-GR-HSE-001) places listening and dialogue with all of its stakeholders among its priorities. \n▪Expectation 01.07 of the Company Rule  One Maestro Expectations (CR-GR-HSE-001) implies that \"the relevant stakeholders are identified and mapped. Open, transparent and structured dialogue is established and maintained  in order to provide these stakeholder with information regarding the relevant HSE risks\".\n▪The Company Rule Stakeholder Management and Local Impact (CR-GR-HSE-412) requires the establishment of a structured stakeholder engagement process, based on stakeholder mapping. \n▪ Within \"Our 5 levers for a sustainable change\", Lever 4 - Our Communities mentions : \"I know the residents of my site and my stakeholders; I engage in and maintain a constructive dialogue with them, including through the careful handling of complaints. I anticipate this dialogue from the design of a new project\"\n\nIn line with CR-GR-HSE-412, the stakeholder dialogue mapping and planning tool allows:\n- the identification, mapping and prioritization of stakeholders according to their level of expectations and their potential influence;\n- the development of a simplified Stakeholder Engagement Plan.\n\nGM-GR-HSE-493 Community Stakeholder Engagement describes the stakeholder mapping process and recommendations for establishing a Stakeholder Engagement Plan."," L'importance du dialogue pour TotalEnergies est reconnue dans les documents de référence suivants :\r\n▪En cohérence avec le Code de conduite, la Charte HSEQ (CR-GR-HSE-001) place l'écoute et le dialogue avec l'ensemble de ses parties prenantes parmi ses priorités.\r\nL'attente 01.07 de la règle d'entreprise One Maestro Expectations (CR-GR-HSE-001) implique que \"les parties prenantes pertinentes sont identifiées et cartographiées. Un dialogue ouvert, transparent et structuré est établi et maintenu afin de fournir à ces parties prenantes des informations concernant les risques SSE pertinents\".\r\n▪La règle d'entreprise Gestion des parties prenantes et impact local (CR-GR-HSE-412) exige la mise en place d'un processus structuré d'engagement des parties prenantes, basé sur la cartographie des parties prenantes.\r\n▪ Au sein de \"Nos 5 leviers pour un changement durable\", le levier 4 - Nos communautés mentionne : \"Je connais les résidents de mon site et mes parties prenantes ; j'engage et je maintiens un dialogue constructif avec eux, y compris par un traitement attentif des plaintes. J'anticipe ce dialogue dès la conception d'un nouveau projet\".\r\n\r\nConformément à la CR-GR-HSE-412, l'outil de planification et de cartographie du dialogue avec les parties prenantes permet :\r\n- l'identification, la cartographie et la hiérarchisation des parties prenantes en fonction de leur niveau d'attente et de leur influence potentielle ;\r\n- l'élaboration d'un plan simplifié d'engagement des parties prenantes.\r\n\r\nGM-GR-HSE-493 Community Stakeholder Engagement décrit le processus de cartographie des parties prenantes et les recommandations pour l'établissement d'un plan d'engagement des parties prenantes."]
[]
[null,"Methodo",{"$f":"_xlfn.IFS(Language=\"EN\",E7,Language=\"FR\",F7,Language=\"SP\",G7)","v":"The steps are as follows:\n1. Stakeholder mapping\n1.1. Identification:\n▪Gather all the relevant personnel within your entity (Management, Public and Government  Affairs, Operations, HSE, Communication, etc.).\n▪Identify the names of the stakeholders (entity and/or individual).\n▪Categorize stakeholders: Authorities, Businesses, Communities, Civil Society.\n1.2. Analysis / Prioritization:\n▪Assess together the level of potential influence and the level of expectations of each stakeholder (prioritization).\n▪For each stakeholder, identify a focal point within the entity.\n1.3. Mapping:\n▪The results will be visually consolidated in a 4x4 matrix in the “MAPPING” tab."},null,"The steps are as follows:\n1. Stakeholder mapping\n1.1. Identification:\n▪Gather all the relevant personnel within your entity (Management, Public and Government  Affairs, Operations, HSE, Communication, etc.).\n▪Identify the names of the stakeholders (entity and/or individual).\n▪Categorize stakeholders: Authorities, Businesses, Communities, Civil Society.\n1.2. Analysis / Prioritization:\n▪Assess together the level of potential influence and the level of expectations of each stakeholder (prioritization).\n▪For each stakeholder, identify a focal point within the entity.\n1.3. Mapping:\n▪The results will be visually consolidated in a 4x4 matrix in the “MAPPING” tab.","Les étapes sont les suivantes\r\n1. Cartographie des parties prenantes\r\n1.1. Identification :\r\n▪Rassemblez tout le personnel concerné au sein de votre entité (direction, affaires publiques et gouvernementales, opérations, HSE, communication, etc.)\r\n▪Identifier les noms des parties prenantes (entité et/ou individu).\r\n▪Catégoriser les parties prenantes : Autorités, Entreprises, Communautés, Société civile.\r\n1.2. Analyse / hiérarchisation :\r\n▪Évaluer ensemble le niveau d'influence potentielle et le niveau d'attentes de chaque partie prenante (priorisation).\r\n▪Pour chaque partie prenante, identifier un point focal au sein de l'entité.\r\n1.3. Cartographie :\r\n▪Les résultats seront consolidés visuellement dans une matrice 4x4 dans l'onglet MAPPING\".\""]
[]
[]
[null,"Checklist",{"$f":"_xlfn.IFS(Language=\"EN\",E10,Language=\"FR\",F10,Language=\"SP\",G10)","v":"AUTHORITIES\n•\tAre there authorities that regulate your activities and deliver permit?\n•\tDo you regularly interact with specific administrations & governmental agencies?\n•\tDo you interact with local authorities?\n•\tCan you think of any other key authorities?\n\nBUSINESS\n•\tDo you have major contractors for your operations?\n•\tDo you interact with local contractors with potential impact on local employment (catering, security…)\n•\tDo you have industrial neighbors?\n•\tDo you interact with professional organizations?\n•\tDo you interact with JV partners?\n•\tDo you interact with customers?\n•\tAre there any education & research stakeholders interested in your operations?\n•\tCan you think of any other key business stakeholder?\n\nCIVIL SOCIETY\n•\tAre there any NGOs or associations potentially interested by your activities?\n•\tDo you have influent media interested by your activities?\n•\tCan you think of any other key civil society stakeholder?\n\nCOMMUNITIES\n•\tAre there any leaders (community representatives, traditional leaders…) in the communities potentially impacted by your operations?\n•\tAre there any specific groups potentially impacted by your activities (landowners, users of land and rivers, indigenous people…)\n•\tAre there any schools and universities in the communities nearby?\n•\tCan you think of any other community stakeholders?\n"},null,"AUTHORITIES\n•\tAre there authorities that regulate your activities and deliver permit?\n•\tDo you regularly interact with specific administrations & governmental agencies?\n•\tDo you interact with local authorities?\n•\tCan you think of any other key authorities?\n\nBUSINESS\n•\tDo you have major contractors for your operations?\n•\tDo you interact with local contractors with potential impact on local employment (catering, security…)\n•\tDo you have industrial neighbors?\n•\tDo you interact with professional organizations?\n•\tDo you interact with JV partners?\n•\tDo you interact with customers?\n•\tAre there any education & research stakeholders interested in your operations?\n•\tCan you think of any other key business stakeholder?\n\nCIVIL SOCIETY\n•\tAre there any NGOs or associations potentially interested by your activities?\n•\tDo you have influent media interested by your activities?\n•\tCan you think of any other key civil society stakeholder?\n\nCOMMUNITIES\n•\tAre there any leaders (community representatives, traditional leaders…) in the communities potentially impacted by your operations?\n•\tAre there any specific groups potentially impacted by your activities (landowners, users of land and rivers, indigenous people…)\n•\tAre there any schools and universities in the communities nearby?\n•\tCan you think of any other community stakeholders?\n","AUTORITÉS\r\n- Existe-t-il des autorités qui régulent vos activités et délivrent des permis ?\r\n- Interagissez-vous régulièrement avec des administrations et des agences gouvernementales spécifiques ?\r\n- Interagissez-vous avec les autorités locales ?\r\n- Pouvez-vous citer d'autres autorités clés ?\r\n\r\nENTREPRISES\r\n- Avez-vous des sous-traitants importants pour vos activités ?\r\n- Interagissez-vous avec des entrepreneurs locaux ayant un impact potentiel sur l'emploi local (restauration, sécurité...) ?\r\n- Avez-vous des voisins industriels ?\r\n- Avez-vous des relations avec des organisations professionnelles ?\r\n- Interagissez-vous avec des partenaires JV ?\r\n- Interagissez-vous avec des clients ?\r\n- Y a-t-il des acteurs de l'éducation et de la recherche intéressés par vos activités ?\r\n- Pouvez-vous citer d'autres acteurs clés de l'entreprise ?\r\n\r\nSOCIÉTÉ CIVILE\r\n- Existe-t-il des ONG ou des associations potentiellement intéressées par vos activités ?\r\n- Y a-t-il des médias influents intéressés par vos activités ?\r\n- Pensez-vous à une autre partie prenante clé de la société civile ?\r\n\r\nCOMMUNAUTÉS\r\n- Existe-t-il des leaders (représentants des communautés, chefs traditionnels...) dans les communautés potentiellement touchées par vos activités ?\r\n- Existe-t-il des groupes spécifiques susceptibles d'être affectés par vos activités (propriétaires fonciers, utilisateurs des terres et des rivières, populations autochtones...) ?\r\n- Y a-t-il des écoles et des universités dans les communautés voisines ?\r\n- Pensez-vous à d'autres parties prenantes au sein de la communauté ?\r\n"]

{"sheet":"Liste_onglets","index":1,"n_rows":100,"n_cols":13,"rows_kept":100,"cut":false,"hidden":false,"merged":[]}
[null,null,null,null,null,null,null,null,null,"ALL","Front"]
[null,null,null,null,null,null,null,null,"SRR",{"$f":"COUNTIF($E:$E,I2)","v":12},{"$f":"COUNTIFS($F:$F,\"X\",$E:$E,$I2)","v":6}]
[null,null,null,null,null,null,null,null,"Mapping",{"$f":"COUNTIF($E:$E,I3)","v":8},{"$f":"COUNTIFS($F:$F,\"X\",$E:$E,$I3)","v":4}]
[null,null,"Nom de la Feuille","Nombre d'Objets","Texte entre underscores","Front",null,null,"Consult",{"$f":"COUNTIF($E:$E,I4)","v":9},5]
[null,null,"Definitions",0,null,{"$f":"IF(ISERROR(VLOOKUP(C5,$M$8:$M$30,1,FALSE)),\"\",\"X\")","v":""},null,null,"Gap",{"$f":"COUNTIF($E:$E,I5)","v":5},4]
[null,null,"Liste_onglets",1,null,{"$f":"IF(ISERROR(VLOOKUP(C6,$M$8:$M$30,1,FALSE)),\"\",\"X\")","v":""},null,null,"AP",{"$f":"COUNTIF($E:$E,I6)","v":6},3,null,"Onglets Front"]
[null,null,"Macros",1,null,"",null,null,"Total",{"$f":"SUM(J2:J6)","v":40},{"$f":"SUM(K2:K6)","v":22}]
[null,null,"MenuConfig",7,null,"",null,null,null,null,null,null,"Onglet_AP_Action_plan"]
[null,null,"Onglet_AP_Action_plan",24,"AP","X",null,null,null,null,null,null,"Onglet_AP_Fiche_SPL"]
[null,null,"Onglet_AP_Database_actions",0,"AP","",null,null,null,null,null,null,"Onglet_AP_progress"]
[null,null,"Onglet_AP_Fiche_SPL",13,"AP","X",null,null,null,null,null,null,"Onglet_consult_graph"]
[null,null,"Onglet_AP_materiality",7,"AP","",null,null,null,null,null,null,"Onglet_consult_itw"]
[null,null,"Onglet_AP_progress",10,"AP","X",null,null,null,null,null,null,"Onglet_consult_Panel_graph"]
[null,null,"Onglet_AP_translation",0,"AP","",null,null,null,null,null,null,"Onglet_Consult_Progress"]
[null,null,"Onglet_Consult_Database",0,"Consult","",null,null,null,null,null,null,"Onglet_consult_upload"]
[null,null,"Onglet_consult_dataset",0,"consult","",null,null,null,null,null,null,"Onglet_Gap_P1"]
[null,null,"Onglet_consult_graph",22,"consult","X",null,null,null,null,null,null,"Onglet_Gap_P2"]
[null,null,"Onglet_consult_itw",7,"consult","X",null,null,null,null,null,null,"Onglet_Gap_P3"]
[null,null,"Onglet_consult_Panel",0,"consult","",null,null,null,null,null,null,"Onglet_Gap_P4"]
[null,null,"Onglet_consult_Panel_graph",14,"consult","X",null,null,null,null,null,null,"Onglet_mapping_matrix"]
[null,null,"Onglet_Consult_Progress",10,"Consult","X",null,null,null,null,null,null,"Onglet_Mapping_progress"]
[null,null,"Onglet_consult_translation",0,"consult","",null,null,null,null,null,null,"Onglet_mapping_SEP"]
[null,null,"Onglet_consult_upload",11,"consult","X",null,null,null,null,null,null,"Onglet_mapping_SHlist"]
[null,null,"Onglet_corresponding_table",0,"corresponding","",null,null,null,null,null,null,"Onglet_Parameters"]
[null,null,"Onglet_Gap_P1",9,"Gap","X",null,null,null,null,null,null,"Onglet_SRR_Gov"]
[null,null,"Onglet_Gap_P2",9,"Gap","X",null,null,null,null,null,null,"Onglet_SRR_graph"]
[null,null,"Onglet_Gap_P3",9,"Gap","X",null,null,null,null,null,null,"Onglet_SRR_P1"]
[null,null,"Onglet_Gap_P4",9,"Gap","X",null,null,null,null,null,null,"Onglet_SRR_P2"]
[null,null,"Onglet_Gap_Table",0,"Gap","",null,null,null,null,null,null,"Onglet_SRR_P3"]
[null,null,"Onglet_mapping_database",0,"mapping","",null,null,null,null,null,null,"Onglet_SRR_progress"]
[null,null,"Onglet_mapping_import_param",0,"mapping",""]
[null,null,"Onglet_mapping_matrix",21,"mapping","X"]
[null,null,"Onglet_mapping_matrix_single",1,"mapping",""]
[null,null,"Onglet_mapping_parameters",0,"mapping",""]
[null,null,"Onglet_Mapping_progress",10,"Mapping","X"]
[null,null,"Onglet_Mapping_SEP",34,"Mapping","X"]
[null,null,"Onglet_mapping_SHlist",18,"mapping","X"]
[null,null,"Onglet_Parameters",8,"Parameters","X"]
[null,null,"Onglet_SRR_database",0,"SRR",""]
[null,null,"Onglet_SRR_dataset",0,"SRR",""]
[null,null,"Onglet_SRR_Gov",10,"SRR","X"]
[null,null,"Onglet_SRR_graph",30,"SRR","X"]
[null,null,"Onglet_SRR_P1",11,"SRR","X"]
[null,null,"Onglet_SRR_P2",10,"SRR","X"]
[null,null,"Onglet_SRR_P3",10,"SRR","X"]
[null,null,"Onglet_SRR_progress",10,"SRR","X"]
[null,null,"Onglet_SRR_Rules",0,"SRR",""]
[null,null,"Onglet_SRR_scales",0,"SRR",""]
[null,null,"Onglet_SRR_scoringmodel",6,"SRR",""]
[null,null,"Onglet_SRR_Table",0,"SRR",""]
[null,null,"Onglet_texte_vba",0,"texte",""]
[null,null,"Onglet_trad_menus",0,"trad",""]
[null,null,"Onglet_trad_msg",0,"trad",""]
[null,null,"Onglet_trad_vba",0,"trad",""]
[null,null,"Onglet_uploads",17,"uploads",{"$f":"IF(ISERROR(VLOOKUP(C55,$M$8:$M$30,1,FALSE)),\"\",\"X\")","v":""}]
[null,null,"Progress_dataset",0,null,""]
[null,null,"Raccourcis",0,null,""]
[null,null,"table",0,null,""]
[null,null,null,null,null,""]
[null,null,null,null,null,""]
[null,null,null,null,null,""]
[null,null,null,null,null,""]
[null,null,null,null,null,""]
[null,null,null,null,null,""]
[null,null,null,null,null,""]
[null,null,null,null,null,""]
[null,null,null,null,null,""]
[null,null,null,null,null,""]
[null,null,null,null,null,""]
[null,null,null,null,null,""]
[null,null,null,null,null,""]
[null,null,null,null,null,""]
[null,null,null,null,null,""]
[null,null,null,null,null,""]
[null,null,null,null,null,""]
[null,null,null,null,null,""]
[null,null,null,null,null,""]
[null,null,null,null,null,""]
[null,null,null,null,null,""]
[null,null,null,null,null,""]
[null,null,null,null,null,""]
[null,null,null,null,null,""]
[null,null,null,null,null,""]
[null,null,null,null,null,""]
[null,null,null,null,null,""]
[null,null,null,null,null,""]
[null,null,null,null,null,""]
[null,null,null,null,null,""]
[null,null,null,null,null,""]
[null,null,null,null,null,""]
[null,null,null,null,null,""]
[null,null,null,null,null,""]
[null,null,null,null,null,""]
[null,null,null,null,null,""]
[null,null,null,null,null,""]
[null,null,null,null,null,""]
[null,null,null,null,null,""]
[null,null,null,null,null,""]
[null,null,null,null,null,""]
[null,null,null,null,null,""]

{"sheet":"Macros","index":2,"n_rows":300,"n_cols":10,"rows_kept":300,"cut":false,"hidden":false,"merged":[]}
[]
[null,"Nom de la macro","Nombre de lignes","Nombre de caractères","Emplacement","Nom visible",null,null,"Nom technique","Nom visible"]
[null,"Filter_category_Change",9,472,"Feuil29","Onglet_mapping_matrix",null,null,"Feuil35","Definitions"]
[null,"Filter_group_Change",10,468,"Feuil29","Onglet_mapping_matrix",null,null,"Feuil40","Liste_onglets"]
[null,"Worksheet_Activate",11,334,"Feuil29","Onglet_mapping_matrix",null,null,"Feuil19","Macros"]
[null,"Matrix_CB_Zone1_Click",5,85,"Feuil29","Onglet_mapping_matrix",null,null,"Feuil7","MenuConfig"]
[null,"Matrix_CB_Zone2_Click",4,83,"Feuil29","Onglet_mapping_matrix",null,null,"Feuil30","Onglet_AP_Action_plan"]
[null,"Matrix_CB_Zone3_Click",4,83,"Feuil29","Onglet_mapping_matrix",null,null,"Feuil17","Onglet_AP_Database_actions"]
[null,"Matrix_CB_Zone4_Click",6,87,"Feuil29","Onglet_mapping_matrix",null,null,"Feuil18","Onglet_AP_Fiche_SPL"]
[null,"Workbook_Open",15,415,"ThisWorkbook",null,null,null,"Feuil45","Onglet_AP_materiality"]
[null,"Workbook_BeforeClose",15,491,"ThisWorkbook",null,null,null,"Feuil20","Onglet_AP_progress"]
[null,"Worksheet_Activate",49,1438,"Feuil18","Onglet_AP_Fiche_SPL",null,null,"Feuil49","Onglet_AP_translation"]
[null,"StoreRangeValues",15,354,"Feuil18","Onglet_AP_Fiche_SPL",null,null,"Feuil21","Onglet_Consult_Database"]
[null,"HasRangeChanged",29,884,"Feuil18","Onglet_AP_Fiche_SPL",null,null,"Feuil23","Onglet_consult_dataset"]
[null,"worksheet_deactivate",20,714,"Feuil18","Onglet_AP_Fiche_SPL",null,null,"Feuil28","Onglet_consult_graph"]
[null,"Worksheet_SelectionChange",11,263,"Feuil18","Onglet_AP_Fiche_SPL",null,null,"Feuil46","Onglet_consult_itw"]
[null,"Worksheet_Change",17,554,"Feuil18","Onglet_AP_Fiche_SPL",null,null,"Feuil22","Onglet_consult_Panel"]
[null,"UpdateB6BasedOnSPLCode",63,1919,"Feuil18","Onglet_AP_Fiche_SPL",null,null,"Feuil25","Onglet_consult_Panel_graph"]
[null,"Worksheet_Activate",9,118,"Feuil28","Onglet_consult_graph",null,null,"Feuil44","Onglet_Consult_Progress"]
[null,"Worksheet_Activate",14,392,"Feuil25","Onglet_consult_Panel_graph",null,null,"Feuil50","Onglet_consult_translation"]
[null,"Worksheet_BeforeDoubleClick",30,1159,"Feuil5","Onglet_Gap_P1",null,null,"Feuil36","Onglet_consult_upload"]
[null,"Worksheet_Activate",35,1389,"Feuil5","Onglet_Gap_P1",null,null,"Feuil13","Onglet_corresponding_table"]
[null,"Worksheet_BeforeDoubleClick",30,1159,"Feuil27","Onglet_Gap_P2",null,null,"Feuil5","Onglet_Gap_P1"]
[null,"Worksheet_Activate",35,1389,"Feuil27","Onglet_Gap_P2",null,null,"Feuil27","Onglet_Gap_P2"]
[null,"Worksheet_BeforeDoubleClick",31,1243,"Feuil37","Onglet_Gap_P3",null,null,"Feuil37","Onglet_Gap_P3"]
[null,"Worksheet_Activate",45,1701,"Feuil37","Onglet_Gap_P3",null,null,"Feuil47","Onglet_Gap_P4"]
[null,"Worksheet_BeforeDoubleClick",35,1083,"Feuil47","Onglet_Gap_P4",null,null,"Feuil48","Onglet_Gap_Table"]
[null,"CommandButton1_Click",6,70,"Feuil24","Onglet_mapping_SHlist",null,null,"Feuil33","Onglet_mapping_database"]
[null,"Worksheet_BeforeDoubleClick",64,2965,"Feuil24","Onglet_mapping_SHlist",null,null,"Feuil39","Onglet_mapping_import_param"]
[null,"worksheet_deactivate",19,507,"Feuil24","Onglet_mapping_SHlist",null,null,"Feuil29","Onglet_mapping_matrix"]
[null,"Worksheet_Activate",5,97,"Feuil24","Onglet_mapping_SHlist",null,null,"Feuil32","Onglet_mapping_matrix_single"]
[null,"OptimizedUpdateProcess",8,167,"Feuil24","Onglet_mapping_SHlist",null,null,"Feuil31","Onglet_mapping_parameters"]
[null,"Worksheet_Change",21,704,"Feuil24","Onglet_mapping_SHlist",null,null,"Feuil43","Onglet_Mapping_progress"]
[null,"Worksheet_BeforeRightClick",20,672,"Feuil24","Onglet_mapping_SHlist",null,null,"Feuil55","Onglet_Mapping_SEP"]
[null,"ShowCheckboxForm",30,803,"Feuil24","Onglet_mapping_SHlist",null,null,"Feuil24","Onglet_mapping_SHlist"]
[null,"ProcessCheckboxSelection",33,847,"Feuil24","Onglet_mapping_SHlist",null,null,"Feuil26","Onglet_Parameters"]
[null,"UnprotectSheet",6,132,"Feuil24","Onglet_mapping_SHlist",null,null,"Feuil38","Onglet_SRR_database"]
[null,"ProtectSheet",9,213,"Feuil24","Onglet_mapping_SHlist",null,null,"Feuil3","Onglet_SRR_dataset"]
[null,"Worksheet_Activate",285,11458,"Feuil4","Onglet_SRR_graph",null,null,"Feuil14","Onglet_SRR_Gov"]
[null,"RelierPointsAuBarycentre",62,1985,"Feuil4","Onglet_SRR_graph",null,null,"Feuil4","Onglet_SRR_graph"]
[null,"Worksheet_BeforeDoubleClick",52,1990,"Feuil14","Onglet_SRR_Gov",null,null,"Feuil1","Onglet_SRR_P1"]
[null,"Worksheet_Activate",8,247,"Feuil14","Onglet_SRR_Gov",null,null,"Feuil10","Onglet_SRR_P2"]
[null,"worksheet_deactivate",18,701,"Feuil14","Onglet_SRR_Gov",null,null,"Feuil11","Onglet_SRR_P3"]
[null,"Worksheet_BeforeDoubleClick",50,1990,"Feuil1","Onglet_SRR_P1",null,null,"Feuil2","Onglet_SRR_progress"]
[null,"Worksheet_Activate",9,257,"Feuil1","Onglet_SRR_P1",null,null,"Feuil15","Onglet_SRR_Rules"]
[null,"worksheet_deactivate",19,710,"Feuil1","Onglet_SRR_P1",null,null,"Feuil6","Onglet_SRR_scales"]
[null,"Worksheet_BeforeDoubleClick",50,1994,"Feuil10","Onglet_SRR_P2",null,null,"Feuil9","Onglet_SRR_scoringmodel"]
[null,"Worksheet_Activate",8,259,"Feuil10","Onglet_SRR_P2",null,null,"Feuil8","Onglet_SRR_Table"]
[null,"worksheet_deactivate",17,710,"Feuil10","Onglet_SRR_P2",null,null,"Feuil52","Onglet_texte_vba"]
[null,"Worksheet_BeforeDoubleClick",50,1986,"Feuil11","Onglet_SRR_P3",null,null,"Feuil41","Onglet_trad_menus"]
[null,"Worksheet_Activate",9,249,"Feuil11","Onglet_SRR_P3",null,null,"Feuil53","Onglet_trad_msg"]
[null,"worksheet_deactivate",18,701,"Feuil11","Onglet_SRR_P3",null,null,"Feuil51","Onglet_trad_vba"]
[null,"ParseJson",31,1059,"JsonConverter",null,null,null,"Feuil42","Onglet_uploads"]
[null,"ConvertToJson",266,11424,"JsonConverter",null,null,null,"Feuil12","Progress_dataset"]
[null,"json_ParseObject",40,1540,"JsonConverter",null,null,null,"Feuil54","Raccourcis"]
[null,"json_ParseArray",24,911,"JsonConverter",null,null,null,"Feuil34","table"]
[null,"json_ParseValue",27,1277,"JsonConverter"]
[null,"json_ParseString",60,2605,"JsonConverter"]
[null,"json_ParseNumber",33,1679,"JsonConverter"]
[null,"json_ParseKey",28,1251,"JsonConverter"]
[null,"json_IsUndefined",13,396,"JsonConverter"]
[null,"json_Encode",61,2161,"JsonConverter"]
[null,"json_Peek",6,372,"JsonConverter"]
[null,"json_SkipSpaces",7,292,"JsonConverter"]
[null,"json_StringIsLargeNumber",28,971,"JsonConverter"]
[null,"json_ParseErrorMessage",28,1114,"JsonConverter"]
[null,"json_BufferAppend",48,2140,"JsonConverter"]
[null,"json_BufferToString",6,250,"JsonConverter"]
[null,"ParseUtc",52,1431,"JsonConverter"]
[null,"ConvertToUtc",29,853,"JsonConverter"]
[null,"ParseIso",78,3129,"JsonConverter"]
[null,"ConvertToIso",19,554,"JsonConverter"]
[null,"utc_ConvertDate",37,1405,"JsonConverter"]
[null,"utc_ExecuteInShell",29,849,"JsonConverter"]
[null,"utc_DateToSystemTime",12,503,"JsonConverter"]
[null,"utc_SystemTimeToDate",7,294,"JsonConverter"]
[null,"Lancer_frm_importITW",19,571,"Module_consult"]
[null,"IsSHIDInCollection",27,629,"Module_consult"]
[null,"CompareSH_ID",109,4074,"Module_consult"]
[null,"ImportValidatedInterviews",176,6605,"Module_consult"]
[null,"NormalizeSHID",7,191,"Module_consult"]
[null,"GetSelectedSHIDFromUserForm",22,730,"Module_consult"]
[null,"FillAndSortConsultDatabase",110,4776,"Module_consult"]
[null,"ColorierSHnamesUploaded",52,1843,"Module_consult"]
[null,"UpdateSHnamesAndCategoryInConsultDatabase",56,2400,"Module_consult"]
[null,"RemplirColonneO_Conditionnel",45,1665,"Module_consult"]
[null,"CreerFichierInterview",260,10492,"Module_consult"]
[null,"AppliquerMiseEnFormeConditionnelle",18,522,"Module_consult"]
[null,"ShowProgress",9,409,"Module_consult"]
[null,"UpdateProgress",13,438,"Module_consult"]
[null,"HideProgress",17,95,"Module_consult"]
[null,"ToggleWorkbookTabs",4,174,"ModuleUtilitaires"]
[null,"managepw",14,324,"ModuleUtilitaires"]
[null,"ClearPrintArea",7,133,"ModuleUtilitaires"]
[null,"ChercherExactReferences",18,718,"ModuleUtilitaires"]
[null,"AllerALigne",8,211,"ModuleUtilitaires"]
[null,"DetecterRetoursLigne_Tableau1",32,1160,"ModuleUtilitaires"]
[null,"RefCellOngletTradMsg",20,661,"ModuleUtilitaires"]
[null,"ToggleGroupVisibility",45,1607,"ModuleUtilitaires"]
[null,"GetShapePosition",18,703,"ModuleUtilitaires"]
[null,"CopierMiseEnForme",18,559,"ModuleUtilitaires"]
[null,"TrouverLiensExternes",19,536,"ModuleUtilitaires"]
[null,"affichageform",8,190,"ModuleUtilitaires"]
[null,"ConsoliderActionPlan",28,898,"ModuleActionPlan"]
[null,"DataHasChanged",64,2574,"ModuleActionPlan"]
[null,"ExecuteConsolidation",250,9976,"ModuleActionPlan"]
[null,"CalculerPriority",53,2059,"ModuleActionPlan"]
[null,"MAJ_formules_ActionPlan",58,1956,"ModuleActionPlan"]
[null,"MAJActionPlan",76,3138,"ModuleActionPlan"]
[null,"TrierActionPlan",28,918,"ModuleActionPlan"]
[null,"ColorierCellulesActionPlan",67,2989,"ModuleActionPlan"]
[null,"ColorierCellulesPriority",54,2325,"ModuleActionPlan"]
[null,"UpdateRowsBasedOnCheckbox",53,2445,"ModuleActionPlan"]
[null,"UpdateCheckboxCaptions_ActionPlan",23,846,"ModuleActionPlan"]
[null,"SummarizeStakeholderTopic",102,3933,"ModuleAI"]
[null,"EscapeJsonString",9,306,"ModuleAI"]
[null,"AfficherUserFormAIcompanion",7,105,"ModuleAI"]
[null,"ChargerActions",71,2988,"ModuleFicheAP"]
[null,"ReporterValeurs",63,2414,"ModuleFicheAP"]
[null,"MAJ_status_review_In_Fiche_SPL",88,2724,"ModuleFicheAP"]
[null,"MAJ_status_review_In_dataset",50,1682,"ModuleFicheAP"]
[null,"MAJActionsFicheSPL",103,4812,"ModuleFicheAP"]
[null,"MettreAJourConsultDatabase",58,2334,"ModuleFicheAP"]
[null,"AjusterFiche",135,5533,"ModuleFicheAP"]
[null,"MasquerLignesVidesConsult",25,676,"ModuleFicheAP"]
[null,"MasquerImage",18,440,"ModuleFicheAP"]
[null,"ApplyColoring",101,4930,"ModuleGap"]
[null,"ToggleColumnsBasedOnModuleConsult",30,1109,"ModuleGap"]
[null,"ShowTutoScoringGap",5,72,"ModuleGap"]
[null,"importSHlist",64,2249,"ModuleImportSH"]
[null,"RetournerSurUploads",7,235,"ModuleImportSH"]
[null,"GenerateUserformImportSH",106,4188,"ModuleImportSH"]
[null,"ImportDabaseSHsource",83,3347,"ModuleImportSH"]
[null,"IndiquerNumColonneSourceSH",34,1280,"ModuleImportSH"]
[null,"IndiquerNumColonneDestinationSH",35,1355,"ModuleImportSH"]
[null,"UploadSHdatabase",45,2113,"ModuleImportSH"]
[null,"CopierVersSHlist",46,1646,"ModuleImportSH"]
[null,"ListerOngletsEtObjets",63,2240,"ModuleListeOnglets"]
[null,"ReordonnerOngletsAlphabetiquement",20,634,"ModuleListeOnglets"]
[null,"ShowStakeholderList",53,1869,"ModuleMapping"]
[null,"ShowContactForm",6,59,"ModuleMapping"]
[null,"ShowSEP",5,43,"ModuleMapping"]
[null,"ShowinfoForm",4,48,"ModuleMapping"]
[null,"ShowTutoinfluenceForm",4,66,"ModuleMapping"]
[null,"ShowTutointerestForm",4,64,"ModuleMapping"]
[null,"ShowAssetListForm",5,60,"ModuleMapping"]
[null,"ExportChartAsImage",52,1912,"ModuleMapping"]
[null,"InitializeStakeholderTypes",19,650,"ModuleMapping"]
[null,"GenerateSHID",61,2118,"ModuleMapping"]
[null,"CopyQuestionID",55,2702,"ModuleMapping"]
[null,"UpdateDatabaseFromSHlist",91,3974,"ModuleMapping"]
[null,"CopyValuesToSHlistHeader",30,960,"ModuleMapping"]
[null,"CopyValuesToSEPheader",21,658,"ModuleMapping"]
[null,"ApplyDataValidationToSelection",50,1900,"ModuleMapping"]
[null,"ToggleFiltreTableau",31,916,"ModuleMapping"]
[null,"AfficherUserForm",7,151,"ModuleMapping"]
[null,"LoadStakeholders",27,1198,"ModuleMappingMatrix"]
[null,"FiltrerEtAfficherGraphique",110,3819,"ModuleMappingMatrix"]
[null,"CreerGraphiqueBullesAvecImageDeFond",240,9206,"ModuleMappingMatrix"]
[null,"SupprimerGraphiqueExistant",16,358,"ModuleMappingMatrix"]
[null,"OptimiserPositionEtiquettesParZone",88,3446,"ModuleMappingMatrix"]
[null,"MettreEnFormeBarresAvecMotifEtPourcentage",140,5307,"ModuleMEFGraphs"]
[null,"MEFficheAP",31,1045,"ModuleMEFGraphs"]
[null,"AppliquerMiseEnFormeGraphique",72,3564,"ModuleMEFGraphs"]
[null,"UpdateGraphREL",86,3253,"ModuleMEFGraphs"]
[null,"EntourerValeursSuperieuresSeuilSI",36,1212,"ModuleMEFGraphs"]
[null,"LoadMenuConfig",27,966,"ModuleMenuConfig"]
[null,"Rectangle11_Click",4,58,"ModuleMenuConfig"]
[null,"Rectangle9_Click",4,56,"ModuleMenuConfig"]
[null,"Rectangle12_Click",4,58,"ModuleMenuConfig"]
[null,"Rectangle8_Click",4,56,"ModuleMenuConfig"]
[null,"Rectangle13_Click",4,58,"ModuleMenuConfig"]
[null,"ShowContextMenu",38,1240,"ModuleMenuConfig"]
[null,"GoToSheet",8,168,"ModuleMenuConfig"]
[null,"CopierFormesDansOnglets",113,4886,"ModuleMenuConfig"]
[null,"ModifierProprieteImage",50,1818,"ModuleMenuConfig"]
[null,"FullScreen",12,260,"ModuleMenuConfig"]
[null,"AffichageMenuHome",13,475,"ModuleMenuConfig"]
[null,"AllerA_Onglet_Parameters",17,401,"ModuleMenuConfig"]
[null,"ToggleEnableEvents",13,454,"ModuleMenuConfig"]
[null,"DebutMacro",5,164,"ModuleMenuConfig"]
[null,"FinMacro",6,152,"ModuleMenuConfig"]
[null,"LaunchAuthoritiesPanel",6,159,"ModulePanel"]
[null,"LaunchBusinessPanel",6,156,"ModulePanel"]
[null,"LaunchCivilSocietyPanel",6,160,"ModulePanel"]
[null,"LaunchCommunitiesPanel",6,159,"ModulePanel"]
[null,"ShowPanelForm",4,50,"ModulePanel"]
[null,"UpdatePanel",66,2656,"ModulePanel"]
[null,"UpdateGraphPanel",104,4818,"ModulePanel"]
[null,"UpdateStakeholderNamesinPanel",46,1715,"ModulePanel"]
[null,"UpdatePanelDataFromDatabase",79,3205,"ModulePanel"]
[null,"RecenserMacrosEtFeuillesAvecStyle",142,5072,"ModuleRecensementMacros"]
[null,"ConsolidateSRRData",68,2950,"ModuleSRRconsodatabase"]
[null,"UpdateSRRScoresAndComments",48,2326,"ModuleSRRconsodatabase"]
[null,"ImportSRRFile",50,1974,"ModuleSRRconsodatabase"]
[null,"effacerSRRdatabase",13,422,"ModuleSRRconsodatabase"]
[null,"ChargerActionsAPversSRR",56,2054,"ModuleSRRversAP"]
[null,"MAJActionsSRRversAP",94,3171,"ModuleSRRversAP"]
[null,"FullVirginisation",9,197,"ModuleVirginisation"]
[null,"VirginisationSRR_full",21,700,"ModuleVirginisation"]
[null,"VirginisationSRR",17,630,"ModuleVirginisation"]
[null,"VirginisationListePP",57,1933,"ModuleVirginisation"]
[null,"VirginisationSHdatabase",24,722,"ModuleVirginisation"]
[null,"VirginisationPanel",21,834,"ModuleVirginisation"]
[null,"VirginisationDatabaseAP",21,737,"ModuleVirginisation"]
[null,"VirginisationConsultDatabase",21,736,"ModuleVirginisation"]
[null,"VirginisationGraphPanel",16,556,"ModuleVirginisation"]
[null,"UserForm_Initialize",42,1242,"frm_assetlist"]
[null,"btnOK_Click",27,683,"frm_assetlist"]
[null,"btnCancel_Click",6,100,"frm_assetlist"]
[null,"CommandButtonCancel_Click",10,101,"frm_contacts"]
[null,"UserForm_Initialize",43,1567,"frm_contacts"]
[null,"ComboBox_SH_name_Change",29,1127,"frm_contacts"]
[null,"UpdateDetails",109,4849,"frm_contacts"]
[null,"CommandButtonValidate_Click",10,255,"frm_contacts"]
[null,"SaveStakeholderData",49,2323,"frm_contacts"]
[null,"HasStakeholderChanged",25,1713,"frm_contacts"]
[null,"UserForm_Initialize",139,5996,"frm_importITW"]
[null,"GetLabelHeight",21,459,"frm_importITW"]
[null,"btnImport_Click",12,164,"frm_importITW"]
[null,"InitComboList",5,128,"frm_importSH"]
[null,"AddToComboList",4,84,"frm_importSH"]
[null,"btnValidate_Click",35,1419,"frm_importSH"]
[null,"btnCancel_Click",8,120,"frm_importSH"]
[null,"UserForm_QueryClose",10,331,"frm_importSH"]
[null,"UserForm_Initialize",115,3770,"frm_info"]
[null,"UserForm_Initialize",74,2635,"frm_panel"]
[null,"btnAdd_Click",18,498,"frm_panel"]
[null,"btnRemove_Click",15,543,"frm_panel"]
[null,"btnValidate_Click",153,6153,"frm_panel"]
[null,"cmdValidate_Click",27,885,"frm_SHGroups"]
[null,"cmdCancel_Click",7,101,"frm_SHGroups"]
[null,"cmdValidate_Click",87,3080,"frm_shlist"]
[null,"cmdCancel_Click",12,111,"frm_shlist"]
[null,"UserForm_Initialize",48,1568,"frm_stakeholderlist"]
[null,"LoadAllDataIntoMemory",48,2166,"frm_stakeholderlist"]
[null,"ShowQuestion",66,3184,"frm_stakeholderlist"]
[null,"UpdateLblTypeColor",26,953,"frm_stakeholderlist"]
[null,"EnableSubFormFields",24,1312,"frm_stakeholderlist"]
[null,"ShowStakeholderForm",16,668,"frm_stakeholderlist"]
[null,"LoadDataForQuestion",47,1822,"frm_stakeholderlist"]
[null,"ClearStakeholderInputs",15,375,"frm_stakeholderlist"]
[null,"CreateDynamicControls",97,5207,"frm_stakeholderlist"]
[null,"SaveDataForQuestion",102,4345,"frm_stakeholderlist"]
[null,"SHIDExistsInCollection",11,320,"frm_stakeholderlist"]
[null,"optYes_Click",8,197,"frm_stakeholderlist"]
[null,"optNo_Click",6,205,"frm_stakeholderlist"]
[null,"btnNext_Click",17,466,"frm_stakeholderlist"]
[null,"GoToNextQuestion",12,260,"frm_stakeholderlist"]
[null,"cmdCancel_Click",8,193,"frm_stakeholderlist"]
[null,"cmdSubmit_Click",71,2708,"frm_stakeholderlist"]
[null,"GetLastSHID",32,940,"frm_stakeholderlist"]
[null,"GetLastSHIDFromMemory",40,1444,"frm_stakeholderlist"]
[null,"cmdPrevious_Click",20,497,"frm_stakeholderlist"]
[null,"UserForm_Initialize",25,932,"frm_TutoInfluence"]
[null,"UserForm_Initialize",27,935,"frm_TutoInterest"]
[null,"btnOK_Click",24,580,"frmAssets"]
[null,"UserForm_Initialize",11,414,"UserForm1"]
[null,"ChargerDonnees",33,1196,"UserForm1"]
[null,"AfficherPremiereLigne",67,3253,"UserForm1"]
[null,"AfficherEntetes",26,1231,"UserForm1"]
[null,"AfficherDonneesDynamiques",78,3992,"UserForm1"]
[null,"btnValider_Click",103,4065,"UserFormAIcompanion"]
[null,"btnAnnuler_Click",7,86,"UserFormAIcompanion"]
[null,"UserForm_Activate",16,568,"UserFormLoading"]
[null,"UserForm_Initialize",60,2590,"frm_SEPmode"]
[null,"btnOK_Click",46,1454,"frm_SEPmode"]
[null,"btnCancel_Click",7,102,"frm_SEPmode"]
[null,"AllerACelluleSource",52,1729,"ModuleTraduction"]
[null,"NettoyerTexte",8,319,"ModuleSEP"]
[null,"MettreAJourZonesEtAssets",94,4611,"ModuleSEP"]
[null,"FiltrerLignesVisiblesParAssets",91,3438,"ModuleSEP"]
[null,"SEP_FilterControl_Click",18,375,"ModuleSEP"]
[null,"ApplyAllFilters",112,4900,"ModuleSEP"]
[null,"MajCaptionCB",40,1985,"ModuleSEP"]
[null,"ImporterActions",78,3268,"ModuleImportAP"]
[null,"ListeActiveX",12,335,"ModuleDebugActivX"]
[null,"SupprimerFeuilleCorrompue",17,503,"ModuleDebugActivX"]
[null,"RechercherControlesActiveX_TousModulesEtFeuilles",41,1568,"ModuleDebugActivX"]
[null,"ListerToutesReferencesControlesFeuilles",51,1815,"ModuleDebugActivX"]
[null,"BtnAsset_Click",6,60,"Feuil55","Onglet_Mapping_SEP"]
[null,"Worksheet_Activate",8,163,"Feuil55","Onglet_Mapping_SEP"]
[null,"GetStakeholderList",40,1681,"Feuil55","Onglet_Mapping_SEP"]
[null,"Worksheet_SelectionChange",56,2551,"Feuil55","Onglet_Mapping_SEP"]
[null,"HandleStakeholderNames",241,10560,"Feuil55","Onglet_Mapping_SEP"]
[null,"HandleStakeholderGroups",79,2959,"Feuil55","Onglet_Mapping_SEP"]
[null,"LoadStakeholderGroups",27,991,"Feuil55","Onglet_Mapping_SEP"]
[null,"Worksheet_BeforeDoubleClick",24,1066,"Feuil55","Onglet_Mapping_SEP"]
[null,"worksheet_deactivate",49,1919,"Feuil55","Onglet_Mapping_SEP"]
[null,"Identify_Z1_SEP",85,3090,"Feuil55","Onglet_Mapping_SEP"]
[null,"ShowResultsInUserForm",112,3519,"Feuil55","Onglet_Mapping_SEP"]
[null,"Worksheet_BeforeRightClick",21,447,"Feuil55","Onglet_Mapping_SEP"]
[null,"worksheet_deactivate",3,58,"Feuil30","Onglet_AP_Action_plan"]
[null,"Worksheet_Activate",15,309,"Feuil30","Onglet_AP_Action_plan"]
[null,"ShowAllMenus",16,381,"Feuil30","Onglet_AP_Action_plan"]
[null,"Worksheet_SelectionChange",27,1006,"Feuil30","Onglet_AP_Action_plan"]
[null,"AfficherDimensionsGraphique",25,911,"ModuleUniformationTailleGraph"]
[null,"UniformiserPlotArea",26,751,"ModuleUniformationTailleGraph"]
[null,"ExportGroupeTestVersPowerPoint",58,1852,"ModuleUniformationTailleGraph"]
[null,"ExportGroupeVersPowerPoint_BitmapStable",56,1741,"ModuleUniformationTailleGraph"]

{"sheet":"MenuConfig","index":3,"n_rows":29,"n_cols":24,"rows_kept":29,"cut":false,"hidden":false,"merged":[]}
[]
[]
[]
[]
[]
[]
[]
[]
[null,"Rectangle","Button","Menu Description","Sub-Menu Description","FaceID","SheetName",null,null,"SheetName",null,null,"EN","FR","SP",null,null,null,null,null,null,"EN","FR","SP"]
[null,11,"btn1",{"$f":"_xlfn.IFS(Language=\"EN\",V10,Language=\"FR\",W10,Language=\"SP\",X10)","v":"Societal Risks Review"},{"$f":"_xlfn.IFS(Language=\"EN\",M10,Language=\"FR\",N10,Language=\"SP\",O10)","v":"Review Social Risks on Pillar 1 - Relations and dialogue"},274,"Onglet_SRR_P1",null,null,null,null,null,"Review Social Risks on Pillar 1 - Relations and dialogue","Revue des Risques Sociétaux sur le Pilier 1 - Relations et dialogue",null,null,null,null,null,null,null,{"$f":"Onglet_trad_menus!$E$37","v":"Societal Risks Review"},{"$f":"Onglet_trad_menus!$D$37","v":"Revue des risques sociétaux"}]
[null,11,"btn1",{"$f":"_xlfn.IFS(Language=\"EN\",V11,Language=\"FR\",W11,Language=\"SP\",X11)","v":"Societal Risks Review"},{"$f":"_xlfn.IFS(Language=\"EN\",M11,Language=\"FR\",N11,Language=\"SP\",O11)","v":"Review Social Risks on Pillar 2 - Management of negative impacts"},138,"Onglet_SRR_P2",null,null,null,null,null,"Review Social Risks on Pillar 2 - Management of negative impacts","Revue des Risques Sociétaux sur le Pilier 2 - Management des impacts négatifs",null,null,null,null,null,null,null,{"$f":"Onglet_trad_menus!$E$37","v":"Societal Risks Review"},{"$f":"Onglet_trad_menus!$D$37","v":"Revue des risques sociétaux"}]
[null,11,"btn1",{"$f":"_xlfn.IFS(Language=\"EN\",V12,Language=\"FR\",W12,Language=\"SP\",X12)","v":"Societal Risks Review"},{"$f":"_xlfn.IFS(Language=\"EN\",M12,Language=\"FR\",N12,Language=\"SP\",O12)","v":"Review Social Risks on Pillar 3 - Management of positive impacts"},137,"Onglet_SRR_P3",null,null,null,null,null,"Review Social Risks on Pillar 3 - Management of positive impacts","Revue des Risques Sociétaux sur le Pilier 3 - Management des impacts positifs",null,null,null,null,null,null,null,{"$f":"Onglet_trad_menus!$E$37","v":"Societal Risks Review"},{"$f":"Onglet_trad_menus!$D$37","v":"Revue des risques sociétaux"}]
[null,11,"btn1",{"$f":"_xlfn.IFS(Language=\"EN\",V13,Language=\"FR\",W13,Language=\"SP\",X13)","v":"Societal Risks Review"},{"$f":"_xlfn.IFS(Language=\"EN\",M13,Language=\"FR\",N13,Language=\"SP\",O13)","v":"Review Social Performance governance"},51,"Onglet_SRR_Gov",null,null,null,null,null,"Review Social Performance governance","Revue de la gouvernance sociétale",null,null,null,null,null,null,null,{"$f":"Onglet_trad_menus!$E$37","v":"Societal Risks Review"},{"$f":"Onglet_trad_menus!$D$37","v":"Revue des risques sociétaux"}]
[null,11,"btn1",{"$f":"_xlfn.IFS(Language=\"EN\",V14,Language=\"FR\",W14,Language=\"SP\",X14)","v":"Societal Risks Review"},{"$f":"_xlfn.IFS(Language=\"EN\",M14,Language=\"FR\",N14,Language=\"SP\",O14)","v":"Monitor progress of Social Risks Review"},1664,"Onglet_SRR_Progress",null,null,null,null,null,"Monitor progress of Social Risks Review","Suivre l'avancement de la Revue des Risques Sociétaux",null,null,null,null,null,null,null,{"$f":"Onglet_trad_menus!$E$37","v":"Societal Risks Review"},{"$f":"Onglet_trad_menus!$D$37","v":"Revue des risques sociétaux"}]
[null,9,"btn2",{"$f":"_xlfn.IFS(Language=\"EN\",V15,Language=\"FR\",W15,Language=\"SP\",X15)","v":"Stakeholder mapping"},{"$f":"_xlfn.IFS(Language=\"EN\",M15,Language=\"FR\",N15,Language=\"SP\",O15)","v":"Identify and prioritize key stakeholders"},635,"Onglet_mapping_Shlist",null,null,null,null,null,"Identify and prioritize key stakeholders","Identifier les principales parties prenantes et les classer par ordre de priorité",null,null,null,null,null,null,null,{"$f":"Onglet_trad_menus!$E$38","v":"Stakeholder mapping"},{"$f":"Onglet_trad_menus!$D$38","v":"Cartographie des parties prenantes"}]
[null,9,"btn2",{"$f":"_xlfn.IFS(Language=\"EN\",V16,Language=\"FR\",W16,Language=\"SP\",X16)","v":"Stakeholder mapping"},{"$f":"_xlfn.IFS(Language=\"EN\",M16,Language=\"FR\",N16,Language=\"SP\",O16)","v":"Build a stakeholder engagement plan"},361,"Onglet_mapping_SEP",null,null,null,null,null,"Build a stakeholder engagement plan","Élaborer un plan d'engagement des parties prenantes",null,null,null,null,null,null,null,{"$f":"Onglet_trad_menus!$E$38","v":"Stakeholder mapping"},{"$f":"Onglet_trad_menus!$D$38","v":"Cartographie des parties prenantes"}]
[null,9,"btn2",{"$f":"_xlfn.IFS(Language=\"EN\",V17,Language=\"FR\",W17,Language=\"SP\",X17)","v":"Stakeholder mapping"},{"$f":"_xlfn.IFS(Language=\"EN\",M17,Language=\"FR\",N17,Language=\"SP\",O17)","v":"Monitor progress of stakeholder mapping"},1664,"Onglet_mapping_Progress",null,null,null,null,null,"Monitor progress of stakeholder mapping","Suivre l'avancement de la cartographie des parties prenantes",null,null,null,null,null,null,null,{"$f":"Onglet_trad_menus!$E$38","v":"Stakeholder mapping"},{"$f":"Onglet_trad_menus!$D$38","v":"Cartographie des parties prenantes"}]
[null,12,"btn3",{"$f":"_xlfn.IFS(Language=\"EN\",V18,Language=\"FR\",W18,Language=\"SP\",X18)","v":"Stakeholder consultation"},{"$f":"_xlfn.IFS(Language=\"EN\",M18,Language=\"FR\",N18,Language=\"SP\",O18)","v":"Build consultation panel"},423,"Onglet_consult_Panel_graph",null,null,null,null,null,"Build consultation panel","Constituer un panel de consultation",null,null,null,null,null,null,null,{"$f":"Onglet_trad_menus!$E$39","v":"Stakeholder consultation"},{"$f":"Onglet_trad_menus!$D$39","v":"Consultation de parties prenantes"}]
[null,12,"btn3",{"$f":"_xlfn.IFS(Language=\"EN\",V19,Language=\"FR\",W19,Language=\"SP\",X19)","v":"Stakeholder consultation"},{"$f":"_xlfn.IFS(Language=\"EN\",M19,Language=\"FR\",N19,Language=\"SP\",O19)","v":"Manage interviews"},53,"Onglet_consult_upload",null,null,null,null,null,"Manage interviews","Gérer les entretiens",null,null,null,null,null,null,null,{"$f":"Onglet_trad_menus!$E$39","v":"Stakeholder consultation"},{"$f":"Onglet_trad_menus!$D$39","v":"Consultation de parties prenantes"}]
[null,12,"btn3",{"$f":"_xlfn.IFS(Language=\"EN\",V20,Language=\"FR\",W20,Language=\"SP\",X20)","v":"Stakeholder consultation"},{"$f":"_xlfn.IFS(Language=\"EN\",M20,Language=\"FR\",N20,Language=\"SP\",O20)","v":"Monitor progress of stakeholder consultation"},1664,"Onglet_consult_progress",null,null,null,null,null,"Monitor progress of stakeholder consultation","Suivre l'avancement de la consultation des parties prenantes",null,null,null,null,null,null,null,{"$f":"Onglet_trad_menus!$E$39","v":"Stakeholder consultation"},{"$f":"Onglet_trad_menus!$D$39","v":"Consultation de parties prenantes"}]
[null,8,"btn4",{"$f":"_xlfn.IFS(Language=\"EN\",V21,Language=\"FR\",W21,Language=\"SP\",X21)","v":"Gap analysis and action plan"},{"$f":"_xlfn.IFS(Language=\"EN\",M21,Language=\"FR\",N21,Language=\"SP\",O21)","v":"Perform gap analysis on Pillar 1 - Relations and Dialogue"},274,"Onglet_Gap_P1",null,null,null,null,null,"Perform gap analysis on Pillar 1 - Relations and Dialogue","Effectuer l'analyse des écarts sur le Pilier 1 - Relations et Dialogue",null,null,null,null,null,null,null,{"$f":"Onglet_trad_menus!$E$40","v":"Gap analysis and action plan"},{"$f":"Onglet_trad_menus!$D$40","v":"Analyse des écarts et plan d'actions"}]
[null,8,"btn4",{"$f":"_xlfn.IFS(Language=\"EN\",V22,Language=\"FR\",W22,Language=\"SP\",X22)","v":"Gap analysis and action plan"},{"$f":"_xlfn.IFS(Language=\"EN\",M22,Language=\"FR\",N22,Language=\"SP\",O22)","v":"Perform gap analysis on Pillar 2 - Management of negative impacts"},138,"Onglet_Gap_P2",null,null,null,null,null,"Perform gap analysis on Pillar 2 - Management of negative impacts","Effectuer l'analyse des écarts sur le Pilier 2 - Management des impacts négatifs",null,null,null,null,null,null,null,{"$f":"Onglet_trad_menus!$E$40","v":"Gap analysis and action plan"},{"$f":"Onglet_trad_menus!$D$40","v":"Analyse des écarts et plan d'actions"}]
[null,8,"btn4",{"$f":"_xlfn.IFS(Language=\"EN\",V23,Language=\"FR\",W23,Language=\"SP\",X23)","v":"Gap analysis and action plan"},{"$f":"_xlfn.IFS(Language=\"EN\",M23,Language=\"FR\",N23,Language=\"SP\",O23)","v":"Perform gap analysis on Pillar 3 - Management of positive impacts"},137,"Onglet_Gap_P3",null,null,null,null,null,"Perform gap analysis on Pillar 3 - Management of positive impacts","Effectuer l'analyse des écarts sur le Pilier 3 - Management des impacts positifs",null,null,null,null,null,null,null,{"$f":"Onglet_trad_menus!$E$40","v":"Gap analysis and action plan"},{"$f":"Onglet_trad_menus!$D$40","v":"Analyse des écarts et plan d'actions"}]
[null,8,"btn4",{"$f":"_xlfn.IFS(Language=\"EN\",V24,Language=\"FR\",W24,Language=\"SP\",X24)","v":"Gap analysis and action plan"},{"$f":"_xlfn.IFS(Language=\"EN\",M24,Language=\"FR\",N24,Language=\"SP\",O24)","v":"Perform gap analysis on Social Performance Governance"},137,"Onglet_Gap_P4",null,null,null,null,null,"Perform gap analysis on Social Performance Governance","Effectuer l'analyse des écarts sur la gouvernance sociétale",null,null,null,null,null,null,null,{"$f":"Onglet_trad_menus!$E$40","v":"Gap analysis and action plan"},{"$f":"Onglet_trad_menus!$D$40","v":"Analyse des écarts et plan d'actions"}]
[null,8,"btn4",{"$f":"_xlfn.IFS(Language=\"EN\",V25,Language=\"FR\",W25,Language=\"SP\",X25)","v":"Gap analysis and action plan"},{"$f":"_xlfn.IFS(Language=\"EN\",M25,Language=\"FR\",N25,Language=\"SP\",O25)","v":"Monitor progress of gap analysis"},1664,"Onglet_AP_Progress",null,null,null,null,null,"Monitor progress of gap analysis","Suivre l'avancement de l'analyse des écarts",null,null,null,null,null,null,null,{"$f":"Onglet_trad_menus!$E$40","v":"Gap analysis and action plan"},{"$f":"Onglet_trad_menus!$D$40","v":"Analyse des écarts et plan d'actions"}]
[null,13,"btn5","Rapports",{"$f":"_xlfn.IFS(Language=\"EN\",M26,Language=\"FR\",N26,Language=\"SP\",O26)","v":"Visualize social risks review results"},17,"Onglet_SRR_Graph",null,null,null,null,null,"Visualize social risks review results","Visualiser les résultats de la Revue des Risques Sociétaux",null,null,null,null,null,null,null,{"$f":"Onglet_trad_menus!$E$38","v":"Stakeholder mapping"},{"$f":"Onglet_trad_menus!$D$38","v":"Cartographie des parties prenantes"}]
[null,13,"btn5","Rapports",{"$f":"_xlfn.IFS(Language=\"EN\",M27,Language=\"FR\",N27,Language=\"SP\",O27)","v":"Visualize stakeholder matrix"},430,"Onglet_mapping_matrix",null,null,null,null,null,"Visualize stakeholder matrix","Visualiser la matrice des parties prenantes",null,null,null,null,null,null,null,{"$f":"Onglet_trad_menus!$E$38","v":"Stakeholder mapping"},{"$f":"Onglet_trad_menus!$D$38","v":"Cartographie des parties prenantes"}]
[null,13,"btn5","Rapports",{"$f":"_xlfn.IFS(Language=\"EN\",M28,Language=\"FR\",N28,Language=\"SP\",O28)","v":"Visualize consultation results"},17,"Onglet_consult_graph",null,null,null,null,null,"Visualize consultation results","Visualiser les résultats de la consultation",null,null,null,null,null,null,null,{"$f":"Onglet_trad_menus!$E$39","v":"Stakeholder consultation"},{"$f":"Onglet_trad_menus!$D$39","v":"Consultation de parties prenantes"}]
[null,13,"btn5","Rapports",{"$f":"_xlfn.IFS(Language=\"EN\",M29,Language=\"FR\",N29,Language=\"SP\",O29)","v":"Visualize final action plan"},837,"Onglet_AP_Action_Plan",null,null,null,null,null,"Visualize final action plan","Visualiser le plan d'action final",null,null,null,null,null,null,null,{"$f":"Onglet_trad_menus!$E$40","v":"Gap analysis and action plan"},{"$f":"Onglet_trad_menus!$D$40","v":"Analyse des écarts et plan d'actions"}]

{"sheet":"MenuConfig ","index":4,"n_rows":9,"n_cols":2,"rows_kept":9,"cut":false,"hidden":true,"merged":[]}
[]
[]
[]
[]
[]
[]
[]
[]
[null,"charge_srm_99"]

{"sheet":"Onglet_AP_Action_plan","index":5,"n_rows":16,"n_cols":3,"rows_kept":16,"cut":false,"hidden":false,"merged":[]}
[]
[]
[]
[]
[]
[null,null,{"$f":"Onglet_trad_menus!B286","v":"FINAL ACTION PLAN"}]
[]
[null,null,"INSTRUCTIONS"]
[null,null,{"$f":"Onglet_trad_menus!B277","v":"To finalize your action plan :"}]
[null,null,{"$f":"Onglet_trad_menus!B278","v":"- assign responsibilities to each action"}]
[null,null,{"$f":"Onglet_trad_menus!B279","v":"- define implementation deadlines"}]
[null,null,{"$f":"Onglet_trad_menus!B280","v":"You can also qualify the impact of the action and the effort required for implementation"}]
[null,null,{"$f":"Onglet_trad_menus!B281","v":"implementation, as well as the associated budget and KPI."}]
[null,null,{"$f":"Onglet_trad_menus!B282","v":"You can modify action descriptions, targeted stakeholders and status"}]
[null,null,{"$f":"Onglet_trad_menus!B283","v":"Changes are automatically reflected throughout the tool"}]
[null,null,{"$f":"Onglet_trad_menus!B284","v":"You can filter the action plan by stakeholders"}]

{"sheet":"Onglet_AP_Database_actions","index":6,"n_rows":6,"n_cols":17,"rows_kept":6,"cut":false,"hidden":false,"merged":[]}
[]
[]
[]
[]
[null,"ACTIONS","ACTION_CODE","ISSUE_CODE","ISSUE_NAME","PILLAR","INT/EXT","STATUS","Responsibility","Timeframe","Effort","Flag_sort","Targeted_stakeholders","Impact","Priority","Budget","KPI"]
[null,null,null,{"$f":"IF(MID(C6,1,4)=\"IS01\",MID(C6,1,8),MID(C6,1,4))","v":""},{"$f":"IFERROR(VLOOKUP(D6,Issues,2,FALSE),\"\")","v":""},{"$f":"IFERROR(VLOOKUP(D6,Correspondance_Issues,2,FALSE),\"\")","v":""},{"$f":"IF(C6<>\"\",IF(ISERROR(SEARCH(\"INT\",C6)),\"EXT\",\"INT\"),\"\")","v":""},null,null,null,null,{"$f":"IF(D6=\"\",99,\"\")","v":99}]

{"sheet":"Onglet_AP_Fiche_SPL","index":7,"n_rows":113,"n_cols":19,"rows_kept":113,"cut":false,"hidden":false,"merged":[[6,2,6,4],[54,5,67,13],[9,5,9,8],[49,6,49,8],[6,5,6,6]]}
[]
[]
[]
[]
[]
[null,"Mitigate risks regarding:",null,null,null,null,null,null,null,null,null,{"$f":"VLOOKUP(C7,Correspondance_Topics,2,FALSE)","v":"P1"},"Pillar"]
[null,null,"Position of the media regarding TotalEnergies",null,null,null,null,null,null,null,null,{"$f":"VLOOKUP(C7,Correspondance_Topics,3,FALSE)","v":"IS01_CIV"},"Code_issue"]
[null,null,null,null,null,null,null,null,null,null,null,{"$f":"VLOOKUP(C7,Correspondance_Topics,4,FALSE)","v":"C01"},"Code_SPL"]
[null,null,null,null,null,null,null,null,null,null,null,{"$f":"IFERROR(_xlfn.IFS(I15=Onglet_SRR_Table!$B$17,Onglet_AP_Fiche_SPL!L8&\"-\"&1,I15=Onglet_SRR_Table!$B$18,Onglet_AP_Fiche_SPL!$L$8&\"-\"&2,I15=Onglet_SRR_Table!$B$19,Onglet_AP_Fiche_SPL!$L$8&\"-\"&3,I15=Onglet_SRR_Table!$B$20,Onglet_AP_Fiche_SPL!$L$8&\"-\"&4),\"\")","v":""},"Current maturity"]
[null,null,{"$f":"Onglet_AP_translation!B28","v":"INTERNAL VISION"},null,null,{"$f":"Onglet_AP_translation!B29","v":"Update review status here:"},null,null,null,null,null,{"$f":"IFERROR(_xlfn.IFS(E25=Onglet_SRR_Table!$B$17,Onglet_AP_Fiche_SPL!L8&\"-\"&1,E25=Onglet_SRR_Table!$B$18,Onglet_AP_Fiche_SPL!$L$8&\"-\"&2,E25=Onglet_SRR_Table!$B$19,Onglet_AP_Fiche_SPL!$L$8&\"-\"&3,E25=Onglet_SRR_Table!$B$20,Onglet_AP_Fiche_SPL!$L$8&\"-\"&4),\"\")","v":""},"Targeted maturity","Not reviewed"]
[]
[]
[null,null,{"$f":"Onglet_AP_translation!B30","v":"REMINDER"},null,{"$f":"Onglet_AP_translation!B31","v":"Maturity level of Social Performance"}]
[]
[null,null,null,null,{"$f":"IFERROR(VLOOKUP($L$9,Maturity_scales,3,FALSE),\"\")","v":""},4,{"$f":"Onglet_AP_translation!B36","v":"Current level"},"=",{"$f":"IFERROR(VLOOKUP(L8,Maturity_scores,3,FALSE),\"\")","v":""}]
[]
[null,null,null,null,{"$f":"_xlfn.IFS(L6=\"P1\",VLOOKUP(L8,SRR_database_P1,6,FALSE),L6=\"P2\",VLOOKUP(L8,SRR_database_P2,6,FALSE),L6=\"P3\",VLOOKUP(L8,SRR_database_P3,6,FALSE),L6=\"P4\",VLOOKUP(L8,SRR_database_P4,6,FALSE))","v":0},4,{"$f":"Onglet_AP_translation!B37","v":"Minimum recommended"},"=",{"$f":"IFERROR(VLOOKUP(L8,Maturity_scores,4,FALSE),\"\")","v":""}]
[]
[]
[]
[null,null,"INSTRUCTIONS",null,{"$f":"Onglet_AP_translation!B33","v":"Set targeted maturity level and define possible actions to improve social performance"}]
[]
[null,null,null,1,{"$f":"Onglet_AP_translation!B34","v":"Set Targeted maturity below:"}]
[null,null,null,null,6]
[null,null,null,null,null,{"$f":"IF(G25<>\"\",\"!\",\"\")","v":""},{"$f":"IFERROR(IF(VLOOKUP(E25,Maturity_arrondi,2,FALSE)<VLOOKUP(I17,Maturity_arrondi,2,FALSE),\"WARNING:Target cannot be below minimum required\",\"\"),\"\")","v":""}]
[null,null,null,null,{"$f":"IFERROR(VLOOKUP($L$10,Maturity_scales,3,FALSE),\"\")","v":""}]
[]
[null,null,{"$f":"Onglet_AP_translation!B30","v":"REMINDER"},null,{"$f":"IFERROR(_xlfn.IFS(OR(MID(SPL_code,1,1)=\"C\",MID(SPL_code,1,1)=\"I\"),Onglet_AP_translation!B56,MID(SPL_code,1,1)=\"S\",Onglet_AP_translation!B57),\"\")","v":"Social Risks Review"}]
[]
[null,null,null,null,{"$f":"_xlfn.IFS(L6=\"P1\",VLOOKUP(L8,SRR_database_P1,6,FALSE),L6=\"P2\",VLOOKUP(L8,SRR_database_P2,6,FALSE),L6=\"P3\",VLOOKUP(L8,SRR_database_P3,6,FALSE),L6=\"P4\",VLOOKUP(L8,SRR_database_P4,6,FALSE))","v":0},4,"Score",null,{"$f":"VLOOKUP(L8,review_status_scores,2,FALSE)","v":""}]
[]
[]
[]
[]
[]
[null,null,null,{"$f":"_xlfn.IFS(OR(MID(SPL_code,1,1)=\"C\",MID(SPL_code,1,1)=\"I\",MID(SPL_code,1,1)=\"S\"),\"\",MID(SPL_code,1,1)=\"P\",2)","v":""},{"$f":"IFERROR(_xlfn.IFS(OR(MID(SPL_code,1,1)=\"C\",MID(SPL_code,1,1)=\"I\"),Onglet_AP_translation!B58,OR(MID(SPL_code,1,1)=\"P\",MID(SPL_code,1,1)=\"S\"),Onglet_AP_translation!B35),\"\")","v":"List possible actions below to mitigate risks:"},null,{"$f":"Onglet_AP_translation!$B$38","v":"Action status"},null,{"$f":"Onglet_AP_translation!$B$39","v":"Targeted stakeholders"}]
[null,null,null,null,6,null,6,null,6]
[null,null,"Action 1",null,null,null,null,null,null,null,{"$f":"$L$7&\"_\"&L38&\"_INT\"","v":"IS01_CIV_A1_INT"},"A1"]
[]
[null,null,"Action 2",null,null,null,null,null,null,null,{"$f":"$L$7&\"_\"&L40&\"_INT\"","v":"IS01_CIV_A2_INT"},"A2"]
[]
[null,null,"Action 3",null,null,null,null,null,null,null,{"$f":"$L$7&\"_\"&L42&\"_INT\"","v":"IS01_CIV_A3_INT"},"A3"]
[]
[null,null,"Action 4",null,null,null,null,null,null,null,{"$f":"$L$7&\"_\"&L44&\"_INT\"","v":"IS01_CIV_A4_INT"},"A4"]
[]
[null,null,"Action 5",null,null,null,null,null,null,null,{"$f":"$L$7&\"_\"&L46&\"_INT\"","v":"IS01_CIV_A5_INT"},"A5"]
[]
[]
[]
[null,null,{"$f":"Onglet_AP_translation!B32","v":"EXTERNAL VISION"},null,null,null,{"$f":"Onglet_AP_translation!B29","v":"Update review status here:"},null,null,null,null,null,null,"Not reviewed"]
[]
[]
[null,null,{"$f":"Onglet_AP_translation!B30","v":"REMINDER"},null,{"$f":"Onglet_AP_translation!B41","v":"Level of expectations by stakeholder category"},null,{"$f":"Onglet_AP_translation!B40","v":"You can click on the AI button to generate quick summary"}]
[]
[]
[]
[]
[]
[]
[]
[]
[]
[]
[]
[]
[]
[]
[]
[null,null,null,null,null,{"$f":"Onglet_AP_translation!B55","v":"AI can make mistakes"}]
[]
[]
[]
[null,null,null,1,{"$f":"Onglet_AP_translation!B42","v":"Select category of stakeholder here to see what they said"},4,"Business",null,null,null,null,null,null,null,null,2,{"$f":"Onglet_AP_translation!B59","v":"Analyze possible gaps"}]
[]
[null,null,{"$f":"Onglet_AP_translation!B46","v":"Stakeholder"},null,{"$f":"Onglet_AP_translation!B47","v":"What they said"},null,{"$f":"Onglet_AP_translation!B48","v":"Score"},null,{"$f":"Onglet_AP_translation!B49","v":"SH weight"},null,null,null,null,{"$f":"Onglet_AP_translation!B50","v":"Review status"},{"$f":"Onglet_AP_translation!B51","v":"Select verbatims"},null,{"$f":"Onglet_AP_translation!B52","v":"Gap"},{"$f":"Onglet_AP_translation!B53","v":"Comments"},{"$f":"Onglet_AP_translation!B54","v":"Action required"}]
[null,null,{"$f":"IFERROR(VLOOKUP(L76,consult_db_verbatims,6,FALSE),\"\")","v":""},null,{"$f":"IFERROR(_xlfn.IFS(VLOOKUP(L76,consult_db_verbatims,4,FALSE)=0,table!$C$50,VLOOKUP(L76,consult_db_verbatims,4,FALSE)<>0,VLOOKUP(L76,consult_db_verbatims,4,FALSE)),\"\")","v":""},null,{"$f":"IFERROR(VLOOKUP(L76,consult_db_verbatims,5,FALSE),\"\")","v":""},null,{"$f":"IFERROR(VLOOKUP(L76,consult_db_verbatims,8,FALSE),\"\")","v":""},null,null,{"$f":"$L$8&MID($G$73,1,3)&1","v":"C01Bus1"}]
[null,null,{"$f":"IFERROR(VLOOKUP(L77,consult_db_verbatims,6,FALSE),\"\")","v":""},null,{"$f":"IFERROR(_xlfn.IFS(VLOOKUP(L77,consult_db_verbatims,4,FALSE)=0,table!$C$50,VLOOKUP(L77,consult_db_verbatims,4,FALSE)<>0,VLOOKUP(L77,consult_db_verbatims,4,FALSE)),\"\")","v":""},null,{"$f":"IFERROR(VLOOKUP(L77,consult_db_verbatims,5,FALSE),\"\")","v":""},null,{"$f":"IFERROR(VLOOKUP(L77,consult_db_verbatims,8,FALSE),\"\")","v":""},null,null,{"$f":"$L$8&MID($G$73,1,3)&2","v":"C01Bus2"}]
[null,null,{"$f":"IFERROR(VLOOKUP(L78,consult_db_verbatims,6,FALSE),\"\")","v":""},null,{"$f":"IFERROR(_xlfn.IFS(VLOOKUP(L78,consult_db_verbatims,4,FALSE)=0,table!$C$50,VLOOKUP(L78,consult_db_verbatims,4,FALSE)<>0,VLOOKUP(L78,consult_db_verbatims,4,FALSE)),\"\")","v":""},null,{"$f":"IFERROR(VLOOKUP(L78,consult_db_verbatims,5,FALSE),\"\")","v":""},null,{"$f":"IFERROR(VLOOKUP(L78,consult_db_verbatims,8,FALSE),\"\")","v":""},null,null,{"$f":"$L$8&MID($G$73,1,3)&3","v":"C01Bus3"}]
[null,null,{"$f":"IFERROR(VLOOKUP(L79,consult_db_verbatims,6,FALSE),\"\")","v":""},null,{"$f":"IFERROR(_xlfn.IFS(VLOOKUP(L79,consult_db_verbatims,4,FALSE)=0,table!$C$50,VLOOKUP(L79,consult_db_verbatims,4,FALSE)<>0,VLOOKUP(L79,consult_db_verbatims,4,FALSE)),\"\")","v":""},null,{"$f":"IFERROR(VLOOKUP(L79,consult_db_verbatims,5,FALSE),\"\")","v":""},null,{"$f":"IFERROR(VLOOKUP(L79,consult_db_verbatims,8,FALSE),\"\")","v":""},null,null,{"$f":"$L$8&MID($G$73,1,3)&4","v":"C01Bus4"}]
[null,null,"",null,{"$f":"IFERROR(_xlfn.IFS(VLOOKUP(L80,consult_db_verbatims,4,FALSE)=0,table!$C$50,VLOOKUP(L80,consult_db_verbatims,4,FALSE)<>0,VLOOKUP(L80,consult_db_verbatims,4,FALSE)),\"\")","v":""},null,"",null,"",null,null,{"$f":"$L$8&MID($G$73,1,3)&5","v":"C01Bus5"}]
[null,null,"",null,{"$f":"IFERROR(_xlfn.IFS(VLOOKUP(L81,consult_db_verbatims,4,FALSE)=0,table!$C$50,VLOOKUP(L81,consult_db_verbatims,4,FALSE)<>0,VLOOKUP(L81,consult_db_verbatims,4,FALSE)),\"\")","v":""},null,"",null,"",null,null,{"$f":"$L$8&MID($G$73,1,3)&6","v":"C01Bus6"}]
[null,null,"",null,{"$f":"IFERROR(_xlfn.IFS(VLOOKUP(L82,consult_db_verbatims,4,FALSE)=0,table!$C$50,VLOOKUP(L82,consult_db_verbatims,4,FALSE)<>0,VLOOKUP(L82,consult_db_verbatims,4,FALSE)),\"\")","v":""},null,"",null,"",null,null,{"$f":"$L$8&MID($G$73,1,3)&7","v":"C01Bus7"}]
[null,null,"",null,{"$f":"IFERROR(_xlfn.IFS(VLOOKUP(L83,consult_db_verbatims,4,FALSE)=0,table!$C$50,VLOOKUP(L83,consult_db_verbatims,4,FALSE)<>0,VLOOKUP(L83,consult_db_verbatims,4,FALSE)),\"\")","v":""},null,"",null,"",null,null,{"$f":"$L$8&MID($G$73,1,3)&8","v":"C01Bus8"}]
[null,null,"",null,{"$f":"IFERROR(_xlfn.IFS(VLOOKUP(L84,consult_db_verbatims,4,FALSE)=0,table!$C$50,VLOOKUP(L84,consult_db_verbatims,4,FALSE)<>0,VLOOKUP(L84,consult_db_verbatims,4,FALSE)),\"\")","v":""},null,"",null,"",null,null,{"$f":"$L$8&MID($G$73,1,3)&9","v":"C01Bus9"}]
[null,null,"",null,{"$f":"IFERROR(_xlfn.IFS(VLOOKUP(L85,consult_db_verbatims,4,FALSE)=0,table!$C$50,VLOOKUP(L85,consult_db_verbatims,4,FALSE)<>0,VLOOKUP(L85,consult_db_verbatims,4,FALSE)),\"\")","v":""},null,"",null,"",null,null,{"$f":"$L$8&MID($G$73,1,3)&10","v":"C01Bus10"}]
[]
[null,null,null,2,{"$f":"Onglet_AP_translation!B43","v":"You can comment below key findings from consultation"}]
[]
[]
[]
[null,null,null,3,{"$f":"Onglet_AP_translation!B44","v":"Complete action plan based on reviewing expectations from external stakeholders"}]
[]
[null,null,null,null,{"$f":"Onglet_AP_translation!B45","v":"Possible additional actions to improve stakeholder perceptions and satisfaction, reduce risks and/or capture opportunities"},null,{"$f":"Onglet_AP_translation!$B$38","v":"Action status"},null,{"$f":"Onglet_AP_translation!$B$39","v":"Targeted stakeholders"}]
[null,null,null,null,null,null,6,null,6]
[null,null,"Action 1",null,null,null,null,null,null,null,{"$f":"$L$7&\"_\"&L95&\"_EXT\"","v":"IS01_CIV_A1_EXT"},"A1"]
[]
[null,null,"Action 2",null,null,null,null,null,null,null,{"$f":"$L$7&\"_\"&L97&\"_EXT\"","v":"IS01_CIV_A2_EXT"},"A2"]
[]
[null,null,"Action 3",null,null,null,null,null,null,null,{"$f":"$L$7&\"_\"&L99&\"_EXT\"","v":"IS01_CIV_A3_EXT"},"A3"]
[]
[null,null,"Action 4",null,null,null,null,null,null,null,{"$f":"$L$7&\"_\"&L101&\"_EXT\"","v":"IS01_CIV_A4_EXT"},"A4"]
[]
[null,null,"Action 5",null,null,null,null,null,null,null,{"$f":"$L$7&\"_\"&L103&\"_EXT\"","v":"IS01_CIV_A5_EXT"},"A5"]
[]
[null,null,"Action 6",null,null,null,null,null,null,null,{"$f":"$L$7&\"_\"&L105&\"_EXT\"","v":"IS01_CIV_A6_EXT"},"A6"]
[]
[null,null,"Action 7",null,null,null,null,null,null,null,{"$f":"$L$7&\"_\"&L107&\"_EXT\"","v":"IS01_CIV_A7_EXT"},"A7"]
[]
[null,null,"Action 8",null,null,null,null,null,null,null,{"$f":"$L$7&\"_\"&L109&\"_EXT\"","v":"IS01_CIV_A8_EXT"},"A8"]
[]
[null,null,"Action 9",null,null,null,null,null,null,null,{"$f":"$L$7&\"_\"&L111&\"_EXT\"","v":"IS01_CIV_A9_EXT"},"A9"]
[]
[null,null,"Action 10",null,null,null,null,null,null,null,{"$f":"$L$7&\"_\"&L113&\"_EXT\"","v":"IS01_CIV_A10_EXT"},"A10"]

{"sheet":"Onglet_AP_materiality","index":8,"n_rows":25,"n_cols":10,"rows_kept":25,"cut":false,"hidden":false,"merged":[]}
[]
[]
[]
[]
[]
[null,"Materiality assessment"]
[]
[null,"Issues",null,null,null,"Score SRR",null,"Impact SRR",null,"Impact Consult"]
[]
[null,"IS01_AUT",null,{"$f":"VLOOKUP(B10,Issues,2,FALSE)","v":"Relations with authorities"},null,{"$f":"AVERAGEIFS(Onglet_SRR_dataset!$E:$E,Onglet_SRR_dataset!$V:$V,Onglet_AP_materiality!$B10)","v":{"$error":"#DIV/0!"}}]
[null,"IS01_BUS",null,"Relations with business partners",null,{"$f":"AVERAGEIFS(Onglet_SRR_dataset!$E:$E,Onglet_SRR_dataset!$V:$V,Onglet_AP_materiality!$B11)","v":{"$error":"#DIV/0!"}}]
[null,"IS01_CIV",null,"Relations with civil society",null,{"$f":"AVERAGEIFS(Onglet_SRR_dataset!$E:$E,Onglet_SRR_dataset!$V:$V,Onglet_AP_materiality!$B12)","v":{"$error":"#DIV/0!"}}]
[null,"IS01_COM",null,"Relations with communities",null,{"$f":"AVERAGEIFS(Onglet_SRR_dataset!$E:$E,Onglet_SRR_dataset!$V:$V,Onglet_AP_materiality!$B13)","v":{"$error":"#DIV/0!"}}]
[null,"IS01_STK",null,"Relations with all stakeholders",null,{"$f":"AVERAGEIFS(Onglet_SRR_dataset!$E:$E,Onglet_SRR_dataset!$V:$V,Onglet_AP_materiality!$B14)","v":{"$error":"#DIV/0!"}}]
[null,"IS03",null,"Grievance mechanism",null,{"$f":"AVERAGEIFS(Onglet_SRR_dataset!$E:$E,Onglet_SRR_dataset!$V:$V,Onglet_AP_materiality!$B15)","v":{"$error":"#DIV/0!"}}]
[null,"IS04",null,"Communication (Strategic outlook, Societal, Sustainability)",null,{"$f":"AVERAGEIFS(Onglet_SRR_dataset!$E:$E,Onglet_SRR_dataset!$V:$V,Onglet_AP_materiality!$B16)","v":{"$error":"#DIV/0!"}}]
[null,"IS05",null,"HSE impacts",null,{"$f":"AVERAGEIFS(Onglet_SRR_dataset!$E:$E,Onglet_SRR_dataset!$V:$V,Onglet_AP_materiality!$B17)","v":{"$error":"#DIV/0!"}}]
[null,"IS06",null,"Human rights",null,{"$f":"AVERAGEIFS(Onglet_SRR_dataset!$E:$E,Onglet_SRR_dataset!$V:$V,Onglet_AP_materiality!$B18)","v":{"$error":"#DIV/0!"}}]
[null,"IS07",null,"Local jobs & capacity building",null,{"$f":"AVERAGEIFS(Onglet_SRR_dataset!$E:$E,Onglet_SRR_dataset!$V:$V,Onglet_AP_materiality!$B19)","v":{"$error":"#DIV/0!"}}]
[null,"IS08",null,"Local content",null,{"$f":"AVERAGEIFS(Onglet_SRR_dataset!$E:$E,Onglet_SRR_dataset!$V:$V,Onglet_AP_materiality!$B20)","v":{"$error":"#DIV/0!"}}]
[null,"IS09",null,"Social investments",null,{"$f":"AVERAGEIFS(Onglet_SRR_dataset!$E:$E,Onglet_SRR_dataset!$V:$V,Onglet_AP_materiality!$B21)","v":{"$error":"#DIV/0!"}}]
[null,"ISS10"]
[]
[]
[null,null,null,"Attention sens des scores SPL"]

{"sheet":"Onglet_AP_progress","index":9,"n_rows":22,"n_cols":12,"rows_kept":22,"cut":false,"hidden":false,"merged":[]}
[]
[]
[]
[]
[]
[null,"Progress report on Gap analysis & action plan"]
[]
[null,{"$f":"Onglet_trad_menus!B302","v":"Sections"},null,{"$f":"Onglet_trad_menus!B303","v":"Nb of actions required"},null,{"$f":"Onglet_trad_menus!B304","v":"% Progress review"},null,{"$f":"Onglet_trad_menus!B305","v":"Nb of existing actions in action plan"},null,{"$f":"Onglet_trad_menus!B306","v":"Nb of new actions in action plan"}]
[]
[null,{"$f":"Onglet_SRR_Table!B39","v":"Pillar 1 - Relationships & dialogue"},null,{"$f":"Onglet_SRR_dataset!E91","v":0},null,{"$f":"Onglet_SRR_dataset!F91","v":""},null,{"$f":"Onglet_SRR_dataset!G91","v":0},null,{"$f":"Onglet_SRR_dataset!I91","v":0}]
[]
[null,{"$f":"Onglet_SRR_Table!B40","v":"Pillar 2 - Negative impacts"},null,{"$f":"Onglet_SRR_dataset!E92","v":0},null,{"$f":"Onglet_SRR_dataset!F92","v":""},null,{"$f":"Onglet_SRR_dataset!G92","v":0},null,{"$f":"Onglet_SRR_dataset!I92","v":0}]
[]
[null,{"$f":"Onglet_SRR_Table!B41","v":"Pillar 3 - Positive impacts"},null,{"$f":"Onglet_SRR_dataset!E93","v":0},null,{"$f":"Onglet_SRR_dataset!F93","v":""},null,{"$f":"Onglet_SRR_dataset!G93","v":0},null,{"$f":"Onglet_SRR_dataset!I93","v":0}]
[]
[null,{"$f":"Onglet_SRR_Table!B42","v":"SP Governance"},null,{"$f":"Onglet_SRR_dataset!E94","v":0},null,{"$f":"Onglet_SRR_dataset!F94","v":""},null,{"$f":"Onglet_SRR_dataset!G94","v":0},null,{"$f":"Onglet_SRR_dataset!I94","v":0},null,{"$f":"Onglet_trad_menus!B308","v":"The % shows your progress status on"}]
[null,null,null,null,null,null,null,null,null,null,null,{"$f":"Onglet_trad_menus!B309","v":"the gap analysis and action plan definition"}]
[null,"Overall",null,{"$f":"SUM(D10:D16)","v":0},null,{"$f":"IFERROR(SUMPRODUCT(D10:D16,F10:F16)/D18,0)","v":0},null,{"$f":"SUM(H10:H16)","v":0},null,{"$f":"SUM(J10:J16)","v":0},null,{"$f":"Onglet_trad_menus!B310","v":"based on the number of actions required"}]
[]
[]
[]
[null,null,null,null,null,1]

{"sheet":"Onglet_AP_translation","index":10,"n_rows":59,"n_cols":6,"rows_kept":59,"cut":false,"hidden":false,"merged":[]}
[]
[]
[]
[]
[]
[]
[]
[]
[null,"Current",null,"EN","FR","SP"]
[]
[]
[]
[]
[]
[]
[]
[]
[]
[]
[]
[null,{"$f":"_xlfn.IFS(Language=\"EN\",D21,Language=\"FR\",E21,Language=\"SP\",F21)","v":"Improve social performance on:"},null,"Improve social performance on:","Améliorer les performances sociétales sur :"]
[null,{"$f":"_xlfn.IFS(Language=\"EN\",D22,Language=\"FR\",E22,Language=\"SP\",F22)","v":"Mitigate risks regarding:"},null,"Mitigate risks regarding:","Atténuer les risques concernant :"]
[null,{"$f":"_xlfn.IFS(Language=\"EN\",D23,Language=\"FR\",E23,Language=\"SP\",F23)","v":"Take into account stakeholder priorities for social investments regarding:"},null,"Take into account stakeholder priorities for social investments regarding:","Prendre en compte les priorités des parties prenantes en matière d'investissements sociétaux concernant :"]
[]
[]
[null,{"$f":"_xlfn.IFS(Language=\"EN\",D26,Language=\"FR\",E26,Language=\"SP\",F26)","v":"Please summarize the following content in English and answer the question: a. What are the main positive points (in the form of bullet points. Often the score (column E) is equal to 1). b. What are the points to watch out for (score is equal to 3 or 4) in bullet point form. c. And finally the potential points for improvement (score =2, only if there is no repetition with the previous points)? Can you limit the answer to 400 characters maximum?"},null,"Please summarize the following content in English and answer the question: a. What are the main positive points (in the form of bullet points. Often the score (column E) is equal to 1). b. What are the points to watch out for (score is equal to 3 or 4) in bullet point form. c. And finally the potential points for improvement (score =2, only if there is no repetition with the previous points)? Can you limit the answer to 400 characters maximum?","Veuillez résumer le contenu suivant en français et répondre à la question : a. Quelles sont les principaux points positifs (sous forme de bullet points. Souvent le score (colonne E) est égal à 1). b. Quels sont les points de vigilance (score est égal à 3 ou 4) sous forme de bullet points. c. Et enfin les points d'amélioration potentiels (score =2, uniquement s'il n'y a pas de redite avec les points précédents)? Peux-tu limiter la réponse à 400 caractères maximum"]
[]
[null,{"$f":"_xlfn.IFS(Language=\"EN\",D28,Language=\"FR\",E28,Language=\"SP\",F28)","v":"INTERNAL VISION"},null,"INTERNAL VISION","VISION INTERNE"]
[null,{"$f":"_xlfn.IFS(Language=\"EN\",D29,Language=\"FR\",E29,Language=\"SP\",F29)","v":"Update review status here:"},null,"Update review status here:","Mettez à jour le statut de la revue ici :"]
[null,{"$f":"_xlfn.IFS(Language=\"EN\",D30,Language=\"FR\",E30,Language=\"SP\",F30)","v":"REMINDER"},null,"REMINDER","RAPPEL"]
[null,{"$f":"_xlfn.IFS(Language=\"EN\",D31,Language=\"FR\",E31,Language=\"SP\",F31)","v":"Maturity level of Social Performance"},null,"Maturity level of Social Performance","Niveau de maturité de la performance sociétale"]
[null,{"$f":"_xlfn.IFS(Language=\"EN\",D32,Language=\"FR\",E32,Language=\"SP\",F32)","v":"EXTERNAL VISION"},null,"EXTERNAL VISION","VISION EXTERNE"]
[null,{"$f":"_xlfn.IFS(Language=\"EN\",D33,Language=\"FR\",E33,Language=\"SP\",F33)","v":"Set targeted maturity level and define possible actions to improve social performance"},null,"Set targeted maturity level and define possible actions to improve social performance","Fixer le niveau de maturité visé et définir les actions possibles pour améliorer la performance sociétale"]
[null,{"$f":"_xlfn.IFS(Language=\"EN\",D34,Language=\"FR\",E34,Language=\"SP\",F34)","v":"Set Targeted maturity below:"},null,"Set Targeted maturity below:","Définir le niveau de maturité visé ci-dessous :"]
[null,{"$f":"_xlfn.IFS(Language=\"EN\",D35,Language=\"FR\",E35,Language=\"SP\",F35)","v":"List possible actions below to improve social performance:"},null,"List possible actions below to improve social performance:","Dresser la liste des actions possibles pour améliorer les performances sociétales :"]
[null,{"$f":"_xlfn.IFS(Language=\"EN\",D36,Language=\"FR\",E36,Language=\"SP\",F36)","v":"Current level"},null,"Current level","Niveau Actuel"]
[null,{"$f":"_xlfn.IFS(Language=\"EN\",D37,Language=\"FR\",E37,Language=\"SP\",F37)","v":"Minimum recommended"},null,"Minimum recommended","Minimum recommandé"]
[null,{"$f":"_xlfn.IFS(Language=\"EN\",D38,Language=\"FR\",E38,Language=\"SP\",F38)","v":"Action status"},null,"Action status","État d'avancement"]
[null,{"$f":"_xlfn.IFS(Language=\"EN\",D39,Language=\"FR\",E39,Language=\"SP\",F39)","v":"Targeted stakeholders"},null,"Targeted stakeholders","Parties prenantes ciblées"]
[null,{"$f":"_xlfn.IFS(Language=\"EN\",D40,Language=\"FR\",E40,Language=\"SP\",F40)","v":"You can click on the AI button to generate quick summary"},null,"You can click on the AI button to generate quick summary","Vous pouvez cliquer sur le bouton AI pour obtenir un résumé rapide"]
[null,{"$f":"_xlfn.IFS(Language=\"EN\",D41,Language=\"FR\",E41,Language=\"SP\",F41)","v":"Level of expectations by stakeholder category"},null,"Level of expectations by stakeholder category","Niveau d'attente par catégorie de parties prenantes"]
[null,{"$f":"_xlfn.IFS(Language=\"EN\",D42,Language=\"FR\",E42,Language=\"SP\",F42)","v":"Select category of stakeholder here to see what they said"},null,"Select category of stakeholder here to see what they said","Sélectionnez la catégorie de partie prenante ici pour voir ce qu'elles ont dit"]
[null,{"$f":"_xlfn.IFS(Language=\"EN\",D43,Language=\"FR\",E43,Language=\"SP\",F43)","v":"You can comment below key findings from consultation"},null,"You can comment below key findings from consultation","Vous pouvez commenter ci-dessous les principales conclusions de la consultation"]
[null,{"$f":"_xlfn.IFS(Language=\"EN\",D44,Language=\"FR\",E44,Language=\"SP\",F44)","v":"Complete action plan based on reviewing expectations from external stakeholders"},null,"Complete action plan based on reviewing expectations from external stakeholders","Compléter votre plan d'actions en vous appuyant sur la revue des attentes des parties prenantes externes"]
[null,{"$f":"_xlfn.IFS(Language=\"EN\",D45,Language=\"FR\",E45,Language=\"SP\",F45)","v":"Possible additional actions to improve stakeholder perceptions and satisfaction, reduce risks and/or capture opportunities"},null,"Possible additional actions to improve stakeholder perceptions and satisfaction, reduce risks and/or capture opportunities","Actions supplémentaires possibles pour améliorer la perception et la satisfaction des parties prenantes, réduire les risques et/ou saisir les opportunités"]
[null,{"$f":"_xlfn.IFS(Language=\"EN\",D46,Language=\"FR\",E46,Language=\"SP\",F46)","v":"Stakeholder"},null,"Stakeholder","Partie prenante"]
[null,{"$f":"_xlfn.IFS(Language=\"EN\",D47,Language=\"FR\",E47,Language=\"SP\",F47)","v":"What they said"},null,"What they said","Ce qu'elles ont dit"]
[null,{"$f":"_xlfn.IFS(Language=\"EN\",D48,Language=\"FR\",E48,Language=\"SP\",F48)","v":"Score"},null,"Score","Score"]
[null,{"$f":"_xlfn.IFS(Language=\"EN\",D49,Language=\"FR\",E49,Language=\"SP\",F49)","v":"SH weight"},null,"SH weight","Poids de la PP"]
[null,{"$f":"_xlfn.IFS(Language=\"EN\",D50,Language=\"FR\",E50,Language=\"SP\",F50)","v":"Review status"},null,"Review status","Statut de la revue"]
[null,{"$f":"_xlfn.IFS(Language=\"EN\",D51,Language=\"FR\",E51,Language=\"SP\",F51)","v":"Select verbatims"},null,"Select verbatims","Sélectionner les verbatims"]
[null,{"$f":"_xlfn.IFS(Language=\"EN\",D52,Language=\"FR\",E52,Language=\"SP\",F52)","v":"Gap"},null,"Gap","Écart"]
[null,{"$f":"_xlfn.IFS(Language=\"EN\",D53,Language=\"FR\",E53,Language=\"SP\",F53)","v":"Comments"},null,"Comments","Commentaires"]
[null,{"$f":"_xlfn.IFS(Language=\"EN\",D54,Language=\"FR\",E54,Language=\"SP\",F54)","v":"Action required"},null,"Action required","Action requise"]
[null,{"$f":"_xlfn.IFS(Language=\"EN\",D55,Language=\"FR\",E55,Language=\"SP\",F55)","v":"AI can make mistakes"},null,"AI can make mistakes","L'IA peut faire des erreurs"]
[null,{"$f":"_xlfn.IFS(Language=\"EN\",D56,Language=\"FR\",E56,Language=\"SP\",F56)","v":"Social Risks Review"},null,"Social Risks Review","Revue des risques sociétaux"]
[null,{"$f":"_xlfn.IFS(Language=\"EN\",D57,Language=\"FR\",E57,Language=\"SP\",F57)","v":"Social investment priorities"},null,"Social investment priorities","Priorités d'investissement sociétal"]
[null,{"$f":"_xlfn.IFS(Language=\"EN\",D58,Language=\"FR\",E58,Language=\"SP\",F58)","v":"List possible actions below to mitigate risks:"},null,"List possible actions below to mitigate risks:","Dressez la liste des actions possibles ci-dessous pour atténuer les risques :"]
[null,{"$f":"_xlfn.IFS(Language=\"EN\",D59,Language=\"FR\",E59,Language=\"SP\",F59)","v":"Analyze possible gaps"},null,"Analyze possible gaps","Analysez les écarts éventuels"]

{"sheet":"Onglet_Consult_Database","index":11,"n_rows":1,"n_cols":18,"rows_kept":1,"cut":false,"hidden":false,"merged":[]}
["Code_verb","IND","Description","Comment","Score","SH","SH_type","SH_weight","ScPond","INDxSH","Index","Review_status","Verbatim_select","SHID","Priority","Gap","Comment","Action"]

{"sheet":"Onglet_consult_dataset","index":12,"n_rows":72,"n_cols":36,"rows_kept":72,"cut":false,"hidden":false,"merged":[[38,21,38,24],[49,3,49,7],[49,9,49,13],[49,32,49,33]]}
[]
[null,null,"Number of stakeholders by group",{"$f":"Onglet_consult_Panel!L3","v":0},{"$f":"Onglet_consult_Panel!L4","v":0},{"$f":"Onglet_consult_Panel!L5","v":0},{"$f":"Onglet_consult_Panel!L6","v":0},{"$f":"SUM(D2:G2)","v":0}]
[]
[null,null,null,"Average scores",null,null,null,null,null,"answer rate",null,"Threshold",0.5,null,null,"data for graphs"]
[]
[null,null,null,{"$f":"Onglet_SRR_Table!B78","v":"Authorities"},{"$f":"Onglet_SRR_Table!B79","v":"Business"},{"$f":"Onglet_SRR_Table!B80","v":"Civil society"},{"$f":"Onglet_SRR_Table!B81","v":"Communities"},"MyGr",null,{"$f":"$D$6","v":"Authorities"},{"$f":"$E$6","v":"Business"},{"$f":"$F$6","v":"Civil society"},{"$f":"$G$6","v":"Communities"},{"$f":"$H$6","v":"MyGr"},null,{"$f":"$D$6","v":"Authorities"},{"$f":"$E$6","v":"Business"},{"$f":"$F$6","v":"Civil society"},{"$f":"$G$6","v":"Communities"},{"$f":"$H$6","v":"MyGr"}]
[]
[null,"I01",{"$f":"VLOOKUP(B8,SRR_referential,2,FALSE)","v":"Relations with authorities"},{"$f":"IFERROR(AVERAGEIFS(Onglet_Consult_Database!$E:$E,Onglet_Consult_Database!$B:$B,Onglet_consult_dataset!$B8,Onglet_Consult_Database!$G:$G,Onglet_consult_dataset!D$6),\"\")","v":""},null,null,null,{"$f":"IFERROR(AVERAGE(D8:G8),\"\")","v":""},null,{"$f":"IF(D$2=0,\"\",(COUNTIFS(Onglet_Consult_Database!$B:$B,Onglet_consult_dataset!$B8,Onglet_Consult_Database!$G:$G,Onglet_consult_dataset!J$6,Onglet_Consult_Database!$E:$E,\"<>\"&\"N/A\")-COUNTIFS(Onglet_Consult_Database!$B:$B,Onglet_consult_dataset!$B8,Onglet_Consult_Database!$G:$G,Onglet_consult_dataset!J$6,Onglet_Consult_Database!$E:$E,\"\"))/D$2)","v":""},null,null,null,{"$f":"J8","v":""},null,{"$f":"IF(D8=1,1.04,D8)","v":""},0,0,0,""]
[null,"I02","Relations with business partners",null,{"$f":"IFERROR(AVERAGEIFS(Onglet_Consult_Database!$E:$E,Onglet_Consult_Database!$B:$B,Onglet_consult_dataset!$B9,Onglet_Consult_Database!$G:$G,Onglet_consult_dataset!E$6),\"\")","v":""},null,null,{"$f":"IFERROR(AVERAGE(D9:G9),\"\")","v":""},null,null,{"$f":"IF(E$2=0,\"\",(COUNTIFS(Onglet_Consult_Database!$B:$B,Onglet_consult_dataset!$B9,Onglet_Consult_Database!$G:$G,Onglet_consult_dataset!K$6,Onglet_Consult_Database!$E:$E,\"<>\"&\"N/A\")-COUNTIFS(Onglet_Consult_Database!$B:$B,Onglet_consult_dataset!$B9,Onglet_Consult_Database!$G:$G,Onglet_consult_dataset!K$6,Onglet_Consult_Database!$E:$E,\"\"))/E$2)","v":""},null,null,{"$f":"K9","v":""},null,0,"",0,0,""]
[null,"I03","Relations with civil society",null,null,{"$f":"IFERROR(AVERAGEIFS(Onglet_Consult_Database!$E:$E,Onglet_Consult_Database!$B:$B,Onglet_consult_dataset!$B10,Onglet_Consult_Database!$G:$G,Onglet_consult_dataset!F$6),\"\")","v":""},null,"",null,null,null,{"$f":"IF(F$2=0,\"\",(COUNTIFS(Onglet_Consult_Database!$B:$B,Onglet_consult_dataset!$B10,Onglet_Consult_Database!$G:$G,Onglet_consult_dataset!L$6,Onglet_Consult_Database!$E:$E,\"<>\"&\"N/A\")-COUNTIFS(Onglet_Consult_Database!$B:$B,Onglet_consult_dataset!$B10,Onglet_Consult_Database!$G:$G,Onglet_consult_dataset!L$6,Onglet_Consult_Database!$E:$E,\"\"))/F$2)","v":""},null,{"$f":"L10","v":""},null,0,0,"",0,""]
[null,"I04","Relations with affected communities",null,null,null,{"$f":"IFERROR(AVERAGEIFS(Onglet_Consult_Database!$E:$E,Onglet_Consult_Database!$B:$B,Onglet_consult_dataset!$B11,Onglet_Consult_Database!$G:$G,Onglet_consult_dataset!G$6),\"\")","v":""},"",null,null,null,null,{"$f":"IF(G$2=0,\"\",(COUNTIFS(Onglet_Consult_Database!$B:$B,Onglet_consult_dataset!$B11,Onglet_Consult_Database!$G:$G,Onglet_consult_dataset!M$6,Onglet_Consult_Database!$E:$E,\"<>\"&\"N/A\")-COUNTIFS(Onglet_Consult_Database!$B:$B,Onglet_consult_dataset!$B11,Onglet_Consult_Database!$G:$G,Onglet_consult_dataset!M$6,Onglet_Consult_Database!$E:$E,\"\"))/G$2)","v":""},{"$f":"M11","v":""},null,0,0,0,"",""]
[null,"P01","Transparent and regular stakeholder engagement",{"$f":"IFERROR(AVERAGEIFS(Onglet_Consult_Database!$E:$E,Onglet_Consult_Database!$B:$B,Onglet_consult_dataset!$B12,Onglet_Consult_Database!$G:$G,Onglet_consult_dataset!D$6),\"\")","v":""},{"$f":"IFERROR(AVERAGEIFS(Onglet_Consult_Database!$E:$E,Onglet_Consult_Database!$B:$B,Onglet_consult_dataset!$B12,Onglet_Consult_Database!$G:$G,Onglet_consult_dataset!E$6),\"\")","v":""},{"$f":"IFERROR(AVERAGEIFS(Onglet_Consult_Database!$E:$E,Onglet_Consult_Database!$B:$B,Onglet_consult_dataset!$B12,Onglet_Consult_Database!$G:$G,Onglet_consult_dataset!F$6),\"\")","v":""},{"$f":"IFERROR(AVERAGEIFS(Onglet_Consult_Database!$E:$E,Onglet_Consult_Database!$B:$B,Onglet_consult_dataset!$B12,Onglet_Consult_Database!$G:$G,Onglet_consult_dataset!G$6),\"\")","v":""},"",null,{"$f":"IF(D$2=0,\"\",(COUNTIFS(Onglet_Consult_Database!$B:$B,Onglet_consult_dataset!$B12,Onglet_Consult_Database!$G:$G,Onglet_consult_dataset!J$6,Onglet_Consult_Database!$E:$E,\"<>\"&\"N/A\")-COUNTIFS(Onglet_Consult_Database!$B:$B,Onglet_consult_dataset!$B12,Onglet_Consult_Database!$G:$G,Onglet_consult_dataset!J$6,Onglet_Consult_Database!$E:$E,\"\"))/D$2)","v":""},{"$f":"IF(E$2=0,\"\",(COUNTIFS(Onglet_Consult_Database!$B:$B,Onglet_consult_dataset!$B12,Onglet_Consult_Database!$G:$G,Onglet_consult_dataset!K$6,Onglet_Consult_Database!$E:$E,\"<>\"&\"N/A\")-COUNTIFS(Onglet_Consult_Database!$B:$B,Onglet_consult_dataset!$B12,Onglet_Consult_Database!$G:$G,Onglet_consult_dataset!K$6,Onglet_Consult_Database!$E:$E,\"\"))/E$2)","v":""},{"$f":"IF(F$2=0,\"\",(COUNTIFS(Onglet_Consult_Database!$B:$B,Onglet_consult_dataset!$B12,Onglet_Consult_Database!$G:$G,Onglet_consult_dataset!L$6,Onglet_Consult_Database!$E:$E,\"<>\"&\"N/A\")-COUNTIFS(Onglet_Consult_Database!$B:$B,Onglet_consult_dataset!$B12,Onglet_Consult_Database!$G:$G,Onglet_consult_dataset!L$6,Onglet_Consult_Database!$E:$E,\"\"))/F$2)","v":""},{"$f":"IF(G$2=0,\"\",(COUNTIFS(Onglet_Consult_Database!$B:$B,Onglet_consult_dataset!$B12,Onglet_Consult_Database!$G:$G,Onglet_consult_dataset!M$6,Onglet_Consult_Database!$E:$E,\"<>\"&\"N/A\")-COUNTIFS(Onglet_Consult_Database!$B:$B,Onglet_consult_dataset!$B12,Onglet_Consult_Database!$G:$G,Onglet_consult_dataset!M$6,Onglet_Consult_Database!$E:$E,\"\"))/G$2)","v":""},{"$f":"IFERROR(SUMPRODUCT($D$2:$G$2,J12:M12)/$H$2,\"\")","v":""},null,"","","","",""]
[null,"P02","Fullfilment and follow-up of commitments",{"$f":"IFERROR(AVERAGEIFS(Onglet_Consult_Database!$E:$E,Onglet_Consult_Database!$B:$B,Onglet_consult_dataset!$B13,Onglet_Consult_Database!$G:$G,Onglet_consult_dataset!D$6),\"\")","v":""},{"$f":"IFERROR(AVERAGEIFS(Onglet_Consult_Database!$E:$E,Onglet_Consult_Database!$B:$B,Onglet_consult_dataset!$B13,Onglet_Consult_Database!$G:$G,Onglet_consult_dataset!E$6),\"\")","v":""},{"$f":"IFERROR(AVERAGEIFS(Onglet_Consult_Database!$E:$E,Onglet_Consult_Database!$B:$B,Onglet_consult_dataset!$B13,Onglet_Consult_Database!$G:$G,Onglet_consult_dataset!F$6),\"\")","v":""},{"$f":"IFERROR(AVERAGEIFS(Onglet_Consult_Database!$E:$E,Onglet_Consult_Database!$B:$B,Onglet_consult_dataset!$B13,Onglet_Consult_Database!$G:$G,Onglet_consult_dataset!G$6),\"\")","v":""},"",null,{"$f":"IF(D$2=0,\"\",(COUNTIFS(Onglet_Consult_Database!$B:$B,Onglet_consult_dataset!$B13,Onglet_Consult_Database!$G:$G,Onglet_consult_dataset!J$6,Onglet_Consult_Database!$E:$E,\"<>\"&\"N/A\")-COUNTIFS(Onglet_Consult_Database!$B:$B,Onglet_consult_dataset!$B13,Onglet_Consult_Database!$G:$G,Onglet_consult_dataset!J$6,Onglet_Consult_Database!$E:$E,\"\"))/D$2)","v":""},{"$f":"IF(E$2=0,\"\",(COUNTIFS(Onglet_Consult_Database!$B:$B,Onglet_consult_dataset!$B13,Onglet_Consult_Database!$G:$G,Onglet_consult_dataset!K$6,Onglet_Consult_Database!$E:$E,\"<>\"&\"N/A\")-COUNTIFS(Onglet_Consult_Database!$B:$B,Onglet_consult_dataset!$B13,Onglet_Consult_Database!$G:$G,Onglet_consult_dataset!K$6,Onglet_Consult_Database!$E:$E,\"\"))/E$2)","v":""},{"$f":"IF(F$2=0,\"\",(COUNTIFS(Onglet_Consult_Database!$B:$B,Onglet_consult_dataset!$B13,Onglet_Consult_Database!$G:$G,Onglet_consult_dataset!L$6,Onglet_Consult_Database!$E:$E,\"<>\"&\"N/A\")-COUNTIFS(Onglet_Consult_Database!$B:$B,Onglet_consult_dataset!$B13,Onglet_Consult_Database!$G:$G,Onglet_consult_dataset!L$6,Onglet_Consult_Database!$E:$E,\"\"))/F$2)","v":""},{"$f":"IF(G$2=0,\"\",(COUNTIFS(Onglet_Consult_Database!$B:$B,Onglet_consult_dataset!$B13,Onglet_Consult_Database!$G:$G,Onglet_consult_dataset!M$6,Onglet_Consult_Database!$E:$E,\"<>\"&\"N/A\")-COUNTIFS(Onglet_Consult_Database!$B:$B,Onglet_consult_dataset!$B13,Onglet_Consult_Database!$G:$G,Onglet_consult_dataset!M$6,Onglet_Consult_Database!$E:$E,\"\"))/G$2)","v":""},{"$f":"IFERROR(SUMPRODUCT($D$2:$G$2,J13:M13)/$H$2,\"\")","v":""},null,{"$f":"IF(D13=1,1.04,D13)","v":""},"","",{"$f":"IF(G13=1,1.04,G13)","v":""},""]
[null,"P03","Management of grievances",{"$f":"IFERROR(AVERAGEIFS(Onglet_Consult_Database!$E:$E,Onglet_Consult_Database!$B:$B,Onglet_consult_dataset!$B14,Onglet_Consult_Database!$G:$G,Onglet_consult_dataset!D$6),\"\")","v":""},{"$f":"IFERROR(AVERAGEIFS(Onglet_Consult_Database!$E:$E,Onglet_Consult_Database!$B:$B,Onglet_consult_dataset!$B14,Onglet_Consult_Database!$G:$G,Onglet_consult_dataset!E$6),\"\")","v":""},{"$f":"IFERROR(AVERAGEIFS(Onglet_Consult_Database!$E:$E,Onglet_Consult_Database!$B:$B,Onglet_consult_dataset!$B14,Onglet_Consult_Database!$G:$G,Onglet_consult_dataset!F$6),\"\")","v":""},{"$f":"IFERROR(AVERAGEIFS(Onglet_Consult_Database!$E:$E,Onglet_Consult_Database!$B:$B,Onglet_consult_dataset!$B14,Onglet_Consult_Database!$G:$G,Onglet_consult_dataset!G$6),\"\")","v":""},"",null,{"$f":"IF(D$2=0,\"\",(COUNTIFS(Onglet_Consult_Database!$B:$B,Onglet_consult_dataset!$B14,Onglet_Consult_Database!$G:$G,Onglet_consult_dataset!J$6,Onglet_Consult_Database!$E:$E,\"<>\"&\"N/A\")-COUNTIFS(Onglet_Consult_Database!$B:$B,Onglet_consult_dataset!$B14,Onglet_Consult_Database!$G:$G,Onglet_consult_dataset!J$6,Onglet_Consult_Database!$E:$E,\"\"))/D$2)","v":""},{"$f":"IF(E$2=0,\"\",(COUNTIFS(Onglet_Consult_Database!$B:$B,Onglet_consult_dataset!$B14,Onglet_Consult_Database!$G:$G,Onglet_consult_dataset!K$6,Onglet_Consult_Database!$E:$E,\"<>\"&\"N/A\")-COUNTIFS(Onglet_Consult_Database!$B:$B,Onglet_consult_dataset!$B14,Onglet_Consult_Database!$G:$G,Onglet_consult_dataset!K$6,Onglet_Consult_Database!$E:$E,\"\"))/E$2)","v":""},{"$f":"IF(F$2=0,\"\",(COUNTIFS(Onglet_Consult_Database!$B:$B,Onglet_consult_dataset!$B14,Onglet_Consult_Database!$G:$G,Onglet_consult_dataset!L$6,Onglet_Consult_Database!$E:$E,\"<>\"&\"N/A\")-COUNTIFS(Onglet_Consult_Database!$B:$B,Onglet_consult_dataset!$B14,Onglet_Consult_Database!$G:$G,Onglet_consult_dataset!L$6,Onglet_Consult_Database!$E:$E,\"\"))/F$2)","v":""},{"$f":"IF(G$2=0,\"\",(COUNTIFS(Onglet_Consult_Database!$B:$B,Onglet_consult_dataset!$B14,Onglet_Consult_Database!$G:$G,Onglet_consult_dataset!M$6,Onglet_Consult_Database!$E:$E,\"<>\"&\"N/A\")-COUNTIFS(Onglet_Consult_Database!$B:$B,Onglet_consult_dataset!$B14,Onglet_Consult_Database!$G:$G,Onglet_consult_dataset!M$6,Onglet_Consult_Database!$E:$E,\"\"))/G$2)","v":""},{"$f":"IFERROR(SUMPRODUCT($D$2:$G$2,J14:M14)/$H$2,\"\")","v":""},null,"","","","",""]
[null,"P04","Communication (activities, strategic outlook, social performance, sustainability…)",{"$f":"IFERROR(AVERAGEIFS(Onglet_Consult_Database!$E:$E,Onglet_Consult_Database!$B:$B,Onglet_consult_dataset!$B15,Onglet_Consult_Database!$G:$G,Onglet_consult_dataset!D$6),\"\")","v":""},{"$f":"IFERROR(AVERAGEIFS(Onglet_Consult_Database!$E:$E,Onglet_Consult_Database!$B:$B,Onglet_consult_dataset!$B15,Onglet_Consult_Database!$G:$G,Onglet_consult_dataset!E$6),\"\")","v":""},{"$f":"IFERROR(AVERAGEIFS(Onglet_Consult_Database!$E:$E,Onglet_Consult_Database!$B:$B,Onglet_consult_dataset!$B15,Onglet_Consult_Database!$G:$G,Onglet_consult_dataset!F$6),\"\")","v":""},{"$f":"IFERROR(AVERAGEIFS(Onglet_Consult_Database!$E:$E,Onglet_Consult_Database!$B:$B,Onglet_consult_dataset!$B15,Onglet_Consult_Database!$G:$G,Onglet_consult_dataset!G$6),\"\")","v":""},"",null,{"$f":"IF(D$2=0,\"\",(COUNTIFS(Onglet_Consult_Database!$B:$B,Onglet_consult_dataset!$B15,Onglet_Consult_Database!$G:$G,Onglet_consult_dataset!J$6,Onglet_Consult_Database!$E:$E,\"<>\"&\"N/A\")-COUNTIFS(Onglet_Consult_Database!$B:$B,Onglet_consult_dataset!$B15,Onglet_Consult_Database!$G:$G,Onglet_consult_dataset!J$6,Onglet_Consult_Database!$E:$E,\"\"))/D$2)","v":""},{"$f":"IF(E$2=0,\"\",(COUNTIFS(Onglet_Consult_Database!$B:$B,Onglet_consult_dataset!$B15,Onglet_Consult_Database!$G:$G,Onglet_consult_dataset!K$6,Onglet_Consult_Database!$E:$E,\"<>\"&\"N/A\")-COUNTIFS(Onglet_Consult_Database!$B:$B,Onglet_consult_dataset!$B15,Onglet_Consult_Database!$G:$G,Onglet_consult_dataset!K$6,Onglet_Consult_Database!$E:$E,\"\"))/E$2)","v":""},{"$f":"IF(F$2=0,\"\",(COUNTIFS(Onglet_Consult_Database!$B:$B,Onglet_consult_dataset!$B15,Onglet_Consult_Database!$G:$G,Onglet_consult_dataset!L$6,Onglet_Consult_Database!$E:$E,\"<>\"&\"N/A\")-COUNTIFS(Onglet_Consult_Database!$B:$B,Onglet_consult_dataset!$B15,Onglet_Consult_Database!$G:$G,Onglet_consult_dataset!L$6,Onglet_Consult_Database!$E:$E,\"\"))/F$2)","v":""},{"$f":"IF(G$2=0,\"\",(COUNTIFS(Onglet_Consult_Database!$B:$B,Onglet_consult_dataset!$B15,Onglet_Consult_Database!$G:$G,Onglet_consult_dataset!M$6,Onglet_Consult_Database!$E:$E,\"<>\"&\"N/A\")-COUNTIFS(Onglet_Consult_Database!$B:$B,Onglet_consult_dataset!$B15,Onglet_Consult_Database!$G:$G,Onglet_consult_dataset!M$6,Onglet_Consult_Database!$E:$E,\"\"))/G$2)","v":""},"",null,"","","","",""]
[]
[null,"I05.1","Impacts on environment",{"$f":"IFERROR(AVERAGEIFS(Onglet_Consult_Database!$E:$E,Onglet_Consult_Database!$B:$B,Onglet_consult_dataset!$B17,Onglet_Consult_Database!$G:$G,Onglet_consult_dataset!D$6),\"\")","v":""},{"$f":"IFERROR(AVERAGEIFS(Onglet_Consult_Database!$E:$E,Onglet_Consult_Database!$B:$B,Onglet_consult_dataset!$B17,Onglet_Consult_Database!$G:$G,Onglet_consult_dataset!E$6),\"\")","v":""},{"$f":"IFERROR(AVERAGEIFS(Onglet_Consult_Database!$E:$E,Onglet_Consult_Database!$B:$B,Onglet_consult_dataset!$B17,Onglet_Consult_Database!$G:$G,Onglet_consult_dataset!F$6),\"\")","v":""},{"$f":"IFERROR(AVERAGEIFS(Onglet_Consult_Database!$E:$E,Onglet_Consult_Database!$B:$B,Onglet_consult_dataset!$B17,Onglet_Consult_Database!$G:$G,Onglet_consult_dataset!G$6),\"\")","v":""},{"$f":"IFERROR(AVERAGE(D17:G17),\"\")","v":""},null,{"$f":"IF(D$2=0,\"\",(COUNTIFS(Onglet_Consult_Database!$B:$B,Onglet_consult_dataset!$B17,Onglet_Consult_Database!$G:$G,Onglet_consult_dataset!J$6,Onglet_Consult_Database!$E:$E,\"<>\"&\"N/A\")-COUNTIFS(Onglet_Consult_Database!$B:$B,Onglet_consult_dataset!$B17,Onglet_Consult_Database!$G:$G,Onglet_consult_dataset!J$6,Onglet_Consult_Database!$E:$E,\"\"))/D$2)","v":""},{"$f":"IF(E$2=0,\"\",(COUNTIFS(Onglet_Consult_Database!$B:$B,Onglet_consult_dataset!$B17,Onglet_Consult_Database!$G:$G,Onglet_consult_dataset!K$6,Onglet_Consult_Database!$E:$E,\"<>\"&\"N/A\")-COUNTIFS(Onglet_Consult_Database!$B:$B,Onglet_consult_dataset!$B17,Onglet_Consult_Database!$G:$G,Onglet_consult_dataset!K$6,Onglet_Consult_Database!$E:$E,\"\"))/E$2)","v":""},{"$f":"IF(F$2=0,\"\",(COUNTIFS(Onglet_Consult_Database!$B:$B,Onglet_consult_dataset!$B17,Onglet_Consult_Database!$G:$G,Onglet_consult_dataset!L$6,Onglet_Consult_Database!$E:$E,\"<>\"&\"N/A\")-COUNTIFS(Onglet_Consult_Database!$B:$B,Onglet_consult_dataset!$B17,Onglet_Consult_Database!$G:$G,Onglet_consult_dataset!L$6,Onglet_Consult_Database!$E:$E,\"\"))/F$2)","v":""},{"$f":"IF(G$2=0,\"\",(COUNTIFS(Onglet_Consult_Database!$B:$B,Onglet_consult_dataset!$B17,Onglet_Consult_Database!$G:$G,Onglet_consult_dataset!M$6,Onglet_Consult_Database!$E:$E,\"<>\"&\"N/A\")-COUNTIFS(Onglet_Consult_Database!$B:$B,Onglet_consult_dataset!$B17,Onglet_Consult_Database!$G:$G,Onglet_consult_dataset!M$6,Onglet_Consult_Database!$E:$E,\"\"))/G$2)","v":""},"",null,{"$f":"IF(D17=1,1.04,D17)","v":""},{"$f":"IF(E17=1,1.04,E17)","v":""},{"$f":"IF(F17=1,1.04,F17)","v":""},{"$f":"IF(G17=1,1.04,G17)","v":""},{"$f":"IF(H17=1,1.04,H17)","v":""}]
[null,"I05.1.3",{"$f":"VLOOKUP(B18,SRR_referential,2,FALSE)","v":"Impacts on climate change"},{"$f":"IFERROR(AVERAGEIFS(Onglet_Consult_Database!$E:$E,Onglet_Consult_Database!$B:$B,Onglet_consult_dataset!$B18,Onglet_Consult_Database!$G:$G,Onglet_consult_dataset!D$6),\"\")","v":""},{"$f":"IFERROR(AVERAGEIFS(Onglet_Consult_Database!$E:$E,Onglet_Consult_Database!$B:$B,Onglet_consult_dataset!$B18,Onglet_Consult_Database!$G:$G,Onglet_consult_dataset!E$6),\"\")","v":""},{"$f":"IFERROR(AVERAGEIFS(Onglet_Consult_Database!$E:$E,Onglet_Consult_Database!$B:$B,Onglet_consult_dataset!$B18,Onglet_Consult_Database!$G:$G,Onglet_consult_dataset!F$6),\"\")","v":""},{"$f":"IFERROR(AVERAGEIFS(Onglet_Consult_Database!$E:$E,Onglet_Consult_Database!$B:$B,Onglet_consult_dataset!$B18,Onglet_Consult_Database!$G:$G,Onglet_consult_dataset!G$6),\"\")","v":""},{"$f":"IFERROR(AVERAGE(D18:G18),\"\")","v":""},null,{"$f":"IF(D$2=0,\"\",(COUNTIFS(Onglet_Consult_Database!$B:$B,Onglet_consult_dataset!$B18,Onglet_Consult_Database!$G:$G,Onglet_consult_dataset!J$6,Onglet_Consult_Database!$E:$E,\"<>\"&\"N/A\")-COUNTIFS(Onglet_Consult_Database!$B:$B,Onglet_consult_dataset!$B18,Onglet_Consult_Database!$G:$G,Onglet_consult_dataset!J$6,Onglet_Consult_Database!$E:$E,\"\"))/D$2)","v":""},{"$f":"IF(E$2=0,\"\",(COUNTIFS(Onglet_Consult_Database!$B:$B,Onglet_consult_dataset!$B18,Onglet_Consult_Database!$G:$G,Onglet_consult_dataset!K$6,Onglet_Consult_Database!$E:$E,\"<>\"&\"N/A\")-COUNTIFS(Onglet_Consult_Database!$B:$B,Onglet_consult_dataset!$B18,Onglet_Consult_Database!$G:$G,Onglet_consult_dataset!K$6,Onglet_Consult_Database!$E:$E,\"\"))/E$2)","v":""},{"$f":"IF(F$2=0,\"\",(COUNTIFS(Onglet_Consult_Database!$B:$B,Onglet_consult_dataset!$B18,Onglet_Consult_Database!$G:$G,Onglet_consult_dataset!L$6,Onglet_Consult_Database!$E:$E,\"<>\"&\"N/A\")-COUNTIFS(Onglet_Consult_Database!$B:$B,Onglet_consult_dataset!$B18,Onglet_Consult_Database!$G:$G,Onglet_consult_dataset!L$6,Onglet_Consult_Database!$E:$E,\"\"))/F$2)","v":""},{"$f":"IF(G$2=0,\"\",(COUNTIFS(Onglet_Consult_Database!$B:$B,Onglet_consult_dataset!$B18,Onglet_Consult_Database!$G:$G,Onglet_consult_dataset!M$6,Onglet_Consult_Database!$E:$E,\"<>\"&\"N/A\")-COUNTIFS(Onglet_Consult_Database!$B:$B,Onglet_consult_dataset!$B18,Onglet_Consult_Database!$G:$G,Onglet_consult_dataset!M$6,Onglet_Consult_Database!$E:$E,\"\"))/G$2)","v":""},"",null,{"$f":"IF(D18=1,1.04,D18)","v":""},{"$f":"IF(E18=1,1.04,E18)","v":""},{"$f":"IF(F18=1,1.04,F18)","v":""},{"$f":"IF(G18=1,1.04,G18)","v":""},{"$f":"IF(H18=1,1.04,H18)","v":""}]
[null,"I05.2","Industrial risks",{"$f":"IFERROR(AVERAGEIFS(Onglet_Consult_Database!$E:$E,Onglet_Consult_Database!$B:$B,Onglet_consult_dataset!$B19,Onglet_Consult_Database!$G:$G,Onglet_consult_dataset!D$6),\"\")","v":""},{"$f":"IFERROR(AVERAGEIFS(Onglet_Consult_Database!$E:$E,Onglet_Consult_Database!$B:$B,Onglet_consult_dataset!$B19,Onglet_Consult_Database!$G:$G,Onglet_consult_dataset!E$6),\"\")","v":""},{"$f":"IFERROR(AVERAGEIFS(Onglet_Consult_Database!$E:$E,Onglet_Consult_Database!$B:$B,Onglet_consult_dataset!$B19,Onglet_Consult_Database!$G:$G,Onglet_consult_dataset!F$6),\"\")","v":""},{"$f":"IFERROR(AVERAGEIFS(Onglet_Consult_Database!$E:$E,Onglet_Consult_Database!$B:$B,Onglet_consult_dataset!$B19,Onglet_Consult_Database!$G:$G,Onglet_consult_dataset!G$6),\"\")","v":""},"",null,{"$f":"IF(D$2=0,\"\",(COUNTIFS(Onglet_Consult_Database!$B:$B,Onglet_consult_dataset!$B19,Onglet_Consult_Database!$G:$G,Onglet_consult_dataset!J$6,Onglet_Consult_Database!$E:$E,\"<>\"&\"N/A\")-COUNTIFS(Onglet_Consult_Database!$B:$B,Onglet_consult_dataset!$B19,Onglet_Consult_Database!$G:$G,Onglet_consult_dataset!J$6,Onglet_Consult_Database!$E:$E,\"\"))/D$2)","v":""},{"$f":"IF(E$2=0,\"\",(COUNTIFS(Onglet_Consult_Database!$B:$B,Onglet_consult_dataset!$B19,Onglet_Consult_Database!$G:$G,Onglet_consult_dataset!K$6,Onglet_Consult_Database!$E:$E,\"<>\"&\"N/A\")-COUNTIFS(Onglet_Consult_Database!$B:$B,Onglet_consult_dataset!$B19,Onglet_Consult_Database!$G:$G,Onglet_consult_dataset!K$6,Onglet_Consult_Database!$E:$E,\"\"))/E$2)","v":""},{"$f":"IF(F$2=0,\"\",(COUNTIFS(Onglet_Consult_Database!$B:$B,Onglet_consult_dataset!$B19,Onglet_Consult_Database!$G:$G,Onglet_consult_dataset!L$6,Onglet_Consult_Database!$E:$E,\"<>\"&\"N/A\")-COUNTIFS(Onglet_Consult_Database!$B:$B,Onglet_consult_dataset!$B19,Onglet_Consult_Database!$G:$G,Onglet_consult_dataset!L$6,Onglet_Consult_Database!$E:$E,\"\"))/F$2)","v":""},{"$f":"IF(G$2=0,\"\",(COUNTIFS(Onglet_Consult_Database!$B:$B,Onglet_consult_dataset!$B19,Onglet_Consult_Database!$G:$G,Onglet_consult_dataset!M$6,Onglet_Consult_Database!$E:$E,\"<>\"&\"N/A\")-COUNTIFS(Onglet_Consult_Database!$B:$B,Onglet_consult_dataset!$B19,Onglet_Consult_Database!$G:$G,Onglet_consult_dataset!M$6,Onglet_Consult_Database!$E:$E,\"\"))/G$2)","v":""},"",null,"","","","",""]
[null,"I05.3","Nuisances",{"$f":"IFERROR(AVERAGEIFS(Onglet_Consult_Database!$E:$E,Onglet_Consult_Database!$B:$B,Onglet_consult_dataset!$B20,Onglet_Consult_Database!$G:$G,Onglet_consult_dataset!D$6),\"\")","v":""},{"$f":"IFERROR(AVERAGEIFS(Onglet_Consult_Database!$E:$E,Onglet_Consult_Database!$B:$B,Onglet_consult_dataset!$B20,Onglet_Consult_Database!$G:$G,Onglet_consult_dataset!E$6),\"\")","v":""},{"$f":"IFERROR(AVERAGEIFS(Onglet_Consult_Database!$E:$E,Onglet_Consult_Database!$B:$B,Onglet_consult_dataset!$B20,Onglet_Consult_Database!$G:$G,Onglet_consult_dataset!F$6),\"\")","v":""},{"$f":"IFERROR(AVERAGEIFS(Onglet_Consult_Database!$E:$E,Onglet_Consult_Database!$B:$B,Onglet_consult_dataset!$B20,Onglet_Consult_Database!$G:$G,Onglet_consult_dataset!G$6),\"\")","v":""},"",null,{"$f":"IF(D$2=0,\"\",(COUNTIFS(Onglet_Consult_Database!$B:$B,Onglet_consult_dataset!$B20,Onglet_Consult_Database!$G:$G,Onglet_consult_dataset!J$6,Onglet_Consult_Database!$E:$E,\"<>\"&\"N/A\")-COUNTIFS(Onglet_Consult_Database!$B:$B,Onglet_consult_dataset!$B20,Onglet_Consult_Database!$G:$G,Onglet_consult_dataset!J$6,Onglet_Consult_Database!$E:$E,\"\"))/D$2)","v":""},{"$f":"IF(E$2=0,\"\",(COUNTIFS(Onglet_Consult_Database!$B:$B,Onglet_consult_dataset!$B20,Onglet_Consult_Database!$G:$G,Onglet_consult_dataset!K$6,Onglet_Consult_Database!$E:$E,\"<>\"&\"N/A\")-COUNTIFS(Onglet_Consult_Database!$B:$B,Onglet_consult_dataset!$B20,Onglet_Consult_Database!$G:$G,Onglet_consult_dataset!K$6,Onglet_Consult_Database!$E:$E,\"\"))/E$2)","v":""},{"$f":"IF(F$2=0,\"\",(COUNTIFS(Onglet_Consult_Database!$B:$B,Onglet_consult_dataset!$B20,Onglet_Consult_Database!$G:$G,Onglet_consult_dataset!L$6,Onglet_Consult_Database!$E:$E,\"<>\"&\"N/A\")-COUNTIFS(Onglet_Consult_Database!$B:$B,Onglet_consult_dataset!$B20,Onglet_Consult_Database!$G:$G,Onglet_consult_dataset!L$6,Onglet_Consult_Database!$E:$E,\"\"))/F$2)","v":""},{"$f":"IF(G$2=0,\"\",(COUNTIFS(Onglet_Consult_Database!$B:$B,Onglet_consult_dataset!$B20,Onglet_Consult_Database!$G:$G,Onglet_consult_dataset!M$6,Onglet_Consult_Database!$E:$E,\"<>\"&\"N/A\")-COUNTIFS(Onglet_Consult_Database!$B:$B,Onglet_consult_dataset!$B20,Onglet_Consult_Database!$G:$G,Onglet_consult_dataset!M$6,Onglet_Consult_Database!$E:$E,\"\"))/G$2)","v":""},"",null,"","","","",""]
[null,"I06.1","Marine / Land use restrictions",{"$f":"IFERROR(AVERAGEIFS(Onglet_Consult_Database!$E:$E,Onglet_Consult_Database!$B:$B,Onglet_consult_dataset!$B21,Onglet_Consult_Database!$G:$G,Onglet_consult_dataset!D$6),\"\")","v":""},{"$f":"IFERROR(AVERAGEIFS(Onglet_Consult_Database!$E:$E,Onglet_Consult_Database!$B:$B,Onglet_consult_dataset!$B21,Onglet_Consult_Database!$G:$G,Onglet_consult_dataset!E$6),\"\")","v":""},{"$f":"IFERROR(AVERAGEIFS(Onglet_Consult_Database!$E:$E,Onglet_Consult_Database!$B:$B,Onglet_consult_dataset!$B21,Onglet_Consult_Database!$G:$G,Onglet_consult_dataset!F$6),\"\")","v":""},{"$f":"IFERROR(AVERAGEIFS(Onglet_Consult_Database!$E:$E,Onglet_Consult_Database!$B:$B,Onglet_consult_dataset!$B21,Onglet_Consult_Database!$G:$G,Onglet_consult_dataset!G$6),\"\")","v":""},"",null,{"$f":"IF(D$2=0,\"\",(COUNTIFS(Onglet_Consult_Database!$B:$B,Onglet_consult_dataset!$B21,Onglet_Consult_Database!$G:$G,Onglet_consult_dataset!J$6,Onglet_Consult_Database!$E:$E,\"<>\"&\"N/A\")-COUNTIFS(Onglet_Consult_Database!$B:$B,Onglet_consult_dataset!$B21,Onglet_Consult_Database!$G:$G,Onglet_consult_dataset!J$6,Onglet_Consult_Database!$E:$E,\"\"))/D$2)","v":""},{"$f":"IF(E$2=0,\"\",(COUNTIFS(Onglet_Consult_Database!$B:$B,Onglet_consult_dataset!$B21,Onglet_Consult_Database!$G:$G,Onglet_consult_dataset!K$6,Onglet_Consult_Database!$E:$E,\"<>\"&\"N/A\")-COUNTIFS(Onglet_Consult_Database!$B:$B,Onglet_consult_dataset!$B21,Onglet_Consult_Database!$G:$G,Onglet_consult_dataset!K$6,Onglet_Consult_Database!$E:$E,\"\"))/E$2)","v":""},{"$f":"IF(F$2=0,\"\",(COUNTIFS(Onglet_Consult_Database!$B:$B,Onglet_consult_dataset!$B21,Onglet_Consult_Database!$G:$G,Onglet_consult_dataset!L$6,Onglet_Consult_Database!$E:$E,\"<>\"&\"N/A\")-COUNTIFS(Onglet_Consult_Database!$B:$B,Onglet_consult_dataset!$B21,Onglet_Consult_Database!$G:$G,Onglet_consult_dataset!L$6,Onglet_Consult_Database!$E:$E,\"\"))/F$2)","v":""},{"$f":"IF(G$2=0,\"\",(COUNTIFS(Onglet_Consult_Database!$B:$B,Onglet_consult_dataset!$B21,Onglet_Consult_Database!$G:$G,Onglet_consult_dataset!M$6,Onglet_Consult_Database!$E:$E,\"<>\"&\"N/A\")-COUNTIFS(Onglet_Consult_Database!$B:$B,Onglet_consult_dataset!$B21,Onglet_Consult_Database!$G:$G,Onglet_consult_dataset!M$6,Onglet_Consult_Database!$E:$E,\"\"))/G$2)","v":""},"",null,"","","","",""]
[null,"I06.2","Disturbance of local economy and livelihoods",{"$f":"IFERROR(AVERAGEIFS(Onglet_Consult_Database!$E:$E,Onglet_Consult_Database!$B:$B,Onglet_consult_dataset!$B22,Onglet_Consult_Database!$G:$G,Onglet_consult_dataset!D$6),\"\")","v":""},{"$f":"IFERROR(AVERAGEIFS(Onglet_Consult_Database!$E:$E,Onglet_Consult_Database!$B:$B,Onglet_consult_dataset!$B22,Onglet_Consult_Database!$G:$G,Onglet_consult_dataset!E$6),\"\")","v":""},{"$f":"IFERROR(AVERAGEIFS(Onglet_Consult_Database!$E:$E,Onglet_Consult_Database!$B:$B,Onglet_consult_dataset!$B22,Onglet_Consult_Database!$G:$G,Onglet_consult_dataset!F$6),\"\")","v":""},{"$f":"IFERROR(AVERAGEIFS(Onglet_Consult_Database!$E:$E,Onglet_Consult_Database!$B:$B,Onglet_consult_dataset!$B22,Onglet_Consult_Database!$G:$G,Onglet_consult_dataset!G$6),\"\")","v":""},"",null,{"$f":"IF(D$2=0,\"\",(COUNTIFS(Onglet_Consult_Database!$B:$B,Onglet_consult_dataset!$B22,Onglet_Consult_Database!$G:$G,Onglet_consult_dataset!J$6,Onglet_Consult_Database!$E:$E,\"<>\"&\"N/A\")-COUNTIFS(Onglet_Consult_Database!$B:$B,Onglet_consult_dataset!$B22,Onglet_Consult_Database!$G:$G,Onglet_consult_dataset!J$6,Onglet_Consult_Database!$E:$E,\"\"))/D$2)","v":""},{"$f":"IF(E$2=0,\"\",(COUNTIFS(Onglet_Consult_Database!$B:$B,Onglet_consult_dataset!$B22,Onglet_Consult_Database!$G:$G,Onglet_consult_dataset!K$6,Onglet_Consult_Database!$E:$E,\"<>\"&\"N/A\")-COUNTIFS(Onglet_Consult_Database!$B:$B,Onglet_consult_dataset!$B22,Onglet_Consult_Database!$G:$G,Onglet_consult_dataset!K$6,Onglet_Consult_Database!$E:$E,\"\"))/E$2)","v":""},{"$f":"IF(F$2=0,\"\",(COUNTIFS(Onglet_Consult_Database!$B:$B,Onglet_consult_dataset!$B22,Onglet_Consult_Database!$G:$G,Onglet_consult_dataset!L$6,Onglet_Consult_Database!$E:$E,\"<>\"&\"N/A\")-COUNTIFS(Onglet_Consult_Database!$B:$B,Onglet_consult_dataset!$B22,Onglet_Consult_Database!$G:$G,Onglet_consult_dataset!L$6,Onglet_Consult_Database!$E:$E,\"\"))/F$2)","v":""},{"$f":"IF(G$2=0,\"\",(COUNTIFS(Onglet_Consult_Database!$B:$B,Onglet_consult_dataset!$B22,Onglet_Consult_Database!$G:$G,Onglet_consult_dataset!M$6,Onglet_Consult_Database!$E:$E,\"<>\"&\"N/A\")-COUNTIFS(Onglet_Consult_Database!$B:$B,Onglet_consult_dataset!$B22,Onglet_Consult_Database!$G:$G,Onglet_consult_dataset!M$6,Onglet_Consult_Database!$E:$E,\"\"))/G$2)","v":""},"",null,"","","","",""]
[null,"I06.3","Impacts on religious and cultural heritage",{"$f":"IFERROR(AVERAGEIFS(Onglet_Consult_Database!$E:$E,Onglet_Consult_Database!$B:$B,Onglet_consult_dataset!$B23,Onglet_Consult_Database!$G:$G,Onglet_consult_dataset!D$6),\"\")","v":""},{"$f":"IFERROR(AVERAGEIFS(Onglet_Consult_Database!$E:$E,Onglet_Consult_Database!$B:$B,Onglet_consult_dataset!$B23,Onglet_Consult_Database!$G:$G,Onglet_consult_dataset!E$6),\"\")","v":""},{"$f":"IFERROR(AVERAGEIFS(Onglet_Consult_Database!$E:$E,Onglet_Consult_Database!$B:$B,Onglet_consult_dataset!$B23,Onglet_Consult_Database!$G:$G,Onglet_consult_dataset!F$6),\"\")","v":""},{"$f":"IFERROR(AVERAGEIFS(Onglet_Consult_Database!$E:$E,Onglet_Consult_Database!$B:$B,Onglet_consult_dataset!$B23,Onglet_Consult_Database!$G:$G,Onglet_consult_dataset!G$6),\"\")","v":""},"",null,{"$f":"IF(D$2=0,\"\",(COUNTIFS(Onglet_Consult_Database!$B:$B,Onglet_consult_dataset!$B23,Onglet_Consult_Database!$G:$G,Onglet_consult_dataset!J$6,Onglet_Consult_Database!$E:$E,\"<>\"&\"N/A\")-COUNTIFS(Onglet_Consult_Database!$B:$B,Onglet_consult_dataset!$B23,Onglet_Consult_Database!$G:$G,Onglet_consult_dataset!J$6,Onglet_Consult_Database!$E:$E,\"\"))/D$2)","v":""},{"$f":"IF(E$2=0,\"\",(COUNTIFS(Onglet_Consult_Database!$B:$B,Onglet_consult_dataset!$B23,Onglet_Consult_Database!$G:$G,Onglet_consult_dataset!K$6,Onglet_Consult_Database!$E:$E,\"<>\"&\"N/A\")-COUNTIFS(Onglet_Consult_Database!$B:$B,Onglet_consult_dataset!$B23,Onglet_Consult_Database!$G:$G,Onglet_consult_dataset!K$6,Onglet_Consult_Database!$E:$E,\"\"))/E$2)","v":""},{"$f":"IF(F$2=0,\"\",(COUNTIFS(Onglet_Consult_Database!$B:$B,Onglet_consult_dataset!$B23,Onglet_Consult_Database!$G:$G,Onglet_consult_dataset!L$6,Onglet_Consult_Database!$E:$E,\"<>\"&\"N/A\")-COUNTIFS(Onglet_Consult_Database!$B:$B,Onglet_consult_dataset!$B23,Onglet_Consult_Database!$G:$G,Onglet_consult_dataset!L$6,Onglet_Consult_Database!$E:$E,\"\"))/F$2)","v":""},{"$f":"IF(G$2=0,\"\",(COUNTIFS(Onglet_Consult_Database!$B:$B,Onglet_consult_dataset!$B23,Onglet_Consult_Database!$G:$G,Onglet_consult_dataset!M$6,Onglet_Consult_Database!$E:$E,\"<>\"&\"N/A\")-COUNTIFS(Onglet_Consult_Database!$B:$B,Onglet_consult_dataset!$B23,Onglet_Consult_Database!$G:$G,Onglet_consult_dataset!M$6,Onglet_Consult_Database!$E:$E,\"\"))/G$2)","v":""},"",null,"","","","",""]
[null,"I06.4","Violation of human rights in the workplace",{"$f":"IFERROR(AVERAGEIFS(Onglet_Consult_Database!$E:$E,Onglet_Consult_Database!$B:$B,Onglet_consult_dataset!$B24,Onglet_Consult_Database!$G:$G,Onglet_consult_dataset!D$6),\"\")","v":""},{"$f":"IFERROR(AVERAGEIFS(Onglet_Consult_Database!$E:$E,Onglet_Consult_Database!$B:$B,Onglet_consult_dataset!$B24,Onglet_Consult_Database!$G:$G,Onglet_consult_dataset!E$6),\"\")","v":""},{"$f":"IFERROR(AVERAGEIFS(Onglet_Consult_Database!$E:$E,Onglet_Consult_Database!$B:$B,Onglet_consult_dataset!$B24,Onglet_Consult_Database!$G:$G,Onglet_consult_dataset!F$6),\"\")","v":""},{"$f":"IFERROR(AVERAGEIFS(Onglet_Consult_Database!$E:$E,Onglet_Consult_Database!$B:$B,Onglet_consult_dataset!$B24,Onglet_Consult_Database!$G:$G,Onglet_consult_dataset!G$6),\"\")","v":""},"",null,{"$f":"IF(D$2=0,\"\",(COUNTIFS(Onglet_Consult_Database!$B:$B,Onglet_consult_dataset!$B24,Onglet_Consult_Database!$G:$G,Onglet_consult_dataset!J$6,Onglet_Consult_Database!$E:$E,\"<>\"&\"N/A\")-COUNTIFS(Onglet_Consult_Database!$B:$B,Onglet_consult_dataset!$B24,Onglet_Consult_Database!$G:$G,Onglet_consult_dataset!J$6,Onglet_Consult_Database!$E:$E,\"\"))/D$2)","v":""},{"$f":"IF(E$2=0,\"\",(COUNTIFS(Onglet_Consult_Database!$B:$B,Onglet_consult_dataset!$B24,Onglet_Consult_Database!$G:$G,Onglet_consult_dataset!K$6,Onglet_Consult_Database!$E:$E,\"<>\"&\"N/A\")-COUNTIFS(Onglet_Consult_Database!$B:$B,Onglet_consult_dataset!$B24,Onglet_Consult_Database!$G:$G,Onglet_consult_dataset!K$6,Onglet_Consult_Database!$E:$E,\"\"))/E$2)","v":""},{"$f":"IF(F$2=0,\"\",(COUNTIFS(Onglet_Consult_Database!$B:$B,Onglet_consult_dataset!$B24,Onglet_Consult_Database!$G:$G,Onglet_consult_dataset!L$6,Onglet_Consult_Database!$E:$E,\"<>\"&\"N/A\")-COUNTIFS(Onglet_Consult_Database!$B:$B,Onglet_consult_dataset!$B24,Onglet_Consult_Database!$G:$G,Onglet_consult_dataset!L$6,Onglet_Consult_Database!$E:$E,\"\"))/F$2)","v":""},{"$f":"IF(G$2=0,\"\",(COUNTIFS(Onglet_Consult_Database!$B:$B,Onglet_consult_dataset!$B24,Onglet_Consult_Database!$G:$G,Onglet_consult_dataset!M$6,Onglet_Consult_Database!$E:$E,\"<>\"&\"N/A\")-COUNTIFS(Onglet_Consult_Database!$B:$B,Onglet_consult_dataset!$B24,Onglet_Consult_Database!$G:$G,Onglet_consult_dataset!M$6,Onglet_Consult_Database!$E:$E,\"\"))/G$2)","v":""},"",null,"","","","",""]
[null,"P05",{"$f":"VLOOKUP(B25,SRR_referential,2,FALSE)","v":"Information on HSE impacts"},{"$f":"IFERROR(AVERAGEIFS(Onglet_Consult_Database!$E:$E,Onglet_Consult_Database!$B:$B,Onglet_consult_dataset!$B25,Onglet_Consult_Database!$G:$G,Onglet_consult_dataset!D$6),\"\")","v":""},{"$f":"IFERROR(AVERAGEIFS(Onglet_Consult_Database!$E:$E,Onglet_Consult_Database!$B:$B,Onglet_consult_dataset!$B25,Onglet_Consult_Database!$G:$G,Onglet_consult_dataset!E$6),\"\")","v":""},{"$f":"IFERROR(AVERAGEIFS(Onglet_Consult_Database!$E:$E,Onglet_Consult_Database!$B:$B,Onglet_consult_dataset!$B25,Onglet_Consult_Database!$G:$G,Onglet_consult_dataset!F$6),\"\")","v":""},{"$f":"IFERROR(AVERAGEIFS(Onglet_Consult_Database!$E:$E,Onglet_Consult_Database!$B:$B,Onglet_consult_dataset!$B25,Onglet_Consult_Database!$G:$G,Onglet_consult_dataset!G$6),\"\")","v":""},"",null,{"$f":"IF(D$2=0,\"\",(COUNTIFS(Onglet_Consult_Database!$B:$B,Onglet_consult_dataset!$B25,Onglet_Consult_Database!$G:$G,Onglet_consult_dataset!J$6,Onglet_Consult_Database!$E:$E,\"<>\"&\"N/A\")-COUNTIFS(Onglet_Consult_Database!$B:$B,Onglet_consult_dataset!$B25,Onglet_Consult_Database!$G:$G,Onglet_consult_dataset!J$6,Onglet_Consult_Database!$E:$E,\"\"))/D$2)","v":""},{"$f":"IF(E$2=0,\"\",(COUNTIFS(Onglet_Consult_Database!$B:$B,Onglet_consult_dataset!$B25,Onglet_Consult_Database!$G:$G,Onglet_consult_dataset!K$6,Onglet_Consult_Database!$E:$E,\"<>\"&\"N/A\")-COUNTIFS(Onglet_Consult_Database!$B:$B,Onglet_consult_dataset!$B25,Onglet_Consult_Database!$G:$G,Onglet_consult_dataset!K$6,Onglet_Consult_Database!$E:$E,\"\"))/E$2)","v":""},{"$f":"IF(F$2=0,\"\",(COUNTIFS(Onglet_Consult_Database!$B:$B,Onglet_consult_dataset!$B25,Onglet_Consult_Database!$G:$G,Onglet_consult_dataset!L$6,Onglet_Consult_Database!$E:$E,\"<>\"&\"N/A\")-COUNTIFS(Onglet_Consult_Database!$B:$B,Onglet_consult_dataset!$B25,Onglet_Consult_Database!$G:$G,Onglet_consult_dataset!L$6,Onglet_Consult_Database!$E:$E,\"\"))/F$2)","v":""},{"$f":"IF(G$2=0,\"\",(COUNTIFS(Onglet_Consult_Database!$B:$B,Onglet_consult_dataset!$B25,Onglet_Consult_Database!$G:$G,Onglet_consult_dataset!M$6,Onglet_Consult_Database!$E:$E,\"<>\"&\"N/A\")-COUNTIFS(Onglet_Consult_Database!$B:$B,Onglet_consult_dataset!$B25,Onglet_Consult_Database!$G:$G,Onglet_consult_dataset!M$6,Onglet_Consult_Database!$E:$E,\"\"))/G$2)","v":""},"",null,"","","","",""]
[null,"P06",{"$f":"VLOOKUP(B26,SRR_referential,2,FALSE)","v":"Management of negative impacts on stakeholders"},{"$f":"IFERROR(AVERAGEIFS(Onglet_Consult_Database!$E:$E,Onglet_Consult_Database!$B:$B,Onglet_consult_dataset!$B26,Onglet_Consult_Database!$G:$G,Onglet_consult_dataset!D$6),\"\")","v":""},{"$f":"IFERROR(AVERAGEIFS(Onglet_Consult_Database!$E:$E,Onglet_Consult_Database!$B:$B,Onglet_consult_dataset!$B26,Onglet_Consult_Database!$G:$G,Onglet_consult_dataset!E$6),\"\")","v":""},{"$f":"IFERROR(AVERAGEIFS(Onglet_Consult_Database!$E:$E,Onglet_Consult_Database!$B:$B,Onglet_consult_dataset!$B26,Onglet_Consult_Database!$G:$G,Onglet_consult_dataset!F$6),\"\")","v":""},{"$f":"IFERROR(AVERAGEIFS(Onglet_Consult_Database!$E:$E,Onglet_Consult_Database!$B:$B,Onglet_consult_dataset!$B26,Onglet_Consult_Database!$G:$G,Onglet_consult_dataset!G$6),\"\")","v":""},"",null,{"$f":"IF(D$2=0,\"\",(COUNTIFS(Onglet_Consult_Database!$B:$B,Onglet_consult_dataset!$B26,Onglet_Consult_Database!$G:$G,Onglet_consult_dataset!J$6,Onglet_Consult_Database!$E:$E,\"<>\"&\"N/A\")-COUNTIFS(Onglet_Consult_Database!$B:$B,Onglet_consult_dataset!$B26,Onglet_Consult_Database!$G:$G,Onglet_consult_dataset!J$6,Onglet_Consult_Database!$E:$E,\"\"))/D$2)","v":""},{"$f":"IF(E$2=0,\"\",(COUNTIFS(Onglet_Consult_Database!$B:$B,Onglet_consult_dataset!$B26,Onglet_Consult_Database!$G:$G,Onglet_consult_dataset!K$6,Onglet_Consult_Database!$E:$E,\"<>\"&\"N/A\")-COUNTIFS(Onglet_Consult_Database!$B:$B,Onglet_consult_dataset!$B26,Onglet_Consult_Database!$G:$G,Onglet_consult_dataset!K$6,Onglet_Consult_Database!$E:$E,\"\"))/E$2)","v":""},{"$f":"IF(F$2=0,\"\",(COUNTIFS(Onglet_Consult_Database!$B:$B,Onglet_consult_dataset!$B26,Onglet_Consult_Database!$G:$G,Onglet_consult_dataset!L$6,Onglet_Consult_Database!$E:$E,\"<>\"&\"N/A\")-COUNTIFS(Onglet_Consult_Database!$B:$B,Onglet_consult_dataset!$B26,Onglet_Consult_Database!$G:$G,Onglet_consult_dataset!L$6,Onglet_Consult_Database!$E:$E,\"\"))/F$2)","v":""},{"$f":"IF(G$2=0,\"\",(COUNTIFS(Onglet_Consult_Database!$B:$B,Onglet_consult_dataset!$B26,Onglet_Consult_Database!$G:$G,Onglet_consult_dataset!M$6,Onglet_Consult_Database!$E:$E,\"<>\"&\"N/A\")-COUNTIFS(Onglet_Consult_Database!$B:$B,Onglet_consult_dataset!$B26,Onglet_Consult_Database!$G:$G,Onglet_consult_dataset!M$6,Onglet_Consult_Database!$E:$E,\"\"))/G$2)","v":""},"",null,{"$f":"IF(D26=1,1.04,D26)","v":""},"","","",""]
[null,"P07",{"$f":"VLOOKUP(B27,SRR_referential,2,FALSE)","v":"Cooperation with authorities & industrial neighbors"},{"$f":"IFERROR(AVERAGEIFS(Onglet_Consult_Database!$E:$E,Onglet_Consult_Database!$B:$B,Onglet_consult_dataset!$B27,Onglet_Consult_Database!$G:$G,Onglet_consult_dataset!D$6),\"\")","v":""},{"$f":"IFERROR(AVERAGEIFS(Onglet_Consult_Database!$E:$E,Onglet_Consult_Database!$B:$B,Onglet_consult_dataset!$B27,Onglet_Consult_Database!$G:$G,Onglet_consult_dataset!E$6),\"\")","v":""},{"$f":"IFERROR(AVERAGEIFS(Onglet_Consult_Database!$E:$E,Onglet_Consult_Database!$B:$B,Onglet_consult_dataset!$B27,Onglet_Consult_Database!$G:$G,Onglet_consult_dataset!F$6),\"\")","v":""},{"$f":"IFERROR(AVERAGEIFS(Onglet_Consult_Database!$E:$E,Onglet_Consult_Database!$B:$B,Onglet_consult_dataset!$B27,Onglet_Consult_Database!$G:$G,Onglet_consult_dataset!G$6),\"\")","v":""},"",null,{"$f":"IF(D$2=0,\"\",(COUNTIFS(Onglet_Consult_Database!$B:$B,Onglet_consult_dataset!$B27,Onglet_Consult_Database!$G:$G,Onglet_consult_dataset!J$6,Onglet_Consult_Database!$E:$E,\"<>\"&\"N/A\")-COUNTIFS(Onglet_Consult_Database!$B:$B,Onglet_consult_dataset!$B27,Onglet_Consult_Database!$G:$G,Onglet_consult_dataset!J$6,Onglet_Consult_Database!$E:$E,\"\"))/D$2)","v":""},{"$f":"IF(E$2=0,\"\",(COUNTIFS(Onglet_Consult_Database!$B:$B,Onglet_consult_dataset!$B27,Onglet_Consult_Database!$G:$G,Onglet_consult_dataset!K$6,Onglet_Consult_Database!$E:$E,\"<>\"&\"N/A\")-COUNTIFS(Onglet_Consult_Database!$B:$B,Onglet_consult_dataset!$B27,Onglet_Consult_Database!$G:$G,Onglet_consult_dataset!K$6,Onglet_Consult_Database!$E:$E,\"\"))/E$2)","v":""},{"$f":"IF(F$2=0,\"\",(COUNTIFS(Onglet_Consult_Database!$B:$B,Onglet_consult_dataset!$B27,Onglet_Consult_Database!$G:$G,Onglet_consult_dataset!L$6,Onglet_Consult_Database!$E:$E,\"<>\"&\"N/A\")-COUNTIFS(Onglet_Consult_Database!$B:$B,Onglet_consult_dataset!$B27,Onglet_Consult_Database!$G:$G,Onglet_consult_dataset!L$6,Onglet_Consult_Database!$E:$E,\"\"))/F$2)","v":""},{"$f":"IF(G$2=0,\"\",(COUNTIFS(Onglet_Consult_Database!$B:$B,Onglet_consult_dataset!$B27,Onglet_Consult_Database!$G:$G,Onglet_consult_dataset!M$6,Onglet_Consult_Database!$E:$E,\"<>\"&\"N/A\")-COUNTIFS(Onglet_Consult_Database!$B:$B,Onglet_consult_dataset!$B27,Onglet_Consult_Database!$G:$G,Onglet_consult_dataset!M$6,Onglet_Consult_Database!$E:$E,\"\"))/G$2)","v":""},"",null,"","","","",""]
[null,"P08",{"$f":"VLOOKUP(B28,SRR_referential,2,FALSE)","v":"Control of contractors on HSE & Human Rights related matters"},{"$f":"IFERROR(AVERAGEIFS(Onglet_Consult_Database!$E:$E,Onglet_Consult_Database!$B:$B,Onglet_consult_dataset!$B28,Onglet_Consult_Database!$G:$G,Onglet_consult_dataset!D$6),\"\")","v":""},{"$f":"IFERROR(AVERAGEIFS(Onglet_Consult_Database!$E:$E,Onglet_Consult_Database!$B:$B,Onglet_consult_dataset!$B28,Onglet_Consult_Database!$G:$G,Onglet_consult_dataset!E$6),\"\")","v":""},{"$f":"IFERROR(AVERAGEIFS(Onglet_Consult_Database!$E:$E,Onglet_Consult_Database!$B:$B,Onglet_consult_dataset!$B28,Onglet_Consult_Database!$G:$G,Onglet_consult_dataset!F$6),\"\")","v":""},{"$f":"IFERROR(AVERAGEIFS(Onglet_Consult_Database!$E:$E,Onglet_Consult_Database!$B:$B,Onglet_consult_dataset!$B28,Onglet_Consult_Database!$G:$G,Onglet_consult_dataset!G$6),\"\")","v":""},"",null,{"$f":"IF(D$2=0,\"\",(COUNTIFS(Onglet_Consult_Database!$B:$B,Onglet_consult_dataset!$B28,Onglet_Consult_Database!$G:$G,Onglet_consult_dataset!J$6,Onglet_Consult_Database!$E:$E,\"<>\"&\"N/A\")-COUNTIFS(Onglet_Consult_Database!$B:$B,Onglet_consult_dataset!$B28,Onglet_Consult_Database!$G:$G,Onglet_consult_dataset!J$6,Onglet_Consult_Database!$E:$E,\"\"))/D$2)","v":""},{"$f":"IF(E$2=0,\"\",(COUNTIFS(Onglet_Consult_Database!$B:$B,Onglet_consult_dataset!$B28,Onglet_Consult_Database!$G:$G,Onglet_consult_dataset!K$6,Onglet_Consult_Database!$E:$E,\"<>\"&\"N/A\")-COUNTIFS(Onglet_Consult_Database!$B:$B,Onglet_consult_dataset!$B28,Onglet_Consult_Database!$G:$G,Onglet_consult_dataset!K$6,Onglet_Consult_Database!$E:$E,\"\"))/E$2)","v":""},{"$f":"IF(F$2=0,\"\",(COUNTIFS(Onglet_Consult_Database!$B:$B,Onglet_consult_dataset!$B28,Onglet_Consult_Database!$G:$G,Onglet_consult_dataset!L$6,Onglet_Consult_Database!$E:$E,\"<>\"&\"N/A\")-COUNTIFS(Onglet_Consult_Database!$B:$B,Onglet_consult_dataset!$B28,Onglet_Consult_Database!$G:$G,Onglet_consult_dataset!L$6,Onglet_Consult_Database!$E:$E,\"\"))/F$2)","v":""},{"$f":"IF(G$2=0,\"\",(COUNTIFS(Onglet_Consult_Database!$B:$B,Onglet_consult_dataset!$B28,Onglet_Consult_Database!$G:$G,Onglet_consult_dataset!M$6,Onglet_Consult_Database!$E:$E,\"<>\"&\"N/A\")-COUNTIFS(Onglet_Consult_Database!$B:$B,Onglet_consult_dataset!$B28,Onglet_Consult_Database!$G:$G,Onglet_consult_dataset!M$6,Onglet_Consult_Database!$E:$E,\"\"))/G$2)","v":""},"",null,"","","","",""]
[]
[null,"I07",{"$f":"VLOOKUP(B30,SRR_referential,2,FALSE)","v":"Local employment"},{"$f":"IFERROR(AVERAGEIFS(Onglet_Consult_Database!$E:$E,Onglet_Consult_Database!$B:$B,Onglet_consult_dataset!$B30,Onglet_Consult_Database!$G:$G,Onglet_consult_dataset!D$6),\"\")","v":""},{"$f":"IFERROR(AVERAGEIFS(Onglet_Consult_Database!$E:$E,Onglet_Consult_Database!$B:$B,Onglet_consult_dataset!$B30,Onglet_Consult_Database!$G:$G,Onglet_consult_dataset!E$6),\"\")","v":""},{"$f":"IFERROR(AVERAGEIFS(Onglet_Consult_Database!$E:$E,Onglet_Consult_Database!$B:$B,Onglet_consult_dataset!$B30,Onglet_Consult_Database!$G:$G,Onglet_consult_dataset!F$6),\"\")","v":""},{"$f":"IFERROR(AVERAGEIFS(Onglet_Consult_Database!$E:$E,Onglet_Consult_Database!$B:$B,Onglet_consult_dataset!$B30,Onglet_Consult_Database!$G:$G,Onglet_consult_dataset!G$6),\"\")","v":""},{"$f":"IFERROR(AVERAGE(D30:G30),\"\")","v":""},null,{"$f":"IF(D$2=0,\"\",(COUNTIFS(Onglet_Consult_Database!$B:$B,Onglet_consult_dataset!$B30,Onglet_Consult_Database!$G:$G,Onglet_consult_dataset!J$6,Onglet_Consult_Database!$E:$E,\"<>\"&\"N/A\")-COUNTIFS(Onglet_Consult_Database!$B:$B,Onglet_consult_dataset!$B30,Onglet_Consult_Database!$G:$G,Onglet_consult_dataset!J$6,Onglet_Consult_Database!$E:$E,\"\"))/D$2)","v":""},{"$f":"IF(E$2=0,\"\",(COUNTIFS(Onglet_Consult_Database!$B:$B,Onglet_consult_dataset!$B30,Onglet_Consult_Database!$G:$G,Onglet_consult_dataset!K$6,Onglet_Consult_Database!$E:$E,\"<>\"&\"N/A\")-COUNTIFS(Onglet_Consult_Database!$B:$B,Onglet_consult_dataset!$B30,Onglet_Consult_Database!$G:$G,Onglet_consult_dataset!K$6,Onglet_Consult_Database!$E:$E,\"\"))/E$2)","v":""},{"$f":"IF(F$2=0,\"\",(COUNTIFS(Onglet_Consult_Database!$B:$B,Onglet_consult_dataset!$B30,Onglet_Consult_Database!$G:$G,Onglet_consult_dataset!L$6,Onglet_Consult_Database!$E:$E,\"<>\"&\"N/A\")-COUNTIFS(Onglet_Consult_Database!$B:$B,Onglet_consult_dataset!$B30,Onglet_Consult_Database!$G:$G,Onglet_consult_dataset!L$6,Onglet_Consult_Database!$E:$E,\"\"))/F$2)","v":""},{"$f":"IF(G$2=0,\"\",(COUNTIFS(Onglet_Consult_Database!$B:$B,Onglet_consult_dataset!$B30,Onglet_Consult_Database!$G:$G,Onglet_consult_dataset!M$6,Onglet_Consult_Database!$E:$E,\"<>\"&\"N/A\")-COUNTIFS(Onglet_Consult_Database!$B:$B,Onglet_consult_dataset!$B30,Onglet_Consult_Database!$G:$G,Onglet_consult_dataset!M$6,Onglet_Consult_Database!$E:$E,\"\"))/G$2)","v":""},{"$f":"IFERROR(SUMPRODUCT($D$2:$G$2,J30:M30)/$H$2,\"\")","v":""},null,{"$f":"IF(D30=1,1.04,D30)","v":""},{"$f":"IF(E30=1,1.04,E30)","v":""},{"$f":"IF(F30=1,1.04,F30)","v":""},{"$f":"IF(G30=1,1.04,G30)","v":""},{"$f":"IF(H30=1,1.04,H30)","v":""}]
[null,"I08","Local procurement",{"$f":"IFERROR(AVERAGEIFS(Onglet_Consult_Database!$E:$E,Onglet_Consult_Database!$B:$B,Onglet_consult_dataset!$B31,Onglet_Consult_Database!$G:$G,Onglet_consult_dataset!D$6),\"\")","v":""},{"$f":"IFERROR(AVERAGEIFS(Onglet_Consult_Database!$E:$E,Onglet_Consult_Database!$B:$B,Onglet_consult_dataset!$B31,Onglet_Consult_Database!$G:$G,Onglet_consult_dataset!E$6),\"\")","v":""},{"$f":"IFERROR(AVERAGEIFS(Onglet_Consult_Database!$E:$E,Onglet_Consult_Database!$B:$B,Onglet_consult_dataset!$B31,Onglet_Consult_Database!$G:$G,Onglet_consult_dataset!F$6),\"\")","v":""},{"$f":"IFERROR(AVERAGEIFS(Onglet_Consult_Database!$E:$E,Onglet_Consult_Database!$B:$B,Onglet_consult_dataset!$B31,Onglet_Consult_Database!$G:$G,Onglet_consult_dataset!G$6),\"\")","v":""},"",null,{"$f":"IF(D$2=0,\"\",(COUNTIFS(Onglet_Consult_Database!$B:$B,Onglet_consult_dataset!$B31,Onglet_Consult_Database!$G:$G,Onglet_consult_dataset!J$6,Onglet_Consult_Database!$E:$E,\"<>\"&\"N/A\")-COUNTIFS(Onglet_Consult_Database!$B:$B,Onglet_consult_dataset!$B31,Onglet_Consult_Database!$G:$G,Onglet_consult_dataset!J$6,Onglet_Consult_Database!$E:$E,\"\"))/D$2)","v":""},{"$f":"IF(E$2=0,\"\",(COUNTIFS(Onglet_Consult_Database!$B:$B,Onglet_consult_dataset!$B31,Onglet_Consult_Database!$G:$G,Onglet_consult_dataset!K$6,Onglet_Consult_Database!$E:$E,\"<>\"&\"N/A\")-COUNTIFS(Onglet_Consult_Database!$B:$B,Onglet_consult_dataset!$B31,Onglet_Consult_Database!$G:$G,Onglet_consult_dataset!K$6,Onglet_Consult_Database!$E:$E,\"\"))/E$2)","v":""},{"$f":"IF(F$2=0,\"\",(COUNTIFS(Onglet_Consult_Database!$B:$B,Onglet_consult_dataset!$B31,Onglet_Consult_Database!$G:$G,Onglet_consult_dataset!L$6,Onglet_Consult_Database!$E:$E,\"<>\"&\"N/A\")-COUNTIFS(Onglet_Consult_Database!$B:$B,Onglet_consult_dataset!$B31,Onglet_Consult_Database!$G:$G,Onglet_consult_dataset!L$6,Onglet_Consult_Database!$E:$E,\"\"))/F$2)","v":""},{"$f":"IF(G$2=0,\"\",(COUNTIFS(Onglet_Consult_Database!$B:$B,Onglet_consult_dataset!$B31,Onglet_Consult_Database!$G:$G,Onglet_consult_dataset!M$6,Onglet_Consult_Database!$E:$E,\"<>\"&\"N/A\")-COUNTIFS(Onglet_Consult_Database!$B:$B,Onglet_consult_dataset!$B31,Onglet_Consult_Database!$G:$G,Onglet_consult_dataset!M$6,Onglet_Consult_Database!$E:$E,\"\"))/G$2)","v":""},"",null,"","","","",""]
[null,"I09","Local socio-economic investments",{"$f":"IFERROR(AVERAGEIFS(Onglet_Consult_Database!$E:$E,Onglet_Consult_Database!$B:$B,Onglet_consult_dataset!$B32,Onglet_Consult_Database!$G:$G,Onglet_consult_dataset!D$6),\"\")","v":""},{"$f":"IFERROR(AVERAGEIFS(Onglet_Consult_Database!$E:$E,Onglet_Consult_Database!$B:$B,Onglet_consult_dataset!$B32,Onglet_Consult_Database!$G:$G,Onglet_consult_dataset!E$6),\"\")","v":""},{"$f":"IFERROR(AVERAGEIFS(Onglet_Consult_Database!$E:$E,Onglet_Consult_Database!$B:$B,Onglet_consult_dataset!$B32,Onglet_Consult_Database!$G:$G,Onglet_consult_dataset!F$6),\"\")","v":""},{"$f":"IFERROR(AVERAGEIFS(Onglet_Consult_Database!$E:$E,Onglet_Consult_Database!$B:$B,Onglet_consult_dataset!$B32,Onglet_Consult_Database!$G:$G,Onglet_consult_dataset!G$6),\"\")","v":""},{"$f":"IFERROR(AVERAGE(D32:G32),\"\")","v":""},null,{"$f":"IF(D$2=0,\"\",(COUNTIFS(Onglet_Consult_Database!$B:$B,Onglet_consult_dataset!$B32,Onglet_Consult_Database!$G:$G,Onglet_consult_dataset!J$6,Onglet_Consult_Database!$E:$E,\"<>\"&\"N/A\")-COUNTIFS(Onglet_Consult_Database!$B:$B,Onglet_consult_dataset!$B32,Onglet_Consult_Database!$G:$G,Onglet_consult_dataset!J$6,Onglet_Consult_Database!$E:$E,\"\"))/D$2)","v":""},{"$f":"IF(E$2=0,\"\",(COUNTIFS(Onglet_Consult_Database!$B:$B,Onglet_consult_dataset!$B32,Onglet_Consult_Database!$G:$G,Onglet_consult_dataset!K$6,Onglet_Consult_Database!$E:$E,\"<>\"&\"N/A\")-COUNTIFS(Onglet_Consult_Database!$B:$B,Onglet_consult_dataset!$B32,Onglet_Consult_Database!$G:$G,Onglet_consult_dataset!K$6,Onglet_Consult_Database!$E:$E,\"\"))/E$2)","v":""},{"$f":"IF(F$2=0,\"\",(COUNTIFS(Onglet_Consult_Database!$B:$B,Onglet_consult_dataset!$B32,Onglet_Consult_Database!$G:$G,Onglet_consult_dataset!L$6,Onglet_Consult_Database!$E:$E,\"<>\"&\"N/A\")-COUNTIFS(Onglet_Consult_Database!$B:$B,Onglet_consult_dataset!$B32,Onglet_Consult_Database!$G:$G,Onglet_consult_dataset!L$6,Onglet_Consult_Database!$E:$E,\"\"))/F$2)","v":""},{"$f":"IF(G$2=0,\"\",(COUNTIFS(Onglet_Consult_Database!$B:$B,Onglet_consult_dataset!$B32,Onglet_Consult_Database!$G:$G,Onglet_consult_dataset!M$6,Onglet_Consult_Database!$E:$E,\"<>\"&\"N/A\")-COUNTIFS(Onglet_Consult_Database!$B:$B,Onglet_consult_dataset!$B32,Onglet_Consult_Database!$G:$G,Onglet_consult_dataset!M$6,Onglet_Consult_Database!$E:$E,\"\"))/G$2)","v":""},"",null,{"$f":"IF(D32=1,1.04,D32)","v":""},{"$f":"IF(E32=1,1.04,E32)","v":""},{"$f":"IF(F32=1,1.04,F32)","v":""},{"$f":"IF(G32=1,1.04,G32)","v":""},{"$f":"IF(H32=1,1.04,H32)","v":""}]
[null,"P09","Access to jobs opportunities for locals",{"$f":"IFERROR(AVERAGEIFS(Onglet_Consult_Database!$E:$E,Onglet_Consult_Database!$B:$B,Onglet_consult_dataset!$B33,Onglet_Consult_Database!$G:$G,Onglet_consult_dataset!D$6),\"\")","v":""},{"$f":"IFERROR(AVERAGEIFS(Onglet_Consult_Database!$E:$E,Onglet_Consult_Database!$B:$B,Onglet_consult_dataset!$B33,Onglet_Consult_Database!$G:$G,Onglet_consult_dataset!E$6),\"\")","v":""},{"$f":"IFERROR(AVERAGEIFS(Onglet_Consult_Database!$E:$E,Onglet_Consult_Database!$B:$B,Onglet_consult_dataset!$B33,Onglet_Consult_Database!$G:$G,Onglet_consult_dataset!F$6),\"\")","v":""},{"$f":"IFERROR(AVERAGEIFS(Onglet_Consult_Database!$E:$E,Onglet_Consult_Database!$B:$B,Onglet_consult_dataset!$B33,Onglet_Consult_Database!$G:$G,Onglet_consult_dataset!G$6),\"\")","v":""},{"$f":"IFERROR(AVERAGE(D33:G33),\"\")","v":""},null,{"$f":"IF(D$2=0,\"\",(COUNTIFS(Onglet_Consult_Database!$B:$B,Onglet_consult_dataset!$B33,Onglet_Consult_Database!$G:$G,Onglet_consult_dataset!J$6,Onglet_Consult_Database!$E:$E,\"<>\"&\"N/A\")-COUNTIFS(Onglet_Consult_Database!$B:$B,Onglet_consult_dataset!$B33,Onglet_Consult_Database!$G:$G,Onglet_consult_dataset!J$6,Onglet_Consult_Database!$E:$E,\"\"))/D$2)","v":""},{"$f":"IF(E$2=0,\"\",(COUNTIFS(Onglet_Consult_Database!$B:$B,Onglet_consult_dataset!$B33,Onglet_Consult_Database!$G:$G,Onglet_consult_dataset!K$6,Onglet_Consult_Database!$E:$E,\"<>\"&\"N/A\")-COUNTIFS(Onglet_Consult_Database!$B:$B,Onglet_consult_dataset!$B33,Onglet_Consult_Database!$G:$G,Onglet_consult_dataset!K$6,Onglet_Consult_Database!$E:$E,\"\"))/E$2)","v":""},{"$f":"IF(F$2=0,\"\",(COUNTIFS(Onglet_Consult_Database!$B:$B,Onglet_consult_dataset!$B33,Onglet_Consult_Database!$G:$G,Onglet_consult_dataset!L$6,Onglet_Consult_Database!$E:$E,\"<>\"&\"N/A\")-COUNTIFS(Onglet_Consult_Database!$B:$B,Onglet_consult_dataset!$B33,Onglet_Consult_Database!$G:$G,Onglet_consult_dataset!L$6,Onglet_Consult_Database!$E:$E,\"\"))/F$2)","v":""},{"$f":"IF(G$2=0,\"\",(COUNTIFS(Onglet_Consult_Database!$B:$B,Onglet_consult_dataset!$B33,Onglet_Consult_Database!$G:$G,Onglet_consult_dataset!M$6,Onglet_Consult_Database!$E:$E,\"<>\"&\"N/A\")-COUNTIFS(Onglet_Consult_Database!$B:$B,Onglet_consult_dataset!$B33,Onglet_Consult_Database!$G:$G,Onglet_consult_dataset!M$6,Onglet_Consult_Database!$E:$E,\"\"))/G$2)","v":""},"",null,{"$f":"IF(D33=1,1.04,D33)","v":""},{"$f":"IF(E33=1,1.04,E33)","v":""},{"$f":"IF(F33=1,1.04,F33)","v":""},{"$f":"IF(G33=1,1.04,G33)","v":""},{"$f":"IF(H33=1,1.04,H33)","v":""}]
[null,"P10","Access to tenders for local contractors",{"$f":"IFERROR(AVERAGEIFS(Onglet_Consult_Database!$E:$E,Onglet_Consult_Database!$B:$B,Onglet_consult_dataset!$B34,Onglet_Consult_Database!$G:$G,Onglet_consult_dataset!D$6),\"\")","v":""},{"$f":"IFERROR(AVERAGEIFS(Onglet_Consult_Database!$E:$E,Onglet_Consult_Database!$B:$B,Onglet_consult_dataset!$B34,Onglet_Consult_Database!$G:$G,Onglet_consult_dataset!E$6),\"\")","v":""},{"$f":"IFERROR(AVERAGEIFS(Onglet_Consult_Database!$E:$E,Onglet_Consult_Database!$B:$B,Onglet_consult_dataset!$B34,Onglet_Consult_Database!$G:$G,Onglet_consult_dataset!F$6),\"\")","v":""},{"$f":"IFERROR(AVERAGEIFS(Onglet_Consult_Database!$E:$E,Onglet_Consult_Database!$B:$B,Onglet_consult_dataset!$B34,Onglet_Consult_Database!$G:$G,Onglet_consult_dataset!G$6),\"\")","v":""},"",null,{"$f":"IF(D$2=0,\"\",(COUNTIFS(Onglet_Consult_Database!$B:$B,Onglet_consult_dataset!$B34,Onglet_Consult_Database!$G:$G,Onglet_consult_dataset!J$6,Onglet_Consult_Database!$E:$E,\"<>\"&\"N/A\")-COUNTIFS(Onglet_Consult_Database!$B:$B,Onglet_consult_dataset!$B34,Onglet_Consult_Database!$G:$G,Onglet_consult_dataset!J$6,Onglet_Consult_Database!$E:$E,\"\"))/D$2)","v":""},{"$f":"IF(E$2=0,\"\",(COUNTIFS(Onglet_Consult_Database!$B:$B,Onglet_consult_dataset!$B34,Onglet_Consult_Database!$G:$G,Onglet_consult_dataset!K$6,Onglet_Consult_Database!$E:$E,\"<>\"&\"N/A\")-COUNTIFS(Onglet_Consult_Database!$B:$B,Onglet_consult_dataset!$B34,Onglet_Consult_Database!$G:$G,Onglet_consult_dataset!K$6,Onglet_Consult_Database!$E:$E,\"\"))/E$2)","v":""},{"$f":"IF(F$2=0,\"\",(COUNTIFS(Onglet_Consult_Database!$B:$B,Onglet_consult_dataset!$B34,Onglet_Consult_Database!$G:$G,Onglet_consult_dataset!L$6,Onglet_Consult_Database!$E:$E,\"<>\"&\"N/A\")-COUNTIFS(Onglet_Consult_Database!$B:$B,Onglet_consult_dataset!$B34,Onglet_Consult_Database!$G:$G,Onglet_consult_dataset!L$6,Onglet_Consult_Database!$E:$E,\"\"))/F$2)","v":""},{"$f":"IF(G$2=0,\"\",(COUNTIFS(Onglet_Consult_Database!$B:$B,Onglet_consult_dataset!$B34,Onglet_Consult_Database!$G:$G,Onglet_consult_dataset!M$6,Onglet_Consult_Database!$E:$E,\"<>\"&\"N/A\")-COUNTIFS(Onglet_Consult_Database!$B:$B,Onglet_consult_dataset!$B34,Onglet_Consult_Database!$G:$G,Onglet_consult_dataset!M$6,Onglet_Consult_Database!$E:$E,\"\"))/G$2)","v":""},"",null,"","","","",""]
[null,"P11","Capacity building of locals",{"$f":"IFERROR(AVERAGEIFS(Onglet_Consult_Database!$E:$E,Onglet_Consult_Database!$B:$B,Onglet_consult_dataset!$B35,Onglet_Consult_Database!$G:$G,Onglet_consult_dataset!D$6),\"\")","v":""},{"$f":"IFERROR(AVERAGEIFS(Onglet_Consult_Database!$E:$E,Onglet_Consult_Database!$B:$B,Onglet_consult_dataset!$B35,Onglet_Consult_Database!$G:$G,Onglet_consult_dataset!E$6),\"\")","v":""},{"$f":"IFERROR(AVERAGEIFS(Onglet_Consult_Database!$E:$E,Onglet_Consult_Database!$B:$B,Onglet_consult_dataset!$B35,Onglet_Consult_Database!$G:$G,Onglet_consult_dataset!F$6),\"\")","v":""},{"$f":"IFERROR(AVERAGEIFS(Onglet_Consult_Database!$E:$E,Onglet_Consult_Database!$B:$B,Onglet_consult_dataset!$B35,Onglet_Consult_Database!$G:$G,Onglet_consult_dataset!G$6),\"\")","v":""},"",null,{"$f":"IF(D$2=0,\"\",(COUNTIFS(Onglet_Consult_Database!$B:$B,Onglet_consult_dataset!$B35,Onglet_Consult_Database!$G:$G,Onglet_consult_dataset!J$6,Onglet_Consult_Database!$E:$E,\"<>\"&\"N/A\")-COUNTIFS(Onglet_Consult_Database!$B:$B,Onglet_consult_dataset!$B35,Onglet_Consult_Database!$G:$G,Onglet_consult_dataset!J$6,Onglet_Consult_Database!$E:$E,\"\"))/D$2)","v":""},{"$f":"IF(E$2=0,\"\",(COUNTIFS(Onglet_Consult_Database!$B:$B,Onglet_consult_dataset!$B35,Onglet_Consult_Database!$G:$G,Onglet_consult_dataset!K$6,Onglet_Consult_Database!$E:$E,\"<>\"&\"N/A\")-COUNTIFS(Onglet_Consult_Database!$B:$B,Onglet_consult_dataset!$B35,Onglet_Consult_Database!$G:$G,Onglet_consult_dataset!K$6,Onglet_Consult_Database!$E:$E,\"\"))/E$2)","v":""},{"$f":"IF(F$2=0,\"\",(COUNTIFS(Onglet_Consult_Database!$B:$B,Onglet_consult_dataset!$B35,Onglet_Consult_Database!$G:$G,Onglet_consult_dataset!L$6,Onglet_Consult_Database!$E:$E,\"<>\"&\"N/A\")-COUNTIFS(Onglet_Consult_Database!$B:$B,Onglet_consult_dataset!$B35,Onglet_Consult_Database!$G:$G,Onglet_consult_dataset!L$6,Onglet_Consult_Database!$E:$E,\"\"))/F$2)","v":""},{"$f":"IF(G$2=0,\"\",(COUNTIFS(Onglet_Consult_Database!$B:$B,Onglet_consult_dataset!$B35,Onglet_Consult_Database!$G:$G,Onglet_consult_dataset!M$6,Onglet_Consult_Database!$E:$E,\"<>\"&\"N/A\")-COUNTIFS(Onglet_Consult_Database!$B:$B,Onglet_consult_dataset!$B35,Onglet_Consult_Database!$G:$G,Onglet_consult_dataset!M$6,Onglet_Consult_Database!$E:$E,\"\"))/G$2)","v":""},"",null,"","","","",""]
[null,"P12","Participation in local economic institutions",{"$f":"IFERROR(AVERAGEIFS(Onglet_Consult_Database!$E:$E,Onglet_Consult_Database!$B:$B,Onglet_consult_dataset!$B36,Onglet_Consult_Database!$G:$G,Onglet_consult_dataset!D$6),\"\")","v":""},{"$f":"IFERROR(AVERAGEIFS(Onglet_Consult_Database!$E:$E,Onglet_Consult_Database!$B:$B,Onglet_consult_dataset!$B36,Onglet_Consult_Database!$G:$G,Onglet_consult_dataset!E$6),\"\")","v":""},{"$f":"IFERROR(AVERAGEIFS(Onglet_Consult_Database!$E:$E,Onglet_Consult_Database!$B:$B,Onglet_consult_dataset!$B36,Onglet_Consult_Database!$G:$G,Onglet_consult_dataset!F$6),\"\")","v":""},{"$f":"IFERROR(AVERAGEIFS(Onglet_Consult_Database!$E:$E,Onglet_Consult_Database!$B:$B,Onglet_consult_dataset!$B36,Onglet_Consult_Database!$G:$G,Onglet_consult_dataset!G$6),\"\")","v":""},"",null,{"$f":"IF(D$2=0,\"\",(COUNTIFS(Onglet_Consult_Database!$B:$B,Onglet_consult_dataset!$B36,Onglet_Consult_Database!$G:$G,Onglet_consult_dataset!J$6,Onglet_Consult_Database!$E:$E,\"<>\"&\"N/A\")-COUNTIFS(Onglet_Consult_Database!$B:$B,Onglet_consult_dataset!$B36,Onglet_Consult_Database!$G:$G,Onglet_consult_dataset!J$6,Onglet_Consult_Database!$E:$E,\"\"))/D$2)","v":""},{"$f":"IF(E$2=0,\"\",(COUNTIFS(Onglet_Consult_Database!$B:$B,Onglet_consult_dataset!$B36,Onglet_Consult_Database!$G:$G,Onglet_consult_dataset!K$6,Onglet_Consult_Database!$E:$E,\"<>\"&\"N/A\")-COUNTIFS(Onglet_Consult_Database!$B:$B,Onglet_consult_dataset!$B36,Onglet_Consult_Database!$G:$G,Onglet_consult_dataset!K$6,Onglet_Consult_Database!$E:$E,\"\"))/E$2)","v":""},{"$f":"IF(F$2=0,\"\",(COUNTIFS(Onglet_Consult_Database!$B:$B,Onglet_consult_dataset!$B36,Onglet_Consult_Database!$G:$G,Onglet_consult_dataset!L$6,Onglet_Consult_Database!$E:$E,\"<>\"&\"N/A\")-COUNTIFS(Onglet_Consult_Database!$B:$B,Onglet_consult_dataset!$B36,Onglet_Consult_Database!$G:$G,Onglet_consult_dataset!L$6,Onglet_Consult_Database!$E:$E,\"\"))/F$2)","v":""},{"$f":"IF(G$2=0,\"\",(COUNTIFS(Onglet_Consult_Database!$B:$B,Onglet_consult_dataset!$B36,Onglet_Consult_Database!$G:$G,Onglet_consult_dataset!M$6,Onglet_Consult_Database!$E:$E,\"<>\"&\"N/A\")-COUNTIFS(Onglet_Consult_Database!$B:$B,Onglet_consult_dataset!$B36,Onglet_Consult_Database!$G:$G,Onglet_consult_dataset!M$6,Onglet_Consult_Database!$E:$E,\"\"))/G$2)","v":""},"",null,"","","","",""]
[null,"P13","Control of contractors on local content",{"$f":"IFERROR(AVERAGEIFS(Onglet_Consult_Database!$E:$E,Onglet_Consult_Database!$B:$B,Onglet_consult_dataset!$B37,Onglet_Consult_Database!$G:$G,Onglet_consult_dataset!D$6),\"\")","v":""},{"$f":"IFERROR(AVERAGEIFS(Onglet_Consult_Database!$E:$E,Onglet_Consult_Database!$B:$B,Onglet_consult_dataset!$B37,Onglet_Consult_Database!$G:$G,Onglet_consult_dataset!E$6),\"\")","v":""},{"$f":"IFERROR(AVERAGEIFS(Onglet_Consult_Database!$E:$E,Onglet_Consult_Database!$B:$B,Onglet_consult_dataset!$B37,Onglet_Consult_Database!$G:$G,Onglet_consult_dataset!F$6),\"\")","v":""},{"$f":"IFERROR(AVERAGEIFS(Onglet_Consult_Database!$E:$E,Onglet_Consult_Database!$B:$B,Onglet_consult_dataset!$B37,Onglet_Consult_Database!$G:$G,Onglet_consult_dataset!G$6),\"\")","v":""},"",null,{"$f":"IF(D$2=0,\"\",(COUNTIFS(Onglet_Consult_Database!$B:$B,Onglet_consult_dataset!$B37,Onglet_Consult_Database!$G:$G,Onglet_consult_dataset!J$6,Onglet_Consult_Database!$E:$E,\"<>\"&\"N/A\")-COUNTIFS(Onglet_Consult_Database!$B:$B,Onglet_consult_dataset!$B37,Onglet_Consult_Database!$G:$G,Onglet_consult_dataset!J$6,Onglet_Consult_Database!$E:$E,\"\"))/D$2)","v":""},{"$f":"IF(E$2=0,\"\",(COUNTIFS(Onglet_Consult_Database!$B:$B,Onglet_consult_dataset!$B37,Onglet_Consult_Database!$G:$G,Onglet_consult_dataset!K$6,Onglet_Consult_Database!$E:$E,\"<>\"&\"N/A\")-COUNTIFS(Onglet_Consult_Database!$B:$B,Onglet_consult_dataset!$B37,Onglet_Consult_Database!$G:$G,Onglet_consult_dataset!K$6,Onglet_Consult_Database!$E:$E,\"\"))/E$2)","v":""},{"$f":"IF(F$2=0,\"\",(COUNTIFS(Onglet_Consult_Database!$B:$B,Onglet_consult_dataset!$B37,Onglet_Consult_Database!$G:$G,Onglet_consult_dataset!L$6,Onglet_Consult_Database!$E:$E,\"<>\"&\"N/A\")-COUNTIFS(Onglet_Consult_Database!$B:$B,Onglet_consult_dataset!$B37,Onglet_Consult_Database!$G:$G,Onglet_consult_dataset!L$6,Onglet_Consult_Database!$E:$E,\"\"))/F$2)","v":""},{"$f":"IF(G$2=0,\"\",(COUNTIFS(Onglet_Consult_Database!$B:$B,Onglet_consult_dataset!$B37,Onglet_Consult_Database!$G:$G,Onglet_consult_dataset!M$6,Onglet_Consult_Database!$E:$E,\"<>\"&\"N/A\")-COUNTIFS(Onglet_Consult_Database!$B:$B,Onglet_consult_dataset!$B37,Onglet_Consult_Database!$G:$G,Onglet_consult_dataset!M$6,Onglet_Consult_Database!$E:$E,\"\"))/G$2)","v":""},"",null,"","","","",""]
[null,"P14","Management of socio-economic projects",{"$f":"IFERROR(AVERAGEIFS(Onglet_Consult_Database!$E:$E,Onglet_Consult_Database!$B:$B,Onglet_consult_dataset!$B38,Onglet_Consult_Database!$G:$G,Onglet_consult_dataset!D$6),\"\")","v":""},{"$f":"IFERROR(AVERAGEIFS(Onglet_Consult_Database!$E:$E,Onglet_Consult_Database!$B:$B,Onglet_consult_dataset!$B38,Onglet_Consult_Database!$G:$G,Onglet_consult_dataset!E$6),\"\")","v":""},{"$f":"IFERROR(AVERAGEIFS(Onglet_Consult_Database!$E:$E,Onglet_Consult_Database!$B:$B,Onglet_consult_dataset!$B38,Onglet_Consult_Database!$G:$G,Onglet_consult_dataset!F$6),\"\")","v":""},{"$f":"IFERROR(AVERAGEIFS(Onglet_Consult_Database!$E:$E,Onglet_Consult_Database!$B:$B,Onglet_consult_dataset!$B38,Onglet_Consult_Database!$G:$G,Onglet_consult_dataset!G$6),\"\")","v":""},"",null,{"$f":"IF(D$2=0,\"\",(COUNTIFS(Onglet_Consult_Database!$B:$B,Onglet_consult_dataset!$B38,Onglet_Consult_Database!$G:$G,Onglet_consult_dataset!J$6,Onglet_Consult_Database!$E:$E,\"<>\"&\"N/A\")-COUNTIFS(Onglet_Consult_Database!$B:$B,Onglet_consult_dataset!$B38,Onglet_Consult_Database!$G:$G,Onglet_consult_dataset!J$6,Onglet_Consult_Database!$E:$E,\"\"))/D$2)","v":""},{"$f":"IF(E$2=0,\"\",(COUNTIFS(Onglet_Consult_Database!$B:$B,Onglet_consult_dataset!$B38,Onglet_Consult_Database!$G:$G,Onglet_consult_dataset!K$6,Onglet_Consult_Database!$E:$E,\"<>\"&\"N/A\")-COUNTIFS(Onglet_Consult_Database!$B:$B,Onglet_consult_dataset!$B38,Onglet_Consult_Database!$G:$G,Onglet_consult_dataset!K$6,Onglet_Consult_Database!$E:$E,\"\"))/E$2)","v":""},{"$f":"IF(F$2=0,\"\",(COUNTIFS(Onglet_Consult_Database!$B:$B,Onglet_consult_dataset!$B38,Onglet_Consult_Database!$G:$G,Onglet_consult_dataset!L$6,Onglet_Consult_Database!$E:$E,\"<>\"&\"N/A\")-COUNTIFS(Onglet_Consult_Database!$B:$B,Onglet_consult_dataset!$B38,Onglet_Consult_Database!$G:$G,Onglet_consult_dataset!L$6,Onglet_Consult_Database!$E:$E,\"\"))/F$2)","v":""},{"$f":"IF(G$2=0,\"\",(COUNTIFS(Onglet_Consult_Database!$B:$B,Onglet_consult_dataset!$B38,Onglet_Consult_Database!$G:$G,Onglet_consult_dataset!M$6,Onglet_Consult_Database!$E:$E,\"<>\"&\"N/A\")-COUNTIFS(Onglet_Consult_Database!$B:$B,Onglet_consult_dataset!$B38,Onglet_Consult_Database!$G:$G,Onglet_consult_dataset!M$6,Onglet_Consult_Database!$E:$E,\"\"))/G$2)","v":""},"",null,"","","","",""]
[null,"P15","Partnerships",{"$f":"IFERROR(AVERAGEIFS(Onglet_Consult_Database!$E:$E,Onglet_Consult_Database!$B:$B,Onglet_consult_dataset!$B39,Onglet_Consult_Database!$G:$G,Onglet_consult_dataset!D$6),\"\")","v":""},{"$f":"IFERROR(AVERAGEIFS(Onglet_Consult_Database!$E:$E,Onglet_Consult_Database!$B:$B,Onglet_consult_dataset!$B39,Onglet_Consult_Database!$G:$G,Onglet_consult_dataset!E$6),\"\")","v":""},{"$f":"IFERROR(AVERAGEIFS(Onglet_Consult_Database!$E:$E,Onglet_Consult_Database!$B:$B,Onglet_consult_dataset!$B39,Onglet_Consult_Database!$G:$G,Onglet_consult_dataset!F$6),\"\")","v":""},{"$f":"IFERROR(AVERAGEIFS(Onglet_Consult_Database!$E:$E,Onglet_Consult_Database!$B:$B,Onglet_consult_dataset!$B39,Onglet_Consult_Database!$G:$G,Onglet_consult_dataset!G$6),\"\")","v":""},"",null,{"$f":"IF(D$2=0,\"\",(COUNTIFS(Onglet_Consult_Database!$B:$B,Onglet_consult_dataset!$B39,Onglet_Consult_Database!$G:$G,Onglet_consult_dataset!J$6,Onglet_Consult_Database!$E:$E,\"<>\"&\"N/A\")-COUNTIFS(Onglet_Consult_Database!$B:$B,Onglet_consult_dataset!$B39,Onglet_Consult_Database!$G:$G,Onglet_consult_dataset!J$6,Onglet_Consult_Database!$E:$E,\"\"))/D$2)","v":""},{"$f":"IF(E$2=0,\"\",(COUNTIFS(Onglet_Consult_Database!$B:$B,Onglet_consult_dataset!$B39,Onglet_Consult_Database!$G:$G,Onglet_consult_dataset!K$6,Onglet_Consult_Database!$E:$E,\"<>\"&\"N/A\")-COUNTIFS(Onglet_Consult_Database!$B:$B,Onglet_consult_dataset!$B39,Onglet_Consult_Database!$G:$G,Onglet_consult_dataset!K$6,Onglet_Consult_Database!$E:$E,\"\"))/E$2)","v":""},{"$f":"IF(F$2=0,\"\",(COUNTIFS(Onglet_Consult_Database!$B:$B,Onglet_consult_dataset!$B39,Onglet_Consult_Database!$G:$G,Onglet_consult_dataset!L$6,Onglet_Consult_Database!$E:$E,\"<>\"&\"N/A\")-COUNTIFS(Onglet_Consult_Database!$B:$B,Onglet_consult_dataset!$B39,Onglet_Consult_Database!$G:$G,Onglet_consult_dataset!L$6,Onglet_Consult_Database!$E:$E,\"\"))/F$2)","v":""},{"$f":"IF(G$2=0,\"\",(COUNTIFS(Onglet_Consult_Database!$B:$B,Onglet_consult_dataset!$B39,Onglet_Consult_Database!$G:$G,Onglet_consult_dataset!M$6,Onglet_Consult_Database!$E:$E,\"<>\"&\"N/A\")-COUNTIFS(Onglet_Consult_Database!$B:$B,Onglet_consult_dataset!$B39,Onglet_Consult_Database!$G:$G,Onglet_consult_dataset!M$6,Onglet_Consult_Database!$E:$E,\"\"))/G$2)","v":""},"",null,"","","","","",null,"Nombre de votants (max)",null,null,null,null,null,null,null,null,null,null,null,null,null,"Condition top 3 pour gap analysis"]
[]
[null,null,null,{"$f":"$D$6","v":"Authorities"},{"$f":"$E$6","v":"Business"},{"$f":"$F$6","v":"Civil society"},{"$f":"$G$6","v":"Communities"},{"$f":"$H$6","v":"MyGr"},null,{"$f":"$D$6","v":"Authorities"},{"$f":"$E$6","v":"Business"},{"$f":"$F$6","v":"Civil society"},{"$f":"$G$6","v":"Communities"},{"$f":"$H$6","v":"MyGr"},null,{"$f":"$D$6","v":"Authorities"},{"$f":"$E$6","v":"Business"},{"$f":"$F$6","v":"Civil society"},{"$f":"$G$6","v":"Communities"},{"$f":"$H$6","v":"MyGr"},null,"Authorities","Business","Civil society","Communities",null,"Authorities","Business","Civil society","Communities"]
[{"$f":"IFERROR(RANK(H42,$H$42:$H$47),\"\")","v":""},"S01",{"$f":"VLOOKUP(B42,SRR_referential,2,FALSE)","v":"Road safety"},{"$f":"IFERROR(SUMIFS(Onglet_Consult_Database!$O:$O,Onglet_Consult_Database!$B:$B,Onglet_consult_dataset!$B42,Onglet_Consult_Database!$G:$G,Onglet_consult_dataset!D$6)/MAX(Onglet_consult_dataset!V$42:V$48),\"\")","v":""},{"$f":"IFERROR(SUMIFS(Onglet_Consult_Database!$O:$O,Onglet_Consult_Database!$B:$B,Onglet_consult_dataset!$B42,Onglet_Consult_Database!$G:$G,Onglet_consult_dataset!E$6)/MAX(Onglet_consult_dataset!W$42:W$48),\"\")","v":""},{"$f":"IFERROR(SUMIFS(Onglet_Consult_Database!$O:$O,Onglet_Consult_Database!$B:$B,Onglet_consult_dataset!$B42,Onglet_Consult_Database!$G:$G,Onglet_consult_dataset!F$6)/MAX(Onglet_consult_dataset!X$42:X$48),\"\")","v":""},{"$f":"IFERROR(SUMIFS(Onglet_Consult_Database!$O:$O,Onglet_Consult_Database!$B:$B,Onglet_consult_dataset!$B42,Onglet_Consult_Database!$G:$G,Onglet_consult_dataset!G$6)/MAX(Onglet_consult_dataset!Y$42:Y$48),\"\")","v":""},{"$f":"IFERROR(AVERAGE(D42:G42)+ROW()/100000,\"\")","v":""},null,{"$f":"IF(D$2=0,\"\",(COUNTIFS(Onglet_Consult_Database!$B:$B,Onglet_consult_dataset!$B42,Onglet_Consult_Database!$G:$G,Onglet_consult_dataset!J$6,Onglet_Consult_Database!$E:$E,\"<>\"&\"N/A\")-COUNTIFS(Onglet_Consult_Database!$B:$B,Onglet_consult_dataset!$B42,Onglet_Consult_Database!$G:$G,Onglet_consult_dataset!J$6,Onglet_Consult_Database!$E:$E,\"\"))/D$2)","v":""},{"$f":"IF(E$2=0,\"\",(COUNTIFS(Onglet_Consult_Database!$B:$B,Onglet_consult_dataset!$B42,Onglet_Consult_Database!$G:$G,Onglet_consult_dataset!K$6,Onglet_Consult_Database!$E:$E,\"<>\"&\"N/A\")-COUNTIFS(Onglet_Consult_Database!$B:$B,Onglet_consult_dataset!$B42,Onglet_Consult_Database!$G:$G,Onglet_consult_dataset!K$6,Onglet_Consult_Database!$E:$E,\"\"))/E$2)","v":""},{"$f":"IF(F$2=0,\"\",(COUNTIFS(Onglet_Consult_Database!$B:$B,Onglet_consult_dataset!$B42,Onglet_Consult_Database!$G:$G,Onglet_consult_dataset!L$6,Onglet_Consult_Database!$E:$E,\"<>\"&\"N/A\")-COUNTIFS(Onglet_Consult_Database!$B:$B,Onglet_consult_dataset!$B42,Onglet_Consult_Database!$G:$G,Onglet_consult_dataset!L$6,Onglet_Consult_Database!$E:$E,\"\"))/F$2)","v":""},{"$f":"IF(G$2=0,\"\",(COUNTIFS(Onglet_Consult_Database!$B:$B,Onglet_consult_dataset!$B42,Onglet_Consult_Database!$G:$G,Onglet_consult_dataset!M$6,Onglet_Consult_Database!$E:$E,\"<>\"&\"N/A\")-COUNTIFS(Onglet_Consult_Database!$B:$B,Onglet_consult_dataset!$B42,Onglet_Consult_Database!$G:$G,Onglet_consult_dataset!M$6,Onglet_Consult_Database!$E:$E,\"\"))/G$2)","v":""},{"$f":"IFERROR(SUMPRODUCT($D$2:$G$2,J42:M42)/$H$2,\"\")","v":""},1,{"$f":"IFERROR(VLOOKUP(O42,$A$42:$H$47,4,FALSE),\"\")","v":""},{"$f":"IFERROR(VLOOKUP(O42,$A$42:$H$47,5,FALSE),\"\")","v":""},{"$f":"IFERROR(VLOOKUP(O42,$A$42:$H$47,6,FALSE),\"\")","v":""},{"$f":"IFERROR(VLOOKUP(O42,$A$42:$H$47,7,FALSE),\"\")","v":""},{"$f":"IFERROR(VLOOKUP(O42,$A$42:$H$47,8,FALSE),\"\")","v":""},{"$f":"IFERROR(VLOOKUP(O42,$A$42:$H$47,3,FALSE),\"\")","v":""},{"$f":"IFERROR(J42*D$2,\"\")","v":""},{"$f":"IFERROR(K42*E$2,\"\")","v":""},{"$f":"IFERROR(L42*F$2,\"\")","v":""},{"$f":"IFERROR(M42*G$2,\"\")","v":""},null,{"$f":"IFERROR(VLOOKUP(O42,$A$42:$N$47,10,FALSE),\"\")","v":""},{"$f":"IFERROR(VLOOKUP(O42,$A$42:$N$47,11,FALSE),\"\")","v":""},{"$f":"IFERROR(VLOOKUP(O42,$A$42:$N$47,12,FALSE),\"\")","v":""},{"$f":"IFERROR(VLOOKUP(O42,$A$42:$N$47,13,FALSE),\"\")","v":""},{"$f":"IFERROR(VLOOKUP(O42,$A$42:$N$47,14,FALSE),\"\")","v":""},null,{"$f":"U42","v":""},{"$f":"Onglet_SRR_Table!B123","v":"Priority n°1"},null,{"$f":"IF(OR(A42=1,A42=2,A42=3),1,\"\")","v":""}]
[{"$f":"IFERROR(RANK(H43,$H$42:$H$47),\"\")","v":""},"S02","Environment & climate",{"$f":"IFERROR(SUMIFS(Onglet_Consult_Database!$O:$O,Onglet_Consult_Database!$B:$B,Onglet_consult_dataset!$B43,Onglet_Consult_Database!$G:$G,Onglet_consult_dataset!D$6)/MAX(Onglet_consult_dataset!V$42:V$48),\"\")","v":""},{"$f":"IFERROR(SUMIFS(Onglet_Consult_Database!$O:$O,Onglet_Consult_Database!$B:$B,Onglet_consult_dataset!$B43,Onglet_Consult_Database!$G:$G,Onglet_consult_dataset!E$6)/MAX(Onglet_consult_dataset!W$42:W$48),\"\")","v":""},{"$f":"IFERROR(SUMIFS(Onglet_Consult_Database!$O:$O,Onglet_Consult_Database!$B:$B,Onglet_consult_dataset!$B43,Onglet_Consult_Database!$G:$G,Onglet_consult_dataset!F$6)/MAX(Onglet_consult_dataset!X$42:X$48),\"\")","v":""},{"$f":"IFERROR(SUMIFS(Onglet_Consult_Database!$O:$O,Onglet_Consult_Database!$B:$B,Onglet_consult_dataset!$B43,Onglet_Consult_Database!$G:$G,Onglet_consult_dataset!G$6)/MAX(Onglet_consult_dataset!Y$42:Y$48),\"\")","v":""},{"$f":"IFERROR(AVERAGE(D43:G43)+ROW()/100000,\"\")","v":""},null,{"$f":"IF(D$2=0,\"\",(COUNTIFS(Onglet_Consult_Database!$B:$B,Onglet_consult_dataset!$B43,Onglet_Consult_Database!$G:$G,Onglet_consult_dataset!J$6,Onglet_Consult_Database!$E:$E,\"<>\"&\"N/A\")-COUNTIFS(Onglet_Consult_Database!$B:$B,Onglet_consult_dataset!$B43,Onglet_Consult_Database!$G:$G,Onglet_consult_dataset!J$6,Onglet_Consult_Database!$E:$E,\"\"))/D$2)","v":""},{"$f":"IF(E$2=0,\"\",(COUNTIFS(Onglet_Consult_Database!$B:$B,Onglet_consult_dataset!$B43,Onglet_Consult_Database!$G:$G,Onglet_consult_dataset!K$6,Onglet_Consult_Database!$E:$E,\"<>\"&\"N/A\")-COUNTIFS(Onglet_Consult_Database!$B:$B,Onglet_consult_dataset!$B43,Onglet_Consult_Database!$G:$G,Onglet_consult_dataset!K$6,Onglet_Consult_Database!$E:$E,\"\"))/E$2)","v":""},{"$f":"IF(F$2=0,\"\",(COUNTIFS(Onglet_Consult_Database!$B:$B,Onglet_consult_dataset!$B43,Onglet_Consult_Database!$G:$G,Onglet_consult_dataset!L$6,Onglet_Consult_Database!$E:$E,\"<>\"&\"N/A\")-COUNTIFS(Onglet_Consult_Database!$B:$B,Onglet_consult_dataset!$B43,Onglet_Consult_Database!$G:$G,Onglet_consult_dataset!L$6,Onglet_Consult_Database!$E:$E,\"\"))/F$2)","v":""},{"$f":"IF(G$2=0,\"\",(COUNTIFS(Onglet_Consult_Database!$B:$B,Onglet_consult_dataset!$B43,Onglet_Consult_Database!$G:$G,Onglet_consult_dataset!M$6,Onglet_Consult_Database!$E:$E,\"<>\"&\"N/A\")-COUNTIFS(Onglet_Consult_Database!$B:$B,Onglet_consult_dataset!$B43,Onglet_Consult_Database!$G:$G,Onglet_consult_dataset!M$6,Onglet_Consult_Database!$E:$E,\"\"))/G$2)","v":""},"",2,{"$f":"IFERROR(VLOOKUP(O43,$A$42:$H$47,4,FALSE),\"\")","v":""},{"$f":"IFERROR(VLOOKUP(O43,$A$42:$H$47,5,FALSE),\"\")","v":""},{"$f":"IFERROR(VLOOKUP(O43,$A$42:$H$47,6,FALSE),\"\")","v":""},{"$f":"IFERROR(VLOOKUP(O43,$A$42:$H$47,7,FALSE),\"\")","v":""},{"$f":"IFERROR(VLOOKUP(O43,$A$42:$H$47,8,FALSE),\"\")","v":""},{"$f":"IFERROR(VLOOKUP(O43,$A$42:$H$47,3,FALSE),\"\")","v":""},{"$f":"IFERROR(J43*D$2,\"\")","v":""},"","","",null,{"$f":"IFERROR(VLOOKUP(O43,$A$42:$N$47,10,FALSE),\"\")","v":""},{"$f":"IFERROR(VLOOKUP(O43,$A$42:$N$47,11,FALSE),\"\")","v":""},{"$f":"IFERROR(VLOOKUP(O43,$A$42:$N$47,12,FALSE),\"\")","v":""},{"$f":"IFERROR(VLOOKUP(O43,$A$42:$N$47,13,FALSE),\"\")","v":""},{"$f":"IFERROR(VLOOKUP(O43,$A$42:$N$47,14,FALSE),\"\")","v":""},null,{"$f":"U43","v":""},{"$f":"Onglet_SRR_Table!B124","v":"Priority n°2"},null,{"$f":"IF(OR(A43=1,A43=2,A43=3),1,\"\")","v":""}]
["","S03","Culture and heritage",{"$f":"IFERROR(SUMIFS(Onglet_Consult_Database!$O:$O,Onglet_Consult_Database!$B:$B,Onglet_consult_dataset!$B44,Onglet_Consult_Database!$G:$G,Onglet_consult_dataset!D$6)/MAX(Onglet_consult_dataset!V$42:V$48),\"\")","v":""},{"$f":"IFERROR(SUMIFS(Onglet_Consult_Database!$O:$O,Onglet_Consult_Database!$B:$B,Onglet_consult_dataset!$B44,Onglet_Consult_Database!$G:$G,Onglet_consult_dataset!E$6)/MAX(Onglet_consult_dataset!W$42:W$48),\"\")","v":""},{"$f":"IFERROR(SUMIFS(Onglet_Consult_Database!$O:$O,Onglet_Consult_Database!$B:$B,Onglet_consult_dataset!$B44,Onglet_Consult_Database!$G:$G,Onglet_consult_dataset!F$6)/MAX(Onglet_consult_dataset!X$42:X$48),\"\")","v":""},{"$f":"IFERROR(SUMIFS(Onglet_Consult_Database!$O:$O,Onglet_Consult_Database!$B:$B,Onglet_consult_dataset!$B44,Onglet_Consult_Database!$G:$G,Onglet_consult_dataset!G$6)/MAX(Onglet_consult_dataset!Y$42:Y$48),\"\")","v":""},"",null,{"$f":"IF(D$2=0,\"\",(COUNTIFS(Onglet_Consult_Database!$B:$B,Onglet_consult_dataset!$B44,Onglet_Consult_Database!$G:$G,Onglet_consult_dataset!J$6,Onglet_Consult_Database!$E:$E,\"<>\"&\"N/A\")-COUNTIFS(Onglet_Consult_Database!$B:$B,Onglet_consult_dataset!$B44,Onglet_Consult_Database!$G:$G,Onglet_consult_dataset!J$6,Onglet_Consult_Database!$E:$E,\"\"))/D$2)","v":""},{"$f":"IF(E$2=0,\"\",(COUNTIFS(Onglet_Consult_Database!$B:$B,Onglet_consult_dataset!$B44,Onglet_Consult_Database!$G:$G,Onglet_consult_dataset!K$6,Onglet_Consult_Database!$E:$E,\"<>\"&\"N/A\")-COUNTIFS(Onglet_Consult_Database!$B:$B,Onglet_consult_dataset!$B44,Onglet_Consult_Database!$G:$G,Onglet_consult_dataset!K$6,Onglet_Consult_Database!$E:$E,\"\"))/E$2)","v":""},{"$f":"IF(F$2=0,\"\",(COUNTIFS(Onglet_Consult_Database!$B:$B,Onglet_consult_dataset!$B44,Onglet_Consult_Database!$G:$G,Onglet_consult_dataset!L$6,Onglet_Consult_Database!$E:$E,\"<>\"&\"N/A\")-COUNTIFS(Onglet_Consult_Database!$B:$B,Onglet_consult_dataset!$B44,Onglet_Consult_Database!$G:$G,Onglet_consult_dataset!L$6,Onglet_Consult_Database!$E:$E,\"\"))/F$2)","v":""},{"$f":"IF(G$2=0,\"\",(COUNTIFS(Onglet_Consult_Database!$B:$B,Onglet_consult_dataset!$B44,Onglet_Consult_Database!$G:$G,Onglet_consult_dataset!M$6,Onglet_Consult_Database!$E:$E,\"<>\"&\"N/A\")-COUNTIFS(Onglet_Consult_Database!$B:$B,Onglet_consult_dataset!$B44,Onglet_Consult_Database!$G:$G,Onglet_consult_dataset!M$6,Onglet_Consult_Database!$E:$E,\"\"))/G$2)","v":""},"",3,"","","","","","","","","","",null,"","","","","",null,"",{"$f":"Onglet_SRR_Table!B125","v":"Priority n°3"},null,""]
["","S04","Education / training / professional integration",{"$f":"IFERROR(SUMIFS(Onglet_Consult_Database!$O:$O,Onglet_Consult_Database!$B:$B,Onglet_consult_dataset!$B45,Onglet_Consult_Database!$G:$G,Onglet_consult_dataset!D$6)/MAX(Onglet_consult_dataset!V$42:V$48),\"\")","v":""},{"$f":"IFERROR(SUMIFS(Onglet_Consult_Database!$O:$O,Onglet_Consult_Database!$B:$B,Onglet_consult_dataset!$B45,Onglet_Consult_Database!$G:$G,Onglet_consult_dataset!E$6)/MAX(Onglet_consult_dataset!W$42:W$48),\"\")","v":""},{"$f":"IFERROR(SUMIFS(Onglet_Consult_Database!$O:$O,Onglet_Consult_Database!$B:$B,Onglet_consult_dataset!$B45,Onglet_Consult_Database!$G:$G,Onglet_consult_dataset!F$6)/MAX(Onglet_consult_dataset!X$42:X$48),\"\")","v":""},{"$f":"IFERROR(SUMIFS(Onglet_Consult_Database!$O:$O,Onglet_Consult_Database!$B:$B,Onglet_consult_dataset!$B45,Onglet_Consult_Database!$G:$G,Onglet_consult_dataset!G$6)/MAX(Onglet_consult_dataset!Y$42:Y$48),\"\")","v":""},"",null,{"$f":"IF(D$2=0,\"\",(COUNTIFS(Onglet_Consult_Database!$B:$B,Onglet_consult_dataset!$B45,Onglet_Consult_Database!$G:$G,Onglet_consult_dataset!J$6,Onglet_Consult_Database!$E:$E,\"<>\"&\"N/A\")-COUNTIFS(Onglet_Consult_Database!$B:$B,Onglet_consult_dataset!$B45,Onglet_Consult_Database!$G:$G,Onglet_consult_dataset!J$6,Onglet_Consult_Database!$E:$E,\"\"))/D$2)","v":""},{"$f":"IF(E$2=0,\"\",(COUNTIFS(Onglet_Consult_Database!$B:$B,Onglet_consult_dataset!$B45,Onglet_Consult_Database!$G:$G,Onglet_consult_dataset!K$6,Onglet_Consult_Database!$E:$E,\"<>\"&\"N/A\")-COUNTIFS(Onglet_Consult_Database!$B:$B,Onglet_consult_dataset!$B45,Onglet_Consult_Database!$G:$G,Onglet_consult_dataset!K$6,Onglet_Consult_Database!$E:$E,\"\"))/E$2)","v":""},{"$f":"IF(F$2=0,\"\",(COUNTIFS(Onglet_Consult_Database!$B:$B,Onglet_consult_dataset!$B45,Onglet_Consult_Database!$G:$G,Onglet_consult_dataset!L$6,Onglet_Consult_Database!$E:$E,\"<>\"&\"N/A\")-COUNTIFS(Onglet_Consult_Database!$B:$B,Onglet_consult_dataset!$B45,Onglet_Consult_Database!$G:$G,Onglet_consult_dataset!L$6,Onglet_Consult_Database!$E:$E,\"\"))/F$2)","v":""},{"$f":"IF(G$2=0,\"\",(COUNTIFS(Onglet_Consult_Database!$B:$B,Onglet_consult_dataset!$B45,Onglet_Consult_Database!$G:$G,Onglet_consult_dataset!M$6,Onglet_Consult_Database!$E:$E,\"<>\"&\"N/A\")-COUNTIFS(Onglet_Consult_Database!$B:$B,Onglet_consult_dataset!$B45,Onglet_Consult_Database!$G:$G,Onglet_consult_dataset!M$6,Onglet_Consult_Database!$E:$E,\"\"))/G$2)","v":""},"",4,"","","","","","","","","","",null,"","","","","",null,"",{"$f":"Onglet_SRR_Table!B126","v":"Priority n°4"},null,""]
["","S05","Economic empowerment/support to business development",{"$f":"IFERROR(SUMIFS(Onglet_Consult_Database!$O:$O,Onglet_Consult_Database!$B:$B,Onglet_consult_dataset!$B46,Onglet_Consult_Database!$G:$G,Onglet_consult_dataset!D$6)/MAX(Onglet_consult_dataset!V$42:V$48),\"\")","v":""},{"$f":"IFERROR(SUMIFS(Onglet_Consult_Database!$O:$O,Onglet_Consult_Database!$B:$B,Onglet_consult_dataset!$B46,Onglet_Consult_Database!$G:$G,Onglet_consult_dataset!E$6)/MAX(Onglet_consult_dataset!W$42:W$48),\"\")","v":""},{"$f":"IFERROR(SUMIFS(Onglet_Consult_Database!$O:$O,Onglet_Consult_Database!$B:$B,Onglet_consult_dataset!$B46,Onglet_Consult_Database!$G:$G,Onglet_consult_dataset!F$6)/MAX(Onglet_consult_dataset!X$42:X$48),\"\")","v":""},{"$f":"IFERROR(SUMIFS(Onglet_Consult_Database!$O:$O,Onglet_Consult_Database!$B:$B,Onglet_consult_dataset!$B46,Onglet_Consult_Database!$G:$G,Onglet_consult_dataset!G$6)/MAX(Onglet_consult_dataset!Y$42:Y$48),\"\")","v":""},"",null,{"$f":"IF(D$2=0,\"\",(COUNTIFS(Onglet_Consult_Database!$B:$B,Onglet_consult_dataset!$B46,Onglet_Consult_Database!$G:$G,Onglet_consult_dataset!J$6,Onglet_Consult_Database!$E:$E,\"<>\"&\"N/A\")-COUNTIFS(Onglet_Consult_Database!$B:$B,Onglet_consult_dataset!$B46,Onglet_Consult_Database!$G:$G,Onglet_consult_dataset!J$6,Onglet_Consult_Database!$E:$E,\"\"))/D$2)","v":""},{"$f":"IF(E$2=0,\"\",(COUNTIFS(Onglet_Consult_Database!$B:$B,Onglet_consult_dataset!$B46,Onglet_Consult_Database!$G:$G,Onglet_consult_dataset!K$6,Onglet_Consult_Database!$E:$E,\"<>\"&\"N/A\")-COUNTIFS(Onglet_Consult_Database!$B:$B,Onglet_consult_dataset!$B46,Onglet_Consult_Database!$G:$G,Onglet_consult_dataset!K$6,Onglet_Consult_Database!$E:$E,\"\"))/E$2)","v":""},{"$f":"IF(F$2=0,\"\",(COUNTIFS(Onglet_Consult_Database!$B:$B,Onglet_consult_dataset!$B46,Onglet_Consult_Database!$G:$G,Onglet_consult_dataset!L$6,Onglet_Consult_Database!$E:$E,\"<>\"&\"N/A\")-COUNTIFS(Onglet_Consult_Database!$B:$B,Onglet_consult_dataset!$B46,Onglet_Consult_Database!$G:$G,Onglet_consult_dataset!L$6,Onglet_Consult_Database!$E:$E,\"\"))/F$2)","v":""},{"$f":"IF(G$2=0,\"\",(COUNTIFS(Onglet_Consult_Database!$B:$B,Onglet_consult_dataset!$B46,Onglet_Consult_Database!$G:$G,Onglet_consult_dataset!M$6,Onglet_Consult_Database!$E:$E,\"<>\"&\"N/A\")-COUNTIFS(Onglet_Consult_Database!$B:$B,Onglet_consult_dataset!$B46,Onglet_Consult_Database!$G:$G,Onglet_consult_dataset!M$6,Onglet_Consult_Database!$E:$E,\"\"))/G$2)","v":""},"",5,"","","","","","","","","","",null,"","","","","",null,null,null,null,""]
["","S06","Improved access to essential services (health, water, energy)",{"$f":"IFERROR(SUMIFS(Onglet_Consult_Database!$O:$O,Onglet_Consult_Database!$B:$B,Onglet_consult_dataset!$B47,Onglet_Consult_Database!$G:$G,Onglet_consult_dataset!D$6)/MAX(Onglet_consult_dataset!V$42:V$48),\"\")","v":""},{"$f":"IFERROR(SUMIFS(Onglet_Consult_Database!$O:$O,Onglet_Consult_Database!$B:$B,Onglet_consult_dataset!$B47,Onglet_Consult_Database!$G:$G,Onglet_consult_dataset!E$6)/MAX(Onglet_consult_dataset!W$42:W$48),\"\")","v":""},{"$f":"IFERROR(SUMIFS(Onglet_Consult_Database!$O:$O,Onglet_Consult_Database!$B:$B,Onglet_consult_dataset!$B47,Onglet_Consult_Database!$G:$G,Onglet_consult_dataset!F$6)/MAX(Onglet_consult_dataset!X$42:X$48),\"\")","v":""},{"$f":"IFERROR(SUMIFS(Onglet_Consult_Database!$O:$O,Onglet_Consult_Database!$B:$B,Onglet_consult_dataset!$B47,Onglet_Consult_Database!$G:$G,Onglet_consult_dataset!G$6)/MAX(Onglet_consult_dataset!Y$42:Y$48),\"\")","v":""},"",null,{"$f":"IF(D$2=0,\"\",(COUNTIFS(Onglet_Consult_Database!$B:$B,Onglet_consult_dataset!$B47,Onglet_Consult_Database!$G:$G,Onglet_consult_dataset!J$6,Onglet_Consult_Database!$E:$E,\"<>\"&\"N/A\")-COUNTIFS(Onglet_Consult_Database!$B:$B,Onglet_consult_dataset!$B47,Onglet_Consult_Database!$G:$G,Onglet_consult_dataset!J$6,Onglet_Consult_Database!$E:$E,\"\"))/D$2)","v":""},{"$f":"IF(E$2=0,\"\",(COUNTIFS(Onglet_Consult_Database!$B:$B,Onglet_consult_dataset!$B47,Onglet_Consult_Database!$G:$G,Onglet_consult_dataset!K$6,Onglet_Consult_Database!$E:$E,\"<>\"&\"N/A\")-COUNTIFS(Onglet_Consult_Database!$B:$B,Onglet_consult_dataset!$B47,Onglet_Consult_Database!$G:$G,Onglet_consult_dataset!K$6,Onglet_Consult_Database!$E:$E,\"\"))/E$2)","v":""},{"$f":"IF(F$2=0,\"\",(COUNTIFS(Onglet_Consult_Database!$B:$B,Onglet_consult_dataset!$B47,Onglet_Consult_Database!$G:$G,Onglet_consult_dataset!L$6,Onglet_Consult_Database!$E:$E,\"<>\"&\"N/A\")-COUNTIFS(Onglet_Consult_Database!$B:$B,Onglet_consult_dataset!$B47,Onglet_Consult_Database!$G:$G,Onglet_consult_dataset!L$6,Onglet_Consult_Database!$E:$E,\"\"))/F$2)","v":""},{"$f":"IF(G$2=0,\"\",(COUNTIFS(Onglet_Consult_Database!$B:$B,Onglet_consult_dataset!$B47,Onglet_Consult_Database!$G:$G,Onglet_consult_dataset!M$6,Onglet_Consult_Database!$E:$E,\"<>\"&\"N/A\")-COUNTIFS(Onglet_Consult_Database!$B:$B,Onglet_consult_dataset!$B47,Onglet_Consult_Database!$G:$G,Onglet_consult_dataset!M$6,Onglet_Consult_Database!$E:$E,\"\"))/G$2)","v":""},"",6,"","","","","","","","","","",null,"","","","","",null,null,null,null,""]
[null,"S07","Other",{"$f":"IFERROR(SUMIFS(Onglet_Consult_Database!$O:$O,Onglet_Consult_Database!$B:$B,Onglet_consult_dataset!$B48,Onglet_Consult_Database!$G:$G,Onglet_consult_dataset!D$6)/MAX(Onglet_consult_dataset!V$42:V$48),\"\")","v":""},{"$f":"IFERROR(SUMIFS(Onglet_Consult_Database!$O:$O,Onglet_Consult_Database!$B:$B,Onglet_consult_dataset!$B48,Onglet_Consult_Database!$G:$G,Onglet_consult_dataset!E$6)/MAX(Onglet_consult_dataset!W$42:W$48),\"\")","v":""},{"$f":"IFERROR(SUMIFS(Onglet_Consult_Database!$O:$O,Onglet_Consult_Database!$B:$B,Onglet_consult_dataset!$B48,Onglet_Consult_Database!$G:$G,Onglet_consult_dataset!F$6)/MAX(Onglet_consult_dataset!X$42:X$48),\"\")","v":""},{"$f":"IFERROR(SUMIFS(Onglet_Consult_Database!$O:$O,Onglet_Consult_Database!$B:$B,Onglet_consult_dataset!$B48,Onglet_Consult_Database!$G:$G,Onglet_consult_dataset!G$6)/MAX(Onglet_consult_dataset!Y$42:Y$48),\"\")","v":""},"",null,{"$f":"IF(D$2=0,\"\",(COUNTIFS(Onglet_Consult_Database!$B:$B,Onglet_consult_dataset!$B48,Onglet_Consult_Database!$G:$G,Onglet_consult_dataset!J$6,Onglet_Consult_Database!$E:$E,\"<>\"&\"N/A\")-COUNTIFS(Onglet_Consult_Database!$B:$B,Onglet_consult_dataset!$B48,Onglet_Consult_Database!$G:$G,Onglet_consult_dataset!J$6,Onglet_Consult_Database!$E:$E,\"\"))/D$2)","v":""},{"$f":"IF(E$2=0,\"\",(COUNTIFS(Onglet_Consult_Database!$B:$B,Onglet_consult_dataset!$B48,Onglet_Consult_Database!$G:$G,Onglet_consult_dataset!K$6,Onglet_Consult_Database!$E:$E,\"<>\"&\"N/A\")-COUNTIFS(Onglet_Consult_Database!$B:$B,Onglet_consult_dataset!$B48,Onglet_Consult_Database!$G:$G,Onglet_consult_dataset!K$6,Onglet_Consult_Database!$E:$E,\"\"))/E$2)","v":""},{"$f":"IF(F$2=0,\"\",(COUNTIFS(Onglet_Consult_Database!$B:$B,Onglet_consult_dataset!$B48,Onglet_Consult_Database!$G:$G,Onglet_consult_dataset!L$6,Onglet_Consult_Database!$E:$E,\"<>\"&\"N/A\")-COUNTIFS(Onglet_Consult_Database!$B:$B,Onglet_consult_dataset!$B48,Onglet_Consult_Database!$G:$G,Onglet_consult_dataset!L$6,Onglet_Consult_Database!$E:$E,\"\"))/F$2)","v":""},{"$f":"IF(G$2=0,\"\",(COUNTIFS(Onglet_Consult_Database!$B:$B,Onglet_consult_dataset!$B48,Onglet_Consult_Database!$G:$G,Onglet_consult_dataset!M$6,Onglet_Consult_Database!$E:$E,\"<>\"&\"N/A\")-COUNTIFS(Onglet_Consult_Database!$B:$B,Onglet_consult_dataset!$B48,Onglet_Consult_Database!$G:$G,Onglet_consult_dataset!M$6,Onglet_Consult_Database!$E:$E,\"\"))/G$2)","v":""},"",null,null,null,null,null,null,null,"","","",""]
[]
[null,null,null,"Somme",null,null,null,null,null,"Nombre",null,null,null,null,null,"Ranked by priority",null,null,null,null,"MAX",{"$f":"MAX(V42:V48)","v":0},{"$f":"MAX(W42:W48)","v":0},{"$f":"MAX(X42:X48)","v":0},{"$f":"MAX(Y42:Y48)","v":0},null,null,null,null,null,null,null,"TOP 4"]
[]
[]
[]
[null,null,"data for AP"]
[]
[null,{"$f":"Onglet_AP_Fiche_SPL!L8","v":"C01"},{"$f":"VLOOKUP(B56,SRR_referential,2,FALSE)","v":"Position of the media regarding TotalEnergies"}]
[]
[null,null,{"$f":"$D$6","v":"Authorities"},{"$f":"IFERROR(VLOOKUP(B56,Consult_dataset,3,FALSE),\"\")","v":""},{"$f":"IFERROR(VLOOKUP(B56,Consult_dataset,9,FALSE),\"\")","v":""}]
[null,null,{"$f":"$E$6","v":"Business"},{"$f":"IFERROR(VLOOKUP(B56,Consult_dataset,4,FALSE),\"\")","v":""},{"$f":"IFERROR(VLOOKUP(B56,Consult_dataset,10,FALSE),\"\")","v":""}]
[null,null,{"$f":"$F$6","v":"Civil society"},{"$f":"IFERROR(VLOOKUP(B56,Consult_dataset,5,FALSE),\"\")","v":""},{"$f":"IFERROR(VLOOKUP(B56,Consult_dataset,11,FALSE),\"\")","v":""}]
[null,null,{"$f":"$G$6","v":"Communities"},{"$f":"IFERROR(VLOOKUP(B56,Consult_dataset,6,FALSE),\"\")","v":""},{"$f":"IFERROR(VLOOKUP(B56,Consult_dataset,12,FALSE),\"\")","v":""}]
[null,null,{"$f":"$H$6","v":"MyGr"},{"$f":"IFERROR(VLOOKUP(B56,Consult_dataset,7,FALSE),\"\")","v":""},{"$f":"IFERROR(VLOOKUP(B56,Consult_dataset,13,FALSE),\"\")","v":""}]
[]
[]
[null,null,"Moyenne par pilier pour le rapport"]
[null,null,null,"Score"]
[null,null,"P1I",{"$f":"AVERAGE(H8:H11)","v":{"$error":"#DIV/0!"}}]
[null,null,"PIP",{"$f":"AVERAGE(H12:H15)","v":{"$error":"#DIV/0!"}}]
[null,null,"P2I",{"$f":"AVERAGE(H17:H24)","v":{"$error":"#DIV/0!"}}]
[null,null,"P2P",{"$f":"AVERAGE(H25:H28)","v":{"$error":"#DIV/0!"}}]
[null,null,"P3I",{"$f":"AVERAGE(H30:H32)","v":{"$error":"#DIV/0!"}}]
[null,null,"P3P",{"$f":"AVERAGE(H34:H39)","v":{"$error":"#DIV/0!"}}]

{"sheet":"Onglet_consult_graph","index":13,"n_rows":154,"n_cols":5,"rows_kept":154,"cut":false,"hidden":false,"merged":[]}
[]
[]
[]
[]
[]
[null,{"$f":"table!C64","v":"CONSULTATION RESULTS"}]
[]
[null,null,"INSTRUCTIONS"]
[null,null,{"$f":"Onglet_trad_menus!B160","v":"You can visualize the results of the consultation in the graphs below"}]
[null,null,{"$f":"Onglet_trad_menus!B161","v":"- The results are organized around the 3 pillars of Social Performance"}]
[null,null,{"$f":"Onglet_trad_menus!B162","v":"- The graphs on the left represent the results for the panel as a whole"}]
[null,null,{"$f":"Onglet_trad_menus!B163","v":"- The graphs on the right represent the results by stakeholder category"}]
[]
[null,null,null,null,{"$f":"Onglet_trad_menus!B165","v":"Issues of important or major concern (average score >=2.5) are circled in red."}]
[]
[null,null,null,null,{"$f":"Onglet_trad_menus!B167","v":"Issues for which less than 50% of stakeholders responded are hatched"}]
[null,null,null,null,{"$f":"Onglet_trad_menus!B168","v":"and the percentage indicates the response rate"}]
[]
[]
[]
[]
[null,null,{"$f":"table!C56","v":"Pillar 1 - RELATIONSHIPS & DIALOGUE"}]
[]
[null,null,"1.1",{"$f":"table!C57","v":"Quality of relationships"}]
[]
[]
[]
[]
[]
[]
[]
[]
[]
[]
[]
[]
[]
[]
[]
[]
[]
[]
[]
[]
[]
[]
[]
[]
[]
[null,null,"1.2",{"$f":"table!C58","v":"Possible areas for improvement"}]
[]
[]
[]
[]
[]
[]
[]
[]
[]
[]
[]
[]
[]
[]
[]
[]
[]
[]
[null,null,{"$f":"table!C59","v":"Pillar 2 - NEGATIVE IMPACTS"}]
[]
[null,null,"2.1",{"$f":"table!C60","v":"Level of concern about negative impacts"}]
[]
[]
[]
[]
[]
[]
[]
[]
[]
[]
[]
[]
[]
[]
[]
[]
[]
[]
[]
[]
[]
[null,null,"2.2",{"$f":"table!C58","v":"Possible areas for improvement"}]
[]
[]
[]
[]
[]
[]
[]
[]
[]
[]
[]
[]
[]
[]
[]
[]
[]
[]
[]
[]
[null,null,{"$f":"table!C61","v":"Pillar 3 - POSITIVE IMPACTS"}]
[]
[null,null,"3.1",{"$f":"table!C62","v":"Level of satisfaction with local contribution"}]
[]
[]
[]
[]
[]
[]
[]
[]
[]
[]
[]
[]
[]
[]
[]
[]
[null,null,"3.2",{"$f":"table!C58","v":"Possible areas for improvement"}]
[]
[]
[]
[]
[]
[]
[]
[]
[]
[]
[]
[]
[]
[]
[]
[]
[]
[]
[]
[]
[null,null,"3.3",{"$f":"table!C63","v":"Social Investment priorities"}]

{"sheet":"Onglet_consult_itw","index":14,"n_rows":82,"n_cols":20,"rows_kept":82,"cut":false,"hidden":false,"merged":[]}
[]
[]
[]
[]
[]
[]
[]
[null,null,null,{"$f":"Onglet_consult_translation!$B$18","v":"STAKEHOLDER INTERVIEW FORM"},null,null,null,null,{"$f":"Onglet_consult_translation!$B$21","v":"Name of organization interviewed"},4]
[null,null,null,null,null,null,null,null,{"$f":"Onglet_consult_translation!$B$22","v":"(Stakeholder in mapping)"}]
[]
[null,null,null,{"$f":"Onglet_consult_translation!$B$19","v":"Date of interview"},null,null,null,null,{"$f":"Onglet_consult_translation!$B$23","v":"Full name of organization (if necessary)"},4]
[]
[]
[]
[null,null,null,{"$f":"Onglet_consult_translation!$B$20","v":"Interview conducted by"}]
[null,null,null,null,null,null,null,null,{"$f":"Onglet_consult_translation!$B$24","v":"Name and function of participants interviewed"},4]
[]
[]
[]
[]
[null,null,null,null,null,null,null,null,{"$f":"Onglet_consult_translation!$B$25","v":"About the stakeholder"},4]
[null,null,null,null,null,null,null,null,{"$f":"Onglet_consult_translation!$B$26","v":"(main activities, size of organization,"}]
[null,null,null,null,null,null,null,null,{"$f":"Onglet_consult_translation!$B$27","v":"social and economic priorities...)"}]
[]
[]
[null,null,null,{"$f":"Onglet_consult_translation!$B$30","v":"PILLAR 1 - RELATIONSHIPS AND DIALOGUE"},null,null,null,null,null,null,null,null,null,null,1,2,3,4,null,"Score_f"]
[]
[null,null,null,{"$f":"Onglet_consult_translation!$B$32","v":"Rate your satisfaction regarding your relationship with our company"},null,{"$f":"Onglet_consult_translation!$B$88","v":"1 - Good"},{"$f":"Onglet_consult_translation!$B$89","v":"2 - Medium"},{"$f":"Onglet_consult_translation!$B$90","v":"3 - Bad"},{"$f":"Onglet_consult_translation!$B$91","v":"4 - Very bad"},{"$f":"Onglet_consult_translation!$B$92","v":"N/A"},null,{"$f":"Onglet_consult_translation!$B$118","v":"Your comments"}]
[null,"I01",null,{"$f":"Onglet_consult_translation!$B$33","v":"Quality of the relationship"},null,null,null,null,null,null,null,null,null,null,{"$f":"IF(F29=\"x\",O26,\"\")","v":""},{"$f":"IF(G29=\"x\",P26,\"\")","v":""},{"$f":"IF(H29=\"x\",Q26,\"\")","v":""},{"$f":"IF(I29=\"x\",R26,\"\")","v":""},null,{"$f":"IF(SUM(O29:R29)<>0,AVERAGE(O29:R29),\"N/A\")","v":"N/A"}]
[]
[null,null,null,{"$f":"Onglet_consult_translation!$B$35","v":"Do you see any priority areas for improvement?"},null,{"$f":"Onglet_consult_translation!$B$94","v":"1 - Maintain performance"},{"$f":"Onglet_consult_translation!$B$95","v":"2 - Could improve"},{"$f":"Onglet_consult_translation!$B$96","v":"3 - Should improve"},{"$f":"Onglet_consult_translation!$B$97","v":"4 - Must improve"},{"$f":"Onglet_consult_translation!$B$98","v":"N/A"},null,{"$f":"Onglet_consult_translation!$B$119","v":"Your suggestions"}]
[null,"P01",null,{"$f":"Onglet_consult_translation!$B$36","v":"Transparent and regular stakeholder engagement"},null,null,null,null,null,null,null,null,null,null,{"$f":"IF(F32=\"x\",O26,\"\")","v":""},{"$f":"IF(G32=\"x\",P26,\"\")","v":""},{"$f":"IF(H32=\"x\",Q26,\"\")","v":""},{"$f":"IF(I32=\"x\",R26,\"\")","v":""},null,{"$f":"IF(SUM(O32:R32)<>0,AVERAGE(O32:R32),\"N/A\")","v":"N/A"}]
[null,"P02",null,{"$f":"Onglet_consult_translation!$B$37","v":"Fulfilment and follow-up of commitments "},null,null,null,null,null,null,null,null,null,null,{"$f":"IF(F33=\"x\",O26,\"\")","v":""},{"$f":"IF(G33=\"x\",P26,\"\")","v":""},{"$f":"IF(H33=\"x\",Q26,\"\")","v":""},{"$f":"IF(I33=\"x\",R26,\"\")","v":""},null,{"$f":"IF(SUM(O33:R33)<>0,AVERAGE(O33:R33),\"N/A\")","v":"N/A"}]
[null,"P03",null,{"$f":"Onglet_consult_translation!$B$38","v":"Non-commercial grievance mechanism"},null,null,null,null,null,null,null,null,null,null,{"$f":"IF(F34=\"x\",O26,\"\")","v":""},{"$f":"IF(G34=\"x\",P26,\"\")","v":""},{"$f":"IF(H34=\"x\",Q26,\"\")","v":""},{"$f":"IF(I34=\"x\",R26,\"\")","v":""},null,{"$f":"IF(SUM(O34:R34)<>0,AVERAGE(O34:R34),\"N/A\")","v":"N/A"}]
[null,"P04",null,{"$f":"Onglet_consult_translation!$B$39","v":"Communication (activities, strategic outlook, ESG/sustainability…)"},null,null,null,null,null,null,null,null,null,null,{"$f":"IF(F35=\"x\",O26,\"\")","v":""},{"$f":"IF(G35=\"x\",P26,\"\")","v":""},{"$f":"IF(H35=\"x\",Q26,\"\")","v":""},{"$f":"IF(I35=\"x\",R26,\"\")","v":""},null,{"$f":"IF(SUM(O35:R35)<>0,AVERAGE(O35:R35),\"N/A\")","v":"N/A"}]
[]
[null,null,null,{"$f":"Onglet_consult_translation!$B$41","v":"PILLAR 2 - MANAGEMENT OF NEGATIVE IMPACTS"}]
[]
[null,null,null,{"$f":"Onglet_consult_translation!$B$43","v":"Rate your level of concern regarding the negative impact of our activities:"},null,{"$f":"Onglet_consult_translation!$B$100","v":"1 - Low concern"},{"$f":"Onglet_consult_translation!$B$101","v":"2 - Medium concern"},{"$f":"Onglet_consult_translation!$B$102","v":"3 - Important concern"},{"$f":"Onglet_consult_translation!$B$103","v":"4 - Critical concern"},{"$f":"Onglet_consult_translation!$B$104","v":"N/A"},null,{"$f":"Onglet_consult_translation!$B$118","v":"Your comments"}]
[null,"I05.1",null,{"$f":"Onglet_consult_translation!$B$44","v":"Negative impacts on the environment (air, soil, water, biodiversity, etc.) and health of populations"},null,null,null,null,null,null,null,null,null,null,{"$f":"IF(F40=\"x\",O26,\"\")","v":""},{"$f":"IF(G40=\"x\",P26,\"\")","v":""},{"$f":"IF(H40=\"x\",Q26,\"\")","v":""},{"$f":"IF(I40=\"x\",R26,\"\")","v":""},null,{"$f":"IF(SUM(O40:R40)<>0,AVERAGE(O40:R40),\"N/A\")","v":"N/A"}]
[null,"I05.1.3",null,{"$f":"Onglet_consult_translation!$B$45","v":"Negative impacts on climate change"},null,null,null,null,null,null,null,null,null,null,{"$f":"IF(F41=\"x\",O26,\"\")","v":""},{"$f":"IF(G41=\"x\",P26,\"\")","v":""},{"$f":"IF(H41=\"x\",Q26,\"\")","v":""},{"$f":"IF(I41=\"x\",R26,\"\")","v":""},null,"N/A"]
[null,"I05.2",null,{"$f":"Onglet_consult_translation!$B$46","v":"Industrial risks"},null,null,null,null,null,null,null,null,null,null,{"$f":"IF(F42=\"x\",O26,\"\")","v":""},{"$f":"IF(G42=\"x\",P26,\"\")","v":""},{"$f":"IF(H42=\"x\",Q26,\"\")","v":""},{"$f":"IF(I42=\"x\",R26,\"\")","v":""},null,"N/A"]
[null,"I05.3",null,{"$f":"Onglet_consult_translation!$B$47","v":"Nuisances"},null,null,null,null,null,null,null,null,null,null,{"$f":"IF(F43=\"x\",O26,\"\")","v":""},{"$f":"IF(G43=\"x\",P26,\"\")","v":""},{"$f":"IF(H43=\"x\",Q26,\"\")","v":""},{"$f":"IF(I43=\"x\",R26,\"\")","v":""},null,"N/A"]
[null,"I06.1",null,{"$f":"Onglet_consult_translation!$B$48","v":"Negative impacts on marine and/or land use"},null,null,null,null,null,null,null,null,null,null,{"$f":"IF(F44=\"x\",O26,\"\")","v":""},{"$f":"IF(G44=\"x\",P26,\"\")","v":""},{"$f":"IF(H44=\"x\",Q26,\"\")","v":""},{"$f":"IF(I44=\"x\",R26,\"\")","v":""},null,"N/A"]
[null,"I06.2",null,{"$f":"Onglet_consult_translation!$B$49","v":"Negative impacts on local economy and livelihoods"},null,null,null,null,null,null,null,null,null,null,{"$f":"IF(F45=\"x\",O26,\"\")","v":""},{"$f":"IF(G45=\"x\",P26,\"\")","v":""},{"$f":"IF(H45=\"x\",Q26,\"\")","v":""},{"$f":"IF(I45=\"x\",R26,\"\")","v":""},null,"N/A"]
[null,"I06.3",null,{"$f":"Onglet_consult_translation!$B$50","v":"Negative impacts on religious and cultural heritage"},null,null,null,null,null,null,null,null,null,null,{"$f":"IF(F46=\"x\",O26,\"\")","v":""},{"$f":"IF(G46=\"x\",P26,\"\")","v":""},{"$f":"IF(H46=\"x\",Q26,\"\")","v":""},{"$f":"IF(I46=\"x\",R26,\"\")","v":""},null,"N/A"]
[null,"I06.4",null,{"$f":"Onglet_consult_translation!$B$51","v":"Negative impacts on human rights"},null,null,null,null,null,null,null,null,null,null,{"$f":"IF(F47=\"x\",O26,\"\")","v":""},{"$f":"IF(G47=\"x\",P26,\"\")","v":""},{"$f":"IF(H47=\"x\",Q26,\"\")","v":""},{"$f":"IF(I47=\"x\",R26,\"\")","v":""},null,"N/A"]
[]
[null,null,null,{"$f":"Onglet_consult_translation!$B$53","v":"Do you see any priority areas for improvement?"},null,{"$f":"Onglet_consult_translation!$B$94","v":"1 - Maintain performance"},{"$f":"Onglet_consult_translation!$B$95","v":"2 - Could improve"},{"$f":"Onglet_consult_translation!$B$96","v":"3 - Should improve"},{"$f":"Onglet_consult_translation!$B$97","v":"4 - Must improve"},{"$f":"Onglet_consult_translation!$B$98","v":"N/A"},null,{"$f":"Onglet_consult_translation!$B$119","v":"Your suggestions"}]
[null,"P05",null,{"$f":"Onglet_consult_translation!$B$54","v":"Information on HSE impacts and mitigation measures"},null,null,null,null,null,null,null,null,null,null,{"$f":"IF(F50=\"x\",O26,\"\")","v":""},{"$f":"IF(G50=\"x\",P26,\"\")","v":""},{"$f":"IF(H50=\"x\",Q26,\"\")","v":""},{"$f":"IF(I50=\"x\",R26,\"\")","v":""},null,{"$f":"IF(SUM(O50:R50)<>0,AVERAGE(O50:R50),\"N/A\")","v":"N/A"}]
[null,"P06",null,{"$f":"Onglet_consult_translation!$B$55","v":"Managing negative impacts on people and the environment (prevention,\nreduction, compensation)."},null,null,null,null,null,null,null,null,null,null,{"$f":"IF(F51=\"x\",O26,\"\")","v":""},{"$f":"IF(G51=\"x\",P26,\"\")","v":""},{"$f":"IF(H51=\"x\",Q26,\"\")","v":""},{"$f":"IF(I51=\"x\",R26,\"\")","v":""},null,{"$f":"IF(SUM(O51:R51)<>0,AVERAGE(O51:R51),\"N/A\")","v":"N/A"}]
[null,"P07",null,{"$f":"Onglet_consult_translation!B$56","v":"Cooperation with industrial neighbors and authorities (emergency plans, circular economy, traffic optimization, etc.)"},null,null,null,null,null,null,null,null,null,null,{"$f":"IF(F52=\"x\",O26,\"\")","v":""},{"$f":"IF(G52=\"x\",P26,\"\")","v":""},{"$f":"IF(H52=\"x\",Q26,\"\")","v":""},{"$f":"IF(I52=\"x\",R26,\"\")","v":""},null,{"$f":"IF(SUM(O52:R52)<>0,AVERAGE(O52:R52),\"N/A\")","v":"N/A"}]
[null,"P08",null,{"$f":"Onglet_consult_translation!$B$57","v":"Control of contractors on HSE and human rights"},null,null,null,null,null,null,null,null,null,null,{"$f":"IF(F53=\"x\",O26,\"\")","v":""},{"$f":"IF(G53=\"x\",P26,\"\")","v":""},{"$f":"IF(H53=\"x\",Q26,\"\")","v":""},{"$f":"IF(I53=\"x\",R26,\"\")","v":""},null,{"$f":"IF(SUM(O53:R53)<>0,AVERAGE(O53:R53),\"N/A\")","v":"N/A"}]
[]
[null,null,null,{"$f":"Onglet_consult_translation!$B$59","v":"PILLAR 3 - MANAGING POSITIVE IMPACTS"}]
[]
[null,null,null,{"$f":"Onglet_consult_translation!$B$61","v":"Rate your level of satisfaction regarding our contribution to:"},null,{"$f":"Onglet_consult_translation!$B$106","v":"1 - Good"},{"$f":"Onglet_consult_translation!$B$107","v":"2 - Medium"},{"$f":"Onglet_consult_translation!$B$108","v":"3 - Bad"},{"$f":"Onglet_consult_translation!$B$109","v":"4 -Very bad"},{"$f":"Onglet_consult_translation!$B$110","v":"N/A"},null,{"$f":"Onglet_consult_translation!$B$118","v":"Your comments"}]
[null,"I07",null,{"$f":"Onglet_consult_translation!$B$62","v":"Local employment"},null,null,null,null,null,null,null,null,null,null,{"$f":"IF(F58=\"x\",O26,\"\")","v":""},{"$f":"IF(G58=\"x\",P26,\"\")","v":""},{"$f":"IF(H58=\"x\",Q26,\"\")","v":""},{"$f":"IF(I58=\"x\",R26,\"\")","v":""},null,{"$f":"IF(SUM(O58:R58)<>0,AVERAGE(O58:R58),\"N/A\")","v":"N/A"}]
[null,"I08",null,{"$f":"Onglet_consult_translation!$B$63","v":"Local procurement"},null,null,null,null,null,null,null,null,null,null,{"$f":"IF(F59=\"x\",O26,\"\")","v":""},{"$f":"IF(G59=\"x\",P26,\"\")","v":""},{"$f":"IF(H59=\"x\",Q26,\"\")","v":""},{"$f":"IF(I59=\"x\",R26,\"\")","v":""},null,{"$f":"IF(SUM(O59:R59)<>0,AVERAGE(O59:R59),\"N/A\")","v":"N/A"}]
[null,"I09",null,{"$f":"Onglet_consult_translation!$B$64","v":"Social/community investments"},null,null,null,null,null,null,null,null,null,null,{"$f":"IF(F60=\"x\",O26,\"\")","v":""},{"$f":"IF(G60=\"x\",P26,\"\")","v":""},{"$f":"IF(H60=\"x\",Q26,\"\")","v":""},{"$f":"IF(I60=\"x\",R26,\"\")","v":""},null,{"$f":"IF(SUM(O60:R60)<>0,AVERAGE(O60:R60),\"N/A\")","v":"N/A"}]
[]
[null,null,null,{"$f":"Onglet_consult_translation!$B$66","v":"Do you see any priority areas for improvement?"},null,{"$f":"Onglet_consult_translation!$B$94","v":"1 - Maintain performance"},{"$f":"Onglet_consult_translation!$B$95","v":"2 - Could improve"},{"$f":"Onglet_consult_translation!$B$96","v":"3 - Should improve"},{"$f":"Onglet_consult_translation!$B$97","v":"4 - Must improve"},{"$f":"Onglet_consult_translation!$B$98","v":"N/A"},null,{"$f":"Onglet_consult_translation!$B$119","v":"Your suggestions"}]
[null,"P09",null,{"$f":"Onglet_consult_translation!$B$67","v":"Access to jobs opportunities for locals"},null,null,null,null,null,null,null,null,null,null,{"$f":"IF(F63=\"x\",O26,\"\")","v":""},{"$f":"IF(G63=\"x\",P26,\"\")","v":""},{"$f":"IF(H63=\"x\",Q26,\"\")","v":""},{"$f":"IF(I63=\"x\",R26,\"\")","v":""},null,{"$f":"IF(SUM(O63:R63)<>0,AVERAGE(O63:R63),\"N/A\")","v":"N/A"}]
[null,"P10",null,{"$f":"Onglet_consult_translation!$B$68","v":"Access to tenders for local contractors"},null,null,null,null,null,null,null,null,null,null,{"$f":"IF(F64=\"x\",O26,\"\")","v":""},{"$f":"IF(G64=\"x\",P26,\"\")","v":""},{"$f":"IF(H64=\"x\",Q26,\"\")","v":""},{"$f":"IF(I64=\"x\",R26,\"\")","v":""},null,"N/A"]
[null,"P11",null,{"$f":"Onglet_consult_translation!$B$69","v":"Capacity building of locals"},null,null,null,null,null,null,null,null,null,null,{"$f":"IF(F65=\"x\",O26,\"\")","v":""},{"$f":"IF(G65=\"x\",P26,\"\")","v":""},{"$f":"IF(H65=\"x\",Q26,\"\")","v":""},{"$f":"IF(I65=\"x\",R26,\"\")","v":""},null,"N/A"]
[null,"P12",null,{"$f":"Onglet_consult_translation!$B$70","v":"Participation in local economic institutions"},null,null,null,null,null,null,null,null,null,null,{"$f":"IF(F66=\"x\",O26,\"\")","v":""},{"$f":"IF(G66=\"x\",P26,\"\")","v":""},{"$f":"IF(H66=\"x\",Q26,\"\")","v":""},{"$f":"IF(I66=\"x\",R26,\"\")","v":""},null,"N/A"]
[null,"P13",null,{"$f":"Onglet_consult_translation!$B$71","v":"Control of contractors on local content"},null,null,null,null,null,null,null,null,null,null,{"$f":"IF(F67=\"x\",O26,\"\")","v":""},{"$f":"IF(G67=\"x\",P26,\"\")","v":""},{"$f":"IF(H67=\"x\",Q26,\"\")","v":""},{"$f":"IF(I67=\"x\",R26,\"\")","v":""},null,"N/A"]
[null,"P14",null,{"$f":"Onglet_consult_translation!$B$72","v":"Management of social / community investments"},null,null,null,null,null,null,null,null,null,null,{"$f":"IF(F68=\"x\",O26,\"\")","v":""},{"$f":"IF(G68=\"x\",P26,\"\")","v":""},{"$f":"IF(H68=\"x\",Q26,\"\")","v":""},{"$f":"IF(I68=\"x\",R26,\"\")","v":""},null,"N/A"]
[null,"P15",null,{"$f":"Onglet_consult_translation!$B$73","v":"Partnerships"},null,null,null,null,null,null,null,null,null,null,{"$f":"IF(F69=\"x\",O26,\"\")","v":""},{"$f":"IF(G69=\"x\",P26,\"\")","v":""},{"$f":"IF(H69=\"x\",Q26,\"\")","v":""},{"$f":"IF(I69=\"x\",R26,\"\")","v":""},null,"N/A"]
[]
[null,null,null,{"$f":"Onglet_consult_translation!$B$75","v":"What are the main socio-economic challenges locally where TotalEnergies could get involved?"},null,{"$f":"Onglet_consult_translation!$B$112","v":"Challenge n°4"},{"$f":"Onglet_consult_translation!$B$113","v":"Challenge n°3"},{"$f":"Onglet_consult_translation!$B$114","v":"Challenge n°2"},{"$f":"Onglet_consult_translation!$B$115","v":"Challenge n°1"},{"$f":"Onglet_consult_translation!$B$116","v":"N/A"},null,{"$f":"Onglet_consult_translation!$B$118","v":"Your comments"}]
[null,"S01",null,{"$f":"Onglet_consult_translation!$B$76","v":"Road safety"},null,null,null,null,null,null,null,null,null,null,{"$f":"IF(F72=\"x\",O26,\"\")","v":""},{"$f":"IF(G72=\"x\",P26,\"\")","v":""},{"$f":"IF(H72=\"x\",Q26,\"\")","v":""},{"$f":"IF(I72=\"x\",R26,\"\")","v":""},null,{"$f":"IF(SUM(O72:R72)<>0,\"Priority n°\"&5-MAX(O72:R72),\"\")","v":""}]
[null,"S02",null,{"$f":"Onglet_consult_translation!$B$77","v":"Environment & climate"},null,null,null,null,null,null,null,null,null,null,{"$f":"IF(F73=\"x\",O26,\"\")","v":""},{"$f":"IF(G73=\"x\",P26,\"\")","v":""},{"$f":"IF(H73=\"x\",Q26,\"\")","v":""},{"$f":"IF(I73=\"x\",R26,\"\")","v":""},null,{"$f":"IF(SUM(O73:R73)<>0,\"Priority n°\"&5-MAX(O73:R73),\"\")","v":""}]
[null,"S03",null,{"$f":"Onglet_consult_translation!$B$78","v":"Culture and heritage"},null,null,null,null,null,null,null,null,null,null,{"$f":"IF(F74=\"x\",O26,\"\")","v":""},{"$f":"IF(G74=\"x\",P26,\"\")","v":""},{"$f":"IF(H74=\"x\",Q26,\"\")","v":""},{"$f":"IF(I74=\"x\",R26,\"\")","v":""},null,""]
[null,"S04",null,{"$f":"Onglet_consult_translation!$B$79","v":"Education / training / professional integration"},null,null,null,null,null,null,null,null,null,null,{"$f":"IF(F75=\"x\",O26,\"\")","v":""},{"$f":"IF(G75=\"x\",P26,\"\")","v":""},{"$f":"IF(H75=\"x\",Q26,\"\")","v":""},{"$f":"IF(I75=\"x\",R26,\"\")","v":""},null,""]
[null,"S05",null,{"$f":"Onglet_consult_translation!$B$80","v":"Economic empowerment/support to business development"},null,null,null,null,null,null,null,null,null,null,{"$f":"IF(F76=\"x\",O26,\"\")","v":""},{"$f":"IF(G76=\"x\",P26,\"\")","v":""},{"$f":"IF(H76=\"x\",Q26,\"\")","v":""},{"$f":"IF(I76=\"x\",R26,\"\")","v":""},null,""]
[null,"S06",null,{"$f":"Onglet_consult_translation!$B$81","v":"Improved access to essential services (health, water, energy)"},null,null,null,null,null,null,null,null,null,null,{"$f":"IF(F77=\"x\",O26,\"\")","v":""},{"$f":"IF(G77=\"x\",P26,\"\")","v":""},{"$f":"IF(H77=\"x\",Q26,\"\")","v":""},{"$f":"IF(I77=\"x\",R26,\"\")","v":""},null,""]
[null,"S07",null,{"$f":"Onglet_consult_translation!$B$82","v":"Other"},null,null,null,null,null,null,null,null,null,null,{"$f":"IF(F78=\"x\",O26,\"\")","v":""},{"$f":"IF(G78=\"x\",P26,\"\")","v":""},{"$f":"IF(H78=\"x\",Q26,\"\")","v":""},{"$f":"IF(I78=\"x\",R26,\"\")","v":""},null,""]
[]
[null,null,null,{"$f":"Onglet_consult_translation!$B$84","v":"CONCLUSION"}]
[]
[null,"CCL",null,{"$f":"Onglet_consult_translation!$B$86","v":"Is there anything else you would like to raise?"}]

{"sheet":"Onglet_consult_Panel","index":15,"n_rows":1003,"n_cols":26,"rows_kept":1003,"cut":false,"hidden":false,"merged":[[10,22,11,22]]}
[]
[null,null,null,null,null,null,null,null,null,null,null,null,null,null,null,null,null,null,null,"Current","Threshold","Control 1","Control 2"]
[null,null,null,null,null,null,null,null,null,null,{"$f":"Onglet_SRR_Table!B78","v":"Authorities"},{"$f":"COUNTIF($F:$F,$K3)","v":0},{"$f":"IFERROR(L3/$L$8,\"\")","v":""},null,"Zone 1",{"$f":"COUNTIF($M:$M,$O3)","v":0},{"$f":"P3/SUM($P$3:$P$6)","v":{"$error":"#DIV/0!"}},null,"Criteria 1",null,null,null,null,null,null,"Rate"]
[null,null,null,null,null,null,null,null,null,null,{"$f":"Onglet_SRR_Table!B79","v":"Business"},{"$f":"COUNTIF($F:$F,$K4)","v":0},{"$f":"IFERROR(L4/$L$8,\"\")","v":""},null,"Zone 2",{"$f":"COUNTIF($M:$M,$O4)","v":0},{"$f":"P4/SUM($P$3:$P$6)","v":{"$error":"#DIV/0!"}},null,{"$f":"Onglet_trad_menus!B231","v":"at least 30% in tier 1 of the matrix"},{"$f":"IFERROR(SUM(Q3),0)","v":0},0.3,null,{"$f":"IF(L8=0,\"\",_xlfn.IFS(AND(T4>=0,T4<U4),\"L\",AND(T4>=0,T4>=U4),\"J\"))","v":""},null,null,"X"]
[null,null,null,null,null,null,null,null,null,null,{"$f":"Onglet_SRR_Table!B80","v":"Civil society"},{"$f":"COUNTIF($F:$F,$K5)","v":0},{"$f":"IFERROR(L5/$L$8,\"\")","v":""},null,"Zone 3",{"$f":"COUNTIF($M:$M,$O5)","v":0},{"$f":"P5/SUM($P$3:$P$6)","v":{"$error":"#DIV/0!"}}]
[null,null,null,null,null,null,null,null,null,null,{"$f":"Onglet_SRR_Table!B81","v":"Communities"},{"$f":"COUNTIF($F:$F,$K6)","v":0},{"$f":"IFERROR(L6/$L$8,\"\")","v":""},null,"Zone 4",{"$f":"COUNTIF($M:$M,$O6)","v":0},{"$f":"P6/SUM($P$3:$P$6)","v":{"$error":"#DIV/0!"}}]
[null,null,null,null,null,null,null,null,null,null,null,null,null,null,null,null,null,null,"Criteria 2"]
[null,null,null,null,null,null,null,null,null,null,"Total",{"$f":"SUM(L3:L6)","v":0},null,null,null,null,null,null,{"$f":"Onglet_trad_menus!B232","v":"no category exceeding 35%"},{"$f":"MAX(M3:M6)","v":0},0.35,null,{"$f":"IF(L8=0,\"\",_xlfn.IFS(AND(T8>=0,T8>U8),\"L\",AND(T8>=0,T8<=U8),\"J\"))","v":""}]
[]
[null,null,null,null,null,null,null,null,null,null,null,null,null,null,null,null,null,null,"Criteria 3"]
[null,null,null,null,null,null,null,null,null,null,null,null,null,null,null,null,null,null,{"$f":"Onglet_trad_menus!B233","v":"at least 25% from panel"},{"$f":"Onglet_consult_Panel_graph!E17","v":""},0.25,{"$f":"IF(L8=0,\"\",_xlfn.IFS(AND(T11>=0,T11<U11),\"L\",AND(T11>=0,T11>=U11),\"J\"))","v":""},{"$f":"IFERROR(_xlfn.IFS(OR(V11=\"J\",V12=\"J\"),\"J\",AND(V11=\"L\",V12=\"L\"),\"L\"),\"\")","v":""}]
[null,null,"nb","SHID","Stakeholder","Category","Weight","Statut_import","Nom interview","Quality of relationship","Code","Colonne1","Tear","geography",null,null,null,null,{"$f":"Onglet_trad_menus!B234","v":"or number of individuals >= 10"},{"$f":"Onglet_consult_Panel_graph!P36","v":0},10,{"$f":"IF(L8=0,\"\",_xlfn.IFS(AND(T12>=0,T12<U12),\"L\",AND(T12>=0,T12>=U12),\"J\"))","v":""}]
[null,null,null,null,null,null,null,null,null,{"$f":"SUMIFS(Onglet_Consult_Database!$E:$E,Onglet_Consult_Database!$F:$F,Onglet_consult_Panel!$E13,Onglet_Consult_Database!$B:$B,K13)","v":0},{"$f":"_xlfn.IFS(F13=$K$3,\"I01\",F13=$K$4,\"I02\",F13=$K$5,\"I03\",F13=$K$6,\"I04\")","v":{"$error":"#N/A"}},null,{"$f":"IFERROR(VLOOKUP(E13,SH_list,8,FALSE),\"\")","v":""},{"$f":"IFERROR(VLOOKUP(E13,SH_list,6,FALSE),\"\")","v":""}]
[null,null,null,null,null,null,null,null,null,{"$f":"SUMIFS(Onglet_Consult_Database!$E:$E,Onglet_Consult_Database!$F:$F,Onglet_consult_Panel!$E14,Onglet_Consult_Database!$B:$B,K14)","v":0},{"$error":"#N/A"},null,"","",null,null,null,null,"Criteria 4"]
[null,null,null,null,null,null,null,null,null,{"$f":"SUMIFS(Onglet_Consult_Database!$E:$E,Onglet_Consult_Database!$F:$F,Onglet_consult_Panel!$E15,Onglet_Consult_Database!$B:$B,K15)","v":0},{"$error":"#N/A"},null,"","",null,null,null,null,{"$f":"Onglet_trad_menus!B235","v":"at least 50% of local and regional"},{"$f":"IFERROR((COUNTIF($N:$N,Onglet_SRR_Table!B89)+COUNTIF($N:$N,Onglet_SRR_Table!B90))/Onglet_consult_Panel!L8,\"\")","v":""},0.5,null,{"$f":"IF(L8=0,\"\",_xlfn.IFS(AND(T15>=0,T15<U15),\"L\",AND(T15>=0,T15>=U15),\"J\"))","v":""}]
[null,null,null,null,null,null,null,null,null,{"$f":"SUMIFS(Onglet_Consult_Database!$E:$E,Onglet_Consult_Database!$F:$F,Onglet_consult_Panel!$E16,Onglet_Consult_Database!$B:$B,K16)","v":0},{"$error":"#N/A"},null,"","",null,null,null,null,{"$f":"Onglet_trad_menus!B236","v":"stakeholders in panel"}]
[null,null,null,null,null,null,null,null,null,{"$f":"SUMIFS(Onglet_Consult_Database!$E:$E,Onglet_Consult_Database!$F:$F,Onglet_consult_Panel!$E17,Onglet_Consult_Database!$B:$B,K17)","v":0},{"$error":"#N/A"},null,"",""]
[null,null,null,null,null,null,null,null,null,{"$f":"SUMIFS(Onglet_Consult_Database!$E:$E,Onglet_Consult_Database!$F:$F,Onglet_consult_Panel!$E18,Onglet_Consult_Database!$B:$B,K18)","v":0},{"$error":"#N/A"},null,"",""]
[null,null,null,null,null,null,null,null,null,{"$f":"SUMIFS(Onglet_Consult_Database!$E:$E,Onglet_Consult_Database!$F:$F,Onglet_consult_Panel!$E19,Onglet_Consult_Database!$B:$B,K19)","v":0},{"$error":"#N/A"},null,"",""]
[null,null,null,null,null,null,null,null,null,{"$f":"SUMIFS(Onglet_Consult_Database!$E:$E,Onglet_Consult_Database!$F:$F,Onglet_consult_Panel!$E20,Onglet_Consult_Database!$B:$B,K20)","v":0},{"$error":"#N/A"},null,"",""]
[null,null,null,null,null,null,null,null,null,{"$f":"SUMIFS(Onglet_Consult_Database!$E:$E,Onglet_Consult_Database!$F:$F,Onglet_consult_Panel!$E21,Onglet_Consult_Database!$B:$B,K21)","v":0},{"$error":"#N/A"},null,"",""]
[null,null,null,null,null,null,null,null,null,{"$f":"SUMIFS(Onglet_Consult_Database!$E:$E,Onglet_Consult_Database!$F:$F,Onglet_consult_Panel!$E22,Onglet_Consult_Database!$B:$B,K22)","v":0},{"$error":"#N/A"},null,"",""]
[null,null,null,null,null,null,null,null,null,{"$f":"SUMIFS(Onglet_Consult_Database!$E:$E,Onglet_Consult_Database!$F:$F,Onglet_consult_Panel!$E23,Onglet_Consult_Database!$B:$B,K23)","v":0},{"$error":"#N/A"},null,"",""]
[null,null,null,null,null,null,null,null,null,{"$f":"SUMIFS(Onglet_Consult_Database!$E:$E,Onglet_Consult_Database!$F:$F,Onglet_consult_Panel!$E24,Onglet_Consult_Database!$B:$B,K24)","v":0},{"$error":"#N/A"},null,"",""]
[null,null,null,null,null,null,null,null,null,{"$f":"SUMIFS(Onglet_Consult_Database!$E:$E,Onglet_Consult_Database!$F:$F,Onglet_consult_Panel!$E25,Onglet_Consult_Database!$B:$B,K25)","v":0},{"$error":"#N/A"},null,"",""]
[null,null,null,null,null,null,null,null,null,{"$f":"SUMIFS(Onglet_Consult_Database!$E:$E,Onglet_Consult_Database!$F:$F,Onglet_consult_Panel!$E26,Onglet_Consult_Database!$B:$B,K26)","v":0},{"$error":"#N/A"},null,"",""]
[null,null,null,null,null,null,null,null,null,{"$f":"SUMIFS(Onglet_Consult_Database!$E:$E,Onglet_Consult_Database!$F:$F,Onglet_consult_Panel!$E27,Onglet_Consult_Database!$B:$B,K27)","v":0},{"$error":"#N/A"},null,"",""]
[null,null,null,null,null,null,null,null,null,{"$f":"SUMIFS(Onglet_Consult_Database!$E:$E,Onglet_Consult_Database!$F:$F,Onglet_consult_Panel!$E28,Onglet_Consult_Database!$B:$B,K28)","v":0},{"$error":"#N/A"},null,"",""]
[null,null,null,null,null,null,null,null,null,{"$f":"SUMIFS(Onglet_Consult_Database!$E:$E,Onglet_Consult_Database!$F:$F,Onglet_consult_Panel!$E29,Onglet_Consult_Database!$B:$B,K29)","v":0},{"$error":"#N/A"},null,"",""]
[null,null,null,null,null,null,null,null,null,{"$f":"SUMIFS(Onglet_Consult_Database!$E:$E,Onglet_Consult_Database!$F:$F,Onglet_consult_Panel!$E30,Onglet_Consult_Database!$B:$B,K30)","v":0},{"$error":"#N/A"},null,"",""]
[null,null,null,null,null,null,null,null,null,{"$f":"SUMIFS(Onglet_Consult_Database!$E:$E,Onglet_Consult_Database!$F:$F,Onglet_consult_Panel!$E31,Onglet_Consult_Database!$B:$B,K31)","v":0},{"$error":"#N/A"},null,"",""]
[null,null,null,null,null,null,null,null,null,{"$f":"SUMIFS(Onglet_Consult_Database!$E:$E,Onglet_Consult_Database!$F:$F,Onglet_consult_Panel!$E32,Onglet_Consult_Database!$B:$B,K32)","v":0},{"$error":"#N/A"},null,"",""]
[null,null,null,null,null,null,null,null,null,{"$f":"SUMIFS(Onglet_Consult_Database!$E:$E,Onglet_Consult_Database!$F:$F,Onglet_consult_Panel!$E33,Onglet_Consult_Database!$B:$B,K33)","v":0},{"$error":"#N/A"},null,"",""]
[null,null,null,null,null,null,null,null,null,{"$f":"SUMIFS(Onglet_Consult_Database!$E:$E,Onglet_Consult_Database!$F:$F,Onglet_consult_Panel!$E34,Onglet_Consult_Database!$B:$B,K34)","v":0},{"$error":"#N/A"},null,"",""]
[null,null,null,null,null,null,null,null,null,{"$f":"SUMIFS(Onglet_Consult_Database!$E:$E,Onglet_Consult_Database!$F:$F,Onglet_consult_Panel!$E35,Onglet_Consult_Database!$B:$B,K35)","v":0},{"$error":"#N/A"},null,"",""]
[null,null,null,null,null,null,null,null,null,{"$f":"SUMIFS(Onglet_Consult_Database!$E:$E,Onglet_Consult_Database!$F:$F,Onglet_consult_Panel!$E36,Onglet_Consult_Database!$B:$B,K36)","v":0},{"$error":"#N/A"},null,"",""]
[null,null,null,null,null,null,null,null,null,{"$f":"SUMIFS(Onglet_Consult_Database!$E:$E,Onglet_Consult_Database!$F:$F,Onglet_consult_Panel!$E37,Onglet_Consult_Database!$B:$B,K37)","v":0},{"$error":"#N/A"},null,"",""]
[null,null,null,null,null,null,null,null,null,{"$f":"SUMIFS(Onglet_Consult_Database!$E:$E,Onglet_Consult_Database!$F:$F,Onglet_consult_Panel!$E38,Onglet_Consult_Database!$B:$B,K38)","v":0},{"$error":"#N/A"},null,"",""]
[null,null,null,null,null,null,null,null,null,{"$f":"SUMIFS(Onglet_Consult_Database!$E:$E,Onglet_Consult_Database!$F:$F,Onglet_consult_Panel!$E18,Onglet_Consult_Database!$B:$B,K39)","v":0},{"$error":"#N/A"},null,"",""]
[null,null,null,null,null,null,null,null,null,{"$f":"SUMIFS(Onglet_Consult_Database!$E:$E,Onglet_Consult_Database!$F:$F,Onglet_consult_Panel!$E19,Onglet_Consult_Database!$B:$B,K40)","v":0},{"$error":"#N/A"},null,"",""]
[null,null,null,null,null,null,null,null,null,{"$f":"SUMIFS(Onglet_Consult_Database!$E:$E,Onglet_Consult_Database!$F:$F,Onglet_consult_Panel!$E20,Onglet_Consult_Database!$B:$B,K41)","v":0},{"$error":"#N/A"},null,"",""]
[null,null,null,null,null,null,null,null,null,{"$f":"SUMIFS(Onglet_Consult_Database!$E:$E,Onglet_Consult_Database!$F:$F,Onglet_consult_Panel!$E21,Onglet_Consult_Database!$B:$B,K42)","v":0},{"$error":"#N/A"},null,"",""]
[null,null,null,null,null,null,null,null,null,{"$f":"SUMIFS(Onglet_Consult_Database!$E:$E,Onglet_Consult_Database!$F:$F,Onglet_consult_Panel!$E22,Onglet_Consult_Database!$B:$B,K43)","v":0},{"$error":"#N/A"},null,"",""]
[null,null,null,null,null,null,null,null,null,{"$f":"SUMIFS(Onglet_Consult_Database!$E:$E,Onglet_Consult_Database!$F:$F,Onglet_consult_Panel!$E23,Onglet_Consult_Database!$B:$B,K44)","v":0},{"$error":"#N/A"},null,"",""]
[null,null,null,null,null,null,null,null,null,{"$f":"SUMIFS(Onglet_Consult_Database!$E:$E,Onglet_Consult_Database!$F:$F,Onglet_consult_Panel!$E24,Onglet_Consult_Database!$B:$B,K45)","v":0},{"$error":"#N/A"},null,"",""]
[null,null,null,null,null,null,null,null,null,{"$f":"SUMIFS(Onglet_Consult_Database!$E:$E,Onglet_Consult_Database!$F:$F,Onglet_consult_Panel!$E25,Onglet_Consult_Database!$B:$B,K46)","v":0},{"$error":"#N/A"},null,"",""]
[null,null,null,null,null,null,null,null,null,{"$f":"SUMIFS(Onglet_Consult_Database!$E:$E,Onglet_Consult_Database!$F:$F,Onglet_consult_Panel!$E26,Onglet_Consult_Database!$B:$B,K47)","v":0},{"$error":"#N/A"},null,"",""]
[null,null,null,null,null,null,null,null,null,{"$f":"SUMIFS(Onglet_Consult_Database!$E:$E,Onglet_Consult_Database!$F:$F,Onglet_consult_Panel!$E27,Onglet_Consult_Database!$B:$B,K48)","v":0},{"$error":"#N/A"},null,"",""]
[null,null,null,null,null,null,null,null,null,{"$f":"SUMIFS(Onglet_Consult_Database!$E:$E,Onglet_Consult_Database!$F:$F,Onglet_consult_Panel!$E28,Onglet_Consult_Database!$B:$B,K49)","v":0},{"$error":"#N/A"},null,"",""]
[null,null,null,null,null,null,null,null,null,{"$f":"SUMIFS(Onglet_Consult_Database!$E:$E,Onglet_Consult_Database!$F:$F,Onglet_consult_Panel!$E29,Onglet_Consult_Database!$B:$B,K50)","v":0},{"$error":"#N/A"},null,"",""]
[null,null,null,null,null,null,null,null,null,{"$f":"SUMIFS(Onglet_Consult_Database!$E:$E,Onglet_Consult_Database!$F:$F,Onglet_consult_Panel!$E30,Onglet_Consult_Database!$B:$B,K51)","v":0},{"$error":"#N/A"},null,"",""]
[null,null,null,null,null,null,null,null,null,{"$f":"SUMIFS(Onglet_Consult_Database!$E:$E,Onglet_Consult_Database!$F:$F,Onglet_consult_Panel!$E31,Onglet_Consult_Database!$B:$B,K52)","v":0},{"$error":"#N/A"},null,"",""]
[null,null,null,null,null,null,null,null,null,{"$f":"SUMIFS(Onglet_Consult_Database!$E:$E,Onglet_Consult_Database!$F:$F,Onglet_consult_Panel!$E25,Onglet_Consult_Database!$B:$B,K53)","v":0},{"$error":"#N/A"},null,"",""]
[null,null,null,null,null,null,null,null,null,{"$f":"SUMIFS(Onglet_Consult_Database!$E:$E,Onglet_Consult_Database!$F:$F,Onglet_consult_Panel!$E26,Onglet_Consult_Database!$B:$B,K54)","v":0},{"$error":"#N/A"},null,"",""]
[null,null,null,null,null,null,null,null,null,{"$f":"SUMIFS(Onglet_Consult_Database!$E:$E,Onglet_Consult_Database!$F:$F,Onglet_consult_Panel!$E27,Onglet_Consult_Database!$B:$B,K55)","v":0},{"$error":"#N/A"},null,"",""]
[null,null,null,null,null,null,null,null,null,{"$f":"SUMIFS(Onglet_Consult_Database!$E:$E,Onglet_Consult_Database!$F:$F,Onglet_consult_Panel!$E28,Onglet_Consult_Database!$B:$B,K56)","v":0},{"$error":"#N/A"},null,"",""]
[null,null,null,null,null,null,null,null,null,{"$f":"SUMIFS(Onglet_Consult_Database!$E:$E,Onglet_Consult_Database!$F:$F,Onglet_consult_Panel!$E29,Onglet_Consult_Database!$B:$B,K57)","v":0},{"$error":"#N/A"},null,"",""]
[null,null,null,null,null,null,null,null,null,{"$f":"SUMIFS(Onglet_Consult_Database!$E:$E,Onglet_Consult_Database!$F:$F,Onglet_consult_Panel!$E30,Onglet_Consult_Database!$B:$B,K58)","v":0},{"$error":"#N/A"},null,"",""]
[null,null,null,null,null,null,null,null,null,{"$f":"SUMIFS(Onglet_Consult_Database!$E:$E,Onglet_Consult_Database!$F:$F,Onglet_consult_Panel!$E13,Onglet_Consult_Database!$B:$B,K59)","v":0},{"$error":"#N/A"},null,"",""]
[null,null,null,null,null,null,null,null,null,{"$f":"SUMIFS(Onglet_Consult_Database!$E:$E,Onglet_Consult_Database!$F:$F,Onglet_consult_Panel!$E14,Onglet_Consult_Database!$B:$B,K60)","v":0},{"$error":"#N/A"},null,"",""]
[null,null,null,null,null,null,null,null,null,{"$f":"SUMIFS(Onglet_Consult_Database!$E:$E,Onglet_Consult_Database!$F:$F,Onglet_consult_Panel!$E15,Onglet_Consult_Database!$B:$B,K61)","v":0},{"$error":"#N/A"},null,"",""]
[null,null,null,null,null,null,null,null,null,{"$f":"SUMIFS(Onglet_Consult_Database!$E:$E,Onglet_Consult_Database!$F:$F,Onglet_consult_Panel!$E16,Onglet_Consult_Database!$B:$B,K62)","v":0},{"$error":"#N/A"},null,"",""]
[null,null,null,null,null,null,null,null,null,{"$f":"SUMIFS(Onglet_Consult_Database!$E:$E,Onglet_Consult_Database!$F:$F,Onglet_consult_Panel!$E17,Onglet_Consult_Database!$B:$B,K63)","v":0},{"$error":"#N/A"},null,"",""]
[null,null,null,null,null,null,null,null,null,{"$f":"SUMIFS(Onglet_Consult_Database!$E:$E,Onglet_Consult_Database!$F:$F,Onglet_consult_Panel!$E18,Onglet_Consult_Database!$B:$B,K64)","v":0},{"$error":"#N/A"},null,"",""]
[null,null,null,null,null,null,null,null,null,{"$f":"SUMIFS(Onglet_Consult_Database!$E:$E,Onglet_Consult_Database!$F:$F,Onglet_consult_Panel!$E19,Onglet_Consult_Database!$B:$B,K65)","v":0},{"$error":"#N/A"},null,"",""]
[null,null,null,null,null,null,null,null,null,{"$f":"SUMIFS(Onglet_Consult_Database!$E:$E,Onglet_Consult_Database!$F:$F,Onglet_consult_Panel!$E20,Onglet_Consult_Database!$B:$B,K66)","v":0},{"$error":"#N/A"},null,"",""]
[null,null,null,null,null,null,null,null,null,{"$f":"SUMIFS(Onglet_Consult_Database!$E:$E,Onglet_Consult_Database!$F:$F,Onglet_consult_Panel!$E21,Onglet_Consult_Database!$B:$B,K67)","v":0},{"$error":"#N/A"},null,"",""]
[null,null,null,null,null,null,null,null,null,{"$f":"SUMIFS(Onglet_Consult_Database!$E:$E,Onglet_Consult_Database!$F:$F,Onglet_consult_Panel!$E22,Onglet_Consult_Database!$B:$B,K68)","v":0},{"$error":"#N/A"},null,"",""]
[null,null,null,null,null,null,null,null,null,{"$f":"SUMIFS(Onglet_Consult_Database!$E:$E,Onglet_Consult_Database!$F:$F,Onglet_consult_Panel!$E23,Onglet_Consult_Database!$B:$B,K69)","v":0},{"$error":"#N/A"},null,"",""]
[null,null,null,null,null,null,null,null,null,{"$f":"SUMIFS(Onglet_Consult_Database!$E:$E,Onglet_Consult_Database!$F:$F,Onglet_consult_Panel!$E24,Onglet_Consult_Database!$B:$B,K70)","v":0},{"$error":"#N/A"},null,"",""]
[null,null,null,null,null,null,null,null,null,{"$f":"SUMIFS(Onglet_Consult_Database!$E:$E,Onglet_Consult_Database!$F:$F,Onglet_consult_Panel!$E25,Onglet_Consult_Database!$B:$B,K71)","v":0},{"$error":"#N/A"},null,"",""]
[null,null,null,null,null,null,null,null,null,{"$f":"SUMIFS(Onglet_Consult_Database!$E:$E,Onglet_Consult_Database!$F:$F,Onglet_consult_Panel!$E26,Onglet_Consult_Database!$B:$B,K72)","v":0},{"$error":"#N/A"},null,"",""]
[null,null,null,null,null,null,null,null,null,{"$f":"SUMIFS(Onglet_Consult_Database!$E:$E,Onglet_Consult_Database!$F:$F,Onglet_consult_Panel!$E27,Onglet_Consult_Database!$B:$B,K73)","v":0},{"$error":"#N/A"},null,"",""]
[null,null,null,null,null,null,null,null,null,{"$f":"SUMIFS(Onglet_Consult_Database!$E:$E,Onglet_Consult_Database!$F:$F,Onglet_consult_Panel!$E13,Onglet_Consult_Database!$B:$B,K74)","v":0},{"$error":"#N/A"},null,"",""]
[null,null,null,null,null,null,null,null,null,{"$f":"SUMIFS(Onglet_Consult_Database!$E:$E,Onglet_Consult_Database!$F:$F,Onglet_consult_Panel!$E14,Onglet_Consult_Database!$B:$B,K75)","v":0},{"$error":"#N/A"},null,"",""]
[null,null,null,null,null,null,null,null,null,{"$f":"SUMIFS(Onglet_Consult_Database!$E:$E,Onglet_Consult_Database!$F:$F,Onglet_consult_Panel!$E15,Onglet_Consult_Database!$B:$B,K76)","v":0},{"$error":"#N/A"},null,"",""]
[null,null,null,null,null,null,null,null,null,{"$f":"SUMIFS(Onglet_Consult_Database!$E:$E,Onglet_Consult_Database!$F:$F,Onglet_consult_Panel!$E16,Onglet_Consult_Database!$B:$B,K77)","v":0},{"$f":"_xlfn.IFS(F77=$K$3,\"I01\",F77=$K$4,\"I02\",F77=$K$5,\"I03\",F77=$K$6,\"I04\")","v":{"$error":"#N/A"}},null,{"$f":"IFERROR(VLOOKUP(E77,SH_list,8,FALSE),\"\")","v":""},{"$f":"IFERROR(VLOOKUP(E77,SH_list,6,FALSE),\"\")","v":""}]
[null,null,null,null,null,null,null,null,null,{"$f":"SUMIFS(Onglet_Consult_Database!$E:$E,Onglet_Consult_Database!$F:$F,Onglet_consult_Panel!$E13,Onglet_Consult_Database!$B:$B,K78)","v":0},{"$error":"#N/A"},null,"",""]
[null,null,null,null,null,null,null,null,null,{"$f":"SUMIFS(Onglet_Consult_Database!$E:$E,Onglet_Consult_Database!$F:$F,Onglet_consult_Panel!$E14,Onglet_Consult_Database!$B:$B,K79)","v":0},{"$error":"#N/A"},null,"",""]
[null,null,null,null,null,null,null,null,null,{"$f":"SUMIFS(Onglet_Consult_Database!$E:$E,Onglet_Consult_Database!$F:$F,Onglet_consult_Panel!$E15,Onglet_Consult_Database!$B:$B,K80)","v":0},{"$error":"#N/A"},null,"",""]
[null,null,null,null,null,null,null,null,null,{"$f":"SUMIFS(Onglet_Consult_Database!$E:$E,Onglet_Consult_Database!$F:$F,Onglet_consult_Panel!$E16,Onglet_Consult_Database!$B:$B,K81)","v":0},{"$error":"#N/A"},null,"",""]
[null,null,null,null,null,null,null,null,null,{"$f":"SUMIFS(Onglet_Consult_Database!$E:$E,Onglet_Consult_Database!$F:$F,Onglet_consult_Panel!$E17,Onglet_Consult_Database!$B:$B,K82)","v":0},{"$error":"#N/A"},null,"",""]
[null,null,null,null,null,null,null,null,null,{"$f":"SUMIFS(Onglet_Consult_Database!$E:$E,Onglet_Consult_Database!$F:$F,Onglet_consult_Panel!$E18,Onglet_Consult_Database!$B:$B,K83)","v":0},{"$error":"#N/A"},null,"",""]
[null,null,null,null,null,null,null,null,null,{"$f":"SUMIFS(Onglet_Consult_Database!$E:$E,Onglet_Consult_Database!$F:$F,Onglet_consult_Panel!$E19,Onglet_Consult_Database!$B:$B,K84)","v":0},{"$error":"#N/A"},null,"",""]
[null,null,null,null,null,null,null,null,null,{"$f":"SUMIFS(Onglet_Consult_Database!$E:$E,Onglet_Consult_Database!$F:$F,Onglet_consult_Panel!$E20,Onglet_Consult_Database!$B:$B,K85)","v":0},{"$error":"#N/A"},null,"",""]
[null,null,null,null,null,null,null,null,null,{"$f":"SUMIFS(Onglet_Consult_Database!$E:$E,Onglet_Consult_Database!$F:$F,Onglet_consult_Panel!$E21,Onglet_Consult_Database!$B:$B,K86)","v":0},{"$error":"#N/A"},null,"",""]
[null,null,null,null,null,null,null,null,null,{"$f":"SUMIFS(Onglet_Consult_Database!$E:$E,Onglet_Consult_Database!$F:$F,Onglet_consult_Panel!$E22,Onglet_Consult_Database!$B:$B,K87)","v":0},{"$error":"#N/A"},null,"",""]
[null,null,null,null,null,null,null,null,null,{"$f":"SUMIFS(Onglet_Consult_Database!$E:$E,Onglet_Consult_Database!$F:$F,Onglet_consult_Panel!$E23,Onglet_Consult_Database!$B:$B,K88)","v":0},{"$error":"#N/A"},null,"",""]
[null,null,null,null,null,null,null,null,null,{"$f":"SUMIFS(Onglet_Consult_Database!$E:$E,Onglet_Consult_Database!$F:$F,Onglet_consult_Panel!$E24,Onglet_Consult_Database!$B:$B,K89)","v":0},{"$error":"#N/A"},null,"",""]
[null,null,null,null,null,null,null,null,null,{"$f":"SUMIFS(Onglet_Consult_Database!$E:$E,Onglet_Consult_Database!$F:$F,Onglet_consult_Panel!$E25,Onglet_Consult_Database!$B:$B,K90)","v":0},{"$error":"#N/A"},null,"",""]
[null,null,null,null,null,null,null,null,null,{"$f":"SUMIFS(Onglet_Consult_Database!$E:$E,Onglet_Consult_Database!$F:$F,Onglet_consult_Panel!$E26,Onglet_Consult_Database!$B:$B,K91)","v":0},{"$error":"#N/A"},null,"",""]
[null,null,null,null,null,null,null,null,null,{"$f":"SUMIFS(Onglet_Consult_Database!$E:$E,Onglet_Consult_Database!$F:$F,Onglet_consult_Panel!$E27,Onglet_Consult_Database!$B:$B,K92)","v":0},{"$error":"#N/A"},null,"",""]
[null,null,null,null,null,null,null,null,null,{"$f":"SUMIFS(Onglet_Consult_Database!$E:$E,Onglet_Consult_Database!$F:$F,Onglet_consult_Panel!$E28,Onglet_Consult_Database!$B:$B,K93)","v":0},{"$error":"#N/A"},null,"",""]
[null,null,null,null,null,null,null,null,null,{"$f":"SUMIFS(Onglet_Consult_Database!$E:$E,Onglet_Consult_Database!$F:$F,Onglet_consult_Panel!$E29,Onglet_Consult_Database!$B:$B,K94)","v":0},{"$error":"#N/A"},null,"",""]
[null,null,null,null,null,null,null,null,null,{"$f":"SUMIFS(Onglet_Consult_Database!$E:$E,Onglet_Consult_Database!$F:$F,Onglet_consult_Panel!$E30,Onglet_Consult_Database!$B:$B,K95)","v":0},{"$error":"#N/A"},null,"",""]
[null,null,null,null,null,null,null,null,null,{"$f":"SUMIFS(Onglet_Consult_Database!$E:$E,Onglet_Consult_Database!$F:$F,Onglet_consult_Panel!$E31,Onglet_Consult_Database!$B:$B,K96)","v":0},{"$error":"#N/A"},null,"",""]
[null,null,null,null,null,null,null,null,null,{"$f":"SUMIFS(Onglet_Consult_Database!$E:$E,Onglet_Consult_Database!$F:$F,Onglet_consult_Panel!$E32,Onglet_Consult_Database!$B:$B,K97)","v":0},{"$error":"#N/A"},null,"",""]
[null,null,null,null,null,null,null,null,null,{"$f":"SUMIFS(Onglet_Consult_Database!$E:$E,Onglet_Consult_Database!$F:$F,Onglet_consult_Panel!$E33,Onglet_Consult_Database!$B:$B,K98)","v":0},{"$error":"#N/A"},null,"",""]
[null,null,null,null,null,null,null,null,null,{"$f":"SUMIFS(Onglet_Consult_Database!$E:$E,Onglet_Consult_Database!$F:$F,Onglet_consult_Panel!$E34,Onglet_Consult_Database!$B:$B,K99)","v":0},{"$error":"#N/A"},null,"",""]
[null,null,null,null,null,null,null,null,null,{"$f":"SUMIFS(Onglet_Consult_Database!$E:$E,Onglet_Consult_Database!$F:$F,Onglet_consult_Panel!$E35,Onglet_Consult_Database!$B:$B,K100)","v":0},{"$error":"#N/A"},null,"",""]
[null,null,null,null,null,null,null,null,null,{"$f":"SUMIFS(Onglet_Consult_Database!$E:$E,Onglet_Consult_Database!$F:$F,Onglet_consult_Panel!$E36,Onglet_Consult_Database!$B:$B,K101)","v":0},{"$error":"#N/A"},null,"",""]
[null,null,null,null,null,null,null,null,null,{"$f":"SUMIFS(Onglet_Consult_Database!$E:$E,Onglet_Consult_Database!$F:$F,Onglet_consult_Panel!$E37,Onglet_Consult_Database!$B:$B,K102)","v":0},{"$error":"#N/A"},null,"",""]
[null,null,null,null,null,null,null,null,null,{"$f":"SUMIFS(Onglet_Consult_Database!$E:$E,Onglet_Consult_Database!$F:$F,Onglet_consult_Panel!$E38,Onglet_Consult_Database!$B:$B,K103)","v":0},{"$error":"#N/A"},null,"",""]
[null,null,null,null,null,null,null,null,null,{"$f":"SUMIFS(Onglet_Consult_Database!$E:$E,Onglet_Consult_Database!$F:$F,Onglet_consult_Panel!$E39,Onglet_Consult_Database!$B:$B,K104)","v":0},{"$error":"#N/A"},null,"",""]
[null,null,null,null,null,null,null,null,null,{"$f":"SUMIFS(Onglet_Consult_Database!$E:$E,Onglet_Consult_Database!$F:$F,Onglet_consult_Panel!$E40,Onglet_Consult_Database!$B:$B,K105)","v":0},{"$error":"#N/A"},null,"",""]
[null,null,null,null,null,null,null,null,null,{"$f":"SUMIFS(Onglet_Consult_Database!$E:$E,Onglet_Consult_Database!$F:$F,Onglet_consult_Panel!$E41,Onglet_Consult_Database!$B:$B,K106)","v":0},{"$error":"#N/A"},null,"",""]
[null,null,null,null,null,null,null,null,null,{"$f":"SUMIFS(Onglet_Consult_Database!$E:$E,Onglet_Consult_Database!$F:$F,Onglet_consult_Panel!$E13,Onglet_Consult_Database!$B:$B,K107)","v":0},{"$error":"#N/A"},null,"",""]
[null,null,null,null,null,null,null,null,null,{"$f":"SUMIFS(Onglet_Consult_Database!$E:$E,Onglet_Consult_Database!$F:$F,Onglet_consult_Panel!$E14,Onglet_Consult_Database!$B:$B,K108)","v":0},{"$error":"#N/A"},null,"",""]
[null,null,null,null,null,null,null,null,null,{"$f":"SUMIFS(Onglet_Consult_Database!$E:$E,Onglet_Consult_Database!$F:$F,Onglet_consult_Panel!$E15,Onglet_Consult_Database!$B:$B,K109)","v":0},{"$error":"#N/A"},null,"",""]
[null,null,null,null,null,null,null,null,null,{"$f":"SUMIFS(Onglet_Consult_Database!$E:$E,Onglet_Consult_Database!$F:$F,Onglet_consult_Panel!$E16,Onglet_Consult_Database!$B:$B,K110)","v":0},{"$error":"#N/A"},null,"",""]
[null,null,null,null,null,null,null,null,null,{"$f":"SUMIFS(Onglet_Consult_Database!$E:$E,Onglet_Consult_Database!$F:$F,Onglet_consult_Panel!$E17,Onglet_Consult_Database!$B:$B,K111)","v":0},{"$error":"#N/A"},null,"",""]
[null,null,null,null,null,null,null,null,null,{"$f":"SUMIFS(Onglet_Consult_Database!$E:$E,Onglet_Consult_Database!$F:$F,Onglet_consult_Panel!$E18,Onglet_Consult_Database!$B:$B,K112)","v":0},{"$error":"#N/A"},null,"",""]
[null,null,null,null,null,null,null,null,null,{"$f":"SUMIFS(Onglet_Consult_Database!$E:$E,Onglet_Consult_Database!$F:$F,Onglet_consult_Panel!$E19,Onglet_Consult_Database!$B:$B,K113)","v":0},{"$error":"#N/A"},null,"",""]
[null,null,null,null,null,null,null,null,null,{"$f":"SUMIFS(Onglet_Consult_Database!$E:$E,Onglet_Consult_Database!$F:$F,Onglet_consult_Panel!$E20,Onglet_Consult_Database!$B:$B,K114)","v":0},{"$error":"#N/A"},null,"",""]
[null,null,null,null,null,null,null,null,null,{"$f":"SUMIFS(Onglet_Consult_Database!$E:$E,Onglet_Consult_Database!$F:$F,Onglet_consult_Panel!$E21,Onglet_Consult_Database!$B:$B,K115)","v":0},{"$error":"#N/A"},null,"",""]
[null,null,null,null,null,null,null,null,null,{"$f":"SUMIFS(Onglet_Consult_Database!$E:$E,Onglet_Consult_Database!$F:$F,Onglet_consult_Panel!$E22,Onglet_Consult_Database!$B:$B,K116)","v":0},{"$error":"#N/A"},null,"",""]
[null,null,null,null,null,null,null,null,null,{"$f":"SUMIFS(Onglet_Consult_Database!$E:$E,Onglet_Consult_Database!$F:$F,Onglet_consult_Panel!$E23,Onglet_Consult_Database!$B:$B,K117)","v":0},{"$error":"#N/A"},null,"",""]
[null,null,null,null,null,null,null,null,null,{"$f":"SUMIFS(Onglet_Consult_Database!$E:$E,Onglet_Consult_Database!$F:$F,Onglet_consult_Panel!$E24,Onglet_Consult_Database!$B:$B,K118)","v":0},{"$error":"#N/A"},null,"",""]
[null,null,null,null,null,null,null,null,null,{"$f":"SUMIFS(Onglet_Consult_Database!$E:$E,Onglet_Consult_Database!$F:$F,Onglet_consult_Panel!$E25,Onglet_Consult_Database!$B:$B,K119)","v":0},{"$error":"#N/A"},null,"",""]
[null,null,null,null,null,null,null,null,null,{"$f":"SUMIFS(Onglet_Consult_Database!$E:$E,Onglet_Consult_Database!$F:$F,Onglet_consult_Panel!$E26,Onglet_Consult_Database!$B:$B,K120)","v":0},{"$error":"#N/A"},null,"",""]
[null,null,null,null,null,null,null,null,null,{"$f":"SUMIFS(Onglet_Consult_Database!$E:$E,Onglet_Consult_Database!$F:$F,Onglet_consult_Panel!$E27,Onglet_Consult_Database!$B:$B,K121)","v":0},{"$error":"#N/A"},null,"",""]
[null,null,null,null,null,null,null,null,null,{"$f":"SUMIFS(Onglet_Consult_Database!$E:$E,Onglet_Consult_Database!$F:$F,Onglet_consult_Panel!$E28,Onglet_Consult_Database!$B:$B,K122)","v":0},{"$error":"#N/A"},null,"",""]
[null,null,null,null,null,null,null,null,null,{"$f":"SUMIFS(Onglet_Consult_Database!$E:$E,Onglet_Consult_Database!$F:$F,Onglet_consult_Panel!$E29,Onglet_Consult_Database!$B:$B,K123)","v":0},{"$error":"#N/A"},null,"",""]
[null,null,null,null,null,null,null,null,null,{"$f":"SUMIFS(Onglet_Consult_Database!$E:$E,Onglet_Consult_Database!$F:$F,Onglet_consult_Panel!$E30,Onglet_Consult_Database!$B:$B,K124)","v":0},{"$error":"#N/A"},null,"",""]
[null,null,null,null,null,null,null,null,null,{"$f":"SUMIFS(Onglet_Consult_Database!$E:$E,Onglet_Consult_Database!$F:$F,Onglet_consult_Panel!$E31,Onglet_Consult_Database!$B:$B,K125)","v":0},{"$error":"#N/A"},null,"",""]
[null,null,null,null,null,null,null,null,null,{"$f":"SUMIFS(Onglet_Consult_Database!$E:$E,Onglet_Consult_Database!$F:$F,Onglet_consult_Panel!$E32,Onglet_Consult_Database!$B:$B,K126)","v":0},{"$error":"#N/A"},null,"",""]
[null,null,null,null,null,null,null,null,null,{"$f":"SUMIFS(Onglet_Consult_Database!$E:$E,Onglet_Consult_Database!$F:$F,Onglet_consult_Panel!$E33,Onglet_Consult_Database!$B:$B,K127)","v":0},{"$error":"#N/A"},null,"",""]
[null,null,null,null,null,null,null,null,null,{"$f":"SUMIFS(Onglet_Consult_Database!$E:$E,Onglet_Consult_Database!$F:$F,Onglet_consult_Panel!$E34,Onglet_Consult_Database!$B:$B,K128)","v":0},{"$error":"#N/A"},null,"",""]
[null,null,null,null,null,null,null,null,null,{"$f":"SUMIFS(Onglet_Consult_Database!$E:$E,Onglet_Consult_Database!$F:$F,Onglet_consult_Panel!$E35,Onglet_Consult_Database!$B:$B,K129)","v":0},{"$error":"#N/A"},null,"",""]
[null,null,null,null,null,null,null,null,null,{"$f":"SUMIFS(Onglet_Consult_Database!$E:$E,Onglet_Consult_Database!$F:$F,Onglet_consult_Panel!$E36,Onglet_Consult_Database!$B:$B,K130)","v":0},{"$error":"#N/A"},null,"",""]
[null,null,null,null,null,null,null,null,null,{"$f":"SUMIFS(Onglet_Consult_Database!$E:$E,Onglet_Consult_Database!$F:$F,Onglet_consult_Panel!$E37,Onglet_Consult_Database!$B:$B,K131)","v":0},{"$error":"#N/A"},null,"",""]
[null,null,null,null,null,null,null,null,null,{"$f":"SUMIFS(Onglet_Consult_Database!$E:$E,Onglet_Consult_Database!$F:$F,Onglet_consult_Panel!$E38,Onglet_Consult_Database!$B:$B,K132)","v":0},{"$error":"#N/A"},null,"",""]
[null,null,null,null,null,null,null,null,null,{"$f":"SUMIFS(Onglet_Consult_Database!$E:$E,Onglet_Consult_Database!$F:$F,Onglet_consult_Panel!$E39,Onglet_Consult_Database!$B:$B,K133)","v":0},{"$error":"#N/A"},null,"",""]
[null,null,null,null,null,null,null,null,null,{"$f":"SUMIFS(Onglet_Consult_Database!$E:$E,Onglet_Consult_Database!$F:$F,Onglet_consult_Panel!$E40,Onglet_Consult_Database!$B:$B,K134)","v":0},{"$error":"#N/A"},null,"",""]
[null,null,null,null,null,null,null,null,null,{"$f":"SUMIFS(Onglet_Consult_Database!$E:$E,Onglet_Consult_Database!$F:$F,Onglet_consult_Panel!$E41,Onglet_Consult_Database!$B:$B,K135)","v":0},{"$error":"#N/A"},null,"",""]
[null,null,null,null,null,null,null,null,null,{"$f":"SUMIFS(Onglet_Consult_Database!$E:$E,Onglet_Consult_Database!$F:$F,Onglet_consult_Panel!$E42,Onglet_Consult_Database!$B:$B,K136)","v":0},{"$error":"#N/A"},null,"",""]
[null,null,null,null,null,null,null,null,null,{"$f":"SUMIFS(Onglet_Consult_Database!$E:$E,Onglet_Consult_Database!$F:$F,Onglet_consult_Panel!$E43,Onglet_Consult_Database!$B:$B,K137)","v":0},{"$error":"#N/A"},null,"",""]
[null,null,null,null,null,null,null,null,null,{"$f":"SUMIFS(Onglet_Consult_Database!$E:$E,Onglet_Consult_Database!$F:$F,Onglet_consult_Panel!$E44,Onglet_Consult_Database!$B:$B,K138)","v":0},{"$error":"#N/A"},null,"",""]
[null,null,null,null,null,null,null,null,null,{"$f":"SUMIFS(Onglet_Consult_Database!$E:$E,Onglet_Consult_Database!$F:$F,Onglet_consult_Panel!$E45,Onglet_Consult_Database!$B:$B,K139)","v":0},{"$error":"#N/A"},null,"",""]
[null,null,null,null,null,null,null,null,null,{"$f":"SUMIFS(Onglet_Consult_Database!$E:$E,Onglet_Consult_Database!$F:$F,Onglet_consult_Panel!$E46,Onglet_Consult_Database!$B:$B,K140)","v":0},{"$error":"#N/A"},null,"",""]
[null,null,null,null,null,null,null,null,null,{"$f":"SUMIFS(Onglet_Consult_Database!$E:$E,Onglet_Consult_Database!$F:$F,Onglet_consult_Panel!$E47,Onglet_Consult_Database!$B:$B,K141)","v":0},{"$f":"_xlfn.IFS(F141=$K$3,\"I01\",F141=$K$4,\"I02\",F141=$K$5,\"I03\",F141=$K$6,\"I04\")","v":{"$error":"#N/A"}},null,{"$f":"IFERROR(VLOOKUP(E141,SH_list,8,FALSE),\"\")","v":""},{"$f":"IFERROR(VLOOKUP(E141,SH_list,6,FALSE),\"\")","v":""}]
[null,null,null,null,null,null,null,null,null,{"$f":"SUMIFS(Onglet_Consult_Database!$E:$E,Onglet_Consult_Database!$F:$F,Onglet_consult_Panel!$E48,Onglet_Consult_Database!$B:$B,K142)","v":0},{"$error":"#N/A"},null,"",""]
[null,null,null,null,null,null,null,null,null,{"$f":"SUMIFS(Onglet_Consult_Database!$E:$E,Onglet_Consult_Database!$F:$F,Onglet_consult_Panel!$E49,Onglet_Consult_Database!$B:$B,K143)","v":0},{"$error":"#N/A"},null,"",""]
[null,null,null,null,null,null,null,null,null,{"$f":"SUMIFS(Onglet_Consult_Database!$E:$E,Onglet_Consult_Database!$F:$F,Onglet_consult_Panel!$E50,Onglet_Consult_Database!$B:$B,K144)","v":0},{"$error":"#N/A"},null,"",""]
[null,null,null,null,null,null,null,null,null,{"$f":"SUMIFS(Onglet_Consult_Database!$E:$E,Onglet_Consult_Database!$F:$F,Onglet_consult_Panel!$E51,Onglet_Consult_Database!$B:$B,K145)","v":0},{"$error":"#N/A"},null,"",""]
[null,null,null,null,null,null,null,null,null,{"$f":"SUMIFS(Onglet_Consult_Database!$E:$E,Onglet_Consult_Database!$F:$F,Onglet_consult_Panel!$E24,Onglet_Consult_Database!$B:$B,K146)","v":0},{"$error":"#N/A"},null,"",""]
[null,null,null,null,null,null,null,null,null,{"$f":"SUMIFS(Onglet_Consult_Database!$E:$E,Onglet_Consult_Database!$F:$F,Onglet_consult_Panel!$E25,Onglet_Consult_Database!$B:$B,K147)","v":0},{"$error":"#N/A"},null,"",""]
[null,null,null,null,null,null,null,null,null,{"$f":"SUMIFS(Onglet_Consult_Database!$E:$E,Onglet_Consult_Database!$F:$F,Onglet_consult_Panel!$E26,Onglet_Consult_Database!$B:$B,K148)","v":0},{"$error":"#N/A"},null,"",""]
[null,null,null,null,null,null,null,null,null,{"$f":"SUMIFS(Onglet_Consult_Database!$E:$E,Onglet_Consult_Database!$F:$F,Onglet_consult_Panel!$E27,Onglet_Consult_Database!$B:$B,K149)","v":0},{"$error":"#N/A"},null,"",""]
[null,null,null,null,null,null,null,null,null,{"$f":"SUMIFS(Onglet_Consult_Database!$E:$E,Onglet_Consult_Database!$F:$F,Onglet_consult_Panel!$E28,Onglet_Consult_Database!$B:$B,K150)","v":0},{"$error":"#N/A"},null,"",""]
[null,null,null,null,null,null,null,null,null,{"$f":"SUMIFS(Onglet_Consult_Database!$E:$E,Onglet_Consult_Database!$F:$F,Onglet_consult_Panel!$E29,Onglet_Consult_Database!$B:$B,K151)","v":0},{"$error":"#N/A"},null,"",""]
[null,null,null,null,null,null,null,null,null,{"$f":"SUMIFS(Onglet_Consult_Database!$E:$E,Onglet_Consult_Database!$F:$F,Onglet_consult_Panel!$E30,Onglet_Consult_Database!$B:$B,K152)","v":0},{"$error":"#N/A"},null,"",""]
[null,null,null,null,null,null,null,null,null,{"$f":"SUMIFS(Onglet_Consult_Database!$E:$E,Onglet_Consult_Database!$F:$F,Onglet_consult_Panel!$E31,Onglet_Consult_Database!$B:$B,K153)","v":0},{"$error":"#N/A"},null,"",""]
[null,null,null,null,null,null,null,null,null,{"$f":"SUMIFS(Onglet_Consult_Database!$E:$E,Onglet_Consult_Database!$F:$F,Onglet_consult_Panel!$E32,Onglet_Consult_Database!$B:$B,K154)","v":0},{"$error":"#N/A"},null,"",""]
[null,null,null,null,null,null,null,null,null,{"$f":"SUMIFS(Onglet_Consult_Database!$E:$E,Onglet_Consult_Database!$F:$F,Onglet_consult_Panel!$E33,Onglet_Consult_Database!$B:$B,K155)","v":0},{"$error":"#N/A"},null,"",""]
[null,null,null,null,null,null,null,null,null,{"$f":"SUMIFS(Onglet_Consult_Database!$E:$E,Onglet_Consult_Database!$F:$F,Onglet_consult_Panel!$E34,Onglet_Consult_Database!$B:$B,K156)","v":0},{"$error":"#N/A"},null,"",""]
[null,null,null,null,null,null,null,null,null,{"$f":"SUMIFS(Onglet_Consult_Database!$E:$E,Onglet_Consult_Database!$F:$F,Onglet_consult_Panel!$E35,Onglet_Consult_Database!$B:$B,K157)","v":0},{"$error":"#N/A"},null,"",""]
[null,null,null,null,null,null,null,null,null,{"$f":"SUMIFS(Onglet_Consult_Database!$E:$E,Onglet_Consult_Database!$F:$F,Onglet_consult_Panel!$E36,Onglet_Consult_Database!$B:$B,K158)","v":0},{"$error":"#N/A"},null,"",""]
[null,null,null,null,null,null,null,null,null,{"$f":"SUMIFS(Onglet_Consult_Database!$E:$E,Onglet_Consult_Database!$F:$F,Onglet_consult_Panel!$E37,Onglet_Consult_Database!$B:$B,K159)","v":0},{"$error":"#N/A"},null,"",""]
[null,null,null,null,null,null,null,null,null,{"$f":"SUMIFS(Onglet_Consult_Database!$E:$E,Onglet_Consult_Database!$F:$F,Onglet_consult_Panel!$E38,Onglet_Consult_Database!$B:$B,K160)","v":0},{"$error":"#N/A"},null,"",""]
[null,null,null,null,null,null,null,null,null,{"$f":"SUMIFS(Onglet_Consult_Database!$E:$E,Onglet_Consult_Database!$F:$F,Onglet_consult_Panel!$E39,Onglet_Consult_Database!$B:$B,K161)","v":0},{"$error":"#N/A"},null,"",""]
[null,null,null,null,null,null,null,null,null,{"$f":"SUMIFS(Onglet_Consult_Database!$E:$E,Onglet_Consult_Database!$F:$F,Onglet_consult_Panel!$E40,Onglet_Consult_Database!$B:$B,K162)","v":0},{"$error":"#N/A"},null,"",""]
[null,null,null,null,null,null,null,null,null,{"$f":"SUMIFS(Onglet_Consult_Database!$E:$E,Onglet_Consult_Database!$F:$F,Onglet_consult_Panel!$E41,Onglet_Consult_Database!$B:$B,K163)","v":0},{"$error":"#N/A"},null,"",""]
[null,null,null,null,null,null,null,null,null,{"$f":"SUMIFS(Onglet_Consult_Database!$E:$E,Onglet_Consult_Database!$F:$F,Onglet_consult_Panel!$E42,Onglet_Consult_Database!$B:$B,K164)","v":0},{"$error":"#N/A"},null,"",""]
[null,null,null,null,null,null,null,null,null,{"$f":"SUMIFS(Onglet_Consult_Database!$E:$E,Onglet_Consult_Database!$F:$F,Onglet_consult_Panel!$E13,Onglet_Consult_Database!$B:$B,K165)","v":0},{"$error":"#N/A"},null,"",""]
[null,null,null,null,null,null,null,null,null,{"$f":"SUMIFS(Onglet_Consult_Database!$E:$E,Onglet_Consult_Database!$F:$F,Onglet_consult_Panel!$E14,Onglet_Consult_Database!$B:$B,K166)","v":0},{"$error":"#N/A"},null,"",""]
[null,null,null,null,null,null,null,null,null,{"$f":"SUMIFS(Onglet_Consult_Database!$E:$E,Onglet_Consult_Database!$F:$F,Onglet_consult_Panel!$E15,Onglet_Consult_Database!$B:$B,K167)","v":0},{"$error":"#N/A"},null,"",""]
[null,null,null,null,null,null,null,null,null,{"$f":"SUMIFS(Onglet_Consult_Database!$E:$E,Onglet_Consult_Database!$F:$F,Onglet_consult_Panel!$E16,Onglet_Consult_Database!$B:$B,K168)","v":0},{"$error":"#N/A"},null,"",""]
[null,null,null,null,null,null,null,null,null,{"$f":"SUMIFS(Onglet_Consult_Database!$E:$E,Onglet_Consult_Database!$F:$F,Onglet_consult_Panel!$E17,Onglet_Consult_Database!$B:$B,K169)","v":0},{"$error":"#N/A"},null,"",""]
[null,null,null,null,null,null,null,null,null,{"$f":"SUMIFS(Onglet_Consult_Database!$E:$E,Onglet_Consult_Database!$F:$F,Onglet_consult_Panel!$E18,Onglet_Consult_Database!$B:$B,K170)","v":0},{"$error":"#N/A"},null,"",""]
[null,null,null,null,null,null,null,null,null,{"$f":"SUMIFS(Onglet_Consult_Database!$E:$E,Onglet_Consult_Database!$F:$F,Onglet_consult_Panel!$E19,Onglet_Consult_Database!$B:$B,K171)","v":0},{"$error":"#N/A"},null,"",""]
[null,null,null,null,null,null,null,null,null,{"$f":"SUMIFS(Onglet_Consult_Database!$E:$E,Onglet_Consult_Database!$F:$F,Onglet_consult_Panel!$E20,Onglet_Consult_Database!$B:$B,K172)","v":0},{"$error":"#N/A"},null,"",""]
[null,null,null,null,null,null,null,null,null,{"$f":"SUMIFS(Onglet_Consult_Database!$E:$E,Onglet_Consult_Database!$F:$F,Onglet_consult_Panel!$E21,Onglet_Consult_Database!$B:$B,K173)","v":0},{"$error":"#N/A"},null,"",""]
[null,null,null,null,null,null,null,null,null,{"$f":"SUMIFS(Onglet_Consult_Database!$E:$E,Onglet_Consult_Database!$F:$F,Onglet_consult_Panel!$E22,Onglet_Consult_Database!$B:$B,K174)","v":0},{"$error":"#N/A"},null,"",""]
[null,null,null,null,null,null,null,null,null,{"$f":"SUMIFS(Onglet_Consult_Database!$E:$E,Onglet_Consult_Database!$F:$F,Onglet_consult_Panel!$E23,Onglet_Consult_Database!$B:$B,K175)","v":0},{"$error":"#N/A"},null,"",""]
[null,null,null,null,null,null,null,null,null,{"$f":"SUMIFS(Onglet_Consult_Database!$E:$E,Onglet_Consult_Database!$F:$F,Onglet_consult_Panel!$E33,Onglet_Consult_Database!$B:$B,K176)","v":0},{"$error":"#N/A"},null,"",""]
[null,null,null,null,null,null,null,null,null,{"$f":"SUMIFS(Onglet_Consult_Database!$E:$E,Onglet_Consult_Database!$F:$F,Onglet_consult_Panel!$E34,Onglet_Consult_Database!$B:$B,K177)","v":0},{"$error":"#N/A"},null,"",""]
[null,null,null,null,null,null,null,null,null,{"$f":"SUMIFS(Onglet_Consult_Database!$E:$E,Onglet_Consult_Database!$F:$F,Onglet_consult_Panel!$E35,Onglet_Consult_Database!$B:$B,K178)","v":0},{"$error":"#N/A"},null,"",""]
[null,null,null,null,null,null,null,null,null,{"$f":"SUMIFS(Onglet_Consult_Database!$E:$E,Onglet_Consult_Database!$F:$F,Onglet_consult_Panel!$E36,Onglet_Consult_Database!$B:$B,K179)","v":0},{"$error":"#N/A"},null,"",""]
[null,null,null,null,null,null,null,null,null,{"$f":"SUMIFS(Onglet_Consult_Database!$E:$E,Onglet_Consult_Database!$F:$F,Onglet_consult_Panel!$E37,Onglet_Consult_Database!$B:$B,K180)","v":0},{"$error":"#N/A"},null,"",""]
[null,null,null,null,null,null,null,null,null,{"$f":"SUMIFS(Onglet_Consult_Database!$E:$E,Onglet_Consult_Database!$F:$F,Onglet_consult_Panel!$E38,Onglet_Consult_Database!$B:$B,K181)","v":0},{"$error":"#N/A"},null,"",""]
[null,null,null,null,null,null,null,null,null,{"$f":"SUMIFS(Onglet_Consult_Database!$E:$E,Onglet_Consult_Database!$F:$F,Onglet_consult_Panel!$E39,Onglet_Consult_Database!$B:$B,K182)","v":0},{"$error":"#N/A"},null,"",""]
[null,null,null,null,null,null,null,null,null,{"$f":"SUMIFS(Onglet_Consult_Database!$E:$E,Onglet_Consult_Database!$F:$F,Onglet_consult_Panel!$E40,Onglet_Consult_Database!$B:$B,K183)","v":0},{"$error":"#N/A"},null,"",""]
[null,null,null,null,null,null,null,null,null,{"$f":"SUMIFS(Onglet_Consult_Database!$E:$E,Onglet_Consult_Database!$F:$F,Onglet_consult_Panel!$E41,Onglet_Consult_Database!$B:$B,K184)","v":0},{"$error":"#N/A"},null,"",""]
[null,null,null,null,null,null,null,null,null,{"$f":"SUMIFS(Onglet_Consult_Database!$E:$E,Onglet_Consult_Database!$F:$F,Onglet_consult_Panel!$E42,Onglet_Consult_Database!$B:$B,K185)","v":0},{"$error":"#N/A"},null,"",""]
[null,null,null,null,null,null,null,null,null,{"$f":"SUMIFS(Onglet_Consult_Database!$E:$E,Onglet_Consult_Database!$F:$F,Onglet_consult_Panel!$E24,Onglet_Consult_Database!$B:$B,K186)","v":0},{"$error":"#N/A"},null,"",""]
[null,null,null,null,null,null,null,null,null,{"$f":"SUMIFS(Onglet_Consult_Database!$E:$E,Onglet_Consult_Database!$F:$F,Onglet_consult_Panel!$E25,Onglet_Consult_Database!$B:$B,K187)","v":0},{"$error":"#N/A"},null,"",""]
[null,null,null,null,null,null,null,null,null,{"$f":"SUMIFS(Onglet_Consult_Database!$E:$E,Onglet_Consult_Database!$F:$F,Onglet_consult_Panel!$E26,Onglet_Consult_Database!$B:$B,K188)","v":0},{"$error":"#N/A"},null,"",""]
[null,null,null,null,null,null,null,null,null,{"$f":"SUMIFS(Onglet_Consult_Database!$E:$E,Onglet_Consult_Database!$F:$F,Onglet_consult_Panel!$E27,Onglet_Consult_Database!$B:$B,K189)","v":0},{"$error":"#N/A"},null,"",""]
[null,null,null,null,null,null,null,null,null,{"$f":"SUMIFS(Onglet_Consult_Database!$E:$E,Onglet_Consult_Database!$F:$F,Onglet_consult_Panel!$E28,Onglet_Consult_Database!$B:$B,K190)","v":0},{"$error":"#N/A"},null,"",""]
[null,null,null,null,null,null,null,null,null,{"$f":"SUMIFS(Onglet_Consult_Database!$E:$E,Onglet_Consult_Database!$F:$F,Onglet_consult_Panel!$E29,Onglet_Consult_Database!$B:$B,K191)","v":0},{"$error":"#N/A"},null,"",""]
[null,null,null,null,null,null,null,null,null,{"$f":"SUMIFS(Onglet_Consult_Database!$E:$E,Onglet_Consult_Database!$F:$F,Onglet_consult_Panel!$E30,Onglet_Consult_Database!$B:$B,K192)","v":0},{"$error":"#N/A"},null,"",""]
[null,null,null,null,null,null,null,null,null,{"$f":"SUMIFS(Onglet_Consult_Database!$E:$E,Onglet_Consult_Database!$F:$F,Onglet_consult_Panel!$E31,Onglet_Consult_Database!$B:$B,K193)","v":0},{"$error":"#N/A"},null,"",""]
[null,null,null,null,null,null,null,null,null,{"$f":"SUMIFS(Onglet_Consult_Database!$E:$E,Onglet_Consult_Database!$F:$F,Onglet_consult_Panel!$E32,Onglet_Consult_Database!$B:$B,K194)","v":0},{"$error":"#N/A"},null,"",""]
[null,null,null,null,null,null,null,null,null,{"$f":"SUMIFS(Onglet_Consult_Database!$E:$E,Onglet_Consult_Database!$F:$F,Onglet_consult_Panel!$E24,Onglet_Consult_Database!$B:$B,K195)","v":0},{"$error":"#N/A"},null,"",""]
[null,null,null,null,null,null,null,null,null,{"$f":"SUMIFS(Onglet_Consult_Database!$E:$E,Onglet_Consult_Database!$F:$F,Onglet_consult_Panel!$E25,Onglet_Consult_Database!$B:$B,K196)","v":0},{"$error":"#N/A"},null,"",""]
[null,null,null,null,null,null,null,null,null,{"$f":"SUMIFS(Onglet_Consult_Database!$E:$E,Onglet_Consult_Database!$F:$F,Onglet_consult_Panel!$E26,Onglet_Consult_Database!$B:$B,K197)","v":0},{"$error":"#N/A"},null,"",""]
[null,null,null,null,null,null,null,null,null,{"$f":"SUMIFS(Onglet_Consult_Database!$E:$E,Onglet_Consult_Database!$F:$F,Onglet_consult_Panel!$E27,Onglet_Consult_Database!$B:$B,K198)","v":0},{"$error":"#N/A"},null,"",""]
[null,null,null,null,null,null,null,null,null,{"$f":"SUMIFS(Onglet_Consult_Database!$E:$E,Onglet_Consult_Database!$F:$F,Onglet_consult_Panel!$E28,Onglet_Consult_Database!$B:$B,K199)","v":0},{"$error":"#N/A"},null,"",""]
[null,null,null,null,null,null,null,null,null,{"$f":"SUMIFS(Onglet_Consult_Database!$E:$E,Onglet_Consult_Database!$F:$F,Onglet_consult_Panel!$E29,Onglet_Consult_Database!$B:$B,K200)","v":0},{"$error":"#N/A"},null,"",""]
[null,null,null,null,null,null,null,null,null,{"$f":"SUMIFS(Onglet_Consult_Database!$E:$E,Onglet_Consult_Database!$F:$F,Onglet_consult_Panel!$E30,Onglet_Consult_Database!$B:$B,K201)","v":0},{"$error":"#N/A"},null,"",""]
[null,null,null,null,null,null,null,null,null,{"$f":"SUMIFS(Onglet_Consult_Database!$E:$E,Onglet_Consult_Database!$F:$F,Onglet_consult_Panel!$E31,Onglet_Consult_Database!$B:$B,K202)","v":0},{"$error":"#N/A"},null,"",""]
[null,null,null,null,null,null,null,null,null,{"$f":"SUMIFS(Onglet_Consult_Database!$E:$E,Onglet_Consult_Database!$F:$F,Onglet_consult_Panel!$E32,Onglet_Consult_Database!$B:$B,K203)","v":0},{"$error":"#N/A"},null,"",""]
[null,null,null,null,null,null,null,null,null,{"$f":"SUMIFS(Onglet_Consult_Database!$E:$E,Onglet_Consult_Database!$F:$F,Onglet_consult_Panel!$E24,Onglet_Consult_Database!$B:$B,K204)","v":0},{"$error":"#N/A"},null,"",""]
[null,null,null,null,null,null,null,null,null,{"$f":"SUMIFS(Onglet_Consult_Database!$E:$E,Onglet_Consult_Database!$F:$F,Onglet_consult_Panel!$E25,Onglet_Consult_Database!$B:$B,K205)","v":0},{"$f":"_xlfn.IFS(F205=$K$3,\"I01\",F205=$K$4,\"I02\",F205=$K$5,\"I03\",F205=$K$6,\"I04\")","v":{"$error":"#N/A"}},null,{"$f":"IFERROR(VLOOKUP(E205,SH_list,8,FALSE),\"\")","v":""},{"$f":"IFERROR(VLOOKUP(E205,SH_list,6,FALSE),\"\")","v":""}]
[null,null,null,null,null,null,null,null,null,{"$f":"SUMIFS(Onglet_Consult_Database!$E:$E,Onglet_Consult_Database!$F:$F,Onglet_consult_Panel!$E26,Onglet_Consult_Database!$B:$B,K206)","v":0},{"$error":"#N/A"},null,"",""]
[null,null,null,null,null,null,null,null,null,{"$f":"SUMIFS(Onglet_Consult_Database!$E:$E,Onglet_Consult_Database!$F:$F,Onglet_consult_Panel!$E27,Onglet_Consult_Database!$B:$B,K207)","v":0},{"$error":"#N/A"},null,"",""]
[null,null,null,null,null,null,null,null,null,{"$f":"SUMIFS(Onglet_Consult_Database!$E:$E,Onglet_Consult_Database!$F:$F,Onglet_consult_Panel!$E28,Onglet_Consult_Database!$B:$B,K208)","v":0},{"$error":"#N/A"},null,"",""]
[null,null,null,null,null,null,null,null,null,{"$f":"SUMIFS(Onglet_Consult_Database!$E:$E,Onglet_Consult_Database!$F:$F,Onglet_consult_Panel!$E29,Onglet_Consult_Database!$B:$B,K209)","v":0},{"$error":"#N/A"},null,"",""]
[null,null,null,null,null,null,null,null,null,{"$f":"SUMIFS(Onglet_Consult_Database!$E:$E,Onglet_Consult_Database!$F:$F,Onglet_consult_Panel!$E30,Onglet_Consult_Database!$B:$B,K210)","v":0},{"$error":"#N/A"},null,"",""]
[null,null,null,null,null,null,null,null,null,{"$f":"SUMIFS(Onglet_Consult_Database!$E:$E,Onglet_Consult_Database!$F:$F,Onglet_consult_Panel!$E31,Onglet_Consult_Database!$B:$B,K211)","v":0},{"$error":"#N/A"},null,"",""]
[null,null,null,null,null,null,null,null,null,{"$f":"SUMIFS(Onglet_Consult_Database!$E:$E,Onglet_Consult_Database!$F:$F,Onglet_consult_Panel!$E32,Onglet_Consult_Database!$B:$B,K212)","v":0},{"$error":"#N/A"},null,"",""]
[null,null,null,null,null,null,null,null,null,{"$f":"SUMIFS(Onglet_Consult_Database!$E:$E,Onglet_Consult_Database!$F:$F,Onglet_consult_Panel!$E24,Onglet_Consult_Database!$B:$B,K213)","v":0},{"$error":"#N/A"},null,"",""]
[null,null,null,null,null,null,null,null,null,{"$f":"SUMIFS(Onglet_Consult_Database!$E:$E,Onglet_Consult_Database!$F:$F,Onglet_consult_Panel!$E25,Onglet_Consult_Database!$B:$B,K214)","v":0},{"$error":"#N/A"},null,"",""]
[null,null,null,null,null,null,null,null,null,{"$f":"SUMIFS(Onglet_Consult_Database!$E:$E,Onglet_Consult_Database!$F:$F,Onglet_consult_Panel!$E26,Onglet_Consult_Database!$B:$B,K215)","v":0},{"$error":"#N/A"},null,"",""]
[null,null,null,null,null,null,null,null,null,{"$f":"SUMIFS(Onglet_Consult_Database!$E:$E,Onglet_Consult_Database!$F:$F,Onglet_consult_Panel!$E27,Onglet_Consult_Database!$B:$B,K216)","v":0},{"$error":"#N/A"},null,"",""]
[null,null,null,null,null,null,null,null,null,{"$f":"SUMIFS(Onglet_Consult_Database!$E:$E,Onglet_Consult_Database!$F:$F,Onglet_consult_Panel!$E28,Onglet_Consult_Database!$B:$B,K217)","v":0},{"$error":"#N/A"},null,"",""]
[null,null,null,null,null,null,null,null,null,{"$f":"SUMIFS(Onglet_Consult_Database!$E:$E,Onglet_Consult_Database!$F:$F,Onglet_consult_Panel!$E29,Onglet_Consult_Database!$B:$B,K218)","v":0},{"$error":"#N/A"},null,"",""]
[null,null,null,null,null,null,null,null,null,{"$f":"SUMIFS(Onglet_Consult_Database!$E:$E,Onglet_Consult_Database!$F:$F,Onglet_consult_Panel!$E30,Onglet_Consult_Database!$B:$B,K219)","v":0},{"$error":"#N/A"},null,"",""]
[null,null,null,null,null,null,null,null,null,{"$f":"SUMIFS(Onglet_Consult_Database!$E:$E,Onglet_Consult_Database!$F:$F,Onglet_consult_Panel!$E31,Onglet_Consult_Database!$B:$B,K220)","v":0},{"$error":"#N/A"},null,"",""]
[null,null,null,null,null,null,null,null,null,{"$f":"SUMIFS(Onglet_Consult_Database!$E:$E,Onglet_Consult_Database!$F:$F,Onglet_consult_Panel!$E32,Onglet_Consult_Database!$B:$B,K221)","v":0},{"$error":"#N/A"},null,"",""]
[null,null,null,null,null,null,null,null,null,{"$f":"SUMIFS(Onglet_Consult_Database!$E:$E,Onglet_Consult_Database!$F:$F,Onglet_consult_Panel!$E24,Onglet_Consult_Database!$B:$B,K222)","v":0},{"$error":"#N/A"},null,"",""]
[null,null,null,null,null,null,null,null,null,{"$f":"SUMIFS(Onglet_Consult_Database!$E:$E,Onglet_Consult_Database!$F:$F,Onglet_consult_Panel!$E25,Onglet_Consult_Database!$B:$B,K223)","v":0},{"$error":"#N/A"},null,"",""]
[null,null,null,null,null,null,null,null,null,{"$f":"SUMIFS(Onglet_Consult_Database!$E:$E,Onglet_Consult_Database!$F:$F,Onglet_consult_Panel!$E26,Onglet_Consult_Database!$B:$B,K224)","v":0},{"$error":"#N/A"},null,"",""]
[null,null,null,null,null,null,null,null,null,{"$f":"SUMIFS(Onglet_Consult_Database!$E:$E,Onglet_Consult_Database!$F:$F,Onglet_consult_Panel!$E27,Onglet_Consult_Database!$B:$B,K225)","v":0},{"$error":"#N/A"},null,"",""]
[null,null,null,null,null,null,null,null,null,{"$f":"SUMIFS(Onglet_Consult_Database!$E:$E,Onglet_Consult_Database!$F:$F,Onglet_consult_Panel!$E28,Onglet_Consult_Database!$B:$B,K226)","v":0},{"$error":"#N/A"},null,"",""]
[null,null,null,null,null,null,null,null,null,{"$f":"SUMIFS(Onglet_Consult_Database!$E:$E,Onglet_Consult_Database!$F:$F,Onglet_consult_Panel!$E29,Onglet_Consult_Database!$B:$B,K227)","v":0},{"$error":"#N/A"},null,"",""]
[null,null,null,null,null,null,null,null,null,{"$f":"SUMIFS(Onglet_Consult_Database!$E:$E,Onglet_Consult_Database!$F:$F,Onglet_consult_Panel!$E30,Onglet_Consult_Database!$B:$B,K228)","v":0},{"$error":"#N/A"},null,"",""]
[null,null,null,null,null,null,null,null,null,{"$f":"SUMIFS(Onglet_Consult_Database!$E:$E,Onglet_Consult_Database!$F:$F,Onglet_consult_Panel!$E31,Onglet_Consult_Database!$B:$B,K229)","v":0},{"$error":"#N/A"},null,"",""]
[null,null,null,null,null,null,null,null,null,{"$f":"SUMIFS(Onglet_Consult_Database!$E:$E,Onglet_Consult_Database!$F:$F,Onglet_consult_Panel!$E32,Onglet_Consult_Database!$B:$B,K230)","v":0},{"$error":"#N/A"},null,"",""]
[null,null,null,null,null,null,null,null,null,{"$f":"SUMIFS(Onglet_Consult_Database!$E:$E,Onglet_Consult_Database!$F:$F,Onglet_consult_Panel!$E43,Onglet_Consult_Database!$B:$B,K231)","v":0},{"$error":"#N/A"},null,"",""]
[null,null,null,null,null,null,null,null,null,{"$f":"SUMIFS(Onglet_Consult_Database!$E:$E,Onglet_Consult_Database!$F:$F,Onglet_consult_Panel!$E44,Onglet_Consult_Database!$B:$B,K232)","v":0},{"$error":"#N/A"},null,"",""]
[null,null,null,null,null,null,null,null,null,{"$f":"SUMIFS(Onglet_Consult_Database!$E:$E,Onglet_Consult_Database!$F:$F,Onglet_consult_Panel!$E45,Onglet_Consult_Database!$B:$B,K233)","v":0},{"$error":"#N/A"},null,"",""]
[null,null,null,null,null,null,null,null,null,{"$f":"SUMIFS(Onglet_Consult_Database!$E:$E,Onglet_Consult_Database!$F:$F,Onglet_consult_Panel!$E46,Onglet_Consult_Database!$B:$B,K234)","v":0},{"$error":"#N/A"},null,"",""]
[null,null,null,null,null,null,null,null,null,{"$f":"SUMIFS(Onglet_Consult_Database!$E:$E,Onglet_Consult_Database!$F:$F,Onglet_consult_Panel!$E47,Onglet_Consult_Database!$B:$B,K235)","v":0},{"$error":"#N/A"},null,"",""]
[null,null,null,null,null,null,null,null,null,{"$f":"SUMIFS(Onglet_Consult_Database!$E:$E,Onglet_Consult_Database!$F:$F,Onglet_consult_Panel!$E48,Onglet_Consult_Database!$B:$B,K236)","v":0},{"$error":"#N/A"},null,"",""]
[null,null,null,null,null,null,null,null,null,{"$f":"SUMIFS(Onglet_Consult_Database!$E:$E,Onglet_Consult_Database!$F:$F,Onglet_consult_Panel!$E49,Onglet_Consult_Database!$B:$B,K237)","v":0},{"$error":"#N/A"},null,"",""]
[null,null,null,null,null,null,null,null,null,{"$f":"SUMIFS(Onglet_Consult_Database!$E:$E,Onglet_Consult_Database!$F:$F,Onglet_consult_Panel!$E24,Onglet_Consult_Database!$B:$B,K238)","v":0},{"$error":"#N/A"},null,"",""]
[null,null,null,null,null,null,null,null,null,{"$f":"SUMIFS(Onglet_Consult_Database!$E:$E,Onglet_Consult_Database!$F:$F,Onglet_consult_Panel!$E25,Onglet_Consult_Database!$B:$B,K239)","v":0},{"$error":"#N/A"},null,"",""]
[null,null,null,null,null,null,null,null,null,{"$f":"SUMIFS(Onglet_Consult_Database!$E:$E,Onglet_Consult_Database!$F:$F,Onglet_consult_Panel!$E26,Onglet_Consult_Database!$B:$B,K240)","v":0},{"$error":"#N/A"},null,"",""]
[null,null,null,null,null,null,null,null,null,{"$f":"SUMIFS(Onglet_Consult_Database!$E:$E,Onglet_Consult_Database!$F:$F,Onglet_consult_Panel!$E27,Onglet_Consult_Database!$B:$B,K241)","v":0},{"$error":"#N/A"},null,"",""]
[null,null,null,null,null,null,null,null,null,{"$f":"SUMIFS(Onglet_Consult_Database!$E:$E,Onglet_Consult_Database!$F:$F,Onglet_consult_Panel!$E28,Onglet_Consult_Database!$B:$B,K242)","v":0},{"$error":"#N/A"},null,"",""]
[null,null,null,null,null,null,null,null,null,{"$f":"SUMIFS(Onglet_Consult_Database!$E:$E,Onglet_Consult_Database!$F:$F,Onglet_consult_Panel!$E29,Onglet_Consult_Database!$B:$B,K243)","v":0},{"$error":"#N/A"},null,"",""]
[null,null,null,null,null,null,null,null,null,{"$f":"SUMIFS(Onglet_Consult_Database!$E:$E,Onglet_Consult_Database!$F:$F,Onglet_consult_Panel!$E30,Onglet_Consult_Database!$B:$B,K244)","v":0},{"$error":"#N/A"},null,"",""]
[null,null,null,null,null,null,null,null,null,{"$f":"SUMIFS(Onglet_Consult_Database!$E:$E,Onglet_Consult_Database!$F:$F,Onglet_consult_Panel!$E31,Onglet_Consult_Database!$B:$B,K245)","v":0},{"$error":"#N/A"},null,"",""]
[null,null,null,null,null,null,null,null,null,{"$f":"SUMIFS(Onglet_Consult_Database!$E:$E,Onglet_Consult_Database!$F:$F,Onglet_consult_Panel!$E32,Onglet_Consult_Database!$B:$B,K246)","v":0},{"$error":"#N/A"},null,"",""]
[null,null,null,null,null,null,null,null,null,{"$f":"SUMIFS(Onglet_Consult_Database!$E:$E,Onglet_Consult_Database!$F:$F,Onglet_consult_Panel!$E33,Onglet_Consult_Database!$B:$B,K247)","v":0},{"$error":"#N/A"},null,"",""]
[null,null,null,null,null,null,null,null,null,{"$f":"SUMIFS(Onglet_Consult_Database!$E:$E,Onglet_Consult_Database!$F:$F,Onglet_consult_Panel!$E34,Onglet_Consult_Database!$B:$B,K248)","v":0},{"$error":"#N/A"},null,"",""]
[null,null,null,null,null,null,null,null,null,{"$f":"SUMIFS(Onglet_Consult_Database!$E:$E,Onglet_Consult_Database!$F:$F,Onglet_consult_Panel!$E35,Onglet_Consult_Database!$B:$B,K249)","v":0},{"$error":"#N/A"},null,"",""]
[null,null,null,null,null,null,null,null,null,{"$f":"SUMIFS(Onglet_Consult_Database!$E:$E,Onglet_Consult_Database!$F:$F,Onglet_consult_Panel!$E36,Onglet_Consult_Database!$B:$B,K250)","v":0},{"$error":"#N/A"},null,"",""]
[null,null,null,null,null,null,null,null,null,{"$f":"SUMIFS(Onglet_Consult_Database!$E:$E,Onglet_Consult_Database!$F:$F,Onglet_consult_Panel!$E37,Onglet_Consult_Database!$B:$B,K251)","v":0},{"$error":"#N/A"},null,"",""]
[null,null,null,null,null,null,null,null,null,{"$f":"SUMIFS(Onglet_Consult_Database!$E:$E,Onglet_Consult_Database!$F:$F,Onglet_consult_Panel!$E38,Onglet_Consult_Database!$B:$B,K252)","v":0},{"$error":"#N/A"},null,"",""]
[null,null,null,null,null,null,null,null,null,{"$f":"SUMIFS(Onglet_Consult_Database!$E:$E,Onglet_Consult_Database!$F:$F,Onglet_consult_Panel!$E39,Onglet_Consult_Database!$B:$B,K253)","v":0},{"$error":"#N/A"},null,"",""]
[null,null,null,null,null,null,null,null,null,{"$f":"SUMIFS(Onglet_Consult_Database!$E:$E,Onglet_Consult_Database!$F:$F,Onglet_consult_Panel!$E13,Onglet_Consult_Database!$B:$B,K254)","v":0},{"$error":"#N/A"},null,"",""]
[null,null,null,null,null,null,null,null,null,{"$f":"SUMIFS(Onglet_Consult_Database!$E:$E,Onglet_Consult_Database!$F:$F,Onglet_consult_Panel!$E14,Onglet_Consult_Database!$B:$B,K255)","v":0},{"$error":"#N/A"},null,"",""]
[null,null,null,null,null,null,null,null,null,{"$f":"SUMIFS(Onglet_Consult_Database!$E:$E,Onglet_Consult_Database!$F:$F,Onglet_consult_Panel!$E15,Onglet_Consult_Database!$B:$B,K256)","v":0},{"$error":"#N/A"},null,"",""]
[null,null,null,null,null,null,null,null,null,{"$f":"SUMIFS(Onglet_Consult_Database!$E:$E,Onglet_Consult_Database!$F:$F,Onglet_consult_Panel!$E16,Onglet_Consult_Database!$B:$B,K257)","v":0},{"$error":"#N/A"},null,"",""]
[null,null,null,null,null,null,null,null,null,{"$f":"SUMIFS(Onglet_Consult_Database!$E:$E,Onglet_Consult_Database!$F:$F,Onglet_consult_Panel!$E17,Onglet_Consult_Database!$B:$B,K258)","v":0},{"$error":"#N/A"},null,"",""]
[null,null,null,null,null,null,null,null,null,{"$f":"SUMIFS(Onglet_Consult_Database!$E:$E,Onglet_Consult_Database!$F:$F,Onglet_consult_Panel!$E18,Onglet_Consult_Database!$B:$B,K259)","v":0},{"$error":"#N/A"},null,"",""]
[null,null,null,null,null,null,null,null,null,{"$f":"SUMIFS(Onglet_Consult_Database!$E:$E,Onglet_Consult_Database!$F:$F,Onglet_consult_Panel!$E19,Onglet_Consult_Database!$B:$B,K260)","v":0},{"$error":"#N/A"},null,"",""]
[null,null,null,null,null,null,null,null,null,{"$f":"SUMIFS(Onglet_Consult_Database!$E:$E,Onglet_Consult_Database!$F:$F,Onglet_consult_Panel!$E20,Onglet_Consult_Database!$B:$B,K261)","v":0},{"$error":"#N/A"},null,"",""]
[null,null,null,null,null,null,null,null,null,{"$f":"SUMIFS(Onglet_Consult_Database!$E:$E,Onglet_Consult_Database!$F:$F,Onglet_consult_Panel!$E21,Onglet_Consult_Database!$B:$B,K262)","v":0},{"$error":"#N/A"},null,"",""]
[null,null,null,null,null,null,null,null,null,{"$f":"SUMIFS(Onglet_Consult_Database!$E:$E,Onglet_Consult_Database!$F:$F,Onglet_consult_Panel!$E22,Onglet_Consult_Database!$B:$B,K263)","v":0},{"$error":"#N/A"},null,"",""]
[null,null,null,null,null,null,null,null,null,{"$f":"SUMIFS(Onglet_Consult_Database!$E:$E,Onglet_Consult_Database!$F:$F,Onglet_consult_Panel!$E23,Onglet_Consult_Database!$B:$B,K264)","v":0},{"$error":"#N/A"},null,"",""]
[null,null,null,null,null,null,null,null,null,{"$f":"SUMIFS(Onglet_Consult_Database!$E:$E,Onglet_Consult_Database!$F:$F,Onglet_consult_Panel!$E24,Onglet_Consult_Database!$B:$B,K265)","v":0},{"$error":"#N/A"},null,"",""]
[null,null,null,null,null,null,null,null,null,{"$f":"SUMIFS(Onglet_Consult_Database!$E:$E,Onglet_Consult_Database!$F:$F,Onglet_consult_Panel!$E25,Onglet_Consult_Database!$B:$B,K266)","v":0},{"$error":"#N/A"},null,"",""]
[null,null,null,null,null,null,null,null,null,{"$f":"SUMIFS(Onglet_Consult_Database!$E:$E,Onglet_Consult_Database!$F:$F,Onglet_consult_Panel!$E26,Onglet_Consult_Database!$B:$B,K267)","v":0},{"$error":"#N/A"},null,"",""]
[null,null,null,null,null,null,null,null,null,{"$f":"SUMIFS(Onglet_Consult_Database!$E:$E,Onglet_Consult_Database!$F:$F,Onglet_consult_Panel!$E27,Onglet_Consult_Database!$B:$B,K268)","v":0},{"$error":"#N/A"},null,"",""]
[null,null,null,null,null,null,null,null,null,{"$f":"SUMIFS(Onglet_Consult_Database!$E:$E,Onglet_Consult_Database!$F:$F,Onglet_consult_Panel!$E28,Onglet_Consult_Database!$B:$B,K269)","v":0},{"$f":"_xlfn.IFS(F269=$K$3,\"I01\",F269=$K$4,\"I02\",F269=$K$5,\"I03\",F269=$K$6,\"I04\")","v":{"$error":"#N/A"}},null,{"$f":"IFERROR(VLOOKUP(E269,SH_list,8,FALSE),\"\")","v":""},{"$f":"IFERROR(VLOOKUP(E269,SH_list,6,FALSE),\"\")","v":""}]
[null,null,null,null,null,null,null,null,null,{"$f":"SUMIFS(Onglet_Consult_Database!$E:$E,Onglet_Consult_Database!$F:$F,Onglet_consult_Panel!$E29,Onglet_Consult_Database!$B:$B,K270)","v":0},{"$error":"#N/A"},null,"",""]
[null,null,null,null,null,null,null,null,null,{"$f":"SUMIFS(Onglet_Consult_Database!$E:$E,Onglet_Consult_Database!$F:$F,Onglet_consult_Panel!$E23,Onglet_Consult_Database!$B:$B,K271)","v":0},{"$error":"#N/A"},null,"",""]
[null,null,null,null,null,null,null,null,null,{"$f":"SUMIFS(Onglet_Consult_Database!$E:$E,Onglet_Consult_Database!$F:$F,Onglet_consult_Panel!$E24,Onglet_Consult_Database!$B:$B,K272)","v":0},{"$error":"#N/A"},null,"",""]
[null,null,null,null,null,null,null,null,null,{"$f":"SUMIFS(Onglet_Consult_Database!$E:$E,Onglet_Consult_Database!$F:$F,Onglet_consult_Panel!$E25,Onglet_Consult_Database!$B:$B,K273)","v":0},{"$error":"#N/A"},null,"",""]
[null,null,null,null,null,null,null,null,null,{"$f":"SUMIFS(Onglet_Consult_Database!$E:$E,Onglet_Consult_Database!$F:$F,Onglet_consult_Panel!$E26,Onglet_Consult_Database!$B:$B,K274)","v":0},{"$error":"#N/A"},null,"",""]
[null,null,null,null,null,null,null,null,null,{"$f":"SUMIFS(Onglet_Consult_Database!$E:$E,Onglet_Consult_Database!$F:$F,Onglet_consult_Panel!$E27,Onglet_Consult_Database!$B:$B,K275)","v":0},{"$error":"#N/A"},null,"",""]
[null,null,null,null,null,null,null,null,null,{"$f":"SUMIFS(Onglet_Consult_Database!$E:$E,Onglet_Consult_Database!$F:$F,Onglet_consult_Panel!$E28,Onglet_Consult_Database!$B:$B,K276)","v":0},{"$error":"#N/A"},null,"",""]
[null,null,null,null,null,null,null,null,null,{"$f":"SUMIFS(Onglet_Consult_Database!$E:$E,Onglet_Consult_Database!$F:$F,Onglet_consult_Panel!$E29,Onglet_Consult_Database!$B:$B,K277)","v":0},{"$error":"#N/A"},null,"",""]
[null,null,null,null,null,null,null,null,null,{"$f":"SUMIFS(Onglet_Consult_Database!$E:$E,Onglet_Consult_Database!$F:$F,Onglet_consult_Panel!$E23,Onglet_Consult_Database!$B:$B,K278)","v":0},{"$error":"#N/A"},null,"",""]
[null,null,null,null,null,null,null,null,null,{"$f":"SUMIFS(Onglet_Consult_Database!$E:$E,Onglet_Consult_Database!$F:$F,Onglet_consult_Panel!$E24,Onglet_Consult_Database!$B:$B,K279)","v":0},{"$error":"#N/A"},null,"",""]
[null,null,null,null,null,null,null,null,null,{"$f":"SUMIFS(Onglet_Consult_Database!$E:$E,Onglet_Consult_Database!$F:$F,Onglet_consult_Panel!$E25,Onglet_Consult_Database!$B:$B,K280)","v":0},{"$error":"#N/A"},null,"",""]
[null,null,null,null,null,null,null,null,null,{"$f":"SUMIFS(Onglet_Consult_Database!$E:$E,Onglet_Consult_Database!$F:$F,Onglet_consult_Panel!$E26,Onglet_Consult_Database!$B:$B,K281)","v":0},{"$error":"#N/A"},null,"",""]
[null,null,null,null,null,null,null,null,null,{"$f":"SUMIFS(Onglet_Consult_Database!$E:$E,Onglet_Consult_Database!$F:$F,Onglet_consult_Panel!$E13,Onglet_Consult_Database!$B:$B,K282)","v":0},{"$error":"#N/A"},null,"",""]
[null,null,null,null,null,null,null,null,null,{"$f":"SUMIFS(Onglet_Consult_Database!$E:$E,Onglet_Consult_Database!$F:$F,Onglet_consult_Panel!$E14,Onglet_Consult_Database!$B:$B,K283)","v":0},{"$error":"#N/A"},null,"",""]
[null,null,null,null,null,null,null,null,null,{"$f":"SUMIFS(Onglet_Consult_Database!$E:$E,Onglet_Consult_Database!$F:$F,Onglet_consult_Panel!$E15,Onglet_Consult_Database!$B:$B,K284)","v":0},{"$error":"#N/A"},null,"",""]
[null,null,null,null,null,null,null,null,null,{"$f":"SUMIFS(Onglet_Consult_Database!$E:$E,Onglet_Consult_Database!$F:$F,Onglet_consult_Panel!$E16,Onglet_Consult_Database!$B:$B,K285)","v":0},{"$error":"#N/A"},null,"",""]
[null,null,null,null,null,null,null,null,null,{"$f":"SUMIFS(Onglet_Consult_Database!$E:$E,Onglet_Consult_Database!$F:$F,Onglet_consult_Panel!$E17,Onglet_Consult_Database!$B:$B,K286)","v":0},{"$error":"#N/A"},null,"",""]
[null,null,null,null,null,null,null,null,null,{"$f":"SUMIFS(Onglet_Consult_Database!$E:$E,Onglet_Consult_Database!$F:$F,Onglet_consult_Panel!$E18,Onglet_Consult_Database!$B:$B,K287)","v":0},{"$error":"#N/A"},null,"",""]
[null,null,null,null,null,null,null,null,null,{"$f":"SUMIFS(Onglet_Consult_Database!$E:$E,Onglet_Consult_Database!$F:$F,Onglet_consult_Panel!$E19,Onglet_Consult_Database!$B:$B,K288)","v":0},{"$error":"#N/A"},null,"",""]
[null,null,null,null,null,null,null,null,null,{"$f":"SUMIFS(Onglet_Consult_Database!$E:$E,Onglet_Consult_Database!$F:$F,Onglet_consult_Panel!$E20,Onglet_Consult_Database!$B:$B,K289)","v":0},{"$error":"#N/A"},null,"",""]
[null,null,null,null,null,null,null,null,null,{"$f":"SUMIFS(Onglet_Consult_Database!$E:$E,Onglet_Consult_Database!$F:$F,Onglet_consult_Panel!$E21,Onglet_Consult_Database!$B:$B,K290)","v":0},{"$error":"#N/A"},null,"",""]
[null,null,null,null,null,null,null,null,null,{"$f":"SUMIFS(Onglet_Consult_Database!$E:$E,Onglet_Consult_Database!$F:$F,Onglet_consult_Panel!$E22,Onglet_Consult_Database!$B:$B,K291)","v":0},{"$error":"#N/A"},null,"",""]
[null,null,null,null,null,null,null,null,null,{"$f":"SUMIFS(Onglet_Consult_Database!$E:$E,Onglet_Consult_Database!$F:$F,Onglet_consult_Panel!$E23,Onglet_Consult_Database!$B:$B,K292)","v":0},{"$error":"#N/A"},null,"",""]
[null,null,null,null,null,null,null,null,null,{"$f":"SUMIFS(Onglet_Consult_Database!$E:$E,Onglet_Consult_Database!$F:$F,Onglet_consult_Panel!$E13,Onglet_Consult_Database!$B:$B,K293)","v":0},{"$error":"#N/A"},null,"",""]
[null,null,null,null,null,null,null,null,null,{"$f":"SUMIFS(Onglet_Consult_Database!$E:$E,Onglet_Consult_Database!$F:$F,Onglet_consult_Panel!$E14,Onglet_Consult_Database!$B:$B,K294)","v":0},{"$error":"#N/A"},null,"",""]
[null,null,null,null,null,null,null,null,null,{"$f":"SUMIFS(Onglet_Consult_Database!$E:$E,Onglet_Consult_Database!$F:$F,Onglet_consult_Panel!$E15,Onglet_Consult_Database!$B:$B,K295)","v":0},{"$error":"#N/A"},null,"",""]
[null,null,null,null,null,null,null,null,null,{"$f":"SUMIFS(Onglet_Consult_Database!$E:$E,Onglet_Consult_Database!$F:$F,Onglet_consult_Panel!$E16,Onglet_Consult_Database!$B:$B,K296)","v":0},{"$error":"#N/A"},null,"",""]
[null,null,null,null,null,null,null,null,null,{"$f":"SUMIFS(Onglet_Consult_Database!$E:$E,Onglet_Consult_Database!$F:$F,Onglet_consult_Panel!$E17,Onglet_Consult_Database!$B:$B,K297)","v":0},{"$error":"#N/A"},null,"",""]
[null,null,null,null,null,null,null,null,null,{"$f":"SUMIFS(Onglet_Consult_Database!$E:$E,Onglet_Consult_Database!$F:$F,Onglet_consult_Panel!$E18,Onglet_Consult_Database!$B:$B,K298)","v":0},{"$error":"#N/A"},null,"",""]
[null,null,null,null,null,null,null,null,null,{"$f":"SUMIFS(Onglet_Consult_Database!$E:$E,Onglet_Consult_Database!$F:$F,Onglet_consult_Panel!$E19,Onglet_Consult_Database!$B:$B,K299)","v":0},{"$error":"#N/A"},null,"",""]
[null,null,null,null,null,null,null,null,null,{"$f":"SUMIFS(Onglet_Consult_Database!$E:$E,Onglet_Consult_Database!$F:$F,Onglet_consult_Panel!$E20,Onglet_Consult_Database!$B:$B,K300)","v":0},{"$error":"#N/A"},null,"",""]
[null,null,null,null,null,null,null,null,null,{"$f":"SUMIFS(Onglet_Consult_Database!$E:$E,Onglet_Consult_Database!$F:$F,Onglet_consult_Panel!$E21,Onglet_Consult_Database!$B:$B,K301)","v":0},{"$error":"#N/A"},null,"",""]
[null,null,null,null,null,null,null,null,null,{"$f":"SUMIFS(Onglet_Consult_Database!$E:$E,Onglet_Consult_Database!$F:$F,Onglet_consult_Panel!$E22,Onglet_Consult_Database!$B:$B,K302)","v":0},{"$error":"#N/A"},null,"",""]
[null,null,null,null,null,null,null,null,null,{"$f":"SUMIFS(Onglet_Consult_Database!$E:$E,Onglet_Consult_Database!$F:$F,Onglet_consult_Panel!$E23,Onglet_Consult_Database!$B:$B,K303)","v":0},{"$error":"#N/A"},null,"",""]
[null,null,null,null,null,null,null,null,null,{"$f":"SUMIFS(Onglet_Consult_Database!$E:$E,Onglet_Consult_Database!$F:$F,Onglet_consult_Panel!$E24,Onglet_Consult_Database!$B:$B,K304)","v":0},{"$error":"#N/A"},null,"",""]
[null,null,null,null,null,null,null,null,null,{"$f":"SUMIFS(Onglet_Consult_Database!$E:$E,Onglet_Consult_Database!$F:$F,Onglet_consult_Panel!$E25,Onglet_Consult_Database!$B:$B,K305)","v":0},{"$error":"#N/A"},null,"",""]
[null,null,null,null,null,null,null,null,null,{"$f":"SUMIFS(Onglet_Consult_Database!$E:$E,Onglet_Consult_Database!$F:$F,Onglet_consult_Panel!$E26,Onglet_Consult_Database!$B:$B,K306)","v":0},{"$error":"#N/A"},null,"",""]
[null,null,null,null,null,null,null,null,null,{"$f":"SUMIFS(Onglet_Consult_Database!$E:$E,Onglet_Consult_Database!$F:$F,Onglet_consult_Panel!$E27,Onglet_Consult_Database!$B:$B,K307)","v":0},{"$error":"#N/A"},null,"",""]
[null,null,null,null,null,null,null,null,null,{"$f":"SUMIFS(Onglet_Consult_Database!$E:$E,Onglet_Consult_Database!$F:$F,Onglet_consult_Panel!$E28,Onglet_Consult_Database!$B:$B,K308)","v":0},{"$error":"#N/A"},null,"",""]
[null,null,null,null,null,null,null,null,null,{"$f":"SUMIFS(Onglet_Consult_Database!$E:$E,Onglet_Consult_Database!$F:$F,Onglet_consult_Panel!$E29,Onglet_Consult_Database!$B:$B,K309)","v":0},{"$error":"#N/A"},null,"",""]
[null,null,null,null,null,null,null,null,null,{"$f":"SUMIFS(Onglet_Consult_Database!$E:$E,Onglet_Consult_Database!$F:$F,Onglet_consult_Panel!$E30,Onglet_Consult_Database!$B:$B,K310)","v":0},{"$error":"#N/A"},null,"",""]
[null,null,null,null,null,null,null,null,null,{"$f":"SUMIFS(Onglet_Consult_Database!$E:$E,Onglet_Consult_Database!$F:$F,Onglet_consult_Panel!$E31,Onglet_Consult_Database!$B:$B,K311)","v":0},{"$error":"#N/A"},null,"",""]
[null,null,null,null,null,null,null,null,null,{"$f":"SUMIFS(Onglet_Consult_Database!$E:$E,Onglet_Consult_Database!$F:$F,Onglet_consult_Panel!$E32,Onglet_Consult_Database!$B:$B,K312)","v":0},{"$error":"#N/A"},null,"",""]
[null,null,null,null,null,null,null,null,null,{"$f":"SUMIFS(Onglet_Consult_Database!$E:$E,Onglet_Consult_Database!$F:$F,Onglet_consult_Panel!$E33,Onglet_Consult_Database!$B:$B,K313)","v":0},{"$error":"#N/A"},null,"",""]
[null,null,null,null,null,null,null,null,null,{"$f":"SUMIFS(Onglet_Consult_Database!$E:$E,Onglet_Consult_Database!$F:$F,Onglet_consult_Panel!$E34,Onglet_Consult_Database!$B:$B,K314)","v":0},{"$error":"#N/A"},null,"",""]
[null,null,null,null,null,null,null,null,null,{"$f":"SUMIFS(Onglet_Consult_Database!$E:$E,Onglet_Consult_Database!$F:$F,Onglet_consult_Panel!$E35,Onglet_Consult_Database!$B:$B,K315)","v":0},{"$error":"#N/A"},null,"",""]
[null,null,null,null,null,null,null,null,null,{"$f":"SUMIFS(Onglet_Consult_Database!$E:$E,Onglet_Consult_Database!$F:$F,Onglet_consult_Panel!$E31,Onglet_Consult_Database!$B:$B,K316)","v":0},{"$error":"#N/A"},null,"",""]
[null,null,null,null,null,null,null,null,null,{"$f":"SUMIFS(Onglet_Consult_Database!$E:$E,Onglet_Consult_Database!$F:$F,Onglet_consult_Panel!$E32,Onglet_Consult_Database!$B:$B,K317)","v":0},{"$error":"#N/A"},null,"",""]
[null,null,null,null,null,null,null,null,null,{"$f":"SUMIFS(Onglet_Consult_Database!$E:$E,Onglet_Consult_Database!$F:$F,Onglet_consult_Panel!$E33,Onglet_Consult_Database!$B:$B,K318)","v":0},{"$error":"#N/A"},null,"",""]
[null,null,null,null,null,null,null,null,null,{"$f":"SUMIFS(Onglet_Consult_Database!$E:$E,Onglet_Consult_Database!$F:$F,Onglet_consult_Panel!$E34,Onglet_Consult_Database!$B:$B,K319)","v":0},{"$error":"#N/A"},null,"",""]
[null,null,null,null,null,null,null,null,null,{"$f":"SUMIFS(Onglet_Consult_Database!$E:$E,Onglet_Consult_Database!$F:$F,Onglet_consult_Panel!$E13,Onglet_Consult_Database!$B:$B,K320)","v":0},{"$error":"#N/A"},null,"",""]
[null,null,null,null,null,null,null,null,null,{"$f":"SUMIFS(Onglet_Consult_Database!$E:$E,Onglet_Consult_Database!$F:$F,Onglet_consult_Panel!$E14,Onglet_Consult_Database!$B:$B,K321)","v":0},{"$error":"#N/A"},null,"",""]
[null,null,null,null,null,null,null,null,null,{"$f":"SUMIFS(Onglet_Consult_Database!$E:$E,Onglet_Consult_Database!$F:$F,Onglet_consult_Panel!$E15,Onglet_Consult_Database!$B:$B,K322)","v":0},{"$error":"#N/A"},null,"",""]
[null,null,null,null,null,null,null,null,null,{"$f":"SUMIFS(Onglet_Consult_Database!$E:$E,Onglet_Consult_Database!$F:$F,Onglet_consult_Panel!$E16,Onglet_Consult_Database!$B:$B,K323)","v":0},{"$error":"#N/A"},null,"",""]
[null,null,null,null,null,null,null,null,null,{"$f":"SUMIFS(Onglet_Consult_Database!$E:$E,Onglet_Consult_Database!$F:$F,Onglet_consult_Panel!$E17,Onglet_Consult_Database!$B:$B,K324)","v":0},{"$error":"#N/A"},null,"",""]
[null,null,null,null,null,null,null,null,null,{"$f":"SUMIFS(Onglet_Consult_Database!$E:$E,Onglet_Consult_Database!$F:$F,Onglet_consult_Panel!$E18,Onglet_Consult_Database!$B:$B,K325)","v":0},{"$error":"#N/A"},null,"",""]
[null,null,null,null,null,null,null,null,null,{"$f":"SUMIFS(Onglet_Consult_Database!$E:$E,Onglet_Consult_Database!$F:$F,Onglet_consult_Panel!$E19,Onglet_Consult_Database!$B:$B,K326)","v":0},{"$error":"#N/A"},null,"",""]
[null,null,null,null,null,null,null,null,null,{"$f":"SUMIFS(Onglet_Consult_Database!$E:$E,Onglet_Consult_Database!$F:$F,Onglet_consult_Panel!$E20,Onglet_Consult_Database!$B:$B,K327)","v":0},{"$error":"#N/A"},null,"",""]
[null,null,null,null,null,null,null,null,null,{"$f":"SUMIFS(Onglet_Consult_Database!$E:$E,Onglet_Consult_Database!$F:$F,Onglet_consult_Panel!$E13,Onglet_Consult_Database!$B:$B,K328)","v":0},{"$error":"#N/A"},null,"",""]
[null,null,null,null,null,null,null,null,null,{"$f":"SUMIFS(Onglet_Consult_Database!$E:$E,Onglet_Consult_Database!$F:$F,Onglet_consult_Panel!$E13,Onglet_Consult_Database!$B:$B,K329)","v":0},{"$error":"#N/A"},null,"",""]
[null,null,null,null,null,null,null,null,null,{"$f":"SUMIFS(Onglet_Consult_Database!$E:$E,Onglet_Consult_Database!$F:$F,Onglet_consult_Panel!$E14,Onglet_Consult_Database!$B:$B,K330)","v":0},{"$error":"#N/A"},null,"",""]
[null,null,null,null,null,null,null,null,null,{"$f":"SUMIFS(Onglet_Consult_Database!$E:$E,Onglet_Consult_Database!$F:$F,Onglet_consult_Panel!$E13,Onglet_Consult_Database!$B:$B,K331)","v":0},{"$error":"#N/A"},null,"",""]
[null,null,null,null,null,null,null,null,null,{"$f":"SUMIFS(Onglet_Consult_Database!$E:$E,Onglet_Consult_Database!$F:$F,Onglet_consult_Panel!$E14,Onglet_Consult_Database!$B:$B,K332)","v":0},{"$error":"#N/A"},null,"",""]
[null,null,null,null,null,null,null,null,null,{"$f":"SUMIFS(Onglet_Consult_Database!$E:$E,Onglet_Consult_Database!$F:$F,Onglet_consult_Panel!$E13,Onglet_Consult_Database!$B:$B,K333)","v":0},{"$f":"_xlfn.IFS(F333=$K$3,\"I01\",F333=$K$4,\"I02\",F333=$K$5,\"I03\",F333=$K$6,\"I04\")","v":{"$error":"#N/A"}},null,{"$f":"IFERROR(VLOOKUP(E333,SH_list,8,FALSE),\"\")","v":""},{"$f":"IFERROR(VLOOKUP(E333,SH_list,6,FALSE),\"\")","v":""}]
[null,null,null,null,null,null,null,null,null,{"$f":"SUMIFS(Onglet_Consult_Database!$E:$E,Onglet_Consult_Database!$F:$F,Onglet_consult_Panel!$E13,Onglet_Consult_Database!$B:$B,K334)","v":0},{"$error":"#N/A"},null,"",""]
[null,null,null,null,null,null,null,null,null,{"$f":"SUMIFS(Onglet_Consult_Database!$E:$E,Onglet_Consult_Database!$F:$F,Onglet_consult_Panel!$E13,Onglet_Consult_Database!$B:$B,K335)","v":0},{"$error":"#N/A"},null,"",""]
[null,null,null,null,null,null,null,null,null,{"$f":"SUMIFS(Onglet_Consult_Database!$E:$E,Onglet_Consult_Database!$F:$F,Onglet_consult_Panel!$E13,Onglet_Consult_Database!$B:$B,K336)","v":0},{"$error":"#N/A"},null,"",""]
[null,null,null,null,null,null,null,null,null,{"$f":"SUMIFS(Onglet_Consult_Database!$E:$E,Onglet_Consult_Database!$F:$F,Onglet_consult_Panel!$E13,Onglet_Consult_Database!$B:$B,K337)","v":0},{"$error":"#N/A"},null,"",""]
[null,null,null,null,null,null,null,null,null,{"$f":"SUMIFS(Onglet_Consult_Database!$E:$E,Onglet_Consult_Database!$F:$F,Onglet_consult_Panel!$E13,Onglet_Consult_Database!$B:$B,K338)","v":0},{"$error":"#N/A"},null,"",""]
[null,null,null,null,null,null,null,null,null,{"$f":"SUMIFS(Onglet_Consult_Database!$E:$E,Onglet_Consult_Database!$F:$F,Onglet_consult_Panel!$E14,Onglet_Consult_Database!$B:$B,K339)","v":0},{"$error":"#N/A"},null,"",""]
[null,null,null,null,null,null,null,null,null,{"$f":"SUMIFS(Onglet_Consult_Database!$E:$E,Onglet_Consult_Database!$F:$F,Onglet_consult_Panel!$E15,Onglet_Consult_Database!$B:$B,K340)","v":0},{"$error":"#N/A"},null,"",""]
[null,null,null,null,null,null,null,null,null,{"$f":"SUMIFS(Onglet_Consult_Database!$E:$E,Onglet_Consult_Database!$F:$F,Onglet_consult_Panel!$E16,Onglet_Consult_Database!$B:$B,K341)","v":0},{"$error":"#N/A"},null,"",""]
[null,null,null,null,null,null,null,null,null,{"$f":"SUMIFS(Onglet_Consult_Database!$E:$E,Onglet_Consult_Database!$F:$F,Onglet_consult_Panel!$E13,Onglet_Consult_Database!$B:$B,K342)","v":0},{"$error":"#N/A"},null,"",""]
[null,null,null,null,null,null,null,null,null,{"$f":"SUMIFS(Onglet_Consult_Database!$E:$E,Onglet_Consult_Database!$F:$F,Onglet_consult_Panel!$E14,Onglet_Consult_Database!$B:$B,K343)","v":0},{"$error":"#N/A"},null,"",""]
[null,null,null,null,null,null,null,null,null,{"$f":"SUMIFS(Onglet_Consult_Database!$E:$E,Onglet_Consult_Database!$F:$F,Onglet_consult_Panel!$E15,Onglet_Consult_Database!$B:$B,K344)","v":0},{"$error":"#N/A"},null,"",""]
[null,null,null,null,null,null,null,null,null,{"$f":"SUMIFS(Onglet_Consult_Database!$E:$E,Onglet_Consult_Database!$F:$F,Onglet_consult_Panel!$E16,Onglet_Consult_Database!$B:$B,K345)","v":0},{"$error":"#N/A"},null,"",""]
[null,null,null,null,null,null,null,null,null,{"$f":"SUMIFS(Onglet_Consult_Database!$E:$E,Onglet_Consult_Database!$F:$F,Onglet_consult_Panel!$E17,Onglet_Consult_Database!$B:$B,K346)","v":0},{"$error":"#N/A"},null,"",""]
[null,null,null,null,null,null,null,null,null,{"$f":"SUMIFS(Onglet_Consult_Database!$E:$E,Onglet_Consult_Database!$F:$F,Onglet_consult_Panel!$E22,Onglet_Consult_Database!$B:$B,K347)","v":0},{"$error":"#N/A"},null,"",""]
[null,null,null,null,null,null,null,null,null,{"$f":"SUMIFS(Onglet_Consult_Database!$E:$E,Onglet_Consult_Database!$F:$F,Onglet_consult_Panel!$E23,Onglet_Consult_Database!$B:$B,K348)","v":0},{"$error":"#N/A"},null,"",""]
[null,null,null,null,null,null,null,null,null,{"$f":"SUMIFS(Onglet_Consult_Database!$E:$E,Onglet_Consult_Database!$F:$F,Onglet_consult_Panel!$E18,Onglet_Consult_Database!$B:$B,K349)","v":0},{"$error":"#N/A"},null,"",""]
[null,null,null,null,null,null,null,null,null,{"$f":"SUMIFS(Onglet_Consult_Database!$E:$E,Onglet_Consult_Database!$F:$F,Onglet_consult_Panel!$E19,Onglet_Consult_Database!$B:$B,K350)","v":0},{"$error":"#N/A"},null,"",""]
[null,null,null,null,null,null,null,null,null,{"$f":"SUMIFS(Onglet_Consult_Database!$E:$E,Onglet_Consult_Database!$F:$F,Onglet_consult_Panel!$E20,Onglet_Consult_Database!$B:$B,K351)","v":0},{"$error":"#N/A"},null,"",""]
[null,null,null,null,null,null,null,null,null,{"$f":"SUMIFS(Onglet_Consult_Database!$E:$E,Onglet_Consult_Database!$F:$F,Onglet_consult_Panel!$E21,Onglet_Consult_Database!$B:$B,K352)","v":0},{"$error":"#N/A"},null,"",""]
[null,null,null,null,null,null,null,null,null,{"$f":"SUMIFS(Onglet_Consult_Database!$E:$E,Onglet_Consult_Database!$F:$F,Onglet_consult_Panel!$E22,Onglet_Consult_Database!$B:$B,K353)","v":0},{"$error":"#N/A"},null,"",""]
[null,null,null,null,null,null,null,null,null,{"$f":"SUMIFS(Onglet_Consult_Database!$E:$E,Onglet_Consult_Database!$F:$F,Onglet_consult_Panel!$E13,Onglet_Consult_Database!$B:$B,K354)","v":0},{"$error":"#N/A"},null,"",""]
[null,null,null,null,null,null,null,null,null,{"$f":"SUMIFS(Onglet_Consult_Database!$E:$E,Onglet_Consult_Database!$F:$F,Onglet_consult_Panel!$E13,Onglet_Consult_Database!$B:$B,K355)","v":0},{"$error":"#N/A"},null,"",""]
[null,null,null,null,null,null,null,null,null,{"$f":"SUMIFS(Onglet_Consult_Database!$E:$E,Onglet_Consult_Database!$F:$F,Onglet_consult_Panel!$E13,Onglet_Consult_Database!$B:$B,K356)","v":0},{"$error":"#N/A"},null,"",""]
[null,null,null,null,null,null,null,null,null,{"$f":"SUMIFS(Onglet_Consult_Database!$E:$E,Onglet_Consult_Database!$F:$F,Onglet_consult_Panel!$E13,Onglet_Consult_Database!$B:$B,K357)","v":0},{"$error":"#N/A"},null,"",""]
[null,null,null,null,null,null,null,null,null,{"$f":"SUMIFS(Onglet_Consult_Database!$E:$E,Onglet_Consult_Database!$F:$F,Onglet_consult_Panel!$E14,Onglet_Consult_Database!$B:$B,K358)","v":0},{"$error":"#N/A"},null,"",""]
[null,null,null,null,null,null,null,null,null,{"$f":"SUMIFS(Onglet_Consult_Database!$E:$E,Onglet_Consult_Database!$F:$F,Onglet_consult_Panel!$E15,Onglet_Consult_Database!$B:$B,K359)","v":0},{"$error":"#N/A"},null,"",""]
[null,null,null,null,null,null,null,null,null,{"$f":"SUMIFS(Onglet_Consult_Database!$E:$E,Onglet_Consult_Database!$F:$F,Onglet_consult_Panel!$E16,Onglet_Consult_Database!$B:$B,K360)","v":0},{"$error":"#N/A"},null,"",""]
[null,null,null,null,null,null,null,null,null,{"$f":"SUMIFS(Onglet_Consult_Database!$E:$E,Onglet_Consult_Database!$F:$F,Onglet_consult_Panel!$E17,Onglet_Consult_Database!$B:$B,K361)","v":0},{"$error":"#N/A"},null,"",""]
[null,null,null,null,null,null,null,null,null,{"$f":"SUMIFS(Onglet_Consult_Database!$E:$E,Onglet_Consult_Database!$F:$F,Onglet_consult_Panel!$E18,Onglet_Consult_Database!$B:$B,K362)","v":0},{"$error":"#N/A"},null,"",""]
[null,null,null,null,null,null,null,null,null,{"$f":"SUMIFS(Onglet_Consult_Database!$E:$E,Onglet_Consult_Database!$F:$F,Onglet_consult_Panel!$E19,Onglet_Consult_Database!$B:$B,K363)","v":0},{"$error":"#N/A"},null,"",""]
[null,null,null,null,null,null,null,null,null,{"$f":"SUMIFS(Onglet_Consult_Database!$E:$E,Onglet_Consult_Database!$F:$F,Onglet_consult_Panel!$E20,Onglet_Consult_Database!$B:$B,K364)","v":0},{"$error":"#N/A"},null,"",""]
[null,null,null,null,null,null,null,null,null,{"$f":"SUMIFS(Onglet_Consult_Database!$E:$E,Onglet_Consult_Database!$F:$F,Onglet_consult_Panel!$E21,Onglet_Consult_Database!$B:$B,K365)","v":0},{"$error":"#N/A"},null,"",""]
[null,null,null,null,null,null,null,null,null,{"$f":"SUMIFS(Onglet_Consult_Database!$E:$E,Onglet_Consult_Database!$F:$F,Onglet_consult_Panel!$E22,Onglet_Consult_Database!$B:$B,K366)","v":0},{"$error":"#N/A"},null,"",""]
[null,null,null,null,null,null,null,null,null,{"$f":"SUMIFS(Onglet_Consult_Database!$E:$E,Onglet_Consult_Database!$F:$F,Onglet_consult_Panel!$E19,Onglet_Consult_Database!$B:$B,K367)","v":0},{"$error":"#N/A"},null,"",""]
[null,null,null,null,null,null,null,null,null,{"$f":"SUMIFS(Onglet_Consult_Database!$E:$E,Onglet_Consult_Database!$F:$F,Onglet_consult_Panel!$E20,Onglet_Consult_Database!$B:$B,K368)","v":0},{"$error":"#N/A"},null,"",""]
[null,null,null,null,null,null,null,null,null,{"$f":"SUMIFS(Onglet_Consult_Database!$E:$E,Onglet_Consult_Database!$F:$F,Onglet_consult_Panel!$E15,Onglet_Consult_Database!$B:$B,K369)","v":0},{"$error":"#N/A"},null,"",""]
[null,null,null,null,null,null,null,null,null,{"$f":"SUMIFS(Onglet_Consult_Database!$E:$E,Onglet_Consult_Database!$F:$F,Onglet_consult_Panel!$E15,Onglet_Consult_Database!$B:$B,K370)","v":0},{"$error":"#N/A"},null,"",""]
[null,null,null,null,null,null,null,null,null,{"$f":"SUMIFS(Onglet_Consult_Database!$E:$E,Onglet_Consult_Database!$F:$F,Onglet_consult_Panel!$E16,Onglet_Consult_Database!$B:$B,K371)","v":0},{"$error":"#N/A"},null,"",""]
[null,null,null,null,null,null,null,null,null,{"$f":"SUMIFS(Onglet_Consult_Database!$E:$E,Onglet_Consult_Database!$F:$F,Onglet_consult_Panel!$E13,Onglet_Consult_Database!$B:$B,K372)","v":0},{"$error":"#N/A"},null,"",""]
[null,null,null,null,null,null,null,null,null,{"$f":"SUMIFS(Onglet_Consult_Database!$E:$E,Onglet_Consult_Database!$F:$F,Onglet_consult_Panel!$E13,Onglet_Consult_Database!$B:$B,K373)","v":0},{"$error":"#N/A"},null,"",""]
[null,null,null,null,null,null,null,null,null,{"$f":"SUMIFS(Onglet_Consult_Database!$E:$E,Onglet_Consult_Database!$F:$F,Onglet_consult_Panel!$E14,Onglet_Consult_Database!$B:$B,K374)","v":0},{"$error":"#N/A"},null,"",""]
[null,null,null,null,null,null,null,null,null,{"$f":"SUMIFS(Onglet_Consult_Database!$E:$E,Onglet_Consult_Database!$F:$F,Onglet_consult_Panel!$E15,Onglet_Consult_Database!$B:$B,K375)","v":0},{"$error":"#N/A"},null,"",""]
[null,null,null,null,null,null,null,null,null,{"$f":"SUMIFS(Onglet_Consult_Database!$E:$E,Onglet_Consult_Database!$F:$F,Onglet_consult_Panel!$E16,Onglet_Consult_Database!$B:$B,K376)","v":0},{"$error":"#N/A"},null,"",""]
[null,null,null,null,null,null,null,null,null,{"$f":"SUMIFS(Onglet_Consult_Database!$E:$E,Onglet_Consult_Database!$F:$F,Onglet_consult_Panel!$E17,Onglet_Consult_Database!$B:$B,K377)","v":0},{"$error":"#N/A"},null,"",""]
[null,null,null,null,null,null,null,null,null,{"$f":"SUMIFS(Onglet_Consult_Database!$E:$E,Onglet_Consult_Database!$F:$F,Onglet_consult_Panel!$E18,Onglet_Consult_Database!$B:$B,K378)","v":0},{"$error":"#N/A"},null,"",""]
[null,null,null,null,null,null,null,null,null,{"$f":"SUMIFS(Onglet_Consult_Database!$E:$E,Onglet_Consult_Database!$F:$F,Onglet_consult_Panel!$E19,Onglet_Consult_Database!$B:$B,K379)","v":0},{"$error":"#N/A"},null,"",""]
[null,null,null,null,null,null,null,null,null,{"$f":"SUMIFS(Onglet_Consult_Database!$E:$E,Onglet_Consult_Database!$F:$F,Onglet_consult_Panel!$E20,Onglet_Consult_Database!$B:$B,K380)","v":0},{"$error":"#N/A"},null,"",""]
[null,null,null,null,null,null,null,null,null,{"$f":"SUMIFS(Onglet_Consult_Database!$E:$E,Onglet_Consult_Database!$F:$F,Onglet_consult_Panel!$E21,Onglet_Consult_Database!$B:$B,K381)","v":0},{"$error":"#N/A"},null,"",""]
[null,null,null,null,null,null,null,null,null,{"$f":"SUMIFS(Onglet_Consult_Database!$E:$E,Onglet_Consult_Database!$F:$F,Onglet_consult_Panel!$E22,Onglet_Consult_Database!$B:$B,K382)","v":0},{"$error":"#N/A"},null,"",""]
[null,null,null,null,null,null,null,null,null,{"$f":"SUMIFS(Onglet_Consult_Database!$E:$E,Onglet_Consult_Database!$F:$F,Onglet_consult_Panel!$E23,Onglet_Consult_Database!$B:$B,K383)","v":0},{"$error":"#N/A"},null,"",""]
[null,null,null,null,null,null,null,null,null,{"$f":"SUMIFS(Onglet_Consult_Database!$E:$E,Onglet_Consult_Database!$F:$F,Onglet_consult_Panel!$E24,Onglet_Consult_Database!$B:$B,K384)","v":0},{"$error":"#N/A"},null,"",""]
[null,null,null,null,null,null,null,null,null,{"$f":"SUMIFS(Onglet_Consult_Database!$E:$E,Onglet_Consult_Database!$F:$F,Onglet_consult_Panel!$E25,Onglet_Consult_Database!$B:$B,K385)","v":0},{"$error":"#N/A"},null,"",""]
[null,null,null,null,null,null,null,null,null,{"$f":"SUMIFS(Onglet_Consult_Database!$E:$E,Onglet_Consult_Database!$F:$F,Onglet_consult_Panel!$E26,Onglet_Consult_Database!$B:$B,K386)","v":0},{"$error":"#N/A"},null,"",""]
[null,null,null,null,null,null,null,null,null,{"$f":"SUMIFS(Onglet_Consult_Database!$E:$E,Onglet_Consult_Database!$F:$F,Onglet_consult_Panel!$E27,Onglet_Consult_Database!$B:$B,K387)","v":0},{"$error":"#N/A"},null,"",""]
[null,null,null,null,null,null,null,null,null,{"$f":"SUMIFS(Onglet_Consult_Database!$E:$E,Onglet_Consult_Database!$F:$F,Onglet_consult_Panel!$E19,Onglet_Consult_Database!$B:$B,K388)","v":0},{"$error":"#N/A"},null,"",""]
[null,null,null,null,null,null,null,null,null,{"$f":"SUMIFS(Onglet_Consult_Database!$E:$E,Onglet_Consult_Database!$F:$F,Onglet_consult_Panel!$E20,Onglet_Consult_Database!$B:$B,K389)","v":0},{"$error":"#N/A"},null,"",""]
[null,null,null,null,null,null,null,null,null,{"$f":"SUMIFS(Onglet_Consult_Database!$E:$E,Onglet_Consult_Database!$F:$F,Onglet_consult_Panel!$E21,Onglet_Consult_Database!$B:$B,K390)","v":0},{"$error":"#N/A"},null,"",""]
[null,null,null,null,null,null,null,null,null,{"$f":"SUMIFS(Onglet_Consult_Database!$E:$E,Onglet_Consult_Database!$F:$F,Onglet_consult_Panel!$E22,Onglet_Consult_Database!$B:$B,K391)","v":0},{"$error":"#N/A"},null,"",""]
[null,null,null,null,null,null,null,null,null,{"$f":"SUMIFS(Onglet_Consult_Database!$E:$E,Onglet_Consult_Database!$F:$F,Onglet_consult_Panel!$E23,Onglet_Consult_Database!$B:$B,K392)","v":0},{"$error":"#N/A"},null,"",""]
[null,null,null,null,null,null,null,null,null,{"$f":"SUMIFS(Onglet_Consult_Database!$E:$E,Onglet_Consult_Database!$F:$F,Onglet_consult_Panel!$E24,Onglet_Consult_Database!$B:$B,K393)","v":0},{"$error":"#N/A"},null,"",""]
[null,null,null,null,null,null,null,null,null,{"$f":"SUMIFS(Onglet_Consult_Database!$E:$E,Onglet_Consult_Database!$F:$F,Onglet_consult_Panel!$E13,Onglet_Consult_Database!$B:$B,K394)","v":0},{"$error":"#N/A"},null,"",""]
[null,null,null,null,null,null,null,null,null,{"$f":"SUMIFS(Onglet_Consult_Database!$E:$E,Onglet_Consult_Database!$F:$F,Onglet_consult_Panel!$E14,Onglet_Consult_Database!$B:$B,K395)","v":0},{"$error":"#N/A"},null,"",""]
[null,null,null,null,null,null,null,null,null,{"$f":"SUMIFS(Onglet_Consult_Database!$E:$E,Onglet_Consult_Database!$F:$F,Onglet_consult_Panel!$E15,Onglet_Consult_Database!$B:$B,K396)","v":0},{"$error":"#N/A"},null,"",""]
[null,null,null,null,null,null,null,null,null,{"$f":"SUMIFS(Onglet_Consult_Database!$E:$E,Onglet_Consult_Database!$F:$F,Onglet_consult_Panel!$E24,Onglet_Consult_Database!$B:$B,K397)","v":0},{"$f":"_xlfn.IFS(F397=$K$3,\"I01\",F397=$K$4,\"I02\",F397=$K$5,\"I03\",F397=$K$6,\"I04\")","v":{"$error":"#N/A"}},null,{"$f":"IFERROR(VLOOKUP(E397,SH_list,8,FALSE),\"\")","v":""},{"$f":"IFERROR(VLOOKUP(E397,SH_list,6,FALSE),\"\")","v":""}]
[null,null,null,null,null,null,null,null,null,{"$f":"SUMIFS(Onglet_Consult_Database!$E:$E,Onglet_Consult_Database!$F:$F,Onglet_consult_Panel!$E25,Onglet_Consult_Database!$B:$B,K398)","v":0},{"$error":"#N/A"},null,"",""]
[null,null,null,null,null,null,null,null,null,{"$f":"SUMIFS(Onglet_Consult_Database!$E:$E,Onglet_Consult_Database!$F:$F,Onglet_consult_Panel!$E13,Onglet_Consult_Database!$B:$B,K399)","v":0},{"$error":"#N/A"},null,"",""]
[null,null,null,null,null,null,null,null,null,{"$f":"SUMIFS(Onglet_Consult_Database!$E:$E,Onglet_Consult_Database!$F:$F,Onglet_consult_Panel!$E14,Onglet_Consult_Database!$B:$B,K400)","v":0},{"$error":"#N/A"},null,"",""]
[null,null,null,null,null,null,null,null,null,{"$f":"SUMIFS(Onglet_Consult_Database!$E:$E,Onglet_Consult_Database!$F:$F,Onglet_consult_Panel!$E15,Onglet_Consult_Database!$B:$B,K401)","v":0},{"$error":"#N/A"},null,"",""]
[null,null,null,null,null,null,null,null,null,{"$f":"SUMIFS(Onglet_Consult_Database!$E:$E,Onglet_Consult_Database!$F:$F,Onglet_consult_Panel!$E13,Onglet_Consult_Database!$B:$B,K402)","v":0},{"$error":"#N/A"},null,"",""]
[null,null,null,null,null,null,null,null,null,{"$f":"SUMIFS(Onglet_Consult_Database!$E:$E,Onglet_Consult_Database!$F:$F,Onglet_consult_Panel!$E14,Onglet_Consult_Database!$B:$B,K403)","v":0},{"$error":"#N/A"},null,"",""]
[null,null,null,null,null,null,null,null,null,{"$f":"SUMIFS(Onglet_Consult_Database!$E:$E,Onglet_Consult_Database!$F:$F,Onglet_consult_Panel!$E15,Onglet_Consult_Database!$B:$B,K404)","v":0},{"$error":"#N/A"},null,"",""]
[null,null,null,null,null,null,null,null,null,{"$f":"SUMIFS(Onglet_Consult_Database!$E:$E,Onglet_Consult_Database!$F:$F,Onglet_consult_Panel!$E16,Onglet_Consult_Database!$B:$B,K405)","v":0},{"$error":"#N/A"},null,"",""]
[null,null,null,null,null,null,null,null,null,{"$f":"SUMIFS(Onglet_Consult_Database!$E:$E,Onglet_Consult_Database!$F:$F,Onglet_consult_Panel!$E17,Onglet_Consult_Database!$B:$B,K406)","v":0},{"$error":"#N/A"},null,"",""]
[null,null,null,null,null,null,null,null,null,{"$f":"SUMIFS(Onglet_Consult_Database!$E:$E,Onglet_Consult_Database!$F:$F,Onglet_consult_Panel!$E18,Onglet_Consult_Database!$B:$B,K407)","v":0},{"$error":"#N/A"},null,"",""]
[null,null,null,null,null,null,null,null,null,{"$f":"SUMIFS(Onglet_Consult_Database!$E:$E,Onglet_Consult_Database!$F:$F,Onglet_consult_Panel!$E19,Onglet_Consult_Database!$B:$B,K408)","v":0},{"$error":"#N/A"},null,"",""]
[null,null,null,null,null,null,null,null,null,{"$f":"SUMIFS(Onglet_Consult_Database!$E:$E,Onglet_Consult_Database!$F:$F,Onglet_consult_Panel!$E20,Onglet_Consult_Database!$B:$B,K409)","v":0},{"$error":"#N/A"},null,"",""]
[null,null,null,null,null,null,null,null,null,{"$f":"SUMIFS(Onglet_Consult_Database!$E:$E,Onglet_Consult_Database!$F:$F,Onglet_consult_Panel!$E21,Onglet_Consult_Database!$B:$B,K410)","v":0},{"$error":"#N/A"},null,"",""]
[null,null,null,null,null,null,null,null,null,{"$f":"SUMIFS(Onglet_Consult_Database!$E:$E,Onglet_Consult_Database!$F:$F,Onglet_consult_Panel!$E22,Onglet_Consult_Database!$B:$B,K411)","v":0},{"$error":"#N/A"},null,"",""]
[null,null,null,null,null,null,null,null,null,{"$f":"SUMIFS(Onglet_Consult_Database!$E:$E,Onglet_Consult_Database!$F:$F,Onglet_consult_Panel!$E23,Onglet_Consult_Database!$B:$B,K412)","v":0},{"$error":"#N/A"},null,"",""]
[null,null,null,null,null,null,null,null,null,{"$f":"SUMIFS(Onglet_Consult_Database!$E:$E,Onglet_Consult_Database!$F:$F,Onglet_consult_Panel!$E24,Onglet_Consult_Database!$B:$B,K413)","v":0},{"$error":"#N/A"},null,"",""]
[null,null,null,null,null,null,null,null,null,{"$f":"SUMIFS(Onglet_Consult_Database!$E:$E,Onglet_Consult_Database!$F:$F,Onglet_consult_Panel!$E25,Onglet_Consult_Database!$B:$B,K414)","v":0},{"$error":"#N/A"},null,"",""]
[null,null,null,null,null,null,null,null,null,{"$f":"SUMIFS(Onglet_Consult_Database!$E:$E,Onglet_Consult_Database!$F:$F,Onglet_consult_Panel!$E26,Onglet_Consult_Database!$B:$B,K415)","v":0},{"$error":"#N/A"},null,"",""]
[null,null,null,null,null,null,null,null,null,{"$f":"SUMIFS(Onglet_Consult_Database!$E:$E,Onglet_Consult_Database!$F:$F,Onglet_consult_Panel!$E27,Onglet_Consult_Database!$B:$B,K416)","v":0},{"$error":"#N/A"},null,"",""]
[null,null,null,null,null,null,null,null,null,{"$f":"SUMIFS(Onglet_Consult_Database!$E:$E,Onglet_Consult_Database!$F:$F,Onglet_consult_Panel!$E28,Onglet_Consult_Database!$B:$B,K417)","v":0},{"$error":"#N/A"},null,"",""]
[null,null,null,null,null,null,null,null,null,{"$f":"SUMIFS(Onglet_Consult_Database!$E:$E,Onglet_Consult_Database!$F:$F,Onglet_consult_Panel!$E29,Onglet_Consult_Database!$B:$B,K418)","v":0},{"$error":"#N/A"},null,"",""]
[null,null,null,null,null,null,null,null,null,{"$f":"SUMIFS(Onglet_Consult_Database!$E:$E,Onglet_Consult_Database!$F:$F,Onglet_consult_Panel!$E30,Onglet_Consult_Database!$B:$B,K419)","v":0},{"$error":"#N/A"},null,"",""]
[null,null,null,null,null,null,null,null,null,{"$f":"SUMIFS(Onglet_Consult_Database!$E:$E,Onglet_Consult_Database!$F:$F,Onglet_consult_Panel!$E31,Onglet_Consult_Database!$B:$B,K420)","v":0},{"$error":"#N/A"},null,"",""]
[null,null,null,null,null,null,null,null,null,{"$f":"SUMIFS(Onglet_Consult_Database!$E:$E,Onglet_Consult_Database!$F:$F,Onglet_consult_Panel!$E32,Onglet_Consult_Database!$B:$B,K421)","v":0},{"$error":"#N/A"},null,"",""]
[null,null,null,null,null,null,null,null,null,{"$f":"SUMIFS(Onglet_Consult_Database!$E:$E,Onglet_Consult_Database!$F:$F,Onglet_consult_Panel!$E33,Onglet_Consult_Database!$B:$B,K422)","v":0},{"$error":"#N/A"},null,"",""]
[null,null,null,null,null,null,null,null,null,{"$f":"SUMIFS(Onglet_Consult_Database!$E:$E,Onglet_Consult_Database!$F:$F,Onglet_consult_Panel!$E34,Onglet_Consult_Database!$B:$B,K423)","v":0},{"$error":"#N/A"},null,"",""]
[null,null,null,null,null,null,null,null,null,{"$f":"SUMIFS(Onglet_Consult_Database!$E:$E,Onglet_Consult_Database!$F:$F,Onglet_consult_Panel!$E35,Onglet_Consult_Database!$B:$B,K424)","v":0},{"$error":"#N/A"},null,"",""]
[null,null,null,null,null,null,null,null,null,{"$f":"SUMIFS(Onglet_Consult_Database!$E:$E,Onglet_Consult_Database!$F:$F,Onglet_consult_Panel!$E36,Onglet_Consult_Database!$B:$B,K425)","v":0},{"$error":"#N/A"},null,"",""]
[null,null,null,null,null,null,null,null,null,{"$f":"SUMIFS(Onglet_Consult_Database!$E:$E,Onglet_Consult_Database!$F:$F,Onglet_consult_Panel!$E37,Onglet_Consult_Database!$B:$B,K426)","v":0},{"$error":"#N/A"},null,"",""]
[null,null,null,null,null,null,null,null,null,{"$f":"SUMIFS(Onglet_Consult_Database!$E:$E,Onglet_Consult_Database!$F:$F,Onglet_consult_Panel!$E38,Onglet_Consult_Database!$B:$B,K427)","v":0},{"$error":"#N/A"},null,"",""]
[null,null,null,null,null,null,null,null,null,{"$f":"SUMIFS(Onglet_Consult_Database!$E:$E,Onglet_Consult_Database!$F:$F,Onglet_consult_Panel!$E39,Onglet_Consult_Database!$B:$B,K428)","v":0},{"$error":"#N/A"},null,"",""]
[null,null,null,null,null,null,null,null,null,{"$f":"SUMIFS(Onglet_Consult_Database!$E:$E,Onglet_Consult_Database!$F:$F,Onglet_consult_Panel!$E40,Onglet_Consult_Database!$B:$B,K429)","v":0},{"$error":"#N/A"},null,"",""]
[null,null,null,null,null,null,null,null,null,{"$f":"SUMIFS(Onglet_Consult_Database!$E:$E,Onglet_Consult_Database!$F:$F,Onglet_consult_Panel!$E41,Onglet_Consult_Database!$B:$B,K430)","v":0},{"$error":"#N/A"},null,"",""]
[null,null,null,null,null,null,null,null,null,{"$f":"SUMIFS(Onglet_Consult_Database!$E:$E,Onglet_Consult_Database!$F:$F,Onglet_consult_Panel!$E42,Onglet_Consult_Database!$B:$B,K431)","v":0},{"$error":"#N/A"},null,"",""]
[null,null,null,null,null,null,null,null,null,{"$f":"SUMIFS(Onglet_Consult_Database!$E:$E,Onglet_Consult_Database!$F:$F,Onglet_consult_Panel!$E43,Onglet_Consult_Database!$B:$B,K432)","v":0},{"$error":"#N/A"},null,"",""]
[null,null,null,null,null,null,null,null,null,{"$f":"SUMIFS(Onglet_Consult_Database!$E:$E,Onglet_Consult_Database!$F:$F,Onglet_consult_Panel!$E44,Onglet_Consult_Database!$B:$B,K433)","v":0},{"$error":"#N/A"},null,"",""]
[null,null,null,null,null,null,null,null,null,{"$f":"SUMIFS(Onglet_Consult_Database!$E:$E,Onglet_Consult_Database!$F:$F,Onglet_consult_Panel!$E45,Onglet_Consult_Database!$B:$B,K434)","v":0},{"$error":"#N/A"},null,"",""]
[null,null,null,null,null,null,null,null,null,{"$f":"SUMIFS(Onglet_Consult_Database!$E:$E,Onglet_Consult_Database!$F:$F,Onglet_consult_Panel!$E46,Onglet_Consult_Database!$B:$B,K435)","v":0},{"$error":"#N/A"},null,"",""]
[null,null,null,null,null,null,null,null,null,{"$f":"SUMIFS(Onglet_Consult_Database!$E:$E,Onglet_Consult_Database!$F:$F,Onglet_consult_Panel!$E47,Onglet_Consult_Database!$B:$B,K436)","v":0},{"$error":"#N/A"},null,"",""]
[null,null,null,null,null,null,null,null,null,{"$f":"SUMIFS(Onglet_Consult_Database!$E:$E,Onglet_Consult_Database!$F:$F,Onglet_consult_Panel!$E48,Onglet_Consult_Database!$B:$B,K437)","v":0},{"$error":"#N/A"},null,"",""]
[null,null,null,null,null,null,null,null,null,{"$f":"SUMIFS(Onglet_Consult_Database!$E:$E,Onglet_Consult_Database!$F:$F,Onglet_consult_Panel!$E49,Onglet_Consult_Database!$B:$B,K438)","v":0},{"$error":"#N/A"},null,"",""]
[null,null,null,null,null,null,null,null,null,{"$f":"SUMIFS(Onglet_Consult_Database!$E:$E,Onglet_Consult_Database!$F:$F,Onglet_consult_Panel!$E50,Onglet_Consult_Database!$B:$B,K439)","v":0},{"$error":"#N/A"},null,"",""]
[null,null,null,null,null,null,null,null,null,{"$f":"SUMIFS(Onglet_Consult_Database!$E:$E,Onglet_Consult_Database!$F:$F,Onglet_consult_Panel!$E51,Onglet_Consult_Database!$B:$B,K440)","v":0},{"$error":"#N/A"},null,"",""]
[null,null,null,null,null,null,null,null,null,{"$f":"SUMIFS(Onglet_Consult_Database!$E:$E,Onglet_Consult_Database!$F:$F,Onglet_consult_Panel!$E52,Onglet_Consult_Database!$B:$B,K441)","v":0},{"$error":"#N/A"},null,"",""]
[null,null,null,null,null,null,null,null,null,{"$f":"SUMIFS(Onglet_Consult_Database!$E:$E,Onglet_Consult_Database!$F:$F,Onglet_consult_Panel!$E53,Onglet_Consult_Database!$B:$B,K442)","v":0},{"$error":"#N/A"},null,"",""]
[null,null,null,null,null,null,null,null,null,{"$f":"SUMIFS(Onglet_Consult_Database!$E:$E,Onglet_Consult_Database!$F:$F,Onglet_consult_Panel!$E54,Onglet_Consult_Database!$B:$B,K443)","v":0},{"$error":"#N/A"},null,"",""]
[null,null,null,null,null,null,null,null,null,{"$f":"SUMIFS(Onglet_Consult_Database!$E:$E,Onglet_Consult_Database!$F:$F,Onglet_consult_Panel!$E55,Onglet_Consult_Database!$B:$B,K444)","v":0},{"$error":"#N/A"},null,"",""]
[null,null,null,null,null,null,null,null,null,{"$f":"SUMIFS(Onglet_Consult_Database!$E:$E,Onglet_Consult_Database!$F:$F,Onglet_consult_Panel!$E56,Onglet_Consult_Database!$B:$B,K445)","v":0},{"$error":"#N/A"},null,"",""]
[null,null,null,null,null,null,null,null,null,{"$f":"SUMIFS(Onglet_Consult_Database!$E:$E,Onglet_Consult_Database!$F:$F,Onglet_consult_Panel!$E57,Onglet_Consult_Database!$B:$B,K446)","v":0},{"$error":"#N/A"},null,"",""]
[null,null,null,null,null,null,null,null,null,{"$f":"SUMIFS(Onglet_Consult_Database!$E:$E,Onglet_Consult_Database!$F:$F,Onglet_consult_Panel!$E58,Onglet_Consult_Database!$B:$B,K447)","v":0},{"$error":"#N/A"},null,"",""]
[null,null,null,null,null,null,null,null,null,{"$f":"SUMIFS(Onglet_Consult_Database!$E:$E,Onglet_Consult_Database!$F:$F,Onglet_consult_Panel!$E59,Onglet_Consult_Database!$B:$B,K448)","v":0},{"$error":"#N/A"},null,"",""]
[null,null,null,null,null,null,null,null,null,{"$f":"SUMIFS(Onglet_Consult_Database!$E:$E,Onglet_Consult_Database!$F:$F,Onglet_consult_Panel!$E60,Onglet_Consult_Database!$B:$B,K449)","v":0},{"$error":"#N/A"},null,"",""]
[null,null,null,null,null,null,null,null,null,{"$f":"SUMIFS(Onglet_Consult_Database!$E:$E,Onglet_Consult_Database!$F:$F,Onglet_consult_Panel!$E61,Onglet_Consult_Database!$B:$B,K450)","v":0},{"$error":"#N/A"},null,"",""]
[null,null,null,null,null,null,null,null,null,{"$f":"SUMIFS(Onglet_Consult_Database!$E:$E,Onglet_Consult_Database!$F:$F,Onglet_consult_Panel!$E62,Onglet_Consult_Database!$B:$B,K451)","v":0},{"$error":"#N/A"},null,"",""]
[null,null,null,null,null,null,null,null,null,{"$f":"SUMIFS(Onglet_Consult_Database!$E:$E,Onglet_Consult_Database!$F:$F,Onglet_consult_Panel!$E63,Onglet_Consult_Database!$B:$B,K452)","v":0},{"$error":"#N/A"},null,"",""]
[null,null,null,null,null,null,null,null,null,{"$f":"SUMIFS(Onglet_Consult_Database!$E:$E,Onglet_Consult_Database!$F:$F,Onglet_consult_Panel!$E64,Onglet_Consult_Database!$B:$B,K453)","v":0},{"$error":"#N/A"},null,"",""]
[null,null,null,null,null,null,null,null,null,{"$f":"SUMIFS(Onglet_Consult_Database!$E:$E,Onglet_Consult_Database!$F:$F,Onglet_consult_Panel!$E65,Onglet_Consult_Database!$B:$B,K454)","v":0},{"$error":"#N/A"},null,"",""]
[null,null,null,null,null,null,null,null,null,{"$f":"SUMIFS(Onglet_Consult_Database!$E:$E,Onglet_Consult_Database!$F:$F,Onglet_consult_Panel!$E66,Onglet_Consult_Database!$B:$B,K455)","v":0},{"$error":"#N/A"},null,"",""]
[null,null,null,null,null,null,null,null,null,{"$f":"SUMIFS(Onglet_Consult_Database!$E:$E,Onglet_Consult_Database!$F:$F,Onglet_consult_Panel!$E67,Onglet_Consult_Database!$B:$B,K456)","v":0},{"$error":"#N/A"},null,"",""]
[null,null,null,null,null,null,null,null,null,{"$f":"SUMIFS(Onglet_Consult_Database!$E:$E,Onglet_Consult_Database!$F:$F,Onglet_consult_Panel!$E68,Onglet_Consult_Database!$B:$B,K457)","v":0},{"$error":"#N/A"},null,"",""]
[null,null,null,null,null,null,null,null,null,{"$f":"SUMIFS(Onglet_Consult_Database!$E:$E,Onglet_Consult_Database!$F:$F,Onglet_consult_Panel!$E69,Onglet_Consult_Database!$B:$B,K458)","v":0},{"$error":"#N/A"},null,"",""]
[null,null,null,null,null,null,null,null,null,{"$f":"SUMIFS(Onglet_Consult_Database!$E:$E,Onglet_Consult_Database!$F:$F,Onglet_consult_Panel!$E70,Onglet_Consult_Database!$B:$B,K459)","v":0},{"$error":"#N/A"},null,"",""]
[null,null,null,null,null,null,null,null,null,{"$f":"SUMIFS(Onglet_Consult_Database!$E:$E,Onglet_Consult_Database!$F:$F,Onglet_consult_Panel!$E71,Onglet_Consult_Database!$B:$B,K460)","v":0},{"$error":"#N/A"},null,"",""]
[null,null,null,null,null,null,null,null,null,{"$f":"SUMIFS(Onglet_Consult_Database!$E:$E,Onglet_Consult_Database!$F:$F,Onglet_consult_Panel!$E72,Onglet_Consult_Database!$B:$B,K461)","v":0},{"$f":"_xlfn.IFS(F461=$K$3,\"I01\",F461=$K$4,\"I02\",F461=$K$5,\"I03\",F461=$K$6,\"I04\")","v":{"$error":"#N/A"}},null,{"$f":"IFERROR(VLOOKUP(E461,SH_list,8,FALSE),\"\")","v":""},{"$f":"IFERROR(VLOOKUP(E461,SH_list,6,FALSE),\"\")","v":""}]
[null,null,null,null,null,null,null,null,null,{"$f":"SUMIFS(Onglet_Consult_Database!$E:$E,Onglet_Consult_Database!$F:$F,Onglet_consult_Panel!$E73,Onglet_Consult_Database!$B:$B,K462)","v":0},{"$error":"#N/A"},null,"",""]
[null,null,null,null,null,null,null,null,null,{"$f":"SUMIFS(Onglet_Consult_Database!$E:$E,Onglet_Consult_Database!$F:$F,Onglet_consult_Panel!$E74,Onglet_Consult_Database!$B:$B,K463)","v":0},{"$error":"#N/A"},null,"",""]
[null,null,null,null,null,null,null,null,null,{"$f":"SUMIFS(Onglet_Consult_Database!$E:$E,Onglet_Consult_Database!$F:$F,Onglet_consult_Panel!$E75,Onglet_Consult_Database!$B:$B,K464)","v":0},{"$error":"#N/A"},null,"",""]
[null,null,null,null,null,null,null,null,null,{"$f":"SUMIFS(Onglet_Consult_Database!$E:$E,Onglet_Consult_Database!$F:$F,Onglet_consult_Panel!$E76,Onglet_Consult_Database!$B:$B,K465)","v":0},{"$error":"#N/A"},null,"",""]
[null,null,null,null,null,null,null,null,null,{"$f":"SUMIFS(Onglet_Consult_Database!$E:$E,Onglet_Consult_Database!$F:$F,Onglet_consult_Panel!$E77,Onglet_Consult_Database!$B:$B,K466)","v":0},{"$error":"#N/A"},null,"",""]
[null,null,null,null,null,null,null,null,null,{"$f":"SUMIFS(Onglet_Consult_Database!$E:$E,Onglet_Consult_Database!$F:$F,Onglet_consult_Panel!$E78,Onglet_Consult_Database!$B:$B,K467)","v":0},{"$error":"#N/A"},null,"",""]
[null,null,null,null,null,null,null,null,null,{"$f":"SUMIFS(Onglet_Consult_Database!$E:$E,Onglet_Consult_Database!$F:$F,Onglet_consult_Panel!$E79,Onglet_Consult_Database!$B:$B,K468)","v":0},{"$error":"#N/A"},null,"",""]
[null,null,null,null,null,null,null,null,null,{"$f":"SUMIFS(Onglet_Consult_Database!$E:$E,Onglet_Consult_Database!$F:$F,Onglet_consult_Panel!$E80,Onglet_Consult_Database!$B:$B,K469)","v":0},{"$error":"#N/A"},null,"",""]
[null,null,null,null,null,null,null,null,null,{"$f":"SUMIFS(Onglet_Consult_Database!$E:$E,Onglet_Consult_Database!$F:$F,Onglet_consult_Panel!$E81,Onglet_Consult_Database!$B:$B,K470)","v":0},{"$error":"#N/A"},null,"",""]
[null,null,null,null,null,null,null,null,null,{"$f":"SUMIFS(Onglet_Consult_Database!$E:$E,Onglet_Consult_Database!$F:$F,Onglet_consult_Panel!$E82,Onglet_Consult_Database!$B:$B,K471)","v":0},{"$error":"#N/A"},null,"",""]
[null,null,null,null,null,null,null,null,null,{"$f":"SUMIFS(Onglet_Consult_Database!$E:$E,Onglet_Consult_Database!$F:$F,Onglet_consult_Panel!$E83,Onglet_Consult_Database!$B:$B,K472)","v":0},{"$error":"#N/A"},null,"",""]
[null,null,null,null,null,null,null,null,null,{"$f":"SUMIFS(Onglet_Consult_Database!$E:$E,Onglet_Consult_Database!$F:$F,Onglet_consult_Panel!$E84,Onglet_Consult_Database!$B:$B,K473)","v":0},{"$error":"#N/A"},null,"",""]
[null,null,null,null,null,null,null,null,null,{"$f":"SUMIFS(Onglet_Consult_Database!$E:$E,Onglet_Consult_Database!$F:$F,Onglet_consult_Panel!$E85,Onglet_Consult_Database!$B:$B,K474)","v":0},{"$error":"#N/A"},null,"",""]
[null,null,null,null,null,null,null,null,null,{"$f":"SUMIFS(Onglet_Consult_Database!$E:$E,Onglet_Consult_Database!$F:$F,Onglet_consult_Panel!$E86,Onglet_Consult_Database!$B:$B,K475)","v":0},{"$error":"#N/A"},null,"",""]
[null,null,null,null,null,null,null,null,null,{"$f":"SUMIFS(Onglet_Consult_Database!$E:$E,Onglet_Consult_Database!$F:$F,Onglet_consult_Panel!$E87,Onglet_Consult_Database!$B:$B,K476)","v":0},{"$error":"#N/A"},null,"",""]
[null,null,null,null,null,null,null,null,null,{"$f":"SUMIFS(Onglet_Consult_Database!$E:$E,Onglet_Consult_Database!$F:$F,Onglet_consult_Panel!$E88,Onglet_Consult_Database!$B:$B,K477)","v":0},{"$error":"#N/A"},null,"",""]
[null,null,null,null,null,null,null,null,null,{"$f":"SUMIFS(Onglet_Consult_Database!$E:$E,Onglet_Consult_Database!$F:$F,Onglet_consult_Panel!$E89,Onglet_Consult_Database!$B:$B,K478)","v":0},{"$error":"#N/A"},null,"",""]
[null,null,null,null,null,null,null,null,null,{"$f":"SUMIFS(Onglet_Consult_Database!$E:$E,Onglet_Consult_Database!$F:$F,Onglet_consult_Panel!$E90,Onglet_Consult_Database!$B:$B,K479)","v":0},{"$error":"#N/A"},null,"",""]
[null,null,null,null,null,null,null,null,null,{"$f":"SUMIFS(Onglet_Consult_Database!$E:$E,Onglet_Consult_Database!$F:$F,Onglet_consult_Panel!$E91,Onglet_Consult_Database!$B:$B,K480)","v":0},{"$error":"#N/A"},null,"",""]
[null,null,null,null,null,null,null,null,null,{"$f":"SUMIFS(Onglet_Consult_Database!$E:$E,Onglet_Consult_Database!$F:$F,Onglet_consult_Panel!$E92,Onglet_Consult_Database!$B:$B,K481)","v":0},{"$error":"#N/A"},null,"",""]
[null,null,null,null,null,null,null,null,null,{"$f":"SUMIFS(Onglet_Consult_Database!$E:$E,Onglet_Consult_Database!$F:$F,Onglet_consult_Panel!$E93,Onglet_Consult_Database!$B:$B,K482)","v":0},{"$error":"#N/A"},null,"",""]
[null,null,null,null,null,null,null,null,null,{"$f":"SUMIFS(Onglet_Consult_Database!$E:$E,Onglet_Consult_Database!$F:$F,Onglet_consult_Panel!$E94,Onglet_Consult_Database!$B:$B,K483)","v":0},{"$error":"#N/A"},null,"",""]
[null,null,null,null,null,null,null,null,null,{"$f":"SUMIFS(Onglet_Consult_Database!$E:$E,Onglet_Consult_Database!$F:$F,Onglet_consult_Panel!$E95,Onglet_Consult_Database!$B:$B,K484)","v":0},{"$error":"#N/A"},null,"",""]
[null,null,null,null,null,null,null,null,null,{"$f":"SUMIFS(Onglet_Consult_Database!$E:$E,Onglet_Consult_Database!$F:$F,Onglet_consult_Panel!$E96,Onglet_Consult_Database!$B:$B,K485)","v":0},{"$error":"#N/A"},null,"",""]
[null,null,null,null,null,null,null,null,null,{"$f":"SUMIFS(Onglet_Consult_Database!$E:$E,Onglet_Consult_Database!$F:$F,Onglet_consult_Panel!$E97,Onglet_Consult_Database!$B:$B,K486)","v":0},{"$error":"#N/A"},null,"",""]
[null,null,null,null,null,null,null,null,null,{"$f":"SUMIFS(Onglet_Consult_Database!$E:$E,Onglet_Consult_Database!$F:$F,Onglet_consult_Panel!$E98,Onglet_Consult_Database!$B:$B,K487)","v":0},{"$error":"#N/A"},null,"",""]
[null,null,null,null,null,null,null,null,null,{"$f":"SUMIFS(Onglet_Consult_Database!$E:$E,Onglet_Consult_Database!$F:$F,Onglet_consult_Panel!$E99,Onglet_Consult_Database!$B:$B,K488)","v":0},{"$error":"#N/A"},null,"",""]
[null,null,null,null,null,null,null,null,null,{"$f":"SUMIFS(Onglet_Consult_Database!$E:$E,Onglet_Consult_Database!$F:$F,Onglet_consult_Panel!$E100,Onglet_Consult_Database!$B:$B,K489)","v":0},{"$error":"#N/A"},null,"",""]
[null,null,null,null,null,null,null,null,null,{"$f":"SUMIFS(Onglet_Consult_Database!$E:$E,Onglet_Consult_Database!$F:$F,Onglet_consult_Panel!$E101,Onglet_Consult_Database!$B:$B,K490)","v":0},{"$error":"#N/A"},null,"",""]
[null,null,null,null,null,null,null,null,null,{"$f":"SUMIFS(Onglet_Consult_Database!$E:$E,Onglet_Consult_Database!$F:$F,Onglet_consult_Panel!$E102,Onglet_Consult_Database!$B:$B,K491)","v":0},{"$error":"#N/A"},null,"",""]
[null,null,null,null,null,null,null,null,null,{"$f":"SUMIFS(Onglet_Consult_Database!$E:$E,Onglet_Consult_Database!$F:$F,Onglet_consult_Panel!$E103,Onglet_Consult_Database!$B:$B,K492)","v":0},{"$error":"#N/A"},null,"",""]
[null,null,null,null,null,null,null,null,null,{"$f":"SUMIFS(Onglet_Consult_Database!$E:$E,Onglet_Consult_Database!$F:$F,Onglet_consult_Panel!$E104,Onglet_Consult_Database!$B:$B,K493)","v":0},{"$error":"#N/A"},null,"",""]
[null,null,null,null,null,null,null,null,null,{"$f":"SUMIFS(Onglet_Consult_Database!$E:$E,Onglet_Consult_Database!$F:$F,Onglet_consult_Panel!$E105,Onglet_Consult_Database!$B:$B,K494)","v":0},{"$error":"#N/A"},null,"",""]
[null,null,null,null,null,null,null,null,null,{"$f":"SUMIFS(Onglet_Consult_Database!$E:$E,Onglet_Consult_Database!$F:$F,Onglet_consult_Panel!$E106,Onglet_Consult_Database!$B:$B,K495)","v":0},{"$error":"#N/A"},null,"",""]
[null,null,null,null,null,null,null,null,null,{"$f":"SUMIFS(Onglet_Consult_Database!$E:$E,Onglet_Consult_Database!$F:$F,Onglet_consult_Panel!$E107,Onglet_Consult_Database!$B:$B,K496)","v":0},{"$error":"#N/A"},null,"",""]
[null,null,null,null,null,null,null,null,null,{"$f":"SUMIFS(Onglet_Consult_Database!$E:$E,Onglet_Consult_Database!$F:$F,Onglet_consult_Panel!$E108,Onglet_Consult_Database!$B:$B,K497)","v":0},{"$error":"#N/A"},null,"",""]
[null,null,null,null,null,null,null,null,null,{"$f":"SUMIFS(Onglet_Consult_Database!$E:$E,Onglet_Consult_Database!$F:$F,Onglet_consult_Panel!$E109,Onglet_Consult_Database!$B:$B,K498)","v":0},{"$error":"#N/A"},null,"",""]
[null,null,null,null,null,null,null,null,null,{"$f":"SUMIFS(Onglet_Consult_Database!$E:$E,Onglet_Consult_Database!$F:$F,Onglet_consult_Panel!$E110,Onglet_Consult_Database!$B:$B,K499)","v":0},{"$error":"#N/A"},null,"",""]
[null,null,null,null,null,null,null,null,null,{"$f":"SUMIFS(Onglet_Consult_Database!$E:$E,Onglet_Consult_Database!$F:$F,Onglet_consult_Panel!$E111,Onglet_Consult_Database!$B:$B,K500)","v":0},{"$error":"#N/A"},null,"",""]
[null,null,null,null,null,null,null,null,null,{"$f":"SUMIFS(Onglet_Consult_Database!$E:$E,Onglet_Consult_Database!$F:$F,Onglet_consult_Panel!$E112,Onglet_Consult_Database!$B:$B,K501)","v":0},{"$error":"#N/A"},null,"",""]
[null,null,null,null,null,null,null,null,null,{"$f":"SUMIFS(Onglet_Consult_Database!$E:$E,Onglet_Consult_Database!$F:$F,Onglet_consult_Panel!$E113,Onglet_Consult_Database!$B:$B,K502)","v":0},{"$error":"#N/A"},null,"",""]
[null,null,null,null,null,null,null,null,null,{"$f":"SUMIFS(Onglet_Consult_Database!$E:$E,Onglet_Consult_Database!$F:$F,Onglet_consult_Panel!$E114,Onglet_Consult_Database!$B:$B,K503)","v":0},{"$error":"#N/A"},null,"",""]
[null,null,null,null,null,null,null,null,null,{"$f":"SUMIFS(Onglet_Consult_Database!$E:$E,Onglet_Consult_Database!$F:$F,Onglet_consult_Panel!$E115,Onglet_Consult_Database!$B:$B,K504)","v":0},{"$error":"#N/A"},null,"",""]
[null,null,null,null,null,null,null,null,null,{"$f":"SUMIFS(Onglet_Consult_Database!$E:$E,Onglet_Consult_Database!$F:$F,Onglet_consult_Panel!$E116,Onglet_Consult_Database!$B:$B,K505)","v":0},{"$error":"#N/A"},null,"",""]
[null,null,null,null,null,null,null,null,null,{"$f":"SUMIFS(Onglet_Consult_Database!$E:$E,Onglet_Consult_Database!$F:$F,Onglet_consult_Panel!$E117,Onglet_Consult_Database!$B:$B,K506)","v":0},{"$error":"#N/A"},null,"",""]
[null,null,null,null,null,null,null,null,null,{"$f":"SUMIFS(Onglet_Consult_Database!$E:$E,Onglet_Consult_Database!$F:$F,Onglet_consult_Panel!$E118,Onglet_Consult_Database!$B:$B,K507)","v":0},{"$error":"#N/A"},null,"",""]
[null,null,null,null,null,null,null,null,null,{"$f":"SUMIFS(Onglet_Consult_Database!$E:$E,Onglet_Consult_Database!$F:$F,Onglet_consult_Panel!$E119,Onglet_Consult_Database!$B:$B,K508)","v":0},{"$error":"#N/A"},null,"",""]
[null,null,null,null,null,null,null,null,null,{"$f":"SUMIFS(Onglet_Consult_Database!$E:$E,Onglet_Consult_Database!$F:$F,Onglet_consult_Panel!$E120,Onglet_Consult_Database!$B:$B,K509)","v":0},{"$error":"#N/A"},null,"",""]
[null,null,null,null,null,null,null,null,null,{"$f":"SUMIFS(Onglet_Consult_Database!$E:$E,Onglet_Consult_Database!$F:$F,Onglet_consult_Panel!$E121,Onglet_Consult_Database!$B:$B,K510)","v":0},{"$error":"#N/A"},null,"",""]
[null,null,null,null,null,null,null,null,null,{"$f":"SUMIFS(Onglet_Consult_Database!$E:$E,Onglet_Consult_Database!$F:$F,Onglet_consult_Panel!$E122,Onglet_Consult_Database!$B:$B,K511)","v":0},{"$error":"#N/A"},null,"",""]
[null,null,null,null,null,null,null,null,null,{"$f":"SUMIFS(Onglet_Consult_Database!$E:$E,Onglet_Consult_Database!$F:$F,Onglet_consult_Panel!$E123,Onglet_Consult_Database!$B:$B,K512)","v":0},{"$error":"#N/A"},null,"",""]
[null,null,null,null,null,null,null,null,null,{"$f":"SUMIFS(Onglet_Consult_Database!$E:$E,Onglet_Consult_Database!$F:$F,Onglet_consult_Panel!$E124,Onglet_Consult_Database!$B:$B,K513)","v":0},{"$error":"#N/A"},null,"",""]
[null,null,null,null,null,null,null,null,null,{"$f":"SUMIFS(Onglet_Consult_Database!$E:$E,Onglet_Consult_Database!$F:$F,Onglet_consult_Panel!$E125,Onglet_Consult_Database!$B:$B,K514)","v":0},{"$error":"#N/A"},null,"",""]
[null,null,null,null,null,null,null,null,null,{"$f":"SUMIFS(Onglet_Consult_Database!$E:$E,Onglet_Consult_Database!$F:$F,Onglet_consult_Panel!$E126,Onglet_Consult_Database!$B:$B,K515)","v":0},{"$error":"#N/A"},null,"",""]
[null,null,null,null,null,null,null,null,null,{"$f":"SUMIFS(Onglet_Consult_Database!$E:$E,Onglet_Consult_Database!$F:$F,Onglet_consult_Panel!$E127,Onglet_Consult_Database!$B:$B,K516)","v":0},{"$error":"#N/A"},null,"",""]
[null,null,null,null,null,null,null,null,null,{"$f":"SUMIFS(Onglet_Consult_Database!$E:$E,Onglet_Consult_Database!$F:$F,Onglet_consult_Panel!$E128,Onglet_Consult_Database!$B:$B,K517)","v":0},{"$error":"#N/A"},null,"",""]
[null,null,null,null,null,null,null,null,null,{"$f":"SUMIFS(Onglet_Consult_Database!$E:$E,Onglet_Consult_Database!$F:$F,Onglet_consult_Panel!$E129,Onglet_Consult_Database!$B:$B,K518)","v":0},{"$error":"#N/A"},null,"",""]
[null,null,null,null,null,null,null,null,null,{"$f":"SUMIFS(Onglet_Consult_Database!$E:$E,Onglet_Consult_Database!$F:$F,Onglet_consult_Panel!$E130,Onglet_Consult_Database!$B:$B,K519)","v":0},{"$error":"#N/A"},null,"",""]
[null,null,null,null,null,null,null,null,null,{"$f":"SUMIFS(Onglet_Consult_Database!$E:$E,Onglet_Consult_Database!$F:$F,Onglet_consult_Panel!$E131,Onglet_Consult_Database!$B:$B,K520)","v":0},{"$error":"#N/A"},null,"",""]
[null,null,null,null,null,null,null,null,null,{"$f":"SUMIFS(Onglet_Consult_Database!$E:$E,Onglet_Consult_Database!$F:$F,Onglet_consult_Panel!$E132,Onglet_Consult_Database!$B:$B,K521)","v":0},{"$error":"#N/A"},null,"",""]
[null,null,null,null,null,null,null,null,null,{"$f":"SUMIFS(Onglet_Consult_Database!$E:$E,Onglet_Consult_Database!$F:$F,Onglet_consult_Panel!$E133,Onglet_Consult_Database!$B:$B,K522)","v":0},{"$error":"#N/A"},null,"",""]
[null,null,null,null,null,null,null,null,null,{"$f":"SUMIFS(Onglet_Consult_Database!$E:$E,Onglet_Consult_Database!$F:$F,Onglet_consult_Panel!$E134,Onglet_Consult_Database!$B:$B,K523)","v":0},{"$error":"#N/A"},null,"",""]
[null,null,null,null,null,null,null,null,null,{"$f":"SUMIFS(Onglet_Consult_Database!$E:$E,Onglet_Consult_Database!$F:$F,Onglet_consult_Panel!$E135,Onglet_Consult_Database!$B:$B,K524)","v":0},{"$error":"#N/A"},null,"",""]
[null,null,null,null,null,null,null,null,null,{"$f":"SUMIFS(Onglet_Consult_Database!$E:$E,Onglet_Consult_Database!$F:$F,Onglet_consult_Panel!$E136,Onglet_Consult_Database!$B:$B,K525)","v":0},{"$f":"_xlfn.IFS(F525=$K$3,\"I01\",F525=$K$4,\"I02\",F525=$K$5,\"I03\",F525=$K$6,\"I04\")","v":{"$error":"#N/A"}},null,{"$f":"IFERROR(VLOOKUP(E525,SH_list,8,FALSE),\"\")","v":""},{"$f":"IFERROR(VLOOKUP(E525,SH_list,6,FALSE),\"\")","v":""}]
[null,null,null,null,null,null,null,null,null,{"$f":"SUMIFS(Onglet_Consult_Database!$E:$E,Onglet_Consult_Database!$F:$F,Onglet_consult_Panel!$E137,Onglet_Consult_Database!$B:$B,K526)","v":0},{"$error":"#N/A"},null,"",""]
[null,null,null,null,null,null,null,null,null,{"$f":"SUMIFS(Onglet_Consult_Database!$E:$E,Onglet_Consult_Database!$F:$F,Onglet_consult_Panel!$E138,Onglet_Consult_Database!$B:$B,K527)","v":0},{"$error":"#N/A"},null,"",""]
[null,null,null,null,null,null,null,null,null,{"$f":"SUMIFS(Onglet_Consult_Database!$E:$E,Onglet_Consult_Database!$F:$F,Onglet_consult_Panel!$E139,Onglet_Consult_Database!$B:$B,K528)","v":0},{"$error":"#N/A"},null,"",""]
[null,null,null,null,null,null,null,null,null,{"$f":"SUMIFS(Onglet_Consult_Database!$E:$E,Onglet_Consult_Database!$F:$F,Onglet_consult_Panel!$E140,Onglet_Consult_Database!$B:$B,K529)","v":0},{"$error":"#N/A"},null,"",""]
[null,null,null,null,null,null,null,null,null,{"$f":"SUMIFS(Onglet_Consult_Database!$E:$E,Onglet_Consult_Database!$F:$F,Onglet_consult_Panel!$E141,Onglet_Consult_Database!$B:$B,K530)","v":0},{"$error":"#N/A"},null,"",""]
[null,null,null,null,null,null,null,null,null,{"$f":"SUMIFS(Onglet_Consult_Database!$E:$E,Onglet_Consult_Database!$F:$F,Onglet_consult_Panel!$E142,Onglet_Consult_Database!$B:$B,K531)","v":0},{"$error":"#N/A"},null,"",""]
[null,null,null,null,null,null,null,null,null,{"$f":"SUMIFS(Onglet_Consult_Database!$E:$E,Onglet_Consult_Database!$F:$F,Onglet_consult_Panel!$E143,Onglet_Consult_Database!$B:$B,K532)","v":0},{"$error":"#N/A"},null,"",""]
[null,null,null,null,null,null,null,null,null,{"$f":"SUMIFS(Onglet_Consult_Database!$E:$E,Onglet_Consult_Database!$F:$F,Onglet_consult_Panel!$E144,Onglet_Consult_Database!$B:$B,K533)","v":0},{"$error":"#N/A"},null,"",""]
[null,null,null,null,null,null,null,null,null,{"$f":"SUMIFS(Onglet_Consult_Database!$E:$E,Onglet_Consult_Database!$F:$F,Onglet_consult_Panel!$E145,Onglet_Consult_Database!$B:$B,K534)","v":0},{"$error":"#N/A"},null,"",""]
[null,null,null,null,null,null,null,null,null,{"$f":"SUMIFS(Onglet_Consult_Database!$E:$E,Onglet_Consult_Database!$F:$F,Onglet_consult_Panel!$E146,Onglet_Consult_Database!$B:$B,K535)","v":0},{"$error":"#N/A"},null,"",""]
[null,null,null,null,null,null,null,null,null,{"$f":"SUMIFS(Onglet_Consult_Database!$E:$E,Onglet_Consult_Database!$F:$F,Onglet_consult_Panel!$E147,Onglet_Consult_Database!$B:$B,K536)","v":0},{"$error":"#N/A"},null,"",""]
[null,null,null,null,null,null,null,null,null,{"$f":"SUMIFS(Onglet_Consult_Database!$E:$E,Onglet_Consult_Database!$F:$F,Onglet_consult_Panel!$E148,Onglet_Consult_Database!$B:$B,K537)","v":0},{"$error":"#N/A"},null,"",""]
[null,null,null,null,null,null,null,null,null,{"$f":"SUMIFS(Onglet_Consult_Database!$E:$E,Onglet_Consult_Database!$F:$F,Onglet_consult_Panel!$E149,Onglet_Consult_Database!$B:$B,K538)","v":0},{"$error":"#N/A"},null,"",""]
[null,null,null,null,null,null,null,null,null,{"$f":"SUMIFS(Onglet_Consult_Database!$E:$E,Onglet_Consult_Database!$F:$F,Onglet_consult_Panel!$E150,Onglet_Consult_Database!$B:$B,K539)","v":0},{"$error":"#N/A"},null,"",""]
[null,null,null,null,null,null,null,null,null,{"$f":"SUMIFS(Onglet_Consult_Database!$E:$E,Onglet_Consult_Database!$F:$F,Onglet_consult_Panel!$E151,Onglet_Consult_Database!$B:$B,K540)","v":0},{"$error":"#N/A"},null,"",""]
[null,null,null,null,null,null,null,null,null,{"$f":"SUMIFS(Onglet_Consult_Database!$E:$E,Onglet_Consult_Database!$F:$F,Onglet_consult_Panel!$E152,Onglet_Consult_Database!$B:$B,K541)","v":0},{"$error":"#N/A"},null,"",""]
[null,null,null,null,null,null,null,null,null,{"$f":"SUMIFS(Onglet_Consult_Database!$E:$E,Onglet_Consult_Database!$F:$F,Onglet_consult_Panel!$E153,Onglet_Consult_Database!$B:$B,K542)","v":0},{"$error":"#N/A"},null,"",""]
[null,null,null,null,null,null,null,null,null,{"$f":"SUMIFS(Onglet_Consult_Database!$E:$E,Onglet_Consult_Database!$F:$F,Onglet_consult_Panel!$E154,Onglet_Consult_Database!$B:$B,K543)","v":0},{"$error":"#N/A"},null,"",""]
[null,null,null,null,null,null,null,null,null,{"$f":"SUMIFS(Onglet_Consult_Database!$E:$E,Onglet_Consult_Database!$F:$F,Onglet_consult_Panel!$E155,Onglet_Consult_Database!$B:$B,K544)","v":0},{"$error":"#N/A"},null,"",""]
[null,null,null,null,null,null,null,null,null,{"$f":"SUMIFS(Onglet_Consult_Database!$E:$E,Onglet_Consult_Database!$F:$F,Onglet_consult_Panel!$E156,Onglet_Consult_Database!$B:$B,K545)","v":0},{"$error":"#N/A"},null,"",""]
[null,null,null,null,null,null,null,null,null,{"$f":"SUMIFS(Onglet_Consult_Database!$E:$E,Onglet_Consult_Database!$F:$F,Onglet_consult_Panel!$E157,Onglet_Consult_Database!$B:$B,K546)","v":0},{"$error":"#N/A"},null,"",""]
[null,null,null,null,null,null,null,null,null,{"$f":"SUMIFS(Onglet_Consult_Database!$E:$E,Onglet_Consult_Database!$F:$F,Onglet_consult_Panel!$E158,Onglet_Consult_Database!$B:$B,K547)","v":0},{"$error":"#N/A"},null,"",""]
[null,null,null,null,null,null,null,null,null,{"$f":"SUMIFS(Onglet_Consult_Database!$E:$E,Onglet_Consult_Database!$F:$F,Onglet_consult_Panel!$E159,Onglet_Consult_Database!$B:$B,K548)","v":0},{"$error":"#N/A"},null,"",""]
[null,null,null,null,null,null,null,null,null,{"$f":"SUMIFS(Onglet_Consult_Database!$E:$E,Onglet_Consult_Database!$F:$F,Onglet_consult_Panel!$E160,Onglet_Consult_Database!$B:$B,K549)","v":0},{"$error":"#N/A"},null,"",""]
[null,null,null,null,null,null,null,null,null,{"$f":"SUMIFS(Onglet_Consult_Database!$E:$E,Onglet_Consult_Database!$F:$F,Onglet_consult_Panel!$E161,Onglet_Consult_Database!$B:$B,K550)","v":0},{"$error":"#N/A"},null,"",""]
[null,null,null,null,null,null,null,null,null,{"$f":"SUMIFS(Onglet_Consult_Database!$E:$E,Onglet_Consult_Database!$F:$F,Onglet_consult_Panel!$E162,Onglet_Consult_Database!$B:$B,K551)","v":0},{"$error":"#N/A"},null,"",""]
[null,null,null,null,null,null,null,null,null,{"$f":"SUMIFS(Onglet_Consult_Database!$E:$E,Onglet_Consult_Database!$F:$F,Onglet_consult_Panel!$E163,Onglet_Consult_Database!$B:$B,K552)","v":0},{"$error":"#N/A"},null,"",""]
[null,null,null,null,null,null,null,null,null,{"$f":"SUMIFS(Onglet_Consult_Database!$E:$E,Onglet_Consult_Database!$F:$F,Onglet_consult_Panel!$E164,Onglet_Consult_Database!$B:$B,K553)","v":0},{"$error":"#N/A"},null,"",""]
[null,null,null,null,null,null,null,null,null,{"$f":"SUMIFS(Onglet_Consult_Database!$E:$E,Onglet_Consult_Database!$F:$F,Onglet_consult_Panel!$E165,Onglet_Consult_Database!$B:$B,K554)","v":0},{"$error":"#N/A"},null,"",""]
[null,null,null,null,null,null,null,null,null,{"$f":"SUMIFS(Onglet_Consult_Database!$E:$E,Onglet_Consult_Database!$F:$F,Onglet_consult_Panel!$E166,Onglet_Consult_Database!$B:$B,K555)","v":0},{"$error":"#N/A"},null,"",""]
[null,null,null,null,null,null,null,null,null,{"$f":"SUMIFS(Onglet_Consult_Database!$E:$E,Onglet_Consult_Database!$F:$F,Onglet_consult_Panel!$E167,Onglet_Consult_Database!$B:$B,K556)","v":0},{"$error":"#N/A"},null,"",""]
[null,null,null,null,null,null,null,null,null,{"$f":"SUMIFS(Onglet_Consult_Database!$E:$E,Onglet_Consult_Database!$F:$F,Onglet_consult_Panel!$E168,Onglet_Consult_Database!$B:$B,K557)","v":0},{"$error":"#N/A"},null,"",""]
[null,null,null,null,null,null,null,null,null,{"$f":"SUMIFS(Onglet_Consult_Database!$E:$E,Onglet_Consult_Database!$F:$F,Onglet_consult_Panel!$E169,Onglet_Consult_Database!$B:$B,K558)","v":0},{"$error":"#N/A"},null,"",""]
[null,null,null,null,null,null,null,null,null,{"$f":"SUMIFS(Onglet_Consult_Database!$E:$E,Onglet_Consult_Database!$F:$F,Onglet_consult_Panel!$E170,Onglet_Consult_Database!$B:$B,K559)","v":0},{"$error":"#N/A"},null,"",""]
[null,null,null,null,null,null,null,null,null,{"$f":"SUMIFS(Onglet_Consult_Database!$E:$E,Onglet_Consult_Database!$F:$F,Onglet_consult_Panel!$E171,Onglet_Consult_Database!$B:$B,K560)","v":0},{"$error":"#N/A"},null,"",""]
[null,null,null,null,null,null,null,null,null,{"$f":"SUMIFS(Onglet_Consult_Database!$E:$E,Onglet_Consult_Database!$F:$F,Onglet_consult_Panel!$E172,Onglet_Consult_Database!$B:$B,K561)","v":0},{"$error":"#N/A"},null,"",""]
[null,null,null,null,null,null,null,null,null,{"$f":"SUMIFS(Onglet_Consult_Database!$E:$E,Onglet_Consult_Database!$F:$F,Onglet_consult_Panel!$E173,Onglet_Consult_Database!$B:$B,K562)","v":0},{"$error":"#N/A"},null,"",""]
[null,null,null,null,null,null,null,null,null,{"$f":"SUMIFS(Onglet_Consult_Database!$E:$E,Onglet_Consult_Database!$F:$F,Onglet_consult_Panel!$E174,Onglet_Consult_Database!$B:$B,K563)","v":0},{"$error":"#N/A"},null,"",""]
[null,null,null,null,null,null,null,null,null,{"$f":"SUMIFS(Onglet_Consult_Database!$E:$E,Onglet_Consult_Database!$F:$F,Onglet_consult_Panel!$E175,Onglet_Consult_Database!$B:$B,K564)","v":0},{"$error":"#N/A"},null,"",""]
[null,null,null,null,null,null,null,null,null,{"$f":"SUMIFS(Onglet_Consult_Database!$E:$E,Onglet_Consult_Database!$F:$F,Onglet_consult_Panel!$E176,Onglet_Consult_Database!$B:$B,K565)","v":0},{"$error":"#N/A"},null,"",""]
[null,null,null,null,null,null,null,null,null,{"$f":"SUMIFS(Onglet_Consult_Database!$E:$E,Onglet_Consult_Database!$F:$F,Onglet_consult_Panel!$E177,Onglet_Consult_Database!$B:$B,K566)","v":0},{"$error":"#N/A"},null,"",""]
[null,null,null,null,null,null,null,null,null,{"$f":"SUMIFS(Onglet_Consult_Database!$E:$E,Onglet_Consult_Database!$F:$F,Onglet_consult_Panel!$E178,Onglet_Consult_Database!$B:$B,K567)","v":0},{"$error":"#N/A"},null,"",""]
[null,null,null,null,null,null,null,null,null,{"$f":"SUMIFS(Onglet_Consult_Database!$E:$E,Onglet_Consult_Database!$F:$F,Onglet_consult_Panel!$E179,Onglet_Consult_Database!$B:$B,K568)","v":0},{"$error":"#N/A"},null,"",""]
[null,null,null,null,null,null,null,null,null,{"$f":"SUMIFS(Onglet_Consult_Database!$E:$E,Onglet_Consult_Database!$F:$F,Onglet_consult_Panel!$E180,Onglet_Consult_Database!$B:$B,K569)","v":0},{"$error":"#N/A"},null,"",""]
[null,null,null,null,null,null,null,null,null,{"$f":"SUMIFS(Onglet_Consult_Database!$E:$E,Onglet_Consult_Database!$F:$F,Onglet_consult_Panel!$E181,Onglet_Consult_Database!$B:$B,K570)","v":0},{"$error":"#N/A"},null,"",""]
[null,null,null,null,null,null,null,null,null,{"$f":"SUMIFS(Onglet_Consult_Database!$E:$E,Onglet_Consult_Database!$F:$F,Onglet_consult_Panel!$E182,Onglet_Consult_Database!$B:$B,K571)","v":0},{"$error":"#N/A"},null,"",""]
[null,null,null,null,null,null,null,null,null,{"$f":"SUMIFS(Onglet_Consult_Database!$E:$E,Onglet_Consult_Database!$F:$F,Onglet_consult_Panel!$E183,Onglet_Consult_Database!$B:$B,K572)","v":0},{"$error":"#N/A"},null,"",""]
[null,null,null,null,null,null,null,null,null,{"$f":"SUMIFS(Onglet_Consult_Database!$E:$E,Onglet_Consult_Database!$F:$F,Onglet_consult_Panel!$E184,Onglet_Consult_Database!$B:$B,K573)","v":0},{"$error":"#N/A"},null,"",""]
[null,null,null,null,null,null,null,null,null,{"$f":"SUMIFS(Onglet_Consult_Database!$E:$E,Onglet_Consult_Database!$F:$F,Onglet_consult_Panel!$E185,Onglet_Consult_Database!$B:$B,K574)","v":0},{"$error":"#N/A"},null,"",""]
[null,null,null,null,null,null,null,null,null,{"$f":"SUMIFS(Onglet_Consult_Database!$E:$E,Onglet_Consult_Database!$F:$F,Onglet_consult_Panel!$E186,Onglet_Consult_Database!$B:$B,K575)","v":0},{"$error":"#N/A"},null,"",""]
[null,null,null,null,null,null,null,null,null,{"$f":"SUMIFS(Onglet_Consult_Database!$E:$E,Onglet_Consult_Database!$F:$F,Onglet_consult_Panel!$E187,Onglet_Consult_Database!$B:$B,K576)","v":0},{"$error":"#N/A"},null,"",""]
[null,null,null,null,null,null,null,null,null,{"$f":"SUMIFS(Onglet_Consult_Database!$E:$E,Onglet_Consult_Database!$F:$F,Onglet_consult_Panel!$E188,Onglet_Consult_Database!$B:$B,K577)","v":0},{"$error":"#N/A"},null,"",""]
[null,null,null,null,null,null,null,null,null,{"$f":"SUMIFS(Onglet_Consult_Database!$E:$E,Onglet_Consult_Database!$F:$F,Onglet_consult_Panel!$E189,Onglet_Consult_Database!$B:$B,K578)","v":0},{"$error":"#N/A"},null,"",""]
[null,null,null,null,null,null,null,null,null,{"$f":"SUMIFS(Onglet_Consult_Database!$E:$E,Onglet_Consult_Database!$F:$F,Onglet_consult_Panel!$E190,Onglet_Consult_Database!$B:$B,K579)","v":0},{"$error":"#N/A"},null,"",""]
[null,null,null,null,null,null,null,null,null,{"$f":"SUMIFS(Onglet_Consult_Database!$E:$E,Onglet_Consult_Database!$F:$F,Onglet_consult_Panel!$E191,Onglet_Consult_Database!$B:$B,K580)","v":0},{"$error":"#N/A"},null,"",""]
[null,null,null,null,null,null,null,null,null,{"$f":"SUMIFS(Onglet_Consult_Database!$E:$E,Onglet_Consult_Database!$F:$F,Onglet_consult_Panel!$E192,Onglet_Consult_Database!$B:$B,K581)","v":0},{"$error":"#N/A"},null,"",""]
[null,null,null,null,null,null,null,null,null,{"$f":"SUMIFS(Onglet_Consult_Database!$E:$E,Onglet_Consult_Database!$F:$F,Onglet_consult_Panel!$E193,Onglet_Consult_Database!$B:$B,K582)","v":0},{"$error":"#N/A"},null,"",""]
[null,null,null,null,null,null,null,null,null,{"$f":"SUMIFS(Onglet_Consult_Database!$E:$E,Onglet_Consult_Database!$F:$F,Onglet_consult_Panel!$E194,Onglet_Consult_Database!$B:$B,K583)","v":0},{"$error":"#N/A"},null,"",""]
[null,null,null,null,null,null,null,null,null,{"$f":"SUMIFS(Onglet_Consult_Database!$E:$E,Onglet_Consult_Database!$F:$F,Onglet_consult_Panel!$E195,Onglet_Consult_Database!$B:$B,K584)","v":0},{"$error":"#N/A"},null,"",""]
[null,null,null,null,null,null,null,null,null,{"$f":"SUMIFS(Onglet_Consult_Database!$E:$E,Onglet_Consult_Database!$F:$F,Onglet_consult_Panel!$E196,Onglet_Consult_Database!$B:$B,K585)","v":0},{"$error":"#N/A"},null,"",""]
[null,null,null,null,null,null,null,null,null,{"$f":"SUMIFS(Onglet_Consult_Database!$E:$E,Onglet_Consult_Database!$F:$F,Onglet_consult_Panel!$E197,Onglet_Consult_Database!$B:$B,K586)","v":0},{"$error":"#N/A"},null,"",""]
[null,null,null,null,null,null,null,null,null,{"$f":"SUMIFS(Onglet_Consult_Database!$E:$E,Onglet_Consult_Database!$F:$F,Onglet_consult_Panel!$E198,Onglet_Consult_Database!$B:$B,K587)","v":0},{"$error":"#N/A"},null,"",""]
[null,null,null,null,null,null,null,null,null,{"$f":"SUMIFS(Onglet_Consult_Database!$E:$E,Onglet_Consult_Database!$F:$F,Onglet_consult_Panel!$E199,Onglet_Consult_Database!$B:$B,K588)","v":0},{"$error":"#N/A"},null,"",""]
[null,null,null,null,null,null,null,null,null,{"$f":"SUMIFS(Onglet_Consult_Database!$E:$E,Onglet_Consult_Database!$F:$F,Onglet_consult_Panel!$E200,Onglet_Consult_Database!$B:$B,K589)","v":0},{"$f":"_xlfn.IFS(F589=$K$3,\"I01\",F589=$K$4,\"I02\",F589=$K$5,\"I03\",F589=$K$6,\"I04\")","v":{"$error":"#N/A"}},null,{"$f":"IFERROR(VLOOKUP(E589,SH_list,8,FALSE),\"\")","v":""},{"$f":"IFERROR(VLOOKUP(E589,SH_list,6,FALSE),\"\")","v":""}]
[null,null,null,null,null,null,null,null,null,{"$f":"SUMIFS(Onglet_Consult_Database!$E:$E,Onglet_Consult_Database!$F:$F,Onglet_consult_Panel!$E201,Onglet_Consult_Database!$B:$B,K590)","v":0},{"$error":"#N/A"},null,"",""]
[null,null,null,null,null,null,null,null,null,{"$f":"SUMIFS(Onglet_Consult_Database!$E:$E,Onglet_Consult_Database!$F:$F,Onglet_consult_Panel!$E202,Onglet_Consult_Database!$B:$B,K591)","v":0},{"$error":"#N/A"},null,"",""]
[null,null,null,null,null,null,null,null,null,{"$f":"SUMIFS(Onglet_Consult_Database!$E:$E,Onglet_Consult_Database!$F:$F,Onglet_consult_Panel!$E203,Onglet_Consult_Database!$B:$B,K592)","v":0},{"$error":"#N/A"},null,"",""]
[null,null,null,null,null,null,null,null,null,{"$f":"SUMIFS(Onglet_Consult_Database!$E:$E,Onglet_Consult_Database!$F:$F,Onglet_consult_Panel!$E204,Onglet_Consult_Database!$B:$B,K593)","v":0},{"$error":"#N/A"},null,"",""]
[null,null,null,null,null,null,null,null,null,{"$f":"SUMIFS(Onglet_Consult_Database!$E:$E,Onglet_Consult_Database!$F:$F,Onglet_consult_Panel!$E205,Onglet_Consult_Database!$B:$B,K594)","v":0},{"$error":"#N/A"},null,"",""]
[null,null,null,null,null,null,null,null,null,{"$f":"SUMIFS(Onglet_Consult_Database!$E:$E,Onglet_Consult_Database!$F:$F,Onglet_consult_Panel!$E206,Onglet_Consult_Database!$B:$B,K595)","v":0},{"$error":"#N/A"},null,"",""]
[null,null,null,null,null,null,null,null,null,{"$f":"SUMIFS(Onglet_Consult_Database!$E:$E,Onglet_Consult_Database!$F:$F,Onglet_consult_Panel!$E207,Onglet_Consult_Database!$B:$B,K596)","v":0},{"$error":"#N/A"},null,"",""]
[null,null,null,null,null,null,null,null,null,{"$f":"SUMIFS(Onglet_Consult_Database!$E:$E,Onglet_Consult_Database!$F:$F,Onglet_consult_Panel!$E208,Onglet_Consult_Database!$B:$B,K597)","v":0},{"$error":"#N/A"},null,"",""]
[null,null,null,null,null,null,null,null,null,{"$f":"SUMIFS(Onglet_Consult_Database!$E:$E,Onglet_Consult_Database!$F:$F,Onglet_consult_Panel!$E209,Onglet_Consult_Database!$B:$B,K598)","v":0},{"$error":"#N/A"},null,"",""]
[null,null,null,null,null,null,null,null,null,{"$f":"SUMIFS(Onglet_Consult_Database!$E:$E,Onglet_Consult_Database!$F:$F,Onglet_consult_Panel!$E210,Onglet_Consult_Database!$B:$B,K599)","v":0},{"$error":"#N/A"},null,"",""]
[null,null,null,null,null,null,null,null,null,{"$f":"SUMIFS(Onglet_Consult_Database!$E:$E,Onglet_Consult_Database!$F:$F,Onglet_consult_Panel!$E211,Onglet_Consult_Database!$B:$B,K600)","v":0},{"$error":"#N/A"},null,"",""]
[null,null,null,null,null,null,null,null,null,{"$f":"SUMIFS(Onglet_Consult_Database!$E:$E,Onglet_Consult_Database!$F:$F,Onglet_consult_Panel!$E212,Onglet_Consult_Database!$B:$B,K601)","v":0},{"$error":"#N/A"},null,"",""]
[null,null,null,null,null,null,null,null,null,{"$f":"SUMIFS(Onglet_Consult_Database!$E:$E,Onglet_Consult_Database!$F:$F,Onglet_consult_Panel!$E213,Onglet_Consult_Database!$B:$B,K602)","v":0},{"$error":"#N/A"},null,"",""]
[null,null,null,null,null,null,null,null,null,{"$f":"SUMIFS(Onglet_Consult_Database!$E:$E,Onglet_Consult_Database!$F:$F,Onglet_consult_Panel!$E214,Onglet_Consult_Database!$B:$B,K603)","v":0},{"$error":"#N/A"},null,"",""]
[null,null,null,null,null,null,null,null,null,{"$f":"SUMIFS(Onglet_Consult_Database!$E:$E,Onglet_Consult_Database!$F:$F,Onglet_consult_Panel!$E215,Onglet_Consult_Database!$B:$B,K604)","v":0},{"$error":"#N/A"},null,"",""]
[null,null,null,null,null,null,null,null,null,{"$f":"SUMIFS(Onglet_Consult_Database!$E:$E,Onglet_Consult_Database!$F:$F,Onglet_consult_Panel!$E216,Onglet_Consult_Database!$B:$B,K605)","v":0},{"$error":"#N/A"},null,"",""]
[null,null,null,null,null,null,null,null,null,{"$f":"SUMIFS(Onglet_Consult_Database!$E:$E,Onglet_Consult_Database!$F:$F,Onglet_consult_Panel!$E217,Onglet_Consult_Database!$B:$B,K606)","v":0},{"$error":"#N/A"},null,"",""]
[null,null,null,null,null,null,null,null,null,{"$f":"SUMIFS(Onglet_Consult_Database!$E:$E,Onglet_Consult_Database!$F:$F,Onglet_consult_Panel!$E218,Onglet_Consult_Database!$B:$B,K607)","v":0},{"$error":"#N/A"},null,"",""]
[null,null,null,null,null,null,null,null,null,{"$f":"SUMIFS(Onglet_Consult_Database!$E:$E,Onglet_Consult_Database!$F:$F,Onglet_consult_Panel!$E219,Onglet_Consult_Database!$B:$B,K608)","v":0},{"$error":"#N/A"},null,"",""]
[null,null,null,null,null,null,null,null,null,{"$f":"SUMIFS(Onglet_Consult_Database!$E:$E,Onglet_Consult_Database!$F:$F,Onglet_consult_Panel!$E220,Onglet_Consult_Database!$B:$B,K609)","v":0},{"$error":"#N/A"},null,"",""]
[null,null,null,null,null,null,null,null,null,{"$f":"SUMIFS(Onglet_Consult_Database!$E:$E,Onglet_Consult_Database!$F:$F,Onglet_consult_Panel!$E221,Onglet_Consult_Database!$B:$B,K610)","v":0},{"$error":"#N/A"},null,"",""]
[null,null,null,null,null,null,null,null,null,{"$f":"SUMIFS(Onglet_Consult_Database!$E:$E,Onglet_Consult_Database!$F:$F,Onglet_consult_Panel!$E222,Onglet_Consult_Database!$B:$B,K611)","v":0},{"$error":"#N/A"},null,"",""]
[null,null,null,null,null,null,null,null,null,{"$f":"SUMIFS(Onglet_Consult_Database!$E:$E,Onglet_Consult_Database!$F:$F,Onglet_consult_Panel!$E223,Onglet_Consult_Database!$B:$B,K612)","v":0},{"$error":"#N/A"},null,"",""]
[null,null,null,null,null,null,null,null,null,{"$f":"SUMIFS(Onglet_Consult_Database!$E:$E,Onglet_Consult_Database!$F:$F,Onglet_consult_Panel!$E224,Onglet_Consult_Database!$B:$B,K613)","v":0},{"$error":"#N/A"},null,"",""]
[null,null,null,null,null,null,null,null,null,{"$f":"SUMIFS(Onglet_Consult_Database!$E:$E,Onglet_Consult_Database!$F:$F,Onglet_consult_Panel!$E225,Onglet_Consult_Database!$B:$B,K614)","v":0},{"$error":"#N/A"},null,"",""]
[null,null,null,null,null,null,null,null,null,{"$f":"SUMIFS(Onglet_Consult_Database!$E:$E,Onglet_Consult_Database!$F:$F,Onglet_consult_Panel!$E226,Onglet_Consult_Database!$B:$B,K615)","v":0},{"$error":"#N/A"},null,"",""]
[null,null,null,null,null,null,null,null,null,{"$f":"SUMIFS(Onglet_Consult_Database!$E:$E,Onglet_Consult_Database!$F:$F,Onglet_consult_Panel!$E227,Onglet_Consult_Database!$B:$B,K616)","v":0},{"$error":"#N/A"},null,"",""]
[null,null,null,null,null,null,null,null,null,{"$f":"SUMIFS(Onglet_Consult_Database!$E:$E,Onglet_Consult_Database!$F:$F,Onglet_consult_Panel!$E228,Onglet_Consult_Database!$B:$B,K617)","v":0},{"$error":"#N/A"},null,"",""]
[null,null,null,null,null,null,null,null,null,{"$f":"SUMIFS(Onglet_Consult_Database!$E:$E,Onglet_Consult_Database!$F:$F,Onglet_consult_Panel!$E229,Onglet_Consult_Database!$B:$B,K618)","v":0},{"$error":"#N/A"},null,"",""]
[null,null,null,null,null,null,null,null,null,{"$f":"SUMIFS(Onglet_Consult_Database!$E:$E,Onglet_Consult_Database!$F:$F,Onglet_consult_Panel!$E230,Onglet_Consult_Database!$B:$B,K619)","v":0},{"$error":"#N/A"},null,"",""]
[null,null,null,null,null,null,null,null,null,{"$f":"SUMIFS(Onglet_Consult_Database!$E:$E,Onglet_Consult_Database!$F:$F,Onglet_consult_Panel!$E231,Onglet_Consult_Database!$B:$B,K620)","v":0},{"$error":"#N/A"},null,"",""]
[null,null,null,null,null,null,null,null,null,{"$f":"SUMIFS(Onglet_Consult_Database!$E:$E,Onglet_Consult_Database!$F:$F,Onglet_consult_Panel!$E232,Onglet_Consult_Database!$B:$B,K621)","v":0},{"$error":"#N/A"},null,"",""]
[null,null,null,null,null,null,null,null,null,{"$f":"SUMIFS(Onglet_Consult_Database!$E:$E,Onglet_Consult_Database!$F:$F,Onglet_consult_Panel!$E233,Onglet_Consult_Database!$B:$B,K622)","v":0},{"$error":"#N/A"},null,"",""]
[null,null,null,null,null,null,null,null,null,{"$f":"SUMIFS(Onglet_Consult_Database!$E:$E,Onglet_Consult_Database!$F:$F,Onglet_consult_Panel!$E234,Onglet_Consult_Database!$B:$B,K623)","v":0},{"$error":"#N/A"},null,"",""]
[null,null,null,null,null,null,null,null,null,{"$f":"SUMIFS(Onglet_Consult_Database!$E:$E,Onglet_Consult_Database!$F:$F,Onglet_consult_Panel!$E235,Onglet_Consult_Database!$B:$B,K624)","v":0},{"$error":"#N/A"},null,"",""]
[null,null,null,null,null,null,null,null,null,{"$f":"SUMIFS(Onglet_Consult_Database!$E:$E,Onglet_Consult_Database!$F:$F,Onglet_consult_Panel!$E236,Onglet_Consult_Database!$B:$B,K625)","v":0},{"$error":"#N/A"},null,"",""]
[null,null,null,null,null,null,null,null,null,{"$f":"SUMIFS(Onglet_Consult_Database!$E:$E,Onglet_Consult_Database!$F:$F,Onglet_consult_Panel!$E237,Onglet_Consult_Database!$B:$B,K626)","v":0},{"$error":"#N/A"},null,"",""]
[null,null,null,null,null,null,null,null,null,{"$f":"SUMIFS(Onglet_Consult_Database!$E:$E,Onglet_Consult_Database!$F:$F,Onglet_consult_Panel!$E238,Onglet_Consult_Database!$B:$B,K627)","v":0},{"$error":"#N/A"},null,"",""]
[null,null,null,null,null,null,null,null,null,{"$f":"SUMIFS(Onglet_Consult_Database!$E:$E,Onglet_Consult_Database!$F:$F,Onglet_consult_Panel!$E239,Onglet_Consult_Database!$B:$B,K628)","v":0},{"$error":"#N/A"},null,"",""]
[null,null,null,null,null,null,null,null,null,{"$f":"SUMIFS(Onglet_Consult_Database!$E:$E,Onglet_Consult_Database!$F:$F,Onglet_consult_Panel!$E240,Onglet_Consult_Database!$B:$B,K629)","v":0},{"$error":"#N/A"},null,"",""]
[null,null,null,null,null,null,null,null,null,{"$f":"SUMIFS(Onglet_Consult_Database!$E:$E,Onglet_Consult_Database!$F:$F,Onglet_consult_Panel!$E241,Onglet_Consult_Database!$B:$B,K630)","v":0},{"$error":"#N/A"},null,"",""]
[null,null,null,null,null,null,null,null,null,{"$f":"SUMIFS(Onglet_Consult_Database!$E:$E,Onglet_Consult_Database!$F:$F,Onglet_consult_Panel!$E242,Onglet_Consult_Database!$B:$B,K631)","v":0},{"$error":"#N/A"},null,"",""]
[null,null,null,null,null,null,null,null,null,{"$f":"SUMIFS(Onglet_Consult_Database!$E:$E,Onglet_Consult_Database!$F:$F,Onglet_consult_Panel!$E243,Onglet_Consult_Database!$B:$B,K632)","v":0},{"$error":"#N/A"},null,"",""]
[null,null,null,null,null,null,null,null,null,{"$f":"SUMIFS(Onglet_Consult_Database!$E:$E,Onglet_Consult_Database!$F:$F,Onglet_consult_Panel!$E244,Onglet_Consult_Database!$B:$B,K633)","v":0},{"$error":"#N/A"},null,"",""]
[null,null,null,null,null,null,null,null,null,{"$f":"SUMIFS(Onglet_Consult_Database!$E:$E,Onglet_Consult_Database!$F:$F,Onglet_consult_Panel!$E245,Onglet_Consult_Database!$B:$B,K634)","v":0},{"$error":"#N/A"},null,"",""]
[null,null,null,null,null,null,null,null,null,{"$f":"SUMIFS(Onglet_Consult_Database!$E:$E,Onglet_Consult_Database!$F:$F,Onglet_consult_Panel!$E246,Onglet_Consult_Database!$B:$B,K635)","v":0},{"$error":"#N/A"},null,"",""]
[null,null,null,null,null,null,null,null,null,{"$f":"SUMIFS(Onglet_Consult_Database!$E:$E,Onglet_Consult_Database!$F:$F,Onglet_consult_Panel!$E247,Onglet_Consult_Database!$B:$B,K636)","v":0},{"$error":"#N/A"},null,"",""]
[null,null,null,null,null,null,null,null,null,{"$f":"SUMIFS(Onglet_Consult_Database!$E:$E,Onglet_Consult_Database!$F:$F,Onglet_consult_Panel!$E248,Onglet_Consult_Database!$B:$B,K637)","v":0},{"$error":"#N/A"},null,"",""]
[null,null,null,null,null,null,null,null,null,{"$f":"SUMIFS(Onglet_Consult_Database!$E:$E,Onglet_Consult_Database!$F:$F,Onglet_consult_Panel!$E249,Onglet_Consult_Database!$B:$B,K638)","v":0},{"$error":"#N/A"},null,"",""]
[null,null,null,null,null,null,null,null,null,{"$f":"SUMIFS(Onglet_Consult_Database!$E:$E,Onglet_Consult_Database!$F:$F,Onglet_consult_Panel!$E250,Onglet_Consult_Database!$B:$B,K639)","v":0},{"$error":"#N/A"},null,"",""]
[null,null,null,null,null,null,null,null,null,{"$f":"SUMIFS(Onglet_Consult_Database!$E:$E,Onglet_Consult_Database!$F:$F,Onglet_consult_Panel!$E251,Onglet_Consult_Database!$B:$B,K640)","v":0},{"$error":"#N/A"},null,"",""]
[null,null,null,null,null,null,null,null,null,{"$f":"SUMIFS(Onglet_Consult_Database!$E:$E,Onglet_Consult_Database!$F:$F,Onglet_consult_Panel!$E252,Onglet_Consult_Database!$B:$B,K641)","v":0},{"$error":"#N/A"},null,"",""]
[null,null,null,null,null,null,null,null,null,{"$f":"SUMIFS(Onglet_Consult_Database!$E:$E,Onglet_Consult_Database!$F:$F,Onglet_consult_Panel!$E253,Onglet_Consult_Database!$B:$B,K642)","v":0},{"$error":"#N/A"},null,"",""]
[null,null,null,null,null,null,null,null,null,{"$f":"SUMIFS(Onglet_Consult_Database!$E:$E,Onglet_Consult_Database!$F:$F,Onglet_consult_Panel!$E254,Onglet_Consult_Database!$B:$B,K643)","v":0},{"$error":"#N/A"},null,"",""]
[null,null,null,null,null,null,null,null,null,{"$f":"SUMIFS(Onglet_Consult_Database!$E:$E,Onglet_Consult_Database!$F:$F,Onglet_consult_Panel!$E255,Onglet_Consult_Database!$B:$B,K644)","v":0},{"$error":"#N/A"},null,"",""]
[null,null,null,null,null,null,null,null,null,{"$f":"SUMIFS(Onglet_Consult_Database!$E:$E,Onglet_Consult_Database!$F:$F,Onglet_consult_Panel!$E256,Onglet_Consult_Database!$B:$B,K645)","v":0},{"$error":"#N/A"},null,"",""]
[null,null,null,null,null,null,null,null,null,{"$f":"SUMIFS(Onglet_Consult_Database!$E:$E,Onglet_Consult_Database!$F:$F,Onglet_consult_Panel!$E257,Onglet_Consult_Database!$B:$B,K646)","v":0},{"$error":"#N/A"},null,"",""]
[null,null,null,null,null,null,null,null,null,{"$f":"SUMIFS(Onglet_Consult_Database!$E:$E,Onglet_Consult_Database!$F:$F,Onglet_consult_Panel!$E258,Onglet_Consult_Database!$B:$B,K647)","v":0},{"$error":"#N/A"},null,"",""]
[null,null,null,null,null,null,null,null,null,{"$f":"SUMIFS(Onglet_Consult_Database!$E:$E,Onglet_Consult_Database!$F:$F,Onglet_consult_Panel!$E259,Onglet_Consult_Database!$B:$B,K648)","v":0},{"$error":"#N/A"},null,"",""]
[null,null,null,null,null,null,null,null,null,{"$f":"SUMIFS(Onglet_Consult_Database!$E:$E,Onglet_Consult_Database!$F:$F,Onglet_consult_Panel!$E260,Onglet_Consult_Database!$B:$B,K649)","v":0},{"$error":"#N/A"},null,"",""]
[null,null,null,null,null,null,null,null,null,{"$f":"SUMIFS(Onglet_Consult_Database!$E:$E,Onglet_Consult_Database!$F:$F,Onglet_consult_Panel!$E261,Onglet_Consult_Database!$B:$B,K650)","v":0},{"$error":"#N/A"},null,"",""]
[null,null,null,null,null,null,null,null,null,{"$f":"SUMIFS(Onglet_Consult_Database!$E:$E,Onglet_Consult_Database!$F:$F,Onglet_consult_Panel!$E262,Onglet_Consult_Database!$B:$B,K651)","v":0},{"$error":"#N/A"},null,"",""]
[null,null,null,null,null,null,null,null,null,{"$f":"SUMIFS(Onglet_Consult_Database!$E:$E,Onglet_Consult_Database!$F:$F,Onglet_consult_Panel!$E263,Onglet_Consult_Database!$B:$B,K652)","v":0},{"$error":"#N/A"},null,"",""]
[null,null,null,null,null,null,null,null,null,{"$f":"SUMIFS(Onglet_Consult_Database!$E:$E,Onglet_Consult_Database!$F:$F,Onglet_consult_Panel!$E264,Onglet_Consult_Database!$B:$B,K653)","v":0},{"$f":"_xlfn.IFS(F653=$K$3,\"I01\",F653=$K$4,\"I02\",F653=$K$5,\"I03\",F653=$K$6,\"I04\")","v":{"$error":"#N/A"}},null,{"$f":"IFERROR(VLOOKUP(E653,SH_list,8,FALSE),\"\")","v":""},{"$f":"IFERROR(VLOOKUP(E653,SH_list,6,FALSE),\"\")","v":""}]
[null,null,null,null,null,null,null,null,null,{"$f":"SUMIFS(Onglet_Consult_Database!$E:$E,Onglet_Consult_Database!$F:$F,Onglet_consult_Panel!$E265,Onglet_Consult_Database!$B:$B,K654)","v":0},{"$error":"#N/A"},null,"",""]
[null,null,null,null,null,null,null,null,null,{"$f":"SUMIFS(Onglet_Consult_Database!$E:$E,Onglet_Consult_Database!$F:$F,Onglet_consult_Panel!$E266,Onglet_Consult_Database!$B:$B,K655)","v":0},{"$error":"#N/A"},null,"",""]
[null,null,null,null,null,null,null,null,null,{"$f":"SUMIFS(Onglet_Consult_Database!$E:$E,Onglet_Consult_Database!$F:$F,Onglet_consult_Panel!$E267,Onglet_Consult_Database!$B:$B,K656)","v":0},{"$error":"#N/A"},null,"",""]
[null,null,null,null,null,null,null,null,null,{"$f":"SUMIFS(Onglet_Consult_Database!$E:$E,Onglet_Consult_Database!$F:$F,Onglet_consult_Panel!$E268,Onglet_Consult_Database!$B:$B,K657)","v":0},{"$error":"#N/A"},null,"",""]
[null,null,null,null,null,null,null,null,null,{"$f":"SUMIFS(Onglet_Consult_Database!$E:$E,Onglet_Consult_Database!$F:$F,Onglet_consult_Panel!$E269,Onglet_Consult_Database!$B:$B,K658)","v":0},{"$error":"#N/A"},null,"",""]
[null,null,null,null,null,null,null,null,null,{"$f":"SUMIFS(Onglet_Consult_Database!$E:$E,Onglet_Consult_Database!$F:$F,Onglet_consult_Panel!$E270,Onglet_Consult_Database!$B:$B,K659)","v":0},{"$error":"#N/A"},null,"",""]
[null,null,null,null,null,null,null,null,null,{"$f":"SUMIFS(Onglet_Consult_Database!$E:$E,Onglet_Consult_Database!$F:$F,Onglet_consult_Panel!$E271,Onglet_Consult_Database!$B:$B,K660)","v":0},{"$error":"#N/A"},null,"",""]
[null,null,null,null,null,null,null,null,null,{"$f":"SUMIFS(Onglet_Consult_Database!$E:$E,Onglet_Consult_Database!$F:$F,Onglet_consult_Panel!$E272,Onglet_Consult_Database!$B:$B,K661)","v":0},{"$error":"#N/A"},null,"",""]
[null,null,null,null,null,null,null,null,null,{"$f":"SUMIFS(Onglet_Consult_Database!$E:$E,Onglet_Consult_Database!$F:$F,Onglet_consult_Panel!$E273,Onglet_Consult_Database!$B:$B,K662)","v":0},{"$error":"#N/A"},null,"",""]
[null,null,null,null,null,null,null,null,null,{"$f":"SUMIFS(Onglet_Consult_Database!$E:$E,Onglet_Consult_Database!$F:$F,Onglet_consult_Panel!$E274,Onglet_Consult_Database!$B:$B,K663)","v":0},{"$error":"#N/A"},null,"",""]
[null,null,null,null,null,null,null,null,null,{"$f":"SUMIFS(Onglet_Consult_Database!$E:$E,Onglet_Consult_Database!$F:$F,Onglet_consult_Panel!$E275,Onglet_Consult_Database!$B:$B,K664)","v":0},{"$error":"#N/A"},null,"",""]
[null,null,null,null,null,null,null,null,null,{"$f":"SUMIFS(Onglet_Consult_Database!$E:$E,Onglet_Consult_Database!$F:$F,Onglet_consult_Panel!$E276,Onglet_Consult_Database!$B:$B,K665)","v":0},{"$error":"#N/A"},null,"",""]
[null,null,null,null,null,null,null,null,null,{"$f":"SUMIFS(Onglet_Consult_Database!$E:$E,Onglet_Consult_Database!$F:$F,Onglet_consult_Panel!$E277,Onglet_Consult_Database!$B:$B,K666)","v":0},{"$error":"#N/A"},null,"",""]
[null,null,null,null,null,null,null,null,null,{"$f":"SUMIFS(Onglet_Consult_Database!$E:$E,Onglet_Consult_Database!$F:$F,Onglet_consult_Panel!$E278,Onglet_Consult_Database!$B:$B,K667)","v":0},{"$error":"#N/A"},null,"",""]
[null,null,null,null,null,null,null,null,null,{"$f":"SUMIFS(Onglet_Consult_Database!$E:$E,Onglet_Consult_Database!$F:$F,Onglet_consult_Panel!$E279,Onglet_Consult_Database!$B:$B,K668)","v":0},{"$error":"#N/A"},null,"",""]
[null,null,null,null,null,null,null,null,null,{"$f":"SUMIFS(Onglet_Consult_Database!$E:$E,Onglet_Consult_Database!$F:$F,Onglet_consult_Panel!$E280,Onglet_Consult_Database!$B:$B,K669)","v":0},{"$error":"#N/A"},null,"",""]
[null,null,null,null,null,null,null,null,null,{"$f":"SUMIFS(Onglet_Consult_Database!$E:$E,Onglet_Consult_Database!$F:$F,Onglet_consult_Panel!$E281,Onglet_Consult_Database!$B:$B,K670)","v":0},{"$error":"#N/A"},null,"",""]
[null,null,null,null,null,null,null,null,null,{"$f":"SUMIFS(Onglet_Consult_Database!$E:$E,Onglet_Consult_Database!$F:$F,Onglet_consult_Panel!$E282,Onglet_Consult_Database!$B:$B,K671)","v":0},{"$error":"#N/A"},null,"",""]
[null,null,null,null,null,null,null,null,null,{"$f":"SUMIFS(Onglet_Consult_Database!$E:$E,Onglet_Consult_Database!$F:$F,Onglet_consult_Panel!$E283,Onglet_Consult_Database!$B:$B,K672)","v":0},{"$error":"#N/A"},null,"",""]
[null,null,null,null,null,null,null,null,null,{"$f":"SUMIFS(Onglet_Consult_Database!$E:$E,Onglet_Consult_Database!$F:$F,Onglet_consult_Panel!$E284,Onglet_Consult_Database!$B:$B,K673)","v":0},{"$error":"#N/A"},null,"",""]
[null,null,null,null,null,null,null,null,null,{"$f":"SUMIFS(Onglet_Consult_Database!$E:$E,Onglet_Consult_Database!$F:$F,Onglet_consult_Panel!$E285,Onglet_Consult_Database!$B:$B,K674)","v":0},{"$error":"#N/A"},null,"",""]
[null,null,null,null,null,null,null,null,null,{"$f":"SUMIFS(Onglet_Consult_Database!$E:$E,Onglet_Consult_Database!$F:$F,Onglet_consult_Panel!$E286,Onglet_Consult_Database!$B:$B,K675)","v":0},{"$error":"#N/A"},null,"",""]
[null,null,null,null,null,null,null,null,null,{"$f":"SUMIFS(Onglet_Consult_Database!$E:$E,Onglet_Consult_Database!$F:$F,Onglet_consult_Panel!$E287,Onglet_Consult_Database!$B:$B,K676)","v":0},{"$error":"#N/A"},null,"",""]
[null,null,null,null,null,null,null,null,null,{"$f":"SUMIFS(Onglet_Consult_Database!$E:$E,Onglet_Consult_Database!$F:$F,Onglet_consult_Panel!$E288,Onglet_Consult_Database!$B:$B,K677)","v":0},{"$error":"#N/A"},null,"",""]
[null,null,null,null,null,null,null,null,null,{"$f":"SUMIFS(Onglet_Consult_Database!$E:$E,Onglet_Consult_Database!$F:$F,Onglet_consult_Panel!$E289,Onglet_Consult_Database!$B:$B,K678)","v":0},{"$error":"#N/A"},null,"",""]
[null,null,null,null,null,null,null,null,null,{"$f":"SUMIFS(Onglet_Consult_Database!$E:$E,Onglet_Consult_Database!$F:$F,Onglet_consult_Panel!$E290,Onglet_Consult_Database!$B:$B,K679)","v":0},{"$error":"#N/A"},null,"",""]
[null,null,null,null,null,null,null,null,null,{"$f":"SUMIFS(Onglet_Consult_Database!$E:$E,Onglet_Consult_Database!$F:$F,Onglet_consult_Panel!$E291,Onglet_Consult_Database!$B:$B,K680)","v":0},{"$error":"#N/A"},null,"",""]
[null,null,null,null,null,null,null,null,null,{"$f":"SUMIFS(Onglet_Consult_Database!$E:$E,Onglet_Consult_Database!$F:$F,Onglet_consult_Panel!$E292,Onglet_Consult_Database!$B:$B,K681)","v":0},{"$error":"#N/A"},null,"",""]
[null,null,null,null,null,null,null,null,null,{"$f":"SUMIFS(Onglet_Consult_Database!$E:$E,Onglet_Consult_Database!$F:$F,Onglet_consult_Panel!$E293,Onglet_Consult_Database!$B:$B,K682)","v":0},{"$error":"#N/A"},null,"",""]
[null,null,null,null,null,null,null,null,null,{"$f":"SUMIFS(Onglet_Consult_Database!$E:$E,Onglet_Consult_Database!$F:$F,Onglet_consult_Panel!$E294,Onglet_Consult_Database!$B:$B,K683)","v":0},{"$error":"#N/A"},null,"",""]
[null,null,null,null,null,null,null,null,null,{"$f":"SUMIFS(Onglet_Consult_Database!$E:$E,Onglet_Consult_Database!$F:$F,Onglet_consult_Panel!$E295,Onglet_Consult_Database!$B:$B,K684)","v":0},{"$error":"#N/A"},null,"",""]
[null,null,null,null,null,null,null,null,null,{"$f":"SUMIFS(Onglet_Consult_Database!$E:$E,Onglet_Consult_Database!$F:$F,Onglet_consult_Panel!$E296,Onglet_Consult_Database!$B:$B,K685)","v":0},{"$error":"#N/A"},null,"",""]
[null,null,null,null,null,null,null,null,null,{"$f":"SUMIFS(Onglet_Consult_Database!$E:$E,Onglet_Consult_Database!$F:$F,Onglet_consult_Panel!$E297,Onglet_Consult_Database!$B:$B,K686)","v":0},{"$error":"#N/A"},null,"",""]
[null,null,null,null,null,null,null,null,null,{"$f":"SUMIFS(Onglet_Consult_Database!$E:$E,Onglet_Consult_Database!$F:$F,Onglet_consult_Panel!$E298,Onglet_Consult_Database!$B:$B,K687)","v":0},{"$error":"#N/A"},null,"",""]
[null,null,null,null,null,null,null,null,null,{"$f":"SUMIFS(Onglet_Consult_Database!$E:$E,Onglet_Consult_Database!$F:$F,Onglet_consult_Panel!$E299,Onglet_Consult_Database!$B:$B,K688)","v":0},{"$error":"#N/A"},null,"",""]
[null,null,null,null,null,null,null,null,null,{"$f":"SUMIFS(Onglet_Consult_Database!$E:$E,Onglet_Consult_Database!$F:$F,Onglet_consult_Panel!$E300,Onglet_Consult_Database!$B:$B,K689)","v":0},{"$error":"#N/A"},null,"",""]
[null,null,null,null,null,null,null,null,null,{"$f":"SUMIFS(Onglet_Consult_Database!$E:$E,Onglet_Consult_Database!$F:$F,Onglet_consult_Panel!$E301,Onglet_Consult_Database!$B:$B,K690)","v":0},{"$error":"#N/A"},null,"",""]
[null,null,null,null,null,null,null,null,null,{"$f":"SUMIFS(Onglet_Consult_Database!$E:$E,Onglet_Consult_Database!$F:$F,Onglet_consult_Panel!$E302,Onglet_Consult_Database!$B:$B,K691)","v":0},{"$error":"#N/A"},null,"",""]
[null,null,null,null,null,null,null,null,null,{"$f":"SUMIFS(Onglet_Consult_Database!$E:$E,Onglet_Consult_Database!$F:$F,Onglet_consult_Panel!$E303,Onglet_Consult_Database!$B:$B,K692)","v":0},{"$error":"#N/A"},null,"",""]
[null,null,null,null,null,null,null,null,null,{"$f":"SUMIFS(Onglet_Consult_Database!$E:$E,Onglet_Consult_Database!$F:$F,Onglet_consult_Panel!$E304,Onglet_Consult_Database!$B:$B,K693)","v":0},{"$error":"#N/A"},null,"",""]
[null,null,null,null,null,null,null,null,null,{"$f":"SUMIFS(Onglet_Consult_Database!$E:$E,Onglet_Consult_Database!$F:$F,Onglet_consult_Panel!$E305,Onglet_Consult_Database!$B:$B,K694)","v":0},{"$error":"#N/A"},null,"",""]
[null,null,null,null,null,null,null,null,null,{"$f":"SUMIFS(Onglet_Consult_Database!$E:$E,Onglet_Consult_Database!$F:$F,Onglet_consult_Panel!$E306,Onglet_Consult_Database!$B:$B,K695)","v":0},{"$error":"#N/A"},null,"",""]
[null,null,null,null,null,null,null,null,null,{"$f":"SUMIFS(Onglet_Consult_Database!$E:$E,Onglet_Consult_Database!$F:$F,Onglet_consult_Panel!$E307,Onglet_Consult_Database!$B:$B,K696)","v":0},{"$error":"#N/A"},null,"",""]
[null,null,null,null,null,null,null,null,null,{"$f":"SUMIFS(Onglet_Consult_Database!$E:$E,Onglet_Consult_Database!$F:$F,Onglet_consult_Panel!$E308,Onglet_Consult_Database!$B:$B,K697)","v":0},{"$error":"#N/A"},null,"",""]
[null,null,null,null,null,null,null,null,null,{"$f":"SUMIFS(Onglet_Consult_Database!$E:$E,Onglet_Consult_Database!$F:$F,Onglet_consult_Panel!$E309,Onglet_Consult_Database!$B:$B,K698)","v":0},{"$error":"#N/A"},null,"",""]
[null,null,null,null,null,null,null,null,null,{"$f":"SUMIFS(Onglet_Consult_Database!$E:$E,Onglet_Consult_Database!$F:$F,Onglet_consult_Panel!$E310,Onglet_Consult_Database!$B:$B,K699)","v":0},{"$error":"#N/A"},null,"",""]
[null,null,null,null,null,null,null,null,null,{"$f":"SUMIFS(Onglet_Consult_Database!$E:$E,Onglet_Consult_Database!$F:$F,Onglet_consult_Panel!$E311,Onglet_Consult_Database!$B:$B,K700)","v":0},{"$error":"#N/A"},null,"",""]
[null,null,null,null,null,null,null,null,null,{"$f":"SUMIFS(Onglet_Consult_Database!$E:$E,Onglet_Consult_Database!$F:$F,Onglet_consult_Panel!$E312,Onglet_Consult_Database!$B:$B,K701)","v":0},{"$error":"#N/A"},null,"",""]
[null,null,null,null,null,null,null,null,null,{"$f":"SUMIFS(Onglet_Consult_Database!$E:$E,Onglet_Consult_Database!$F:$F,Onglet_consult_Panel!$E313,Onglet_Consult_Database!$B:$B,K702)","v":0},{"$error":"#N/A"},null,"",""]
[null,null,null,null,null,null,null,null,null,{"$f":"SUMIFS(Onglet_Consult_Database!$E:$E,Onglet_Consult_Database!$F:$F,Onglet_consult_Panel!$E314,Onglet_Consult_Database!$B:$B,K703)","v":0},{"$error":"#N/A"},null,"",""]
[null,null,null,null,null,null,null,null,null,{"$f":"SUMIFS(Onglet_Consult_Database!$E:$E,Onglet_Consult_Database!$F:$F,Onglet_consult_Panel!$E315,Onglet_Consult_Database!$B:$B,K704)","v":0},{"$error":"#N/A"},null,"",""]
[null,null,null,null,null,null,null,null,null,{"$f":"SUMIFS(Onglet_Consult_Database!$E:$E,Onglet_Consult_Database!$F:$F,Onglet_consult_Panel!$E316,Onglet_Consult_Database!$B:$B,K705)","v":0},{"$error":"#N/A"},null,"",""]
[null,null,null,null,null,null,null,null,null,{"$f":"SUMIFS(Onglet_Consult_Database!$E:$E,Onglet_Consult_Database!$F:$F,Onglet_consult_Panel!$E317,Onglet_Consult_Database!$B:$B,K706)","v":0},{"$error":"#N/A"},null,"",""]
[null,null,null,null,null,null,null,null,null,{"$f":"SUMIFS(Onglet_Consult_Database!$E:$E,Onglet_Consult_Database!$F:$F,Onglet_consult_Panel!$E318,Onglet_Consult_Database!$B:$B,K707)","v":0},{"$error":"#N/A"},null,"",""]
[null,null,null,null,null,null,null,null,null,{"$f":"SUMIFS(Onglet_Consult_Database!$E:$E,Onglet_Consult_Database!$F:$F,Onglet_consult_Panel!$E319,Onglet_Consult_Database!$B:$B,K708)","v":0},{"$error":"#N/A"},null,"",""]
[null,null,null,null,null,null,null,null,null,{"$f":"SUMIFS(Onglet_Consult_Database!$E:$E,Onglet_Consult_Database!$F:$F,Onglet_consult_Panel!$E320,Onglet_Consult_Database!$B:$B,K709)","v":0},{"$error":"#N/A"},null,"",""]
[null,null,null,null,null,null,null,null,null,{"$f":"SUMIFS(Onglet_Consult_Database!$E:$E,Onglet_Consult_Database!$F:$F,Onglet_consult_Panel!$E321,Onglet_Consult_Database!$B:$B,K710)","v":0},{"$error":"#N/A"},null,"",""]
[null,null,null,null,null,null,null,null,null,{"$f":"SUMIFS(Onglet_Consult_Database!$E:$E,Onglet_Consult_Database!$F:$F,Onglet_consult_Panel!$E322,Onglet_Consult_Database!$B:$B,K711)","v":0},{"$error":"#N/A"},null,"",""]
[null,null,null,null,null,null,null,null,null,{"$f":"SUMIFS(Onglet_Consult_Database!$E:$E,Onglet_Consult_Database!$F:$F,Onglet_consult_Panel!$E323,Onglet_Consult_Database!$B:$B,K712)","v":0},{"$error":"#N/A"},null,"",""]
[null,null,null,null,null,null,null,null,null,{"$f":"SUMIFS(Onglet_Consult_Database!$E:$E,Onglet_Consult_Database!$F:$F,Onglet_consult_Panel!$E324,Onglet_Consult_Database!$B:$B,K713)","v":0},{"$error":"#N/A"},null,"",""]
[null,null,null,null,null,null,null,null,null,{"$f":"SUMIFS(Onglet_Consult_Database!$E:$E,Onglet_Consult_Database!$F:$F,Onglet_consult_Panel!$E325,Onglet_Consult_Database!$B:$B,K714)","v":0},{"$error":"#N/A"},null,"",""]
[null,null,null,null,null,null,null,null,null,{"$f":"SUMIFS(Onglet_Consult_Database!$E:$E,Onglet_Consult_Database!$F:$F,Onglet_consult_Panel!$E326,Onglet_Consult_Database!$B:$B,K715)","v":0},{"$error":"#N/A"},null,"",""]
[null,null,null,null,null,null,null,null,null,{"$f":"SUMIFS(Onglet_Consult_Database!$E:$E,Onglet_Consult_Database!$F:$F,Onglet_consult_Panel!$E327,Onglet_Consult_Database!$B:$B,K716)","v":0},{"$error":"#N/A"},null,"",""]
[null,null,null,null,null,null,null,null,null,{"$f":"SUMIFS(Onglet_Consult_Database!$E:$E,Onglet_Consult_Database!$F:$F,Onglet_consult_Panel!$E328,Onglet_Consult_Database!$B:$B,K717)","v":0},{"$f":"_xlfn.IFS(F717=$K$3,\"I01\",F717=$K$4,\"I02\",F717=$K$5,\"I03\",F717=$K$6,\"I04\")","v":{"$error":"#N/A"}},null,{"$f":"IFERROR(VLOOKUP(E717,SH_list,8,FALSE),\"\")","v":""},{"$f":"IFERROR(VLOOKUP(E717,SH_list,6,FALSE),\"\")","v":""}]
[null,null,null,null,null,null,null,null,null,{"$f":"SUMIFS(Onglet_Consult_Database!$E:$E,Onglet_Consult_Database!$F:$F,Onglet_consult_Panel!$E329,Onglet_Consult_Database!$B:$B,K718)","v":0},{"$error":"#N/A"},null,"",""]
[null,null,null,null,null,null,null,null,null,{"$f":"SUMIFS(Onglet_Consult_Database!$E:$E,Onglet_Consult_Database!$F:$F,Onglet_consult_Panel!$E330,Onglet_Consult_Database!$B:$B,K719)","v":0},{"$error":"#N/A"},null,"",""]
[null,null,null,null,null,null,null,null,null,{"$f":"SUMIFS(Onglet_Consult_Database!$E:$E,Onglet_Consult_Database!$F:$F,Onglet_consult_Panel!$E331,Onglet_Consult_Database!$B:$B,K720)","v":0},{"$error":"#N/A"},null,"",""]
[null,null,null,null,null,null,null,null,null,{"$f":"SUMIFS(Onglet_Consult_Database!$E:$E,Onglet_Consult_Database!$F:$F,Onglet_consult_Panel!$E332,Onglet_Consult_Database!$B:$B,K721)","v":0},{"$error":"#N/A"},null,"",""]
[null,null,null,null,null,null,null,null,null,{"$f":"SUMIFS(Onglet_Consult_Database!$E:$E,Onglet_Consult_Database!$F:$F,Onglet_consult_Panel!$E333,Onglet_Consult_Database!$B:$B,K722)","v":0},{"$error":"#N/A"},null,"",""]
[null,null,null,null,null,null,null,null,null,{"$f":"SUMIFS(Onglet_Consult_Database!$E:$E,Onglet_Consult_Database!$F:$F,Onglet_consult_Panel!$E334,Onglet_Consult_Database!$B:$B,K723)","v":0},{"$error":"#N/A"},null,"",""]
[null,null,null,null,null,null,null,null,null,{"$f":"SUMIFS(Onglet_Consult_Database!$E:$E,Onglet_Consult_Database!$F:$F,Onglet_consult_Panel!$E335,Onglet_Consult_Database!$B:$B,K724)","v":0},{"$error":"#N/A"},null,"",""]
[null,null,null,null,null,null,null,null,null,{"$f":"SUMIFS(Onglet_Consult_Database!$E:$E,Onglet_Consult_Database!$F:$F,Onglet_consult_Panel!$E336,Onglet_Consult_Database!$B:$B,K725)","v":0},{"$error":"#N/A"},null,"",""]
[null,null,null,null,null,null,null,null,null,{"$f":"SUMIFS(Onglet_Consult_Database!$E:$E,Onglet_Consult_Database!$F:$F,Onglet_consult_Panel!$E337,Onglet_Consult_Database!$B:$B,K726)","v":0},{"$error":"#N/A"},null,"",""]
[null,null,null,null,null,null,null,null,null,{"$f":"SUMIFS(Onglet_Consult_Database!$E:$E,Onglet_Consult_Database!$F:$F,Onglet_consult_Panel!$E338,Onglet_Consult_Database!$B:$B,K727)","v":0},{"$error":"#N/A"},null,"",""]
[null,null,null,null,null,null,null,null,null,{"$f":"SUMIFS(Onglet_Consult_Database!$E:$E,Onglet_Consult_Database!$F:$F,Onglet_consult_Panel!$E339,Onglet_Consult_Database!$B:$B,K728)","v":0},{"$error":"#N/A"},null,"",""]
[null,null,null,null,null,null,null,null,null,{"$f":"SUMIFS(Onglet_Consult_Database!$E:$E,Onglet_Consult_Database!$F:$F,Onglet_consult_Panel!$E340,Onglet_Consult_Database!$B:$B,K729)","v":0},{"$error":"#N/A"},null,"",""]
[null,null,null,null,null,null,null,null,null,{"$f":"SUMIFS(Onglet_Consult_Database!$E:$E,Onglet_Consult_Database!$F:$F,Onglet_consult_Panel!$E341,Onglet_Consult_Database!$B:$B,K730)","v":0},{"$error":"#N/A"},null,"",""]
[null,null,null,null,null,null,null,null,null,{"$f":"SUMIFS(Onglet_Consult_Database!$E:$E,Onglet_Consult_Database!$F:$F,Onglet_consult_Panel!$E342,Onglet_Consult_Database!$B:$B,K731)","v":0},{"$error":"#N/A"},null,"",""]
[null,null,null,null,null,null,null,null,null,{"$f":"SUMIFS(Onglet_Consult_Database!$E:$E,Onglet_Consult_Database!$F:$F,Onglet_consult_Panel!$E343,Onglet_Consult_Database!$B:$B,K732)","v":0},{"$error":"#N/A"},null,"",""]
[null,null,null,null,null,null,null,null,null,{"$f":"SUMIFS(Onglet_Consult_Database!$E:$E,Onglet_Consult_Database!$F:$F,Onglet_consult_Panel!$E344,Onglet_Consult_Database!$B:$B,K733)","v":0},{"$error":"#N/A"},null,"",""]
[null,null,null,null,null,null,null,null,null,{"$f":"SUMIFS(Onglet_Consult_Database!$E:$E,Onglet_Consult_Database!$F:$F,Onglet_consult_Panel!$E345,Onglet_Consult_Database!$B:$B,K734)","v":0},{"$error":"#N/A"},null,"",""]
[null,null,null,null,null,null,null,null,null,{"$f":"SUMIFS(Onglet_Consult_Database!$E:$E,Onglet_Consult_Database!$F:$F,Onglet_consult_Panel!$E346,Onglet_Consult_Database!$B:$B,K735)","v":0},{"$error":"#N/A"},null,"",""]
[null,null,null,null,null,null,null,null,null,{"$f":"SUMIFS(Onglet_Consult_Database!$E:$E,Onglet_Consult_Database!$F:$F,Onglet_consult_Panel!$E347,Onglet_Consult_Database!$B:$B,K736)","v":0},{"$error":"#N/A"},null,"",""]
[null,null,null,null,null,null,null,null,null,{"$f":"SUMIFS(Onglet_Consult_Database!$E:$E,Onglet_Consult_Database!$F:$F,Onglet_consult_Panel!$E348,Onglet_Consult_Database!$B:$B,K737)","v":0},{"$error":"#N/A"},null,"",""]
[null,null,null,null,null,null,null,null,null,{"$f":"SUMIFS(Onglet_Consult_Database!$E:$E,Onglet_Consult_Database!$F:$F,Onglet_consult_Panel!$E349,Onglet_Consult_Database!$B:$B,K738)","v":0},{"$error":"#N/A"},null,"",""]
[null,null,null,null,null,null,null,null,null,{"$f":"SUMIFS(Onglet_Consult_Database!$E:$E,Onglet_Consult_Database!$F:$F,Onglet_consult_Panel!$E350,Onglet_Consult_Database!$B:$B,K739)","v":0},{"$error":"#N/A"},null,"",""]
[null,null,null,null,null,null,null,null,null,{"$f":"SUMIFS(Onglet_Consult_Database!$E:$E,Onglet_Consult_Database!$F:$F,Onglet_consult_Panel!$E351,Onglet_Consult_Database!$B:$B,K740)","v":0},{"$error":"#N/A"},null,"",""]
[null,null,null,null,null,null,null,null,null,{"$f":"SUMIFS(Onglet_Consult_Database!$E:$E,Onglet_Consult_Database!$F:$F,Onglet_consult_Panel!$E352,Onglet_Consult_Database!$B:$B,K741)","v":0},{"$error":"#N/A"},null,"",""]
[null,null,null,null,null,null,null,null,null,{"$f":"SUMIFS(Onglet_Consult_Database!$E:$E,Onglet_Consult_Database!$F:$F,Onglet_consult_Panel!$E353,Onglet_Consult_Database!$B:$B,K742)","v":0},{"$error":"#N/A"},null,"",""]
[null,null,null,null,null,null,null,null,null,{"$f":"SUMIFS(Onglet_Consult_Database!$E:$E,Onglet_Consult_Database!$F:$F,Onglet_consult_Panel!$E354,Onglet_Consult_Database!$B:$B,K743)","v":0},{"$error":"#N/A"},null,"",""]
[null,null,null,null,null,null,null,null,null,{"$f":"SUMIFS(Onglet_Consult_Database!$E:$E,Onglet_Consult_Database!$F:$F,Onglet_consult_Panel!$E355,Onglet_Consult_Database!$B:$B,K744)","v":0},{"$error":"#N/A"},null,"",""]
[null,null,null,null,null,null,null,null,null,{"$f":"SUMIFS(Onglet_Consult_Database!$E:$E,Onglet_Consult_Database!$F:$F,Onglet_consult_Panel!$E356,Onglet_Consult_Database!$B:$B,K745)","v":0},{"$error":"#N/A"},null,"",""]
[null,null,null,null,null,null,null,null,null,{"$f":"SUMIFS(Onglet_Consult_Database!$E:$E,Onglet_Consult_Database!$F:$F,Onglet_consult_Panel!$E357,Onglet_Consult_Database!$B:$B,K746)","v":0},{"$error":"#N/A"},null,"",""]
[null,null,null,null,null,null,null,null,null,{"$f":"SUMIFS(Onglet_Consult_Database!$E:$E,Onglet_Consult_Database!$F:$F,Onglet_consult_Panel!$E358,Onglet_Consult_Database!$B:$B,K747)","v":0},{"$error":"#N/A"},null,"",""]
[null,null,null,null,null,null,null,null,null,{"$f":"SUMIFS(Onglet_Consult_Database!$E:$E,Onglet_Consult_Database!$F:$F,Onglet_consult_Panel!$E359,Onglet_Consult_Database!$B:$B,K748)","v":0},{"$error":"#N/A"},null,"",""]
[null,null,null,null,null,null,null,null,null,{"$f":"SUMIFS(Onglet_Consult_Database!$E:$E,Onglet_Consult_Database!$F:$F,Onglet_consult_Panel!$E360,Onglet_Consult_Database!$B:$B,K749)","v":0},{"$error":"#N/A"},null,"",""]
[null,null,null,null,null,null,null,null,null,{"$f":"SUMIFS(Onglet_Consult_Database!$E:$E,Onglet_Consult_Database!$F:$F,Onglet_consult_Panel!$E361,Onglet_Consult_Database!$B:$B,K750)","v":0},{"$error":"#N/A"},null,"",""]
[null,null,null,null,null,null,null,null,null,{"$f":"SUMIFS(Onglet_Consult_Database!$E:$E,Onglet_Consult_Database!$F:$F,Onglet_consult_Panel!$E362,Onglet_Consult_Database!$B:$B,K751)","v":0},{"$error":"#N/A"},null,"",""]
[null,null,null,null,null,null,null,null,null,{"$f":"SUMIFS(Onglet_Consult_Database!$E:$E,Onglet_Consult_Database!$F:$F,Onglet_consult_Panel!$E363,Onglet_Consult_Database!$B:$B,K752)","v":0},{"$error":"#N/A"},null,"",""]
[null,null,null,null,null,null,null,null,null,{"$f":"SUMIFS(Onglet_Consult_Database!$E:$E,Onglet_Consult_Database!$F:$F,Onglet_consult_Panel!$E364,Onglet_Consult_Database!$B:$B,K753)","v":0},{"$error":"#N/A"},null,"",""]
[null,null,null,null,null,null,null,null,null,{"$f":"SUMIFS(Onglet_Consult_Database!$E:$E,Onglet_Consult_Database!$F:$F,Onglet_consult_Panel!$E365,Onglet_Consult_Database!$B:$B,K754)","v":0},{"$error":"#N/A"},null,"",""]
[null,null,null,null,null,null,null,null,null,{"$f":"SUMIFS(Onglet_Consult_Database!$E:$E,Onglet_Consult_Database!$F:$F,Onglet_consult_Panel!$E366,Onglet_Consult_Database!$B:$B,K755)","v":0},{"$error":"#N/A"},null,"",""]
[null,null,null,null,null,null,null,null,null,{"$f":"SUMIFS(Onglet_Consult_Database!$E:$E,Onglet_Consult_Database!$F:$F,Onglet_consult_Panel!$E367,Onglet_Consult_Database!$B:$B,K756)","v":0},{"$error":"#N/A"},null,"",""]
[null,null,null,null,null,null,null,null,null,{"$f":"SUMIFS(Onglet_Consult_Database!$E:$E,Onglet_Consult_Database!$F:$F,Onglet_consult_Panel!$E368,Onglet_Consult_Database!$B:$B,K757)","v":0},{"$error":"#N/A"},null,"",""]
[null,null,null,null,null,null,null,null,null,{"$f":"SUMIFS(Onglet_Consult_Database!$E:$E,Onglet_Consult_Database!$F:$F,Onglet_consult_Panel!$E369,Onglet_Consult_Database!$B:$B,K758)","v":0},{"$error":"#N/A"},null,"",""]
[null,null,null,null,null,null,null,null,null,{"$f":"SUMIFS(Onglet_Consult_Database!$E:$E,Onglet_Consult_Database!$F:$F,Onglet_consult_Panel!$E370,Onglet_Consult_Database!$B:$B,K759)","v":0},{"$error":"#N/A"},null,"",""]
[null,null,null,null,null,null,null,null,null,{"$f":"SUMIFS(Onglet_Consult_Database!$E:$E,Onglet_Consult_Database!$F:$F,Onglet_consult_Panel!$E371,Onglet_Consult_Database!$B:$B,K760)","v":0},{"$error":"#N/A"},null,"",""]
[null,null,null,null,null,null,null,null,null,{"$f":"SUMIFS(Onglet_Consult_Database!$E:$E,Onglet_Consult_Database!$F:$F,Onglet_consult_Panel!$E372,Onglet_Consult_Database!$B:$B,K761)","v":0},{"$error":"#N/A"},null,"",""]
[null,null,null,null,null,null,null,null,null,{"$f":"SUMIFS(Onglet_Consult_Database!$E:$E,Onglet_Consult_Database!$F:$F,Onglet_consult_Panel!$E373,Onglet_Consult_Database!$B:$B,K762)","v":0},{"$error":"#N/A"},null,"",""]
[null,null,null,null,null,null,null,null,null,{"$f":"SUMIFS(Onglet_Consult_Database!$E:$E,Onglet_Consult_Database!$F:$F,Onglet_consult_Panel!$E374,Onglet_Consult_Database!$B:$B,K763)","v":0},{"$error":"#N/A"},null,"",""]
[null,null,null,null,null,null,null,null,null,{"$f":"SUMIFS(Onglet_Consult_Database!$E:$E,Onglet_Consult_Database!$F:$F,Onglet_consult_Panel!$E375,Onglet_Consult_Database!$B:$B,K764)","v":0},{"$error":"#N/A"},null,"",""]
[null,null,null,null,null,null,null,null,null,{"$f":"SUMIFS(Onglet_Consult_Database!$E:$E,Onglet_Consult_Database!$F:$F,Onglet_consult_Panel!$E376,Onglet_Consult_Database!$B:$B,K765)","v":0},{"$error":"#N/A"},null,"",""]
[null,null,null,null,null,null,null,null,null,{"$f":"SUMIFS(Onglet_Consult_Database!$E:$E,Onglet_Consult_Database!$F:$F,Onglet_consult_Panel!$E377,Onglet_Consult_Database!$B:$B,K766)","v":0},{"$error":"#N/A"},null,"",""]
[null,null,null,null,null,null,null,null,null,{"$f":"SUMIFS(Onglet_Consult_Database!$E:$E,Onglet_Consult_Database!$F:$F,Onglet_consult_Panel!$E378,Onglet_Consult_Database!$B:$B,K767)","v":0},{"$error":"#N/A"},null,"",""]
[null,null,null,null,null,null,null,null,null,{"$f":"SUMIFS(Onglet_Consult_Database!$E:$E,Onglet_Consult_Database!$F:$F,Onglet_consult_Panel!$E379,Onglet_Consult_Database!$B:$B,K768)","v":0},{"$error":"#N/A"},null,"",""]
[null,null,null,null,null,null,null,null,null,{"$f":"SUMIFS(Onglet_Consult_Database!$E:$E,Onglet_Consult_Database!$F:$F,Onglet_consult_Panel!$E380,Onglet_Consult_Database!$B:$B,K769)","v":0},{"$error":"#N/A"},null,"",""]
[null,null,null,null,null,null,null,null,null,{"$f":"SUMIFS(Onglet_Consult_Database!$E:$E,Onglet_Consult_Database!$F:$F,Onglet_consult_Panel!$E381,Onglet_Consult_Database!$B:$B,K770)","v":0},{"$error":"#N/A"},null,"",""]
[null,null,null,null,null,null,null,null,null,{"$f":"SUMIFS(Onglet_Consult_Database!$E:$E,Onglet_Consult_Database!$F:$F,Onglet_consult_Panel!$E382,Onglet_Consult_Database!$B:$B,K771)","v":0},{"$error":"#N/A"},null,"",""]
[null,null,null,null,null,null,null,null,null,{"$f":"SUMIFS(Onglet_Consult_Database!$E:$E,Onglet_Consult_Database!$F:$F,Onglet_consult_Panel!$E383,Onglet_Consult_Database!$B:$B,K772)","v":0},{"$error":"#N/A"},null,"",""]
[null,null,null,null,null,null,null,null,null,{"$f":"SUMIFS(Onglet_Consult_Database!$E:$E,Onglet_Consult_Database!$F:$F,Onglet_consult_Panel!$E384,Onglet_Consult_Database!$B:$B,K773)","v":0},{"$error":"#N/A"},null,"",""]
[null,null,null,null,null,null,null,null,null,{"$f":"SUMIFS(Onglet_Consult_Database!$E:$E,Onglet_Consult_Database!$F:$F,Onglet_consult_Panel!$E385,Onglet_Consult_Database!$B:$B,K774)","v":0},{"$error":"#N/A"},null,"",""]
[null,null,null,null,null,null,null,null,null,{"$f":"SUMIFS(Onglet_Consult_Database!$E:$E,Onglet_Consult_Database!$F:$F,Onglet_consult_Panel!$E386,Onglet_Consult_Database!$B:$B,K775)","v":0},{"$error":"#N/A"},null,"",""]
[null,null,null,null,null,null,null,null,null,{"$f":"SUMIFS(Onglet_Consult_Database!$E:$E,Onglet_Consult_Database!$F:$F,Onglet_consult_Panel!$E387,Onglet_Consult_Database!$B:$B,K776)","v":0},{"$error":"#N/A"},null,"",""]
[null,null,null,null,null,null,null,null,null,{"$f":"SUMIFS(Onglet_Consult_Database!$E:$E,Onglet_Consult_Database!$F:$F,Onglet_consult_Panel!$E388,Onglet_Consult_Database!$B:$B,K777)","v":0},{"$error":"#N/A"},null,"",""]
[null,null,null,null,null,null,null,null,null,{"$f":"SUMIFS(Onglet_Consult_Database!$E:$E,Onglet_Consult_Database!$F:$F,Onglet_consult_Panel!$E389,Onglet_Consult_Database!$B:$B,K778)","v":0},{"$error":"#N/A"},null,"",""]
[null,null,null,null,null,null,null,null,null,{"$f":"SUMIFS(Onglet_Consult_Database!$E:$E,Onglet_Consult_Database!$F:$F,Onglet_consult_Panel!$E390,Onglet_Consult_Database!$B:$B,K779)","v":0},{"$error":"#N/A"},null,"",""]
[null,null,null,null,null,null,null,null,null,{"$f":"SUMIFS(Onglet_Consult_Database!$E:$E,Onglet_Consult_Database!$F:$F,Onglet_consult_Panel!$E391,Onglet_Consult_Database!$B:$B,K780)","v":0},{"$error":"#N/A"},null,"",""]
[null,null,null,null,null,null,null,null,null,{"$f":"SUMIFS(Onglet_Consult_Database!$E:$E,Onglet_Consult_Database!$F:$F,Onglet_consult_Panel!$E392,Onglet_Consult_Database!$B:$B,K781)","v":0},{"$f":"_xlfn.IFS(F781=$K$3,\"I01\",F781=$K$4,\"I02\",F781=$K$5,\"I03\",F781=$K$6,\"I04\")","v":{"$error":"#N/A"}},null,{"$f":"IFERROR(VLOOKUP(E781,SH_list,8,FALSE),\"\")","v":""},{"$f":"IFERROR(VLOOKUP(E781,SH_list,6,FALSE),\"\")","v":""}]
[null,null,null,null,null,null,null,null,null,{"$f":"SUMIFS(Onglet_Consult_Database!$E:$E,Onglet_Consult_Database!$F:$F,Onglet_consult_Panel!$E393,Onglet_Consult_Database!$B:$B,K782)","v":0},{"$error":"#N/A"},null,"",""]
[null,null,null,null,null,null,null,null,null,{"$f":"SUMIFS(Onglet_Consult_Database!$E:$E,Onglet_Consult_Database!$F:$F,Onglet_consult_Panel!$E394,Onglet_Consult_Database!$B:$B,K783)","v":0},{"$error":"#N/A"},null,"",""]
[null,null,null,null,null,null,null,null,null,{"$f":"SUMIFS(Onglet_Consult_Database!$E:$E,Onglet_Consult_Database!$F:$F,Onglet_consult_Panel!$E395,Onglet_Consult_Database!$B:$B,K784)","v":0},{"$error":"#N/A"},null,"",""]
[null,null,null,null,null,null,null,null,null,{"$f":"SUMIFS(Onglet_Consult_Database!$E:$E,Onglet_Consult_Database!$F:$F,Onglet_consult_Panel!$E396,Onglet_Consult_Database!$B:$B,K785)","v":0},{"$error":"#N/A"},null,"",""]
[null,null,null,null,null,null,null,null,null,{"$f":"SUMIFS(Onglet_Consult_Database!$E:$E,Onglet_Consult_Database!$F:$F,Onglet_consult_Panel!$E397,Onglet_Consult_Database!$B:$B,K786)","v":0},{"$error":"#N/A"},null,"",""]
[null,null,null,null,null,null,null,null,null,{"$f":"SUMIFS(Onglet_Consult_Database!$E:$E,Onglet_Consult_Database!$F:$F,Onglet_consult_Panel!$E398,Onglet_Consult_Database!$B:$B,K787)","v":0},{"$error":"#N/A"},null,"",""]
[null,null,null,null,null,null,null,null,null,{"$f":"SUMIFS(Onglet_Consult_Database!$E:$E,Onglet_Consult_Database!$F:$F,Onglet_consult_Panel!$E399,Onglet_Consult_Database!$B:$B,K788)","v":0},{"$error":"#N/A"},null,"",""]
[null,null,null,null,null,null,null,null,null,{"$f":"SUMIFS(Onglet_Consult_Database!$E:$E,Onglet_Consult_Database!$F:$F,Onglet_consult_Panel!$E400,Onglet_Consult_Database!$B:$B,K789)","v":0},{"$error":"#N/A"},null,"",""]
[null,null,null,null,null,null,null,null,null,{"$f":"SUMIFS(Onglet_Consult_Database!$E:$E,Onglet_Consult_Database!$F:$F,Onglet_consult_Panel!$E401,Onglet_Consult_Database!$B:$B,K790)","v":0},{"$error":"#N/A"},null,"",""]
[null,null,null,null,null,null,null,null,null,{"$f":"SUMIFS(Onglet_Consult_Database!$E:$E,Onglet_Consult_Database!$F:$F,Onglet_consult_Panel!$E402,Onglet_Consult_Database!$B:$B,K791)","v":0},{"$error":"#N/A"},null,"",""]
[null,null,null,null,null,null,null,null,null,{"$f":"SUMIFS(Onglet_Consult_Database!$E:$E,Onglet_Consult_Database!$F:$F,Onglet_consult_Panel!$E403,Onglet_Consult_Database!$B:$B,K792)","v":0},{"$error":"#N/A"},null,"",""]
[null,null,null,null,null,null,null,null,null,{"$f":"SUMIFS(Onglet_Consult_Database!$E:$E,Onglet_Consult_Database!$F:$F,Onglet_consult_Panel!$E404,Onglet_Consult_Database!$B:$B,K793)","v":0},{"$error":"#N/A"},null,"",""]
[null,null,null,null,null,null,null,null,null,{"$f":"SUMIFS(Onglet_Consult_Database!$E:$E,Onglet_Consult_Database!$F:$F,Onglet_consult_Panel!$E405,Onglet_Consult_Database!$B:$B,K794)","v":0},{"$error":"#N/A"},null,"",""]
[null,null,null,null,null,null,null,null,null,{"$f":"SUMIFS(Onglet_Consult_Database!$E:$E,Onglet_Consult_Database!$F:$F,Onglet_consult_Panel!$E406,Onglet_Consult_Database!$B:$B,K795)","v":0},{"$error":"#N/A"},null,"",""]
[null,null,null,null,null,null,null,null,null,{"$f":"SUMIFS(Onglet_Consult_Database!$E:$E,Onglet_Consult_Database!$F:$F,Onglet_consult_Panel!$E407,Onglet_Consult_Database!$B:$B,K796)","v":0},{"$error":"#N/A"},null,"",""]
[null,null,null,null,null,null,null,null,null,{"$f":"SUMIFS(Onglet_Consult_Database!$E:$E,Onglet_Consult_Database!$F:$F,Onglet_consult_Panel!$E408,Onglet_Consult_Database!$B:$B,K797)","v":0},{"$error":"#N/A"},null,"",""]
[null,null,null,null,null,null,null,null,null,{"$f":"SUMIFS(Onglet_Consult_Database!$E:$E,Onglet_Consult_Database!$F:$F,Onglet_consult_Panel!$E409,Onglet_Consult_Database!$B:$B,K798)","v":0},{"$error":"#N/A"},null,"",""]
[null,null,null,null,null,null,null,null,null,{"$f":"SUMIFS(Onglet_Consult_Database!$E:$E,Onglet_Consult_Database!$F:$F,Onglet_consult_Panel!$E410,Onglet_Consult_Database!$B:$B,K799)","v":0},{"$error":"#N/A"},null,"",""]
[null,null,null,null,null,null,null,null,null,{"$f":"SUMIFS(Onglet_Consult_Database!$E:$E,Onglet_Consult_Database!$F:$F,Onglet_consult_Panel!$E411,Onglet_Consult_Database!$B:$B,K800)","v":0},{"$error":"#N/A"},null,"",""]
[null,null,null,null,null,null,null,null,null,{"$f":"SUMIFS(Onglet_Consult_Database!$E:$E,Onglet_Consult_Database!$F:$F,Onglet_consult_Panel!$E412,Onglet_Consult_Database!$B:$B,K801)","v":0},{"$error":"#N/A"},null,"",""]
[null,null,null,null,null,null,null,null,null,{"$f":"SUMIFS(Onglet_Consult_Database!$E:$E,Onglet_Consult_Database!$F:$F,Onglet_consult_Panel!$E413,Onglet_Consult_Database!$B:$B,K802)","v":0},{"$error":"#N/A"},null,"",""]
[null,null,null,null,null,null,null,null,null,{"$f":"SUMIFS(Onglet_Consult_Database!$E:$E,Onglet_Consult_Database!$F:$F,Onglet_consult_Panel!$E414,Onglet_Consult_Database!$B:$B,K803)","v":0},{"$error":"#N/A"},null,"",""]
[null,null,null,null,null,null,null,null,null,{"$f":"SUMIFS(Onglet_Consult_Database!$E:$E,Onglet_Consult_Database!$F:$F,Onglet_consult_Panel!$E415,Onglet_Consult_Database!$B:$B,K804)","v":0},{"$error":"#N/A"},null,"",""]
[null,null,null,null,null,null,null,null,null,{"$f":"SUMIFS(Onglet_Consult_Database!$E:$E,Onglet_Consult_Database!$F:$F,Onglet_consult_Panel!$E416,Onglet_Consult_Database!$B:$B,K805)","v":0},{"$error":"#N/A"},null,"",""]
[null,null,null,null,null,null,null,null,null,{"$f":"SUMIFS(Onglet_Consult_Database!$E:$E,Onglet_Consult_Database!$F:$F,Onglet_consult_Panel!$E417,Onglet_Consult_Database!$B:$B,K806)","v":0},{"$error":"#N/A"},null,"",""]
[null,null,null,null,null,null,null,null,null,{"$f":"SUMIFS(Onglet_Consult_Database!$E:$E,Onglet_Consult_Database!$F:$F,Onglet_consult_Panel!$E418,Onglet_Consult_Database!$B:$B,K807)","v":0},{"$error":"#N/A"},null,"",""]
[null,null,null,null,null,null,null,null,null,{"$f":"SUMIFS(Onglet_Consult_Database!$E:$E,Onglet_Consult_Database!$F:$F,Onglet_consult_Panel!$E419,Onglet_Consult_Database!$B:$B,K808)","v":0},{"$error":"#N/A"},null,"",""]
[null,null,null,null,null,null,null,null,null,{"$f":"SUMIFS(Onglet_Consult_Database!$E:$E,Onglet_Consult_Database!$F:$F,Onglet_consult_Panel!$E420,Onglet_Consult_Database!$B:$B,K809)","v":0},{"$error":"#N/A"},null,"",""]
[null,null,null,null,null,null,null,null,null,{"$f":"SUMIFS(Onglet_Consult_Database!$E:$E,Onglet_Consult_Database!$F:$F,Onglet_consult_Panel!$E421,Onglet_Consult_Database!$B:$B,K810)","v":0},{"$error":"#N/A"},null,"",""]
[null,null,null,null,null,null,null,null,null,{"$f":"SUMIFS(Onglet_Consult_Database!$E:$E,Onglet_Consult_Database!$F:$F,Onglet_consult_Panel!$E422,Onglet_Consult_Database!$B:$B,K811)","v":0},{"$error":"#N/A"},null,"",""]
[null,null,null,null,null,null,null,null,null,{"$f":"SUMIFS(Onglet_Consult_Database!$E:$E,Onglet_Consult_Database!$F:$F,Onglet_consult_Panel!$E423,Onglet_Consult_Database!$B:$B,K812)","v":0},{"$error":"#N/A"},null,"",""]
[null,null,null,null,null,null,null,null,null,{"$f":"SUMIFS(Onglet_Consult_Database!$E:$E,Onglet_Consult_Database!$F:$F,Onglet_consult_Panel!$E424,Onglet_Consult_Database!$B:$B,K813)","v":0},{"$error":"#N/A"},null,"",""]
[null,null,null,null,null,null,null,null,null,{"$f":"SUMIFS(Onglet_Consult_Database!$E:$E,Onglet_Consult_Database!$F:$F,Onglet_consult_Panel!$E425,Onglet_Consult_Database!$B:$B,K814)","v":0},{"$error":"#N/A"},null,"",""]
[null,null,null,null,null,null,null,null,null,{"$f":"SUMIFS(Onglet_Consult_Database!$E:$E,Onglet_Consult_Database!$F:$F,Onglet_consult_Panel!$E426,Onglet_Consult_Database!$B:$B,K815)","v":0},{"$error":"#N/A"},null,"",""]
[null,null,null,null,null,null,null,null,null,{"$f":"SUMIFS(Onglet_Consult_Database!$E:$E,Onglet_Consult_Database!$F:$F,Onglet_consult_Panel!$E427,Onglet_Consult_Database!$B:$B,K816)","v":0},{"$error":"#N/A"},null,"",""]
[null,null,null,null,null,null,null,null,null,{"$f":"SUMIFS(Onglet_Consult_Database!$E:$E,Onglet_Consult_Database!$F:$F,Onglet_consult_Panel!$E428,Onglet_Consult_Database!$B:$B,K817)","v":0},{"$error":"#N/A"},null,"",""]
[null,null,null,null,null,null,null,null,null,{"$f":"SUMIFS(Onglet_Consult_Database!$E:$E,Onglet_Consult_Database!$F:$F,Onglet_consult_Panel!$E429,Onglet_Consult_Database!$B:$B,K818)","v":0},{"$error":"#N/A"},null,"",""]
[null,null,null,null,null,null,null,null,null,{"$f":"SUMIFS(Onglet_Consult_Database!$E:$E,Onglet_Consult_Database!$F:$F,Onglet_consult_Panel!$E430,Onglet_Consult_Database!$B:$B,K819)","v":0},{"$error":"#N/A"},null,"",""]
[null,null,null,null,null,null,null,null,null,{"$f":"SUMIFS(Onglet_Consult_Database!$E:$E,Onglet_Consult_Database!$F:$F,Onglet_consult_Panel!$E431,Onglet_Consult_Database!$B:$B,K820)","v":0},{"$error":"#N/A"},null,"",""]
[null,null,null,null,null,null,null,null,null,{"$f":"SUMIFS(Onglet_Consult_Database!$E:$E,Onglet_Consult_Database!$F:$F,Onglet_consult_Panel!$E432,Onglet_Consult_Database!$B:$B,K821)","v":0},{"$error":"#N/A"},null,"",""]
[null,null,null,null,null,null,null,null,null,{"$f":"SUMIFS(Onglet_Consult_Database!$E:$E,Onglet_Consult_Database!$F:$F,Onglet_consult_Panel!$E433,Onglet_Consult_Database!$B:$B,K822)","v":0},{"$error":"#N/A"},null,"",""]
[null,null,null,null,null,null,null,null,null,{"$f":"SUMIFS(Onglet_Consult_Database!$E:$E,Onglet_Consult_Database!$F:$F,Onglet_consult_Panel!$E434,Onglet_Consult_Database!$B:$B,K823)","v":0},{"$error":"#N/A"},null,"",""]
[null,null,null,null,null,null,null,null,null,{"$f":"SUMIFS(Onglet_Consult_Database!$E:$E,Onglet_Consult_Database!$F:$F,Onglet_consult_Panel!$E435,Onglet_Consult_Database!$B:$B,K824)","v":0},{"$error":"#N/A"},null,"",""]
[null,null,null,null,null,null,null,null,null,{"$f":"SUMIFS(Onglet_Consult_Database!$E:$E,Onglet_Consult_Database!$F:$F,Onglet_consult_Panel!$E436,Onglet_Consult_Database!$B:$B,K825)","v":0},{"$error":"#N/A"},null,"",""]
[null,null,null,null,null,null,null,null,null,{"$f":"SUMIFS(Onglet_Consult_Database!$E:$E,Onglet_Consult_Database!$F:$F,Onglet_consult_Panel!$E437,Onglet_Consult_Database!$B:$B,K826)","v":0},{"$error":"#N/A"},null,"",""]
[null,null,null,null,null,null,null,null,null,{"$f":"SUMIFS(Onglet_Consult_Database!$E:$E,Onglet_Consult_Database!$F:$F,Onglet_consult_Panel!$E438,Onglet_Consult_Database!$B:$B,K827)","v":0},{"$error":"#N/A"},null,"",""]
[null,null,null,null,null,null,null,null,null,{"$f":"SUMIFS(Onglet_Consult_Database!$E:$E,Onglet_Consult_Database!$F:$F,Onglet_consult_Panel!$E439,Onglet_Consult_Database!$B:$B,K828)","v":0},{"$error":"#N/A"},null,"",""]
[null,null,null,null,null,null,null,null,null,{"$f":"SUMIFS(Onglet_Consult_Database!$E:$E,Onglet_Consult_Database!$F:$F,Onglet_consult_Panel!$E440,Onglet_Consult_Database!$B:$B,K829)","v":0},{"$error":"#N/A"},null,"",""]
[null,null,null,null,null,null,null,null,null,{"$f":"SUMIFS(Onglet_Consult_Database!$E:$E,Onglet_Consult_Database!$F:$F,Onglet_consult_Panel!$E441,Onglet_Consult_Database!$B:$B,K830)","v":0},{"$error":"#N/A"},null,"",""]
[null,null,null,null,null,null,null,null,null,{"$f":"SUMIFS(Onglet_Consult_Database!$E:$E,Onglet_Consult_Database!$F:$F,Onglet_consult_Panel!$E442,Onglet_Consult_Database!$B:$B,K831)","v":0},{"$error":"#N/A"},null,"",""]
[null,null,null,null,null,null,null,null,null,{"$f":"SUMIFS(Onglet_Consult_Database!$E:$E,Onglet_Consult_Database!$F:$F,Onglet_consult_Panel!$E443,Onglet_Consult_Database!$B:$B,K832)","v":0},{"$error":"#N/A"},null,"",""]
[null,null,null,null,null,null,null,null,null,{"$f":"SUMIFS(Onglet_Consult_Database!$E:$E,Onglet_Consult_Database!$F:$F,Onglet_consult_Panel!$E444,Onglet_Consult_Database!$B:$B,K833)","v":0},{"$error":"#N/A"},null,"",""]
[null,null,null,null,null,null,null,null,null,{"$f":"SUMIFS(Onglet_Consult_Database!$E:$E,Onglet_Consult_Database!$F:$F,Onglet_consult_Panel!$E445,Onglet_Consult_Database!$B:$B,K834)","v":0},{"$error":"#N/A"},null,"",""]
[null,null,null,null,null,null,null,null,null,{"$f":"SUMIFS(Onglet_Consult_Database!$E:$E,Onglet_Consult_Database!$F:$F,Onglet_consult_Panel!$E446,Onglet_Consult_Database!$B:$B,K835)","v":0},{"$error":"#N/A"},null,"",""]
[null,null,null,null,null,null,null,null,null,{"$f":"SUMIFS(Onglet_Consult_Database!$E:$E,Onglet_Consult_Database!$F:$F,Onglet_consult_Panel!$E447,Onglet_Consult_Database!$B:$B,K836)","v":0},{"$error":"#N/A"},null,"",""]
[null,null,null,null,null,null,null,null,null,{"$f":"SUMIFS(Onglet_Consult_Database!$E:$E,Onglet_Consult_Database!$F:$F,Onglet_consult_Panel!$E448,Onglet_Consult_Database!$B:$B,K837)","v":0},{"$error":"#N/A"},null,"",""]
[null,null,null,null,null,null,null,null,null,{"$f":"SUMIFS(Onglet_Consult_Database!$E:$E,Onglet_Consult_Database!$F:$F,Onglet_consult_Panel!$E449,Onglet_Consult_Database!$B:$B,K838)","v":0},{"$error":"#N/A"},null,"",""]
[null,null,null,null,null,null,null,null,null,{"$f":"SUMIFS(Onglet_Consult_Database!$E:$E,Onglet_Consult_Database!$F:$F,Onglet_consult_Panel!$E450,Onglet_Consult_Database!$B:$B,K839)","v":0},{"$error":"#N/A"},null,"",""]
[null,null,null,null,null,null,null,null,null,{"$f":"SUMIFS(Onglet_Consult_Database!$E:$E,Onglet_Consult_Database!$F:$F,Onglet_consult_Panel!$E451,Onglet_Consult_Database!$B:$B,K840)","v":0},{"$error":"#N/A"},null,"",""]
[null,null,null,null,null,null,null,null,null,{"$f":"SUMIFS(Onglet_Consult_Database!$E:$E,Onglet_Consult_Database!$F:$F,Onglet_consult_Panel!$E452,Onglet_Consult_Database!$B:$B,K841)","v":0},{"$error":"#N/A"},null,"",""]
[null,null,null,null,null,null,null,null,null,{"$f":"SUMIFS(Onglet_Consult_Database!$E:$E,Onglet_Consult_Database!$F:$F,Onglet_consult_Panel!$E453,Onglet_Consult_Database!$B:$B,K842)","v":0},{"$error":"#N/A"},null,"",""]
[null,null,null,null,null,null,null,null,null,{"$f":"SUMIFS(Onglet_Consult_Database!$E:$E,Onglet_Consult_Database!$F:$F,Onglet_consult_Panel!$E454,Onglet_Consult_Database!$B:$B,K843)","v":0},{"$error":"#N/A"},null,"",""]
[null,null,null,null,null,null,null,null,null,{"$f":"SUMIFS(Onglet_Consult_Database!$E:$E,Onglet_Consult_Database!$F:$F,Onglet_consult_Panel!$E455,Onglet_Consult_Database!$B:$B,K844)","v":0},{"$error":"#N/A"},null,"",""]
[null,null,null,null,null,null,null,null,null,{"$f":"SUMIFS(Onglet_Consult_Database!$E:$E,Onglet_Consult_Database!$F:$F,Onglet_consult_Panel!$E456,Onglet_Consult_Database!$B:$B,K845)","v":0},{"$f":"_xlfn.IFS(F845=$K$3,\"I01\",F845=$K$4,\"I02\",F845=$K$5,\"I03\",F845=$K$6,\"I04\")","v":{"$error":"#N/A"}},null,{"$f":"IFERROR(VLOOKUP(E845,SH_list,8,FALSE),\"\")","v":""},{"$f":"IFERROR(VLOOKUP(E845,SH_list,6,FALSE),\"\")","v":""}]
[null,null,null,null,null,null,null,null,null,{"$f":"SUMIFS(Onglet_Consult_Database!$E:$E,Onglet_Consult_Database!$F:$F,Onglet_consult_Panel!$E457,Onglet_Consult_Database!$B:$B,K846)","v":0},{"$error":"#N/A"},null,"",""]
[null,null,null,null,null,null,null,null,null,{"$f":"SUMIFS(Onglet_Consult_Database!$E:$E,Onglet_Consult_Database!$F:$F,Onglet_consult_Panel!$E458,Onglet_Consult_Database!$B:$B,K847)","v":0},{"$error":"#N/A"},null,"",""]
[null,null,null,null,null,null,null,null,null,{"$f":"SUMIFS(Onglet_Consult_Database!$E:$E,Onglet_Consult_Database!$F:$F,Onglet_consult_Panel!$E459,Onglet_Consult_Database!$B:$B,K848)","v":0},{"$error":"#N/A"},null,"",""]
[null,null,null,null,null,null,null,null,null,{"$f":"SUMIFS(Onglet_Consult_Database!$E:$E,Onglet_Consult_Database!$F:$F,Onglet_consult_Panel!$E460,Onglet_Consult_Database!$B:$B,K849)","v":0},{"$error":"#N/A"},null,"",""]
[null,null,null,null,null,null,null,null,null,{"$f":"SUMIFS(Onglet_Consult_Database!$E:$E,Onglet_Consult_Database!$F:$F,Onglet_consult_Panel!$E461,Onglet_Consult_Database!$B:$B,K850)","v":0},{"$error":"#N/A"},null,"",""]
[null,null,null,null,null,null,null,null,null,{"$f":"SUMIFS(Onglet_Consult_Database!$E:$E,Onglet_Consult_Database!$F:$F,Onglet_consult_Panel!$E462,Onglet_Consult_Database!$B:$B,K851)","v":0},{"$error":"#N/A"},null,"",""]
[null,null,null,null,null,null,null,null,null,{"$f":"SUMIFS(Onglet_Consult_Database!$E:$E,Onglet_Consult_Database!$F:$F,Onglet_consult_Panel!$E463,Onglet_Consult_Database!$B:$B,K852)","v":0},null,null,"",""]
[null,null,null,null,null,null,null,null,null,{"$f":"SUMIFS(Onglet_Consult_Database!$E:$E,Onglet_Consult_Database!$F:$F,Onglet_consult_Panel!$E464,Onglet_Consult_Database!$B:$B,K853)","v":0},null,null,"",""]
[null,null,null,null,null,null,null,null,null,{"$f":"SUMIFS(Onglet_Consult_Database!$E:$E,Onglet_Consult_Database!$F:$F,Onglet_consult_Panel!$E465,Onglet_Consult_Database!$B:$B,K854)","v":0},null,null,"",""]
[null,null,null,null,null,null,null,null,null,{"$f":"SUMIFS(Onglet_Consult_Database!$E:$E,Onglet_Consult_Database!$F:$F,Onglet_consult_Panel!$E466,Onglet_Consult_Database!$B:$B,K855)","v":0},null,null,"",""]
[null,null,null,null,null,null,null,null,null,{"$f":"SUMIFS(Onglet_Consult_Database!$E:$E,Onglet_Consult_Database!$F:$F,Onglet_consult_Panel!$E467,Onglet_Consult_Database!$B:$B,K856)","v":0},null,null,"",""]
[null,null,null,null,null,null,null,null,null,{"$f":"SUMIFS(Onglet_Consult_Database!$E:$E,Onglet_Consult_Database!$F:$F,Onglet_consult_Panel!$E468,Onglet_Consult_Database!$B:$B,K857)","v":0},null,null,"",""]
[null,null,null,null,null,null,null,null,null,{"$f":"SUMIFS(Onglet_Consult_Database!$E:$E,Onglet_Consult_Database!$F:$F,Onglet_consult_Panel!$E469,Onglet_Consult_Database!$B:$B,K858)","v":0},null,null,"",""]
[null,null,null,null,null,null,null,null,null,{"$f":"SUMIFS(Onglet_Consult_Database!$E:$E,Onglet_Consult_Database!$F:$F,Onglet_consult_Panel!$E470,Onglet_Consult_Database!$B:$B,K859)","v":0},null,null,"",""]
[null,null,null,null,null,null,null,null,null,{"$f":"SUMIFS(Onglet_Consult_Database!$E:$E,Onglet_Consult_Database!$F:$F,Onglet_consult_Panel!$E471,Onglet_Consult_Database!$B:$B,K860)","v":0},null,null,"",""]
[null,null,null,null,null,null,null,null,null,{"$f":"SUMIFS(Onglet_Consult_Database!$E:$E,Onglet_Consult_Database!$F:$F,Onglet_consult_Panel!$E472,Onglet_Consult_Database!$B:$B,K861)","v":0},null,null,"",""]
[null,null,null,null,null,null,null,null,null,{"$f":"SUMIFS(Onglet_Consult_Database!$E:$E,Onglet_Consult_Database!$F:$F,Onglet_consult_Panel!$E473,Onglet_Consult_Database!$B:$B,K862)","v":0},null,null,"",""]
[null,null,null,null,null,null,null,null,null,{"$f":"SUMIFS(Onglet_Consult_Database!$E:$E,Onglet_Consult_Database!$F:$F,Onglet_consult_Panel!$E474,Onglet_Consult_Database!$B:$B,K863)","v":0},null,null,"",""]
[null,null,null,null,null,null,null,null,null,{"$f":"SUMIFS(Onglet_Consult_Database!$E:$E,Onglet_Consult_Database!$F:$F,Onglet_consult_Panel!$E475,Onglet_Consult_Database!$B:$B,K864)","v":0},null,null,"",""]
[null,null,null,null,null,null,null,null,null,{"$f":"SUMIFS(Onglet_Consult_Database!$E:$E,Onglet_Consult_Database!$F:$F,Onglet_consult_Panel!$E476,Onglet_Consult_Database!$B:$B,K865)","v":0},null,null,"",""]
[null,null,null,null,null,null,null,null,null,{"$f":"SUMIFS(Onglet_Consult_Database!$E:$E,Onglet_Consult_Database!$F:$F,Onglet_consult_Panel!$E477,Onglet_Consult_Database!$B:$B,K866)","v":0},null,null,"",""]
[null,null,null,null,null,null,null,null,null,{"$f":"SUMIFS(Onglet_Consult_Database!$E:$E,Onglet_Consult_Database!$F:$F,Onglet_consult_Panel!$E478,Onglet_Consult_Database!$B:$B,K867)","v":0},null,null,"",""]
[null,null,null,null,null,null,null,null,null,{"$f":"SUMIFS(Onglet_Consult_Database!$E:$E,Onglet_Consult_Database!$F:$F,Onglet_consult_Panel!$E479,Onglet_Consult_Database!$B:$B,K868)","v":0},null,null,"",""]
[null,null,null,null,null,null,null,null,null,{"$f":"SUMIFS(Onglet_Consult_Database!$E:$E,Onglet_Consult_Database!$F:$F,Onglet_consult_Panel!$E480,Onglet_Consult_Database!$B:$B,K869)","v":0},null,null,"",""]
[null,null,null,null,null,null,null,null,null,{"$f":"SUMIFS(Onglet_Consult_Database!$E:$E,Onglet_Consult_Database!$F:$F,Onglet_consult_Panel!$E481,Onglet_Consult_Database!$B:$B,K870)","v":0},null,null,"",""]
[null,null,null,null,null,null,null,null,null,{"$f":"SUMIFS(Onglet_Consult_Database!$E:$E,Onglet_Consult_Database!$F:$F,Onglet_consult_Panel!$E482,Onglet_Consult_Database!$B:$B,K871)","v":0},null,null,"",""]
[null,null,null,null,null,null,null,null,null,{"$f":"SUMIFS(Onglet_Consult_Database!$E:$E,Onglet_Consult_Database!$F:$F,Onglet_consult_Panel!$E483,Onglet_Consult_Database!$B:$B,K872)","v":0},null,null,"",""]
[null,null,null,null,null,null,null,null,null,{"$f":"SUMIFS(Onglet_Consult_Database!$E:$E,Onglet_Consult_Database!$F:$F,Onglet_consult_Panel!$E484,Onglet_Consult_Database!$B:$B,K873)","v":0},null,null,"",""]
[null,null,null,null,null,null,null,null,null,{"$f":"SUMIFS(Onglet_Consult_Database!$E:$E,Onglet_Consult_Database!$F:$F,Onglet_consult_Panel!$E485,Onglet_Consult_Database!$B:$B,K874)","v":0},null,null,"",""]
[null,null,null,null,null,null,null,null,null,{"$f":"SUMIFS(Onglet_Consult_Database!$E:$E,Onglet_Consult_Database!$F:$F,Onglet_consult_Panel!$E486,Onglet_Consult_Database!$B:$B,K875)","v":0},null,null,"",""]
[null,null,null,null,null,null,null,null,null,{"$f":"SUMIFS(Onglet_Consult_Database!$E:$E,Onglet_Consult_Database!$F:$F,Onglet_consult_Panel!$E487,Onglet_Consult_Database!$B:$B,K876)","v":0},null,null,"",""]
[null,null,null,null,null,null,null,null,null,{"$f":"SUMIFS(Onglet_Consult_Database!$E:$E,Onglet_Consult_Database!$F:$F,Onglet_consult_Panel!$E488,Onglet_Consult_Database!$B:$B,K877)","v":0},null,null,"",""]
[null,null,null,null,null,null,null,null,null,{"$f":"SUMIFS(Onglet_Consult_Database!$E:$E,Onglet_Consult_Database!$F:$F,Onglet_consult_Panel!$E489,Onglet_Consult_Database!$B:$B,K878)","v":0},null,null,"",""]
[null,null,null,null,null,null,null,null,null,{"$f":"SUMIFS(Onglet_Consult_Database!$E:$E,Onglet_Consult_Database!$F:$F,Onglet_consult_Panel!$E490,Onglet_Consult_Database!$B:$B,K879)","v":0},null,null,"",""]
[null,null,null,null,null,null,null,null,null,{"$f":"SUMIFS(Onglet_Consult_Database!$E:$E,Onglet_Consult_Database!$F:$F,Onglet_consult_Panel!$E491,Onglet_Consult_Database!$B:$B,K880)","v":0},null,null,"",""]
[null,null,null,null,null,null,null,null,null,{"$f":"SUMIFS(Onglet_Consult_Database!$E:$E,Onglet_Consult_Database!$F:$F,Onglet_consult_Panel!$E492,Onglet_Consult_Database!$B:$B,K881)","v":0},null,null,"",""]
[null,null,null,null,null,null,null,null,null,{"$f":"SUMIFS(Onglet_Consult_Database!$E:$E,Onglet_Consult_Database!$F:$F,Onglet_consult_Panel!$E493,Onglet_Consult_Database!$B:$B,K882)","v":0},null,null,"",""]
[null,null,null,null,null,null,null,null,null,{"$f":"SUMIFS(Onglet_Consult_Database!$E:$E,Onglet_Consult_Database!$F:$F,Onglet_consult_Panel!$E494,Onglet_Consult_Database!$B:$B,K883)","v":0},null,null,"",""]
[null,null,null,null,null,null,null,null,null,{"$f":"SUMIFS(Onglet_Consult_Database!$E:$E,Onglet_Consult_Database!$F:$F,Onglet_consult_Panel!$E495,Onglet_Consult_Database!$B:$B,K884)","v":0},null,null,"",""]
[null,null,null,null,null,null,null,null,null,{"$f":"SUMIFS(Onglet_Consult_Database!$E:$E,Onglet_Consult_Database!$F:$F,Onglet_consult_Panel!$E496,Onglet_Consult_Database!$B:$B,K885)","v":0},null,null,"",""]
[null,null,null,null,null,null,null,null,null,{"$f":"SUMIFS(Onglet_Consult_Database!$E:$E,Onglet_Consult_Database!$F:$F,Onglet_consult_Panel!$E497,Onglet_Consult_Database!$B:$B,K886)","v":0},null,null,"",""]
[null,null,null,null,null,null,null,null,null,{"$f":"SUMIFS(Onglet_Consult_Database!$E:$E,Onglet_Consult_Database!$F:$F,Onglet_consult_Panel!$E498,Onglet_Consult_Database!$B:$B,K887)","v":0},null,null,"",""]
[null,null,null,null,null,null,null,null,null,{"$f":"SUMIFS(Onglet_Consult_Database!$E:$E,Onglet_Consult_Database!$F:$F,Onglet_consult_Panel!$E499,Onglet_Consult_Database!$B:$B,K888)","v":0},null,null,"",""]
[null,null,null,null,null,null,null,null,null,{"$f":"SUMIFS(Onglet_Consult_Database!$E:$E,Onglet_Consult_Database!$F:$F,Onglet_consult_Panel!$E500,Onglet_Consult_Database!$B:$B,K889)","v":0},null,null,"",""]
[null,null,null,null,null,null,null,null,null,{"$f":"SUMIFS(Onglet_Consult_Database!$E:$E,Onglet_Consult_Database!$F:$F,Onglet_consult_Panel!$E501,Onglet_Consult_Database!$B:$B,K890)","v":0},null,null,"",""]
[null,null,null,null,null,null,null,null,null,{"$f":"SUMIFS(Onglet_Consult_Database!$E:$E,Onglet_Consult_Database!$F:$F,Onglet_consult_Panel!$E502,Onglet_Consult_Database!$B:$B,K891)","v":0},null,null,"",""]
[null,null,null,null,null,null,null,null,null,{"$f":"SUMIFS(Onglet_Consult_Database!$E:$E,Onglet_Consult_Database!$F:$F,Onglet_consult_Panel!$E503,Onglet_Consult_Database!$B:$B,K892)","v":0},null,null,"",""]
[null,null,null,null,null,null,null,null,null,{"$f":"SUMIFS(Onglet_Consult_Database!$E:$E,Onglet_Consult_Database!$F:$F,Onglet_consult_Panel!$E504,Onglet_Consult_Database!$B:$B,K893)","v":0},null,null,"",""]
[null,null,null,null,null,null,null,null,null,{"$f":"SUMIFS(Onglet_Consult_Database!$E:$E,Onglet_Consult_Database!$F:$F,Onglet_consult_Panel!$E505,Onglet_Consult_Database!$B:$B,K894)","v":0},null,null,"",""]
[null,null,null,null,null,null,null,null,null,{"$f":"SUMIFS(Onglet_Consult_Database!$E:$E,Onglet_Consult_Database!$F:$F,Onglet_consult_Panel!$E506,Onglet_Consult_Database!$B:$B,K895)","v":0},null,null,"",""]
[null,null,null,null,null,null,null,null,null,{"$f":"SUMIFS(Onglet_Consult_Database!$E:$E,Onglet_Consult_Database!$F:$F,Onglet_consult_Panel!$E507,Onglet_Consult_Database!$B:$B,K896)","v":0},null,null,"",""]
[null,null,null,null,null,null,null,null,null,{"$f":"SUMIFS(Onglet_Consult_Database!$E:$E,Onglet_Consult_Database!$F:$F,Onglet_consult_Panel!$E508,Onglet_Consult_Database!$B:$B,K897)","v":0},null,null,"",""]
[null,null,null,null,null,null,null,null,null,{"$f":"SUMIFS(Onglet_Consult_Database!$E:$E,Onglet_Consult_Database!$F:$F,Onglet_consult_Panel!$E509,Onglet_Consult_Database!$B:$B,K898)","v":0},null,null,"",""]
[null,null,null,null,null,null,null,null,null,{"$f":"SUMIFS(Onglet_Consult_Database!$E:$E,Onglet_Consult_Database!$F:$F,Onglet_consult_Panel!$E510,Onglet_Consult_Database!$B:$B,K899)","v":0},null,null,"",""]
[null,null,null,null,null,null,null,null,null,{"$f":"SUMIFS(Onglet_Consult_Database!$E:$E,Onglet_Consult_Database!$F:$F,Onglet_consult_Panel!$E511,Onglet_Consult_Database!$B:$B,K900)","v":0},null,null,"",""]
[null,null,null,null,null,null,null,null,null,{"$f":"SUMIFS(Onglet_Consult_Database!$E:$E,Onglet_Consult_Database!$F:$F,Onglet_consult_Panel!$E512,Onglet_Consult_Database!$B:$B,K901)","v":0},null,null,"",""]
[null,null,null,null,null,null,null,null,null,{"$f":"SUMIFS(Onglet_Consult_Database!$E:$E,Onglet_Consult_Database!$F:$F,Onglet_consult_Panel!$E513,Onglet_Consult_Database!$B:$B,K902)","v":0},null,null,"",""]
[null,null,null,null,null,null,null,null,null,{"$f":"SUMIFS(Onglet_Consult_Database!$E:$E,Onglet_Consult_Database!$F:$F,Onglet_consult_Panel!$E514,Onglet_Consult_Database!$B:$B,K903)","v":0},null,null,"",""]
[null,null,null,null,null,null,null,null,null,{"$f":"SUMIFS(Onglet_Consult_Database!$E:$E,Onglet_Consult_Database!$F:$F,Onglet_consult_Panel!$E515,Onglet_Consult_Database!$B:$B,K904)","v":0},null,null,"",""]
[null,null,null,null,null,null,null,null,null,{"$f":"SUMIFS(Onglet_Consult_Database!$E:$E,Onglet_Consult_Database!$F:$F,Onglet_consult_Panel!$E516,Onglet_Consult_Database!$B:$B,K905)","v":0},null,null,"",""]
[null,null,null,null,null,null,null,null,null,{"$f":"SUMIFS(Onglet_Consult_Database!$E:$E,Onglet_Consult_Database!$F:$F,Onglet_consult_Panel!$E517,Onglet_Consult_Database!$B:$B,K906)","v":0},null,null,"",""]
[null,null,null,null,null,null,null,null,null,{"$f":"SUMIFS(Onglet_Consult_Database!$E:$E,Onglet_Consult_Database!$F:$F,Onglet_consult_Panel!$E518,Onglet_Consult_Database!$B:$B,K907)","v":0},null,null,"",""]
[null,null,null,null,null,null,null,null,null,{"$f":"SUMIFS(Onglet_Consult_Database!$E:$E,Onglet_Consult_Database!$F:$F,Onglet_consult_Panel!$E519,Onglet_Consult_Database!$B:$B,K908)","v":0},null,null,"",""]
[null,null,null,null,null,null,null,null,null,{"$f":"SUMIFS(Onglet_Consult_Database!$E:$E,Onglet_Consult_Database!$F:$F,Onglet_consult_Panel!$E520,Onglet_Consult_Database!$B:$B,K909)","v":0},null,null,{"$f":"IFERROR(VLOOKUP(E909,SH_list,8,FALSE),\"\")","v":""},{"$f":"IFERROR(VLOOKUP(E909,SH_list,6,FALSE),\"\")","v":""}]
[null,null,null,null,null,null,null,null,null,{"$f":"SUMIFS(Onglet_Consult_Database!$E:$E,Onglet_Consult_Database!$F:$F,Onglet_consult_Panel!$E521,Onglet_Consult_Database!$B:$B,K910)","v":0},null,null,"",""]
[null,null,null,null,null,null,null,null,null,{"$f":"SUMIFS(Onglet_Consult_Database!$E:$E,Onglet_Consult_Database!$F:$F,Onglet_consult_Panel!$E522,Onglet_Consult_Database!$B:$B,K911)","v":0},null,null,"",""]
[null,null,null,null,null,null,null,null,null,{"$f":"SUMIFS(Onglet_Consult_Database!$E:$E,Onglet_Consult_Database!$F:$F,Onglet_consult_Panel!$E523,Onglet_Consult_Database!$B:$B,K912)","v":0},null,null,"",""]
[null,null,null,null,null,null,null,null,null,{"$f":"SUMIFS(Onglet_Consult_Database!$E:$E,Onglet_Consult_Database!$F:$F,Onglet_consult_Panel!$E524,Onglet_Consult_Database!$B:$B,K913)","v":0},null,null,"",""]
[null,null,null,null,null,null,null,null,null,{"$f":"SUMIFS(Onglet_Consult_Database!$E:$E,Onglet_Consult_Database!$F:$F,Onglet_consult_Panel!$E525,Onglet_Consult_Database!$B:$B,K914)","v":0},null,null,"",""]
[null,null,null,null,null,null,null,null,null,{"$f":"SUMIFS(Onglet_Consult_Database!$E:$E,Onglet_Consult_Database!$F:$F,Onglet_consult_Panel!$E526,Onglet_Consult_Database!$B:$B,K915)","v":0},null,null,"",""]
[null,null,null,null,null,null,null,null,null,{"$f":"SUMIFS(Onglet_Consult_Database!$E:$E,Onglet_Consult_Database!$F:$F,Onglet_consult_Panel!$E527,Onglet_Consult_Database!$B:$B,K916)","v":0},null,null,"",""]
[null,null,null,null,null,null,null,null,null,{"$f":"SUMIFS(Onglet_Consult_Database!$E:$E,Onglet_Consult_Database!$F:$F,Onglet_consult_Panel!$E528,Onglet_Consult_Database!$B:$B,K917)","v":0},null,null,"",""]
[null,null,null,null,null,null,null,null,null,{"$f":"SUMIFS(Onglet_Consult_Database!$E:$E,Onglet_Consult_Database!$F:$F,Onglet_consult_Panel!$E529,Onglet_Consult_Database!$B:$B,K918)","v":0},null,null,"",""]
[null,null,null,null,null,null,null,null,null,{"$f":"SUMIFS(Onglet_Consult_Database!$E:$E,Onglet_Consult_Database!$F:$F,Onglet_consult_Panel!$E530,Onglet_Consult_Database!$B:$B,K919)","v":0},null,null,"",""]
[null,null,null,null,null,null,null,null,null,{"$f":"SUMIFS(Onglet_Consult_Database!$E:$E,Onglet_Consult_Database!$F:$F,Onglet_consult_Panel!$E531,Onglet_Consult_Database!$B:$B,K920)","v":0},null,null,"",""]
[null,null,null,null,null,null,null,null,null,{"$f":"SUMIFS(Onglet_Consult_Database!$E:$E,Onglet_Consult_Database!$F:$F,Onglet_consult_Panel!$E532,Onglet_Consult_Database!$B:$B,K921)","v":0},null,null,"",""]
[null,null,null,null,null,null,null,null,null,{"$f":"SUMIFS(Onglet_Consult_Database!$E:$E,Onglet_Consult_Database!$F:$F,Onglet_consult_Panel!$E533,Onglet_Consult_Database!$B:$B,K922)","v":0},null,null,"",""]
[null,null,null,null,null,null,null,null,null,{"$f":"SUMIFS(Onglet_Consult_Database!$E:$E,Onglet_Consult_Database!$F:$F,Onglet_consult_Panel!$E534,Onglet_Consult_Database!$B:$B,K923)","v":0},null,null,"",""]
[null,null,null,null,null,null,null,null,null,{"$f":"SUMIFS(Onglet_Consult_Database!$E:$E,Onglet_Consult_Database!$F:$F,Onglet_consult_Panel!$E535,Onglet_Consult_Database!$B:$B,K924)","v":0},null,null,"",""]
[null,null,null,null,null,null,null,null,null,{"$f":"SUMIFS(Onglet_Consult_Database!$E:$E,Onglet_Consult_Database!$F:$F,Onglet_consult_Panel!$E536,Onglet_Consult_Database!$B:$B,K925)","v":0},null,null,"",""]
[null,null,null,null,null,null,null,null,null,{"$f":"SUMIFS(Onglet_Consult_Database!$E:$E,Onglet_Consult_Database!$F:$F,Onglet_consult_Panel!$E537,Onglet_Consult_Database!$B:$B,K926)","v":0},null,null,"",""]
[null,null,null,null,null,null,null,null,null,{"$f":"SUMIFS(Onglet_Consult_Database!$E:$E,Onglet_Consult_Database!$F:$F,Onglet_consult_Panel!$E538,Onglet_Consult_Database!$B:$B,K927)","v":0},null,null,"",""]
[null,null,null,null,null,null,null,null,null,{"$f":"SUMIFS(Onglet_Consult_Database!$E:$E,Onglet_Consult_Database!$F:$F,Onglet_consult_Panel!$E539,Onglet_Consult_Database!$B:$B,K928)","v":0},null,null,"",""]
[null,null,null,null,null,null,null,null,null,{"$f":"SUMIFS(Onglet_Consult_Database!$E:$E,Onglet_Consult_Database!$F:$F,Onglet_consult_Panel!$E540,Onglet_Consult_Database!$B:$B,K929)","v":0},null,null,"",""]
[null,null,null,null,null,null,null,null,null,{"$f":"SUMIFS(Onglet_Consult_Database!$E:$E,Onglet_Consult_Database!$F:$F,Onglet_consult_Panel!$E541,Onglet_Consult_Database!$B:$B,K930)","v":0},null,null,"",""]
[null,null,null,null,null,null,null,null,null,{"$f":"SUMIFS(Onglet_Consult_Database!$E:$E,Onglet_Consult_Database!$F:$F,Onglet_consult_Panel!$E542,Onglet_Consult_Database!$B:$B,K931)","v":0},null,null,"",""]
[null,null,null,null,null,null,null,null,null,{"$f":"SUMIFS(Onglet_Consult_Database!$E:$E,Onglet_Consult_Database!$F:$F,Onglet_consult_Panel!$E543,Onglet_Consult_Database!$B:$B,K932)","v":0},null,null,"",""]
[null,null,null,null,null,null,null,null,null,{"$f":"SUMIFS(Onglet_Consult_Database!$E:$E,Onglet_Consult_Database!$F:$F,Onglet_consult_Panel!$E544,Onglet_Consult_Database!$B:$B,K933)","v":0},null,null,"",""]
[null,null,null,null,null,null,null,null,null,{"$f":"SUMIFS(Onglet_Consult_Database!$E:$E,Onglet_Consult_Database!$F:$F,Onglet_consult_Panel!$E545,Onglet_Consult_Database!$B:$B,K934)","v":0},null,null,"",""]
[null,null,null,null,null,null,null,null,null,{"$f":"SUMIFS(Onglet_Consult_Database!$E:$E,Onglet_Consult_Database!$F:$F,Onglet_consult_Panel!$E546,Onglet_Consult_Database!$B:$B,K935)","v":0},null,null,"",""]
[null,null,null,null,null,null,null,null,null,{"$f":"SUMIFS(Onglet_Consult_Database!$E:$E,Onglet_Consult_Database!$F:$F,Onglet_consult_Panel!$E547,Onglet_Consult_Database!$B:$B,K936)","v":0},null,null,"",""]
[null,null,null,null,null,null,null,null,null,{"$f":"SUMIFS(Onglet_Consult_Database!$E:$E,Onglet_Consult_Database!$F:$F,Onglet_consult_Panel!$E548,Onglet_Consult_Database!$B:$B,K937)","v":0},null,null,"",""]
[null,null,null,null,null,null,null,null,null,{"$f":"SUMIFS(Onglet_Consult_Database!$E:$E,Onglet_Consult_Database!$F:$F,Onglet_consult_Panel!$E549,Onglet_Consult_Database!$B:$B,K938)","v":0},null,null,"",""]
[null,null,null,null,null,null,null,null,null,{"$f":"SUMIFS(Onglet_Consult_Database!$E:$E,Onglet_Consult_Database!$F:$F,Onglet_consult_Panel!$E550,Onglet_Consult_Database!$B:$B,K939)","v":0},null,null,"",""]
[null,null,null,null,null,null,null,null,null,{"$f":"SUMIFS(Onglet_Consult_Database!$E:$E,Onglet_Consult_Database!$F:$F,Onglet_consult_Panel!$E551,Onglet_Consult_Database!$B:$B,K940)","v":0},null,null,"",""]
[null,null,null,null,null,null,null,null,null,{"$f":"SUMIFS(Onglet_Consult_Database!$E:$E,Onglet_Consult_Database!$F:$F,Onglet_consult_Panel!$E552,Onglet_Consult_Database!$B:$B,K941)","v":0},null,null,"",""]
[null,null,null,null,null,null,null,null,null,{"$f":"SUMIFS(Onglet_Consult_Database!$E:$E,Onglet_Consult_Database!$F:$F,Onglet_consult_Panel!$E553,Onglet_Consult_Database!$B:$B,K942)","v":0},null,null,"",""]
[null,null,null,null,null,null,null,null,null,{"$f":"SUMIFS(Onglet_Consult_Database!$E:$E,Onglet_Consult_Database!$F:$F,Onglet_consult_Panel!$E554,Onglet_Consult_Database!$B:$B,K943)","v":0},null,null,"",""]
[null,null,null,null,null,null,null,null,null,{"$f":"SUMIFS(Onglet_Consult_Database!$E:$E,Onglet_Consult_Database!$F:$F,Onglet_consult_Panel!$E555,Onglet_Consult_Database!$B:$B,K944)","v":0},null,null,"",""]
[null,null,null,null,null,null,null,null,null,{"$f":"SUMIFS(Onglet_Consult_Database!$E:$E,Onglet_Consult_Database!$F:$F,Onglet_consult_Panel!$E556,Onglet_Consult_Database!$B:$B,K945)","v":0},null,null,"",""]
[null,null,null,null,null,null,null,null,null,{"$f":"SUMIFS(Onglet_Consult_Database!$E:$E,Onglet_Consult_Database!$F:$F,Onglet_consult_Panel!$E557,Onglet_Consult_Database!$B:$B,K946)","v":0},null,null,"",""]
[null,null,null,null,null,null,null,null,null,{"$f":"SUMIFS(Onglet_Consult_Database!$E:$E,Onglet_Consult_Database!$F:$F,Onglet_consult_Panel!$E558,Onglet_Consult_Database!$B:$B,K947)","v":0},null,null,"",""]
[null,null,null,null,null,null,null,null,null,{"$f":"SUMIFS(Onglet_Consult_Database!$E:$E,Onglet_Consult_Database!$F:$F,Onglet_consult_Panel!$E559,Onglet_Consult_Database!$B:$B,K948)","v":0},null,null,"",""]
[null,null,null,null,null,null,null,null,null,{"$f":"SUMIFS(Onglet_Consult_Database!$E:$E,Onglet_Consult_Database!$F:$F,Onglet_consult_Panel!$E560,Onglet_Consult_Database!$B:$B,K949)","v":0},null,null,"",""]
[null,null,null,null,null,null,null,null,null,{"$f":"SUMIFS(Onglet_Consult_Database!$E:$E,Onglet_Consult_Database!$F:$F,Onglet_consult_Panel!$E561,Onglet_Consult_Database!$B:$B,K950)","v":0},null,null,"",""]
[null,null,null,null,null,null,null,null,null,{"$f":"SUMIFS(Onglet_Consult_Database!$E:$E,Onglet_Consult_Database!$F:$F,Onglet_consult_Panel!$E562,Onglet_Consult_Database!$B:$B,K951)","v":0},null,null,"",""]
[null,null,null,null,null,null,null,null,null,{"$f":"SUMIFS(Onglet_Consult_Database!$E:$E,Onglet_Consult_Database!$F:$F,Onglet_consult_Panel!$E563,Onglet_Consult_Database!$B:$B,K952)","v":0},null,null,"",""]
[null,null,null,null,null,null,null,null,null,{"$f":"SUMIFS(Onglet_Consult_Database!$E:$E,Onglet_Consult_Database!$F:$F,Onglet_consult_Panel!$E564,Onglet_Consult_Database!$B:$B,K953)","v":0},null,null,"",""]
[null,null,null,null,null,null,null,null,null,{"$f":"SUMIFS(Onglet_Consult_Database!$E:$E,Onglet_Consult_Database!$F:$F,Onglet_consult_Panel!$E565,Onglet_Consult_Database!$B:$B,K954)","v":0},null,null,"",""]
[null,null,null,null,null,null,null,null,null,{"$f":"SUMIFS(Onglet_Consult_Database!$E:$E,Onglet_Consult_Database!$F:$F,Onglet_consult_Panel!$E566,Onglet_Consult_Database!$B:$B,K955)","v":0},null,null,"",""]
[null,null,null,null,null,null,null,null,null,{"$f":"SUMIFS(Onglet_Consult_Database!$E:$E,Onglet_Consult_Database!$F:$F,Onglet_consult_Panel!$E567,Onglet_Consult_Database!$B:$B,K956)","v":0},null,null,"",""]
[null,null,null,null,null,null,null,null,null,{"$f":"SUMIFS(Onglet_Consult_Database!$E:$E,Onglet_Consult_Database!$F:$F,Onglet_consult_Panel!$E568,Onglet_Consult_Database!$B:$B,K957)","v":0},null,null,"",""]
[null,null,null,null,null,null,null,null,null,{"$f":"SUMIFS(Onglet_Consult_Database!$E:$E,Onglet_Consult_Database!$F:$F,Onglet_consult_Panel!$E569,Onglet_Consult_Database!$B:$B,K958)","v":0},null,null,"",""]
[null,null,null,null,null,null,null,null,null,{"$f":"SUMIFS(Onglet_Consult_Database!$E:$E,Onglet_Consult_Database!$F:$F,Onglet_consult_Panel!$E570,Onglet_Consult_Database!$B:$B,K959)","v":0},null,null,"",""]
[null,null,null,null,null,null,null,null,null,{"$f":"SUMIFS(Onglet_Consult_Database!$E:$E,Onglet_Consult_Database!$F:$F,Onglet_consult_Panel!$E571,Onglet_Consult_Database!$B:$B,K960)","v":0},null,null,"",""]
[null,null,null,null,null,null,null,null,null,{"$f":"SUMIFS(Onglet_Consult_Database!$E:$E,Onglet_Consult_Database!$F:$F,Onglet_consult_Panel!$E572,Onglet_Consult_Database!$B:$B,K961)","v":0},null,null,"",""]
[null,null,null,null,null,null,null,null,null,{"$f":"SUMIFS(Onglet_Consult_Database!$E:$E,Onglet_Consult_Database!$F:$F,Onglet_consult_Panel!$E573,Onglet_Consult_Database!$B:$B,K962)","v":0},null,null,"",""]
[null,null,null,null,null,null,null,null,null,{"$f":"SUMIFS(Onglet_Consult_Database!$E:$E,Onglet_Consult_Database!$F:$F,Onglet_consult_Panel!$E574,Onglet_Consult_Database!$B:$B,K963)","v":0},null,null,"",""]
[null,null,null,null,null,null,null,null,null,{"$f":"SUMIFS(Onglet_Consult_Database!$E:$E,Onglet_Consult_Database!$F:$F,Onglet_consult_Panel!$E575,Onglet_Consult_Database!$B:$B,K964)","v":0},null,null,"",""]
[null,null,null,null,null,null,null,null,null,{"$f":"SUMIFS(Onglet_Consult_Database!$E:$E,Onglet_Consult_Database!$F:$F,Onglet_consult_Panel!$E576,Onglet_Consult_Database!$B:$B,K965)","v":0},null,null,"",""]
[null,null,null,null,null,null,null,null,null,{"$f":"SUMIFS(Onglet_Consult_Database!$E:$E,Onglet_Consult_Database!$F:$F,Onglet_consult_Panel!$E577,Onglet_Consult_Database!$B:$B,K966)","v":0},null,null,"",""]
[null,null,null,null,null,null,null,null,null,{"$f":"SUMIFS(Onglet_Consult_Database!$E:$E,Onglet_Consult_Database!$F:$F,Onglet_consult_Panel!$E578,Onglet_Consult_Database!$B:$B,K967)","v":0},null,null,"",""]
[null,null,null,null,null,null,null,null,null,{"$f":"SUMIFS(Onglet_Consult_Database!$E:$E,Onglet_Consult_Database!$F:$F,Onglet_consult_Panel!$E579,Onglet_Consult_Database!$B:$B,K968)","v":0},null,null,"",""]
[null,null,null,null,null,null,null,null,null,{"$f":"SUMIFS(Onglet_Consult_Database!$E:$E,Onglet_Consult_Database!$F:$F,Onglet_consult_Panel!$E580,Onglet_Consult_Database!$B:$B,K969)","v":0},null,null,"",""]
[null,null,null,null,null,null,null,null,null,{"$f":"SUMIFS(Onglet_Consult_Database!$E:$E,Onglet_Consult_Database!$F:$F,Onglet_consult_Panel!$E581,Onglet_Consult_Database!$B:$B,K970)","v":0},null,null,"",""]
[null,null,null,null,null,null,null,null,null,{"$f":"SUMIFS(Onglet_Consult_Database!$E:$E,Onglet_Consult_Database!$F:$F,Onglet_consult_Panel!$E582,Onglet_Consult_Database!$B:$B,K971)","v":0},null,null,"",""]
[null,null,null,null,null,null,null,null,null,{"$f":"SUMIFS(Onglet_Consult_Database!$E:$E,Onglet_Consult_Database!$F:$F,Onglet_consult_Panel!$E583,Onglet_Consult_Database!$B:$B,K972)","v":0},null,null,"",""]
[null,null,null,null,null,null,null,null,null,{"$f":"SUMIFS(Onglet_Consult_Database!$E:$E,Onglet_Consult_Database!$F:$F,Onglet_consult_Panel!$E584,Onglet_Consult_Database!$B:$B,K973)","v":0},null,null,{"$f":"IFERROR(VLOOKUP(E973,SH_list,8,FALSE),\"\")","v":""},{"$f":"IFERROR(VLOOKUP(E973,SH_list,6,FALSE),\"\")","v":""}]
[null,null,null,null,null,null,null,null,null,{"$f":"SUMIFS(Onglet_Consult_Database!$E:$E,Onglet_Consult_Database!$F:$F,Onglet_consult_Panel!$E585,Onglet_Consult_Database!$B:$B,K974)","v":0},null,null,"",""]
[null,null,null,null,null,null,null,null,null,{"$f":"SUMIFS(Onglet_Consult_Database!$E:$E,Onglet_Consult_Database!$F:$F,Onglet_consult_Panel!$E586,Onglet_Consult_Database!$B:$B,K975)","v":0},null,null,"",""]
[null,null,null,null,null,null,null,null,null,{"$f":"SUMIFS(Onglet_Consult_Database!$E:$E,Onglet_Consult_Database!$F:$F,Onglet_consult_Panel!$E587,Onglet_Consult_Database!$B:$B,K976)","v":0},null,null,"",""]
[null,null,null,null,null,null,null,null,null,{"$f":"SUMIFS(Onglet_Consult_Database!$E:$E,Onglet_Consult_Database!$F:$F,Onglet_consult_Panel!$E588,Onglet_Consult_Database!$B:$B,K977)","v":0},null,null,"",""]
[null,null,null,null,null,null,null,null,null,{"$f":"SUMIFS(Onglet_Consult_Database!$E:$E,Onglet_Consult_Database!$F:$F,Onglet_consult_Panel!$E589,Onglet_Consult_Database!$B:$B,K978)","v":0},null,null,"",""]
[null,null,null,null,null,null,null,null,null,{"$f":"SUMIFS(Onglet_Consult_Database!$E:$E,Onglet_Consult_Database!$F:$F,Onglet_consult_Panel!$E590,Onglet_Consult_Database!$B:$B,K979)","v":0},null,null,"",""]
[null,null,null,null,null,null,null,null,null,{"$f":"SUMIFS(Onglet_Consult_Database!$E:$E,Onglet_Consult_Database!$F:$F,Onglet_consult_Panel!$E591,Onglet_Consult_Database!$B:$B,K980)","v":0},null,null,"",""]
[null,null,null,null,null,null,null,null,null,{"$f":"SUMIFS(Onglet_Consult_Database!$E:$E,Onglet_Consult_Database!$F:$F,Onglet_consult_Panel!$E592,Onglet_Consult_Database!$B:$B,K981)","v":0},null,null,"",""]
[null,null,null,null,null,null,null,null,null,{"$f":"SUMIFS(Onglet_Consult_Database!$E:$E,Onglet_Consult_Database!$F:$F,Onglet_consult_Panel!$E593,Onglet_Consult_Database!$B:$B,K982)","v":0},null,null,"",""]
[null,null,null,null,null,null,null,null,null,{"$f":"SUMIFS(Onglet_Consult_Database!$E:$E,Onglet_Consult_Database!$F:$F,Onglet_consult_Panel!$E594,Onglet_Consult_Database!$B:$B,K983)","v":0},null,null,"",""]
[null,null,null,null,null,null,null,null,null,{"$f":"SUMIFS(Onglet_Consult_Database!$E:$E,Onglet_Consult_Database!$F:$F,Onglet_consult_Panel!$E595,Onglet_Consult_Database!$B:$B,K984)","v":0},null,null,"",""]
[null,null,null,null,null,null,null,null,null,{"$f":"SUMIFS(Onglet_Consult_Database!$E:$E,Onglet_Consult_Database!$F:$F,Onglet_consult_Panel!$E596,Onglet_Consult_Database!$B:$B,K985)","v":0},null,null,"",""]
[null,null,null,null,null,null,null,null,null,{"$f":"SUMIFS(Onglet_Consult_Database!$E:$E,Onglet_Consult_Database!$F:$F,Onglet_consult_Panel!$E597,Onglet_Consult_Database!$B:$B,K986)","v":0},null,null,"",""]
[null,null,null,null,null,null,null,null,null,{"$f":"SUMIFS(Onglet_Consult_Database!$E:$E,Onglet_Consult_Database!$F:$F,Onglet_consult_Panel!$E598,Onglet_Consult_Database!$B:$B,K987)","v":0},null,null,"",""]
[null,null,null,null,null,null,null,null,null,{"$f":"SUMIFS(Onglet_Consult_Database!$E:$E,Onglet_Consult_Database!$F:$F,Onglet_consult_Panel!$E599,Onglet_Consult_Database!$B:$B,K988)","v":0},null,null,"",""]
[null,null,null,null,null,null,null,null,null,{"$f":"SUMIFS(Onglet_Consult_Database!$E:$E,Onglet_Consult_Database!$F:$F,Onglet_consult_Panel!$E600,Onglet_Consult_Database!$B:$B,K989)","v":0},null,null,"",""]
[null,null,null,null,null,null,null,null,null,{"$f":"SUMIFS(Onglet_Consult_Database!$E:$E,Onglet_Consult_Database!$F:$F,Onglet_consult_Panel!$E601,Onglet_Consult_Database!$B:$B,K990)","v":0},null,null,"",""]
[null,null,null,null,null,null,null,null,null,{"$f":"SUMIFS(Onglet_Consult_Database!$E:$E,Onglet_Consult_Database!$F:$F,Onglet_consult_Panel!$E602,Onglet_Consult_Database!$B:$B,K991)","v":0},null,null,"",""]
[null,null,null,null,null,null,null,null,null,{"$f":"SUMIFS(Onglet_Consult_Database!$E:$E,Onglet_Consult_Database!$F:$F,Onglet_consult_Panel!$E603,Onglet_Consult_Database!$B:$B,K992)","v":0},null,null,"",""]
[null,null,null,null,null,null,null,null,null,{"$f":"SUMIFS(Onglet_Consult_Database!$E:$E,Onglet_Consult_Database!$F:$F,Onglet_consult_Panel!$E604,Onglet_Consult_Database!$B:$B,K993)","v":0},null,null,"",""]
[null,null,null,null,null,null,null,null,null,{"$f":"SUMIFS(Onglet_Consult_Database!$E:$E,Onglet_Consult_Database!$F:$F,Onglet_consult_Panel!$E605,Onglet_Consult_Database!$B:$B,K994)","v":0},null,null,"",""]
[null,null,null,null,null,null,null,null,null,{"$f":"SUMIFS(Onglet_Consult_Database!$E:$E,Onglet_Consult_Database!$F:$F,Onglet_consult_Panel!$E606,Onglet_Consult_Database!$B:$B,K995)","v":0},null,null,"",""]
[null,null,null,null,null,null,null,null,null,{"$f":"SUMIFS(Onglet_Consult_Database!$E:$E,Onglet_Consult_Database!$F:$F,Onglet_consult_Panel!$E607,Onglet_Consult_Database!$B:$B,K996)","v":0},null,null,"",""]
[null,null,null,null,null,null,null,null,null,{"$f":"SUMIFS(Onglet_Consult_Database!$E:$E,Onglet_Consult_Database!$F:$F,Onglet_consult_Panel!$E608,Onglet_Consult_Database!$B:$B,K997)","v":0},null,null,"",""]
[null,null,null,null,null,null,null,null,null,{"$f":"SUMIFS(Onglet_Consult_Database!$E:$E,Onglet_Consult_Database!$F:$F,Onglet_consult_Panel!$E609,Onglet_Consult_Database!$B:$B,K998)","v":0},null,null,"",""]
[null,null,null,null,null,null,null,null,null,{"$f":"SUMIFS(Onglet_Consult_Database!$E:$E,Onglet_Consult_Database!$F:$F,Onglet_consult_Panel!$E610,Onglet_Consult_Database!$B:$B,K999)","v":0},null,null,"",""]
[null,null,null,null,null,null,null,null,null,{"$f":"SUMIFS(Onglet_Consult_Database!$E:$E,Onglet_Consult_Database!$F:$F,Onglet_consult_Panel!$E611,Onglet_Consult_Database!$B:$B,K1000)","v":0},null,null,"",""]
[null,null,null,null,null,null,null,null,null,{"$f":"SUMIFS(Onglet_Consult_Database!$E:$E,Onglet_Consult_Database!$F:$F,Onglet_consult_Panel!$E612,Onglet_Consult_Database!$B:$B,K1001)","v":0},null,null,"",""]
[null,null,null,null,null,null,null,null,null,{"$f":"SUMIFS(Onglet_Consult_Database!$E:$E,Onglet_Consult_Database!$F:$F,Onglet_consult_Panel!$E613,Onglet_Consult_Database!$B:$B,K1002)","v":0},null,null,"",""]
[null,null,null,null,null,null,null,null,null,{"$f":"SUMIFS(Onglet_Consult_Database!$E:$E,Onglet_Consult_Database!$F:$F,Onglet_consult_Panel!$E614,Onglet_Consult_Database!$B:$B,K1003)","v":0},null,null,"",""]

{"sheet":"Onglet_consult_Panel_graph","index":16,"n_rows":37,"n_cols":19,"rows_kept":37,"cut":false,"hidden":false,"merged":[[36,14,36,15],[36,17,36,18],[17,14,18,15],[17,17,18,18],[32,14,32,15],[33,14,33,15],[20,14,20,15],[20,17,20,18]]}
[]
[]
[]
[]
[]
[null,{"$f":"Onglet_trad_menus!B218","v":"Build your stakeholder consultation panel"}]
[]
[null,null,"INSTRUCTIONS"]
[null,null,{"$f":"Onglet_trad_menus!B219","v":"Click on the buttons to select stakeholders to include in your panel"}]
[null,null,{"$f":"Onglet_trad_menus!B220","v":"Adjust your panel to meet the 4 balance criteria"}]
[]
[]
[]
[]
[null,null,{"$f":"Onglet_consult_Panel!L8&\" \"&Onglet_trad_menus!B221","v":"0 STAKEHOLDERS"},null,null,null,null,null,null,null,null,null,null,null,{"$f":"Onglet_trad_menus!B222","v":"PANEL BALANCE CRITERIA"}]
[]
[null,null,{"$f":"COM_long","v":"Communities"},null,{"$f":"Onglet_consult_Panel!M6","v":""},null,null,null,null,{"$f":"Onglet_consult_Panel!M3","v":""},null,{"$f":"AUT_long","v":"Authorities"},null,null,{"$f":"Onglet_trad_menus!B223","v":"Strategic"},{"$f":"Onglet_consult_Panel!W4","v":""},null,{"$f":"Onglet_trad_menus!B224","v":"Balanced between categories"},{"$f":"Onglet_consult_Panel!W8","v":""}]
[null,null,null,null,{"$f":"LOWER(Onglet_consult_Panel!L6&\" \"&Onglet_trad_menus!B221)","v":"0 stakeholders"},null,null,null,null,{"$f":"LOWER(Onglet_consult_Panel!L3&\" \"&Onglet_trad_menus!B221)","v":"0 stakeholders"},null,null,null,null,{"$f":"Onglet_consult_Panel!S4","v":"at least 30% in tier 1 of the matrix"},null,null,{"$f":"Onglet_consult_Panel!S8","v":"no category exceeding 35%"}]
[null,null,null,null,{"$f":"IF(P36=\"\",\"\",P36&Onglet_trad_menus!B237)","v":""}]
[null,null,null,null,null,null,null,null,null,null,null,null,null,null,{"$f":"Onglet_trad_menus!B230","v":"current result"},{"$f":"IFERROR(Onglet_consult_Panel!T4,\"\")","v":0},null,{"$f":"Onglet_trad_menus!B225","v":"most important category"},{"$f":"Onglet_consult_Panel!T8","v":0}]
[null,null,null,null,null,null,null,null,null,null,null,null,null,null,{"$f":"Onglet_trad_menus!B238&\" 1\"","v":"Criteria 1"},null,null,{"$f":"Onglet_trad_menus!B238&\" 2\"","v":"Criteria 2"}]
[]
[]
[]
[]
[]
[]
[]
[]
[]
[]
[null,null,{"$f":"CIV_long","v":"Civil society"},null,{"$f":"Onglet_consult_Panel!M5","v":""},null,null,null,null,{"$f":"Onglet_consult_Panel!M4","v":""},null,{"$f":"BUS_long","v":"Business"},null,null,{"$f":"Onglet_trad_menus!B228","v":"Community component"},{"$f":"Onglet_consult_Panel!W11","v":""},null,{"$f":"Onglet_trad_menus!B226","v":"Balanced between local and national stakeholders"},{"$f":"Onglet_consult_Panel!W15","v":""}]
[null,null,null,null,{"$f":"LOWER(Onglet_consult_Panel!L5&\" \"&Onglet_trad_menus!B221)","v":"0 stakeholders"},null,null,null,null,{"$f":"LOWER(Onglet_consult_Panel!L4&\" \"&Onglet_trad_menus!B221)","v":"0 stakeholders"},null,null,null,null,{"$f":"Onglet_consult_Panel!S11","v":"at least 25% from panel"},null,null,{"$f":"Onglet_consult_Panel!S15","v":"at least 50% of local and regional"}]
[null,null,null,null,null,null,null,null,null,null,null,null,null,null,{"$f":"Onglet_consult_Panel!S12","v":"or number of individuals >= 10"},null,null,{"$f":"Onglet_consult_Panel!S16","v":"stakeholders in panel"}]
[null,null,null,null,null,null,null,null,null,null,null,null,null,null,{"$f":"Onglet_trad_menus!B230","v":"current result"},{"$f":"Onglet_consult_Panel!T11","v":""},null,{"$f":"Onglet_trad_menus!B227","v":"share of local stakeholders"},{"$f":"IFERROR(Onglet_consult_Panel!T15,\"\")","v":""}]
[null,null,null,null,null,null,null,null,null,null,null,null,null,null,{"$f":"Onglet_trad_menus!B229","v":"number of individuals"}]
[null,null,null,null,null,null,null,null,null,null,null,null,null,null,{"$f":"Onglet_trad_menus!B238&\" 3\"","v":"Criteria 3"},null,null,{"$f":"Onglet_trad_menus!B238&\" 4\"","v":"Criteria 4"}]

{"sheet":"Onglet_Consult_Progress","index":17,"n_rows":22,"n_cols":9,"rows_kept":22,"cut":false,"hidden":false,"merged":[[16,8,18,11]]}
[]
[]
[]
[]
[]
[null,{"$f":"Onglet_trad_menus!B260","v":"Progress report on stakeholder consultation"}]
[]
[null,{"$f":"Onglet_trad_menus!B257","v":"Stakeholder categories"},null,{"$f":"Onglet_trad_menus!B258","v":"Number of interviews in panel"},null,{"$f":"Onglet_trad_menus!B259","v":"% of interviews imported in the tool"}]
[]
[null,{"$f":"AUT_long","v":"Authorities"},null,{"$f":"IFERROR(Onglet_consult_Panel!L3,\"\")","v":0},null,{"$f":"IFERROR(COUNTIFS(Onglet_consult_Panel!$H:$H,\"done\",Onglet_consult_Panel!$F:$F,Onglet_Consult_Progress!$B10)/D10,\"\")","v":""}]
[]
[null,{"$f":"BUS_long","v":"Business"},null,{"$f":"IFERROR(Onglet_consult_Panel!L4,\"\")","v":0},null,{"$f":"IFERROR(COUNTIFS(Onglet_consult_Panel!$H:$H,\"done\",Onglet_consult_Panel!$F:$F,Onglet_Consult_Progress!$B12)/D12,\"\")","v":""}]
[]
[null,{"$f":"CIV_long","v":"Civil society"},null,{"$f":"IFERROR(Onglet_consult_Panel!L5,\"\")","v":0},null,{"$f":"IFERROR(COUNTIFS(Onglet_consult_Panel!$H:$H,\"done\",Onglet_consult_Panel!$F:$F,Onglet_Consult_Progress!$B14)/D14,\"\")","v":""}]
[]
[null,{"$f":"COM_long","v":"Communities"},null,{"$f":"IFERROR(Onglet_consult_Panel!L6,\"\")","v":0},null,{"$f":"IFERROR(COUNTIFS(Onglet_consult_Panel!$H:$H,\"done\",Onglet_consult_Panel!$F:$F,Onglet_Consult_Progress!$B16)/D16,\"\")","v":""}]
[null,null,null,null,null,null,null,null,{"$f":"Onglet_trad_menus!B261","v":"The % shows the progress of the Stakeholder consultation"}]
[null,"Total",null,{"$f":"IFERROR(SUM(D10:D16),\"\")","v":0},null,{"$f":"IF(D18=0,0,SUMPRODUCT(D10:D16,F10:F16)/D18)","v":0}]
[]
[]
[]
[null,null,null,1,null,1]

{"sheet":"Onglet_consult_translation","index":18,"n_rows":139,"n_cols":10,"rows_kept":139,"cut":false,"hidden":false,"merged":[[8,7,8,9],[8,3,8,5]]}
[]
[]
[]
[]
[]
[]
[]
[]
[null,null,null,"PHASE OPERATIONS",null,null,null,"PHASE PROJET"]
[]
[null,"Current",null,"EN","FR","SP",null,"EN","FR","SP"]
[]
[]
[null,{"$f":"_xlfn.IFS(Language=\"EN\",D14,Language=\"FR\",E14,Language=\"SP\",F14)","v":"Download SRM+ interview form"},null,"Download SRM+ interview form","Télécharger le formulaire d'entretien SRM+"]
[null,{"$f":"_xlfn.IFS(Language=\"EN\",D15,Language=\"FR\",E15,Language=\"SP\",F15)","v":"Upload your interviews"},null,"Upload your interviews","Importez vos compte-rendus d'entretien"]
[]
[]
[null,{"$f":"_xlfn.IFS(Language=\"EN\",D18,Language=\"FR\",E18,Language=\"SP\",F18)","v":"STAKEHOLDER INTERVIEW FORM"},null,"STAKEHOLDER INTERVIEW FORM","FORMULAIRE D'INTERVIEW DES PARTIES PRENANTES"]
[null,{"$f":"_xlfn.IFS(Language=\"EN\",D19,Language=\"FR\",E19,Language=\"SP\",F19)","v":"Date of interview"},null,"Date of interview","Date de l'interview"]
[null,{"$f":"_xlfn.IFS(Language=\"EN\",D20,Language=\"FR\",E20,Language=\"SP\",F20)","v":"Interview conducted by"},null,"Interview conducted by","Interview réalisée par"]
[null,{"$f":"_xlfn.IFS(Language=\"EN\",D21,Language=\"FR\",E21,Language=\"SP\",F21)","v":"Name of organization interviewed"},null,"Name of organization interviewed","Nom de l'organisation interviewée"]
[null,{"$f":"_xlfn.IFS(Language=\"EN\",D22,Language=\"FR\",E22,Language=\"SP\",F22)","v":"(Stakeholder in mapping)"},null,"(Stakeholder in mapping)","(Stakeholder dans le mapping)"]
[null,{"$f":"_xlfn.IFS(Language=\"EN\",D23,Language=\"FR\",E23,Language=\"SP\",F23)","v":"Full name of organization (if necessary)"},null,"Full name of organization (if necessary)","Nom complet de l'organisation (si nécessaire)"]
[null,{"$f":"_xlfn.IFS(Language=\"EN\",D24,Language=\"FR\",E24,Language=\"SP\",F24)","v":"Name and function of participants interviewed"},null,"Name and function of participants interviewed","Nom et fonction des participants interviewés"]
[null,{"$f":"_xlfn.IFS(Language=\"EN\",D25,Language=\"FR\",E25,Language=\"SP\",F25)","v":"About the stakeholder"},null,"About the stakeholder","A propos du stakeholder"]
[null,{"$f":"_xlfn.IFS(Language=\"EN\",D26,Language=\"FR\",E26,Language=\"SP\",F26)","v":"(main activities, size of organization,"},null,"(main activities, size of organization,","(activités principales, taille de l'organisation, "]
[null,{"$f":"_xlfn.IFS(Language=\"EN\",D27,Language=\"FR\",E27,Language=\"SP\",F27)","v":"social and economic priorities...)"},null,"social and economic priorities...)","priorités sociales et économiques...)"]
[]
[]
[null,{"$f":"IF(OR(LifeCycle_Status=table!$C$105,LifeCycle_Status=\"\"),_xlfn.IFS(Language=\"EN\",D30,Language=\"FR\",E30,Language=\"SP\",F30),IF(LifeCycle_Status=table!$C$106,_xlfn.IFS(Language=\"EN\",H30,Language=\"FR\",I30,Language=\"SP\",J30)))","v":"PILLAR 1 - RELATIONSHIPS AND DIALOGUE"},null,"PILLAR 1 - RELATIONSHIPS AND DIALOGUE","PILIER 1 - RELATION ET DIALOGUE",null,null,"PILLAR 1 - RELATIONSHIPS AND DIALOGUE"]
[]
[null,{"$f":"IF(OR(LifeCycle_Status=table!$C$105,LifeCycle_Status=\"\"),_xlfn.IFS(Language=\"EN\",D32,Language=\"FR\",E32,Language=\"SP\",F32),IF(LifeCycle_Status=table!$C$106,_xlfn.IFS(Language=\"EN\",H32,Language=\"FR\",I32,Language=\"SP\",J32)))","v":"Rate your satisfaction regarding your relationship with our company"},null,"Rate your satisfaction regarding your relationship with our company","Evaluez votre satisfaction concernant votre relation avec notre entreprise",null,null,"Rate your satisfaction regarding your relationship with TotalEnergies"]
["I01",{"$f":"IF(OR(LifeCycle_Status=table!$C$105,LifeCycle_Status=\"\"),_xlfn.IFS(Language=\"EN\",D33,Language=\"FR\",E33,Language=\"SP\",F33),IF(LifeCycle_Status=table!$C$106,_xlfn.IFS(Language=\"EN\",H33,Language=\"FR\",I33,Language=\"SP\",J33)))","v":"Quality of the relationship"},null,"Quality of the relationship","Qualité de la relation",null,null,"Quality of the relationship"]
[]
[null,{"$f":"IF(OR(LifeCycle_Status=table!$C$105,LifeCycle_Status=\"\"),_xlfn.IFS(Language=\"EN\",D35,Language=\"FR\",E35,Language=\"SP\",F35),IF(LifeCycle_Status=table!$C$106,_xlfn.IFS(Language=\"EN\",H35,Language=\"FR\",I35,Language=\"SP\",J35)))","v":"Do you see any priority areas for improvement?"},null,"Do you see any priority areas for improvement?","Voyez-vous des points à améliorer en priorité ?",null,null,"In which area do you expect us to be vigilant to manage your main concerns?"]
["P01",{"$f":"IF(OR(LifeCycle_Status=table!$C$105,LifeCycle_Status=\"\"),_xlfn.IFS(Language=\"EN\",D36,Language=\"FR\",E36,Language=\"SP\",F36),IF(LifeCycle_Status=table!$C$106,_xlfn.IFS(Language=\"EN\",H36,Language=\"FR\",I36,Language=\"SP\",J36)))","v":"Transparent and regular stakeholder engagement"},null,"Transparent and regular stakeholder engagement","Engagement transparent et régulier des parties prenantes",null,null,"Transparent and regular stakeholder engagement"]
["P02",{"$f":"IF(OR(LifeCycle_Status=table!$C$105,LifeCycle_Status=\"\"),_xlfn.IFS(Language=\"EN\",D37,Language=\"FR\",E37,Language=\"SP\",F37),IF(LifeCycle_Status=table!$C$106,_xlfn.IFS(Language=\"EN\",H37,Language=\"FR\",I37,Language=\"SP\",J37)))","v":"Fulfilment and follow-up of commitments "},null,"Fulfilment and follow-up of commitments ","Respect et suivi des engagements",null,null,"Fulfilment and follow-up of commitments "]
["P03",{"$f":"IF(OR(LifeCycle_Status=table!$C$105,LifeCycle_Status=\"\"),_xlfn.IFS(Language=\"EN\",D38,Language=\"FR\",E38,Language=\"SP\",F38),IF(LifeCycle_Status=table!$C$106,_xlfn.IFS(Language=\"EN\",H38,Language=\"FR\",I38,Language=\"SP\",J38)))","v":"Non-commercial grievance mechanism"},null,"Non-commercial grievance mechanism","Gestion des plaintes non commerciales",null,null,"Management of complaints or grievances potentially jeopardizing the project"]
["P04",{"$f":"IF(OR(LifeCycle_Status=table!$C$105,LifeCycle_Status=\"\"),_xlfn.IFS(Language=\"EN\",D39,Language=\"FR\",E39,Language=\"SP\",F39),IF(LifeCycle_Status=table!$C$106,_xlfn.IFS(Language=\"EN\",H39,Language=\"FR\",I39,Language=\"SP\",J39)))","v":"Communication (activities, strategic outlook, ESG/sustainability…)"},null,"Communication (activities, strategic outlook, ESG/sustainability…)","Communication (activités, perspectives stratégiques, ESG/durabilité...)",null,null,"Communication (strategic outlook, ESG/sustainability…)"]
[]
[null,{"$f":"IF(OR(LifeCycle_Status=table!$C$105,LifeCycle_Status=\"\"),_xlfn.IFS(Language=\"EN\",D41,Language=\"FR\",E41,Language=\"SP\",F41),IF(LifeCycle_Status=table!$C$106,_xlfn.IFS(Language=\"EN\",H41,Language=\"FR\",I41,Language=\"SP\",J41)))","v":"PILLAR 2 - MANAGEMENT OF NEGATIVE IMPACTS"},null,"PILLAR 2 - MANAGEMENT OF NEGATIVE IMPACTS","PILIER 2 - GESTION DES IMPACTS NÉGATIFS",null,null,"PILLAR 2 - MANAGEMENT OF NEGATIVE IMPACTS"]
[]
[null,{"$f":"IF(OR(LifeCycle_Status=table!$C$105,LifeCycle_Status=\"\"),_xlfn.IFS(Language=\"EN\",D43,Language=\"FR\",E43,Language=\"SP\",F43),IF(LifeCycle_Status=table!$C$106,_xlfn.IFS(Language=\"EN\",H43,Language=\"FR\",I43,Language=\"SP\",J43)))","v":"Rate your level of concern regarding the negative impact of our activities:"},null,"Rate your level of concern regarding the negative impact of our activities:","Evaluez votre niveau de préoccupation concernant les impacts négatifs liés à nos activités :",null,null,"Rate your level of concern regarding the potential negative impact of the Mirny project"]
["I05.1",{"$f":"IF(OR(LifeCycle_Status=table!$C$105,LifeCycle_Status=\"\"),_xlfn.IFS(Language=\"EN\",D44,Language=\"FR\",E44,Language=\"SP\",F44),IF(LifeCycle_Status=table!$C$106,_xlfn.IFS(Language=\"EN\",H44,Language=\"FR\",I44,Language=\"SP\",J44)))","v":"Negative impacts on the environment (air, soil, water, biodiversity, etc.) and health of populations"},null,"Negative impacts on the environment (air, soil, water, biodiversity, etc.) and health of populations","Impacts négatifs sur l'environnement (air, sol, eau, biodiversité,...) et la santé des populations",null,null,"Negative impacts on the environment (air, soil, water, biodiversity, etc.) and health of populations"]
["I05.1.3",{"$f":"IF(OR(LifeCycle_Status=table!$C$105,LifeCycle_Status=\"\"),_xlfn.IFS(Language=\"EN\",D45,Language=\"FR\",E45,Language=\"SP\",F45),IF(LifeCycle_Status=table!$C$106,_xlfn.IFS(Language=\"EN\",H45,Language=\"FR\",I45,Language=\"SP\",J45)))","v":"Negative impacts on climate change"},null,"Negative impacts on climate change","Impacts sur le climat",null,null,"Negative impacts on climate change"]
["I05.2",{"$f":"IF(OR(LifeCycle_Status=table!$C$105,LifeCycle_Status=\"\"),_xlfn.IFS(Language=\"EN\",D46,Language=\"FR\",E46,Language=\"SP\",F46),IF(LifeCycle_Status=table!$C$106,_xlfn.IFS(Language=\"EN\",H46,Language=\"FR\",I46,Language=\"SP\",J46)))","v":"Industrial risks"},null,"Industrial risks","Impacts négatifs sur la sécurité (risques industriels)",null,null,"Industrial risks"]
["I05.3",{"$f":"IF(OR(LifeCycle_Status=table!$C$105,LifeCycle_Status=\"\"),_xlfn.IFS(Language=\"EN\",D47,Language=\"FR\",E47,Language=\"SP\",F47),IF(LifeCycle_Status=table!$C$106,_xlfn.IFS(Language=\"EN\",H47,Language=\"FR\",I47,Language=\"SP\",J47)))","v":"Nuisances"},null,"Nuisances","Nuisances (sonores, olfactives, visuelles, trafic...)",null,null,"Nuisances"]
["I06.1",{"$f":"IF(OR(LifeCycle_Status=table!$C$105,LifeCycle_Status=\"\"),_xlfn.IFS(Language=\"EN\",D48,Language=\"FR\",E48,Language=\"SP\",F48),IF(LifeCycle_Status=table!$C$106,_xlfn.IFS(Language=\"EN\",H48,Language=\"FR\",I48,Language=\"SP\",J48)))","v":"Negative impacts on marine and/or land use"},null,"Negative impacts on marine and/or land use","Impacts négatifs liés au foncier et/ou aux usages maritimes",null,null,"Negative impacts on marine and/or land use"]
["I06.2",{"$f":"IF(OR(LifeCycle_Status=table!$C$105,LifeCycle_Status=\"\"),_xlfn.IFS(Language=\"EN\",D49,Language=\"FR\",E49,Language=\"SP\",F49),IF(LifeCycle_Status=table!$C$106,_xlfn.IFS(Language=\"EN\",H49,Language=\"FR\",I49,Language=\"SP\",J49)))","v":"Negative impacts on local economy and livelihoods"},null,"Negative impacts on local economy and livelihoods","Impacts négatifs sur l'économie locale et les moyens de subsistance",null,null,"Negative impacts on local economy and livelihoods"]
["I06.3",{"$f":"IF(OR(LifeCycle_Status=table!$C$105,LifeCycle_Status=\"\"),_xlfn.IFS(Language=\"EN\",D50,Language=\"FR\",E50,Language=\"SP\",F50),IF(LifeCycle_Status=table!$C$106,_xlfn.IFS(Language=\"EN\",H50,Language=\"FR\",I50,Language=\"SP\",J50)))","v":"Negative impacts on religious and cultural heritage"},null,"Negative impacts on religious and cultural heritage","Impacts négatifs sur le patrimoine religieux et culturel",null,null,"Negative impacts on religious and cultural heritage"]
["I06.4",{"$f":"IF(OR(LifeCycle_Status=table!$C$105,LifeCycle_Status=\"\"),_xlfn.IFS(Language=\"EN\",D51,Language=\"FR\",E51,Language=\"SP\",F51),IF(LifeCycle_Status=table!$C$106,_xlfn.IFS(Language=\"EN\",H51,Language=\"FR\",I51,Language=\"SP\",J51)))","v":"Negative impacts on human rights"},null,"Negative impacts on human rights","Impacts négatifs sur les droits humains",null,null,"Negative impacts on human rights"]
[]
[null,{"$f":"IF(OR(LifeCycle_Status=table!$C$105,LifeCycle_Status=\"\"),_xlfn.IFS(Language=\"EN\",D53,Language=\"FR\",E53,Language=\"SP\",F53),IF(LifeCycle_Status=table!$C$106,_xlfn.IFS(Language=\"EN\",H53,Language=\"FR\",I53,Language=\"SP\",J53)))","v":"Do you see any priority areas for improvement?"},null,"Do you see any priority areas for improvement?","Voyez-vous des points à améliorer en priorité ?",null,null,"In which area do you expect us to be vigilant to manage your main concerns?"]
["P05",{"$f":"IF(OR(LifeCycle_Status=table!$C$105,LifeCycle_Status=\"\"),_xlfn.IFS(Language=\"EN\",D54,Language=\"FR\",E54,Language=\"SP\",F54),IF(LifeCycle_Status=table!$C$106,_xlfn.IFS(Language=\"EN\",H54,Language=\"FR\",I54,Language=\"SP\",J54)))","v":"Information on HSE impacts and mitigation measures"},null,"Information on HSE impacts and mitigation measures","Information sur les impacts HSE et les mesures d'atténuation",null,null,"Information on HSE impacts and mitigation measures"]
["P06",{"$f":"IF(OR(LifeCycle_Status=table!$C$105,LifeCycle_Status=\"\"),_xlfn.IFS(Language=\"EN\",D55,Language=\"FR\",E55,Language=\"SP\",F55),IF(LifeCycle_Status=table!$C$106,_xlfn.IFS(Language=\"EN\",H55,Language=\"FR\",I55,Language=\"SP\",J55)))","v":"Managing negative impacts on people and the environment (prevention,\nreduction, compensation)."},null,"Managing negative impacts on people and the environment (prevention,\nreduction, compensation).","Gestion des impacts négatifs sur les personnes et l'environnement (prévention,\nréduction, compensation)",null,null,"Managing negative impacts on people and the environment (prevention,\nreduction, compensation)."]
["P07",{"$f":"IF(OR(LifeCycle_Status=table!$C$105,LifeCycle_Status=\"\"),_xlfn.IFS(Language=\"EN\",D56,Language=\"FR\",E56,Language=\"SP\",F56),IF(LifeCycle_Status=table!$C$106,_xlfn.IFS(Language=\"EN\",H56,Language=\"FR\",I56,Language=\"SP\",J56)))","v":"Cooperation with industrial neighbors and authorities (emergency plans, circular economy, traffic optimization, etc.)"},null,"Cooperation with industrial neighbors and authorities (emergency plans, circular economy, traffic optimization, etc.)","Coopération avec les voisins industriels et les autorités (plans d'urgence, économie circulaire, optimisation du trafic...)",null,null,"Cooperation with industrial neighbors and authorities (emergency plans, circular economy, traffic optimization, etc.)"]
["P08",{"$f":"IF(OR(LifeCycle_Status=table!$C$105,LifeCycle_Status=\"\"),_xlfn.IFS(Language=\"EN\",D57,Language=\"FR\",E57,Language=\"SP\",F57),IF(LifeCycle_Status=table!$C$106,_xlfn.IFS(Language=\"EN\",H57,Language=\"FR\",I57,Language=\"SP\",J57)))","v":"Control of contractors on HSE and human rights"},null,"Control of contractors on HSE and human rights","Contrôle des sous-traitants sur les aspects\nHSE et droits humains",null,null,"Control of contractors on HSE and human rights"]
[]
[null,{"$f":"IF(OR(LifeCycle_Status=table!$C$105,LifeCycle_Status=\"\"),_xlfn.IFS(Language=\"EN\",D59,Language=\"FR\",E59,Language=\"SP\",F59),IF(LifeCycle_Status=table!$C$106,_xlfn.IFS(Language=\"EN\",H59,Language=\"FR\",I59,Language=\"SP\",J59)))","v":"PILLAR 3 - MANAGING POSITIVE IMPACTS"},null,"PILLAR 3 - MANAGING POSITIVE IMPACTS","PILIER 3 - GESTION DES IMPACTS POSITIFS",null,null,"PILLAR 3 - MANAGING POSITIVE IMPACTS"]
[]
[null,{"$f":"IF(OR(LifeCycle_Status=table!$C$105,LifeCycle_Status=\"\"),_xlfn.IFS(Language=\"EN\",D61,Language=\"FR\",E61,Language=\"SP\",F61),IF(LifeCycle_Status=table!$C$106,_xlfn.IFS(Language=\"EN\",H61,Language=\"FR\",I61,Language=\"SP\",J61)))","v":"Rate your level of satisfaction regarding our contribution to:"},null,"Rate your level of satisfaction regarding our contribution to:","Evaluez votre niveau de satisfaction concernant notre contribution à :",null,null,"Please indicate your level of concern regarding the project's ability to deliver the following positive impacts:"]
["I07",{"$f":"IF(OR(LifeCycle_Status=table!$C$105,LifeCycle_Status=\"\"),_xlfn.IFS(Language=\"EN\",D62,Language=\"FR\",E62,Language=\"SP\",F62),IF(LifeCycle_Status=table!$C$106,_xlfn.IFS(Language=\"EN\",H62,Language=\"FR\",I62,Language=\"SP\",J62)))","v":"Local employment"},null,"Local employment","L'emploi local",null,null,"Local employment"]
["I08",{"$f":"IF(OR(LifeCycle_Status=table!$C$105,LifeCycle_Status=\"\"),_xlfn.IFS(Language=\"EN\",D63,Language=\"FR\",E63,Language=\"SP\",F63),IF(LifeCycle_Status=table!$C$106,_xlfn.IFS(Language=\"EN\",H63,Language=\"FR\",I63,Language=\"SP\",J63)))","v":"Local procurement"},null,"Local procurement","Les achats locaux",null,null,"Local procurement"]
["I09",{"$f":"IF(OR(LifeCycle_Status=table!$C$105,LifeCycle_Status=\"\"),_xlfn.IFS(Language=\"EN\",D64,Language=\"FR\",E64,Language=\"SP\",F64),IF(LifeCycle_Status=table!$C$106,_xlfn.IFS(Language=\"EN\",H64,Language=\"FR\",I64,Language=\"SP\",J64)))","v":"Social/community investments"},null,"Social/community investments","Les actions sociétales locales",null,null,"Social/community investments"]
[]
[null,{"$f":"IF(OR(LifeCycle_Status=table!$C$105,LifeCycle_Status=\"\"),_xlfn.IFS(Language=\"EN\",D66,Language=\"FR\",E66,Language=\"SP\",F66),IF(LifeCycle_Status=table!$C$106,_xlfn.IFS(Language=\"EN\",H66,Language=\"FR\",I66,Language=\"SP\",J66)))","v":"Do you see any priority areas for improvement?"},null,"Do you see any priority areas for improvement?","Voyez-vous des points à améliorer en priorité ?",null,null,"In which area do you expect us to be vigilant to manage your main concerns?"]
["P09",{"$f":"IF(OR(LifeCycle_Status=table!$C$105,LifeCycle_Status=\"\"),_xlfn.IFS(Language=\"EN\",D67,Language=\"FR\",E67,Language=\"SP\",F67),IF(LifeCycle_Status=table!$C$106,_xlfn.IFS(Language=\"EN\",H67,Language=\"FR\",I67,Language=\"SP\",J67)))","v":"Access to jobs opportunities for locals"},null,"Access to jobs opportunities for locals","Accès aux opportunités d'emploi local",null,null,"Access to jobs opportunities for locals"]
["P10",{"$f":"IF(OR(LifeCycle_Status=table!$C$105,LifeCycle_Status=\"\"),_xlfn.IFS(Language=\"EN\",D68,Language=\"FR\",E68,Language=\"SP\",F68),IF(LifeCycle_Status=table!$C$106,_xlfn.IFS(Language=\"EN\",H68,Language=\"FR\",I68,Language=\"SP\",J68)))","v":"Access to tenders for local contractors"},null,"Access to tenders for local contractors","Accès aux appels d'offres pour les entreprises locales",null,null,"Access to tenders for local contractors"]
["P11",{"$f":"IF(OR(LifeCycle_Status=table!$C$105,LifeCycle_Status=\"\"),_xlfn.IFS(Language=\"EN\",D69,Language=\"FR\",E69,Language=\"SP\",F69),IF(LifeCycle_Status=table!$C$106,_xlfn.IFS(Language=\"EN\",H69,Language=\"FR\",I69,Language=\"SP\",J69)))","v":"Capacity building of locals"},null,"Capacity building of locals","Renforcement des capacités des populations locales",null,null,"Capacity building of locals"]
["P12",{"$f":"IF(OR(LifeCycle_Status=table!$C$105,LifeCycle_Status=\"\"),_xlfn.IFS(Language=\"EN\",D70,Language=\"FR\",E70,Language=\"SP\",F70),IF(LifeCycle_Status=table!$C$106,_xlfn.IFS(Language=\"EN\",H70,Language=\"FR\",I70,Language=\"SP\",J70)))","v":"Participation in local economic institutions"},null,"Participation in local economic institutions","Participation dans les institutions économiques locales ",null,null,"Participation in local economic institutions"]
["P13",{"$f":"IF(OR(LifeCycle_Status=table!$C$105,LifeCycle_Status=\"\"),_xlfn.IFS(Language=\"EN\",D71,Language=\"FR\",E71,Language=\"SP\",F71),IF(LifeCycle_Status=table!$C$106,_xlfn.IFS(Language=\"EN\",H71,Language=\"FR\",I71,Language=\"SP\",J71)))","v":"Control of contractors on local content"},null,"Control of contractors on local content","Contrôle des sous-traitants sur les aspects liés à l'emploi et la sous-traitance locale",null,null,"Control of contractors on local content"]
["P14",{"$f":"IF(OR(LifeCycle_Status=table!$C$105,LifeCycle_Status=\"\"),_xlfn.IFS(Language=\"EN\",D72,Language=\"FR\",E72,Language=\"SP\",F72),IF(LifeCycle_Status=table!$C$106,_xlfn.IFS(Language=\"EN\",H72,Language=\"FR\",I72,Language=\"SP\",J72)))","v":"Management of social / community investments"},null,"Management of social / community investments","Gestion des actions sociétales locales",null,null,"Management of social / community investments"]
["P15",{"$f":"IF(OR(LifeCycle_Status=table!$C$105,LifeCycle_Status=\"\"),_xlfn.IFS(Language=\"EN\",D73,Language=\"FR\",E73,Language=\"SP\",F73),IF(LifeCycle_Status=table!$C$106,_xlfn.IFS(Language=\"EN\",H73,Language=\"FR\",I73,Language=\"SP\",J73)))","v":"Partnerships"},null,"Partnerships","Partenariats",null,null,"Partnerships"]
[]
[null,{"$f":"IF(OR(LifeCycle_Status=table!$C$105,LifeCycle_Status=\"\"),_xlfn.IFS(Language=\"EN\",D75,Language=\"FR\",E75,Language=\"SP\",F75),IF(LifeCycle_Status=table!$C$106,_xlfn.IFS(Language=\"EN\",H75,Language=\"FR\",I75,Language=\"SP\",J75)))","v":"What are the main socio-economic challenges locally where TotalEnergies could get involved?"},null,"What are the main socio-economic challenges locally where TotalEnergies could get involved?","Quels sont les principaux enjeux socio-économiques locaux sur lesquels notre entreprise pourrait s'impliquer ?",null,null,"What are the main socio-economic challenges locally to adress in priority?"]
["S01",{"$f":"IF(OR(LifeCycle_Status=table!$C$105,LifeCycle_Status=\"\"),_xlfn.IFS(Language=\"EN\",D76,Language=\"FR\",E76,Language=\"SP\",F76),IF(LifeCycle_Status=table!$C$106,_xlfn.IFS(Language=\"EN\",H76,Language=\"FR\",I76,Language=\"SP\",J76)))","v":"Road safety"},null,"Road safety","Sécurité routière",null,null,"Road safety"]
["S02",{"$f":"IF(OR(LifeCycle_Status=table!$C$105,LifeCycle_Status=\"\"),_xlfn.IFS(Language=\"EN\",D77,Language=\"FR\",E77,Language=\"SP\",F77),IF(LifeCycle_Status=table!$C$106,_xlfn.IFS(Language=\"EN\",H77,Language=\"FR\",I77,Language=\"SP\",J77)))","v":"Environment & climate"},null,"Environment & climate","Environnement et climat",null,null,"Environment & climate"]
["S03",{"$f":"IF(OR(LifeCycle_Status=table!$C$105,LifeCycle_Status=\"\"),_xlfn.IFS(Language=\"EN\",D78,Language=\"FR\",E78,Language=\"SP\",F78),IF(LifeCycle_Status=table!$C$106,_xlfn.IFS(Language=\"EN\",H78,Language=\"FR\",I78,Language=\"SP\",J78)))","v":"Culture and heritage"},null,"Culture and heritage","Culture et patrimoine",null,null,"Culture and heritage"]
["S04",{"$f":"IF(OR(LifeCycle_Status=table!$C$105,LifeCycle_Status=\"\"),_xlfn.IFS(Language=\"EN\",D79,Language=\"FR\",E79,Language=\"SP\",F79),IF(LifeCycle_Status=table!$C$106,_xlfn.IFS(Language=\"EN\",H79,Language=\"FR\",I79,Language=\"SP\",J79)))","v":"Education / training / professional integration"},null,"Education / training / professional integration","Education / formation / insertion professionnelle",null,null,"Education / training / professional integration"]
["S05",{"$f":"IF(OR(LifeCycle_Status=table!$C$105,LifeCycle_Status=\"\"),_xlfn.IFS(Language=\"EN\",D80,Language=\"FR\",E80,Language=\"SP\",F80),IF(LifeCycle_Status=table!$C$106,_xlfn.IFS(Language=\"EN\",H80,Language=\"FR\",I80,Language=\"SP\",J80)))","v":"Economic empowerment/support to business development"},null,"Economic empowerment/support to business development","Soutien au développement des PME",null,null,"Economic empowerment/support to business development"]
["S06",{"$f":"IF(OR(LifeCycle_Status=table!$C$105,LifeCycle_Status=\"\"),_xlfn.IFS(Language=\"EN\",D81,Language=\"FR\",E81,Language=\"SP\",F81),IF(LifeCycle_Status=table!$C$106,_xlfn.IFS(Language=\"EN\",H81,Language=\"FR\",I81,Language=\"SP\",J81)))","v":"Improved access to essential services (health, water, energy)"},null,"Improved access to essential services (health, water, energy)","Amélioration de l'accès aux services essentiels",null,null,"Improved access to essential services (health, water, energy)"]
["S07",{"$f":"IF(OR(LifeCycle_Status=table!$C$105,LifeCycle_Status=\"\"),_xlfn.IFS(Language=\"EN\",D82,Language=\"FR\",E82,Language=\"SP\",F82),IF(LifeCycle_Status=table!$C$106,_xlfn.IFS(Language=\"EN\",H82,Language=\"FR\",I82,Language=\"SP\",J82)))","v":"Other"},null,"Other","Autre",null,null,"Other"]
[]
[null,{"$f":"IF(OR(LifeCycle_Status=table!$C$105,LifeCycle_Status=\"\"),_xlfn.IFS(Language=\"EN\",D84,Language=\"FR\",E84,Language=\"SP\",F84),IF(LifeCycle_Status=table!$C$106,_xlfn.IFS(Language=\"EN\",H84,Language=\"FR\",I84,Language=\"SP\",J84)))","v":"CONCLUSION"},null,"CONCLUSION","CONCLUSION",null,null,"CONCLUSION"]
[]
["CCL",{"$f":"IF(OR(LifeCycle_Status=table!$C$105,LifeCycle_Status=\"\"),_xlfn.IFS(Language=\"EN\",D86,Language=\"FR\",E86,Language=\"SP\",F86),IF(LifeCycle_Status=table!$C$106,_xlfn.IFS(Language=\"EN\",H86,Language=\"FR\",I86,Language=\"SP\",J86)))","v":"Is there anything else you would like to raise?"},null,"Is there anything else you would like to raise?","Avez-vous d'autres points à ajouter ?",null,null,"Is there anything else you would like to raise?"]
[]
[null,{"$f":"IF(OR(LifeCycle_Status=table!$C$105,LifeCycle_Status=\"\"),_xlfn.IFS(Language=\"EN\",D88,Language=\"FR\",E88,Language=\"SP\",F88),IF(LifeCycle_Status=table!$C$106,_xlfn.IFS(Language=\"EN\",H88,Language=\"FR\",I88,Language=\"SP\",J88)))","v":"1 - Good"},null,"1 - Good","1 - Bonne",null,null,"1 - Good"]
[null,{"$f":"IF(OR(LifeCycle_Status=table!$C$105,LifeCycle_Status=\"\"),_xlfn.IFS(Language=\"EN\",D89,Language=\"FR\",E89,Language=\"SP\",F89),IF(LifeCycle_Status=table!$C$106,_xlfn.IFS(Language=\"EN\",H89,Language=\"FR\",I89,Language=\"SP\",J89)))","v":"2 - Medium"},null,"2 - Medium","2 - Moyenne",null,null,"2 - Medium"]
[null,{"$f":"IF(OR(LifeCycle_Status=table!$C$105,LifeCycle_Status=\"\"),_xlfn.IFS(Language=\"EN\",D90,Language=\"FR\",E90,Language=\"SP\",F90),IF(LifeCycle_Status=table!$C$106,_xlfn.IFS(Language=\"EN\",H90,Language=\"FR\",I90,Language=\"SP\",J90)))","v":"3 - Bad"},null,"3 - Bad","3 - Mauvaise",null,null,"3 - Bad"]
[null,{"$f":"IF(OR(LifeCycle_Status=table!$C$105,LifeCycle_Status=\"\"),_xlfn.IFS(Language=\"EN\",D91,Language=\"FR\",E91,Language=\"SP\",F91),IF(LifeCycle_Status=table!$C$106,_xlfn.IFS(Language=\"EN\",H91,Language=\"FR\",I91,Language=\"SP\",J91)))","v":"4 - Very bad"},null,"4 - Very bad","4 - Très mauvaise",null,null,"4 - Very bad"]
[null,{"$f":"IF(OR(LifeCycle_Status=table!$C$105,LifeCycle_Status=\"\"),_xlfn.IFS(Language=\"EN\",D92,Language=\"FR\",E92,Language=\"SP\",F92),IF(LifeCycle_Status=table!$C$106,_xlfn.IFS(Language=\"EN\",H92,Language=\"FR\",I92,Language=\"SP\",J92)))","v":"N/A"},null,"N/A","N/A",null,null,"N/A"]
[]
[null,{"$f":"IF(OR(LifeCycle_Status=table!$C$105,LifeCycle_Status=\"\"),_xlfn.IFS(Language=\"EN\",D94,Language=\"FR\",E94,Language=\"SP\",F94),IF(LifeCycle_Status=table!$C$106,_xlfn.IFS(Language=\"EN\",H94,Language=\"FR\",I94,Language=\"SP\",J94)))","v":"1 - Maintain performance"},null,"1 - Maintain performance","1 - Maintenir la performance",null,null,"1 - Already on track"]
[null,{"$f":"IF(OR(LifeCycle_Status=table!$C$105,LifeCycle_Status=\"\"),_xlfn.IFS(Language=\"EN\",D95,Language=\"FR\",E95,Language=\"SP\",F95),IF(LifeCycle_Status=table!$C$106,_xlfn.IFS(Language=\"EN\",H95,Language=\"FR\",I95,Language=\"SP\",J95)))","v":"2 - Could improve"},null,"2 - Could improve","2 - Pourrait être amélioré",null,null,"2 - Moderate vigilance"]
[null,{"$f":"IF(OR(LifeCycle_Status=table!$C$105,LifeCycle_Status=\"\"),_xlfn.IFS(Language=\"EN\",D96,Language=\"FR\",E96,Language=\"SP\",F96),IF(LifeCycle_Status=table!$C$106,_xlfn.IFS(Language=\"EN\",H96,Language=\"FR\",I96,Language=\"SP\",J96)))","v":"3 - Should improve"},null,"3 - Should improve","3 - Devrait être amélioré",null,null,"3 - High vigilance"]
[null,{"$f":"IF(OR(LifeCycle_Status=table!$C$105,LifeCycle_Status=\"\"),_xlfn.IFS(Language=\"EN\",D97,Language=\"FR\",E97,Language=\"SP\",F97),IF(LifeCycle_Status=table!$C$106,_xlfn.IFS(Language=\"EN\",H97,Language=\"FR\",I97,Language=\"SP\",J97)))","v":"4 - Must improve"},null,"4 - Must improve","4 - Doit être amélioré en priorité",null,null,"4 - Critical vigilance"]
[null,{"$f":"IF(OR(LifeCycle_Status=table!$C$105,LifeCycle_Status=\"\"),_xlfn.IFS(Language=\"EN\",D98,Language=\"FR\",E98,Language=\"SP\",F98),IF(LifeCycle_Status=table!$C$106,_xlfn.IFS(Language=\"EN\",H98,Language=\"FR\",I98,Language=\"SP\",J98)))","v":"N/A"},null,"N/A","N/A",null,null,"N/A"]
[]
[null,{"$f":"IF(OR(LifeCycle_Status=table!$C$105,LifeCycle_Status=\"\"),_xlfn.IFS(Language=\"EN\",D100,Language=\"FR\",E100,Language=\"SP\",F100),IF(LifeCycle_Status=table!$C$106,_xlfn.IFS(Language=\"EN\",H100,Language=\"FR\",I100,Language=\"SP\",J100)))","v":"1 - Low concern"},null,"1 - Low concern","1 - Préoccupation faible",null,null,"1 - Low concern"]
[null,{"$f":"IF(OR(LifeCycle_Status=table!$C$105,LifeCycle_Status=\"\"),_xlfn.IFS(Language=\"EN\",D101,Language=\"FR\",E101,Language=\"SP\",F101),IF(LifeCycle_Status=table!$C$106,_xlfn.IFS(Language=\"EN\",H101,Language=\"FR\",I101,Language=\"SP\",J101)))","v":"2 - Medium concern"},null,"2 - Medium concern","2 - Préoccupation moyenne",null,null,"2 - Medium concern"]
[null,{"$f":"IF(OR(LifeCycle_Status=table!$C$105,LifeCycle_Status=\"\"),_xlfn.IFS(Language=\"EN\",D102,Language=\"FR\",E102,Language=\"SP\",F102),IF(LifeCycle_Status=table!$C$106,_xlfn.IFS(Language=\"EN\",H102,Language=\"FR\",I102,Language=\"SP\",J102)))","v":"3 - Important concern"},null,"3 - Important concern","3 - Préoccupation importante",null,null,"3 - Important concern"]
[null,{"$f":"IF(OR(LifeCycle_Status=table!$C$105,LifeCycle_Status=\"\"),_xlfn.IFS(Language=\"EN\",D103,Language=\"FR\",E103,Language=\"SP\",F103),IF(LifeCycle_Status=table!$C$106,_xlfn.IFS(Language=\"EN\",H103,Language=\"FR\",I103,Language=\"SP\",J103)))","v":"4 - Critical concern"},null,"4 - Critical concern","4 - Préoccupation critique",null,null,"4 - Critical concern"]
[null,{"$f":"IF(OR(LifeCycle_Status=table!$C$105,LifeCycle_Status=\"\"),_xlfn.IFS(Language=\"EN\",D104,Language=\"FR\",E104,Language=\"SP\",F104),IF(LifeCycle_Status=table!$C$106,_xlfn.IFS(Language=\"EN\",H104,Language=\"FR\",I104,Language=\"SP\",J104)))","v":"N/A"},null,"N/A","N/A",null,null,"N/A"]
[]
[null,{"$f":"IF(OR(LifeCycle_Status=table!$C$105,LifeCycle_Status=\"\"),_xlfn.IFS(Language=\"EN\",D106,Language=\"FR\",E106,Language=\"SP\",F106),IF(LifeCycle_Status=table!$C$106,_xlfn.IFS(Language=\"EN\",H106,Language=\"FR\",I106,Language=\"SP\",J106)))","v":"1 - Good"},null,"1 - Good","1 - Bon",null,null,"1 - Low concern"]
[null,{"$f":"IF(OR(LifeCycle_Status=table!$C$105,LifeCycle_Status=\"\"),_xlfn.IFS(Language=\"EN\",D107,Language=\"FR\",E107,Language=\"SP\",F107),IF(LifeCycle_Status=table!$C$106,_xlfn.IFS(Language=\"EN\",H107,Language=\"FR\",I107,Language=\"SP\",J107)))","v":"2 - Medium"},null,"2 - Medium","2 - Moyen",null,null,"2 - Medium concern"]
[null,{"$f":"IF(OR(LifeCycle_Status=table!$C$105,LifeCycle_Status=\"\"),_xlfn.IFS(Language=\"EN\",D108,Language=\"FR\",E108,Language=\"SP\",F108),IF(LifeCycle_Status=table!$C$106,_xlfn.IFS(Language=\"EN\",H108,Language=\"FR\",I108,Language=\"SP\",J108)))","v":"3 - Bad"},null,"3 - Bad","3 - Mauvais",null,null,"3 - Important concern"]
[null,{"$f":"IF(OR(LifeCycle_Status=table!$C$105,LifeCycle_Status=\"\"),_xlfn.IFS(Language=\"EN\",D109,Language=\"FR\",E109,Language=\"SP\",F109),IF(LifeCycle_Status=table!$C$106,_xlfn.IFS(Language=\"EN\",H109,Language=\"FR\",I109,Language=\"SP\",J109)))","v":"4 -Very bad"},null,"4 -Very bad","4 - Très mauvais",null,null,"4 - Critical concern"]
[null,{"$f":"IF(OR(LifeCycle_Status=table!$C$105,LifeCycle_Status=\"\"),_xlfn.IFS(Language=\"EN\",D110,Language=\"FR\",E110,Language=\"SP\",F110),IF(LifeCycle_Status=table!$C$106,_xlfn.IFS(Language=\"EN\",H110,Language=\"FR\",I110,Language=\"SP\",J110)))","v":"N/A"},null,"N/A","N/A",null,null,"N/A"]
[]
[null,{"$f":"IF(OR(LifeCycle_Status=table!$C$105,LifeCycle_Status=\"\"),_xlfn.IFS(Language=\"EN\",D112,Language=\"FR\",E112,Language=\"SP\",F112),IF(LifeCycle_Status=table!$C$106,_xlfn.IFS(Language=\"EN\",H112,Language=\"FR\",I112,Language=\"SP\",J112)))","v":"Challenge n°4"},null,"Challenge n°4","Enjeu n°4",null,null,"Challenge n°4"]
[null,{"$f":"IF(OR(LifeCycle_Status=table!$C$105,LifeCycle_Status=\"\"),_xlfn.IFS(Language=\"EN\",D113,Language=\"FR\",E113,Language=\"SP\",F113),IF(LifeCycle_Status=table!$C$106,_xlfn.IFS(Language=\"EN\",H113,Language=\"FR\",I113,Language=\"SP\",J113)))","v":"Challenge n°3"},null,"Challenge n°3","Enjeu n°3",null,null,"Challenge n°3"]
[null,{"$f":"IF(OR(LifeCycle_Status=table!$C$105,LifeCycle_Status=\"\"),_xlfn.IFS(Language=\"EN\",D114,Language=\"FR\",E114,Language=\"SP\",F114),IF(LifeCycle_Status=table!$C$106,_xlfn.IFS(Language=\"EN\",H114,Language=\"FR\",I114,Language=\"SP\",J114)))","v":"Challenge n°2"},null,"Challenge n°2","Enjeu n°2",null,null,"Challenge n°2"]
[null,{"$f":"IF(OR(LifeCycle_Status=table!$C$105,LifeCycle_Status=\"\"),_xlfn.IFS(Language=\"EN\",D115,Language=\"FR\",E115,Language=\"SP\",F115),IF(LifeCycle_Status=table!$C$106,_xlfn.IFS(Language=\"EN\",H115,Language=\"FR\",I115,Language=\"SP\",J115)))","v":"Challenge n°1"},null,"Challenge n°1","Enjeu n°1",null,null,"Challenge n°1"]
[null,{"$f":"IF(OR(LifeCycle_Status=table!$C$105,LifeCycle_Status=\"\"),_xlfn.IFS(Language=\"EN\",D116,Language=\"FR\",E116,Language=\"SP\",F116),IF(LifeCycle_Status=table!$C$106,_xlfn.IFS(Language=\"EN\",H116,Language=\"FR\",I116,Language=\"SP\",J116)))","v":"N/A"},null,"N/A","N/A",null,null,"N/A"]
[]
[null,{"$f":"IF(OR(LifeCycle_Status=table!$C$105,LifeCycle_Status=\"\"),_xlfn.IFS(Language=\"EN\",D118,Language=\"FR\",E118,Language=\"SP\",F118),IF(LifeCycle_Status=table!$C$106,_xlfn.IFS(Language=\"EN\",H118,Language=\"FR\",I118,Language=\"SP\",J118)))","v":"Your comments"},null,"Your comments","Vos commentaires",null,null,"Your comments"]
[null,{"$f":"IF(OR(LifeCycle_Status=table!$C$105,LifeCycle_Status=\"\"),_xlfn.IFS(Language=\"EN\",D119,Language=\"FR\",E119,Language=\"SP\",F119),IF(LifeCycle_Status=table!$C$106,_xlfn.IFS(Language=\"EN\",H119,Language=\"FR\",I119,Language=\"SP\",J119)))","v":"Your suggestions"},null,"Your suggestions","Vos suggestions",null,null,"Your suggestions"]
[]
[null,{"$f":"IF(OR(LifeCycle_Status=table!$C$105,LifeCycle_Status=\"\"),_xlfn.IFS(Language=\"EN\",D121,Language=\"FR\",E121,Language=\"SP\",F121),IF(LifeCycle_Status=table!$C$106,_xlfn.IFS(Language=\"EN\",H121,Language=\"FR\",I121,Language=\"SP\",J121)))","v":"Maintain"},null,"Maintain","Maintenir",null,null,"Already on track"]
[null,{"$f":"IF(OR(LifeCycle_Status=table!$C$105,LifeCycle_Status=\"\"),_xlfn.IFS(Language=\"EN\",D122,Language=\"FR\",E122,Language=\"SP\",F122),IF(LifeCycle_Status=table!$C$106,_xlfn.IFS(Language=\"EN\",H122,Language=\"FR\",I122,Language=\"SP\",J122)))","v":"Could improve"},null,"Could improve","Pourrait s'améliorer",null,null,"Moderate vigilance"]
[null,{"$f":"IF(OR(LifeCycle_Status=table!$C$105,LifeCycle_Status=\"\"),_xlfn.IFS(Language=\"EN\",D123,Language=\"FR\",E123,Language=\"SP\",F123),IF(LifeCycle_Status=table!$C$106,_xlfn.IFS(Language=\"EN\",H123,Language=\"FR\",I123,Language=\"SP\",J123)))","v":"Should improve"},null,"Should improve","Devrait s'améliorer",null,null,"High vigilance"]
[null,{"$f":"IF(OR(LifeCycle_Status=table!$C$105,LifeCycle_Status=\"\"),_xlfn.IFS(Language=\"EN\",D124,Language=\"FR\",E124,Language=\"SP\",F124),IF(LifeCycle_Status=table!$C$106,_xlfn.IFS(Language=\"EN\",H124,Language=\"FR\",I124,Language=\"SP\",J124)))","v":"Must improve"},null,"Must improve","Doit s'améliorer",null,null,"Critical vigilance"]
[]
[null,{"$f":"IF(OR(LifeCycle_Status=table!$C$105,LifeCycle_Status=\"\"),_xlfn.IFS(Language=\"EN\",D126,Language=\"FR\",E126,Language=\"SP\",F126),IF(LifeCycle_Status=table!$C$106,_xlfn.IFS(Language=\"EN\",H126,Language=\"FR\",I126,Language=\"SP\",J126)))","v":"Good"},null,"Good","Bon",null,null,"Good"]
[null,{"$f":"IF(OR(LifeCycle_Status=table!$C$105,LifeCycle_Status=\"\"),_xlfn.IFS(Language=\"EN\",D127,Language=\"FR\",E127,Language=\"SP\",F127),IF(LifeCycle_Status=table!$C$106,_xlfn.IFS(Language=\"EN\",H127,Language=\"FR\",I127,Language=\"SP\",J127)))","v":"Medium"},null,"Medium","Moyen",null,null,"Medium"]
[null,{"$f":"IF(OR(LifeCycle_Status=table!$C$105,LifeCycle_Status=\"\"),_xlfn.IFS(Language=\"EN\",D128,Language=\"FR\",E128,Language=\"SP\",F128),IF(LifeCycle_Status=table!$C$106,_xlfn.IFS(Language=\"EN\",H128,Language=\"FR\",I128,Language=\"SP\",J128)))","v":"Bad"},null,"Bad","Mauvais",null,null,"Bad"]
[null,{"$f":"IF(OR(LifeCycle_Status=table!$C$105,LifeCycle_Status=\"\"),_xlfn.IFS(Language=\"EN\",D129,Language=\"FR\",E129,Language=\"SP\",F129),IF(LifeCycle_Status=table!$C$106,_xlfn.IFS(Language=\"EN\",H129,Language=\"FR\",I129,Language=\"SP\",J129)))","v":"Very bad"},null,"Very bad","Très mauvais",null,null,"Very bad"]
[]
[null,{"$f":"IF(OR(LifeCycle_Status=table!$C$105,LifeCycle_Status=\"\"),_xlfn.IFS(Language=\"EN\",D131,Language=\"FR\",E131,Language=\"SP\",F131),IF(LifeCycle_Status=table!$C$106,_xlfn.IFS(Language=\"EN\",H131,Language=\"FR\",I131,Language=\"SP\",J131)))","v":"Low"},null,"Low","Faible",null,null,"Low"]
[null,{"$f":"IF(OR(LifeCycle_Status=table!$C$105,LifeCycle_Status=\"\"),_xlfn.IFS(Language=\"EN\",D132,Language=\"FR\",E132,Language=\"SP\",F132),IF(LifeCycle_Status=table!$C$106,_xlfn.IFS(Language=\"EN\",H132,Language=\"FR\",I132,Language=\"SP\",J132)))","v":"Medium"},null,"Medium","Moyen",null,null,"Medium"]
[null,{"$f":"IF(OR(LifeCycle_Status=table!$C$105,LifeCycle_Status=\"\"),_xlfn.IFS(Language=\"EN\",D133,Language=\"FR\",E133,Language=\"SP\",F133),IF(LifeCycle_Status=table!$C$106,_xlfn.IFS(Language=\"EN\",H133,Language=\"FR\",I133,Language=\"SP\",J133)))","v":"High"},null,"High","Elevé",null,null,"High"]
[null,{"$f":"IF(OR(LifeCycle_Status=table!$C$105,LifeCycle_Status=\"\"),_xlfn.IFS(Language=\"EN\",D134,Language=\"FR\",E134,Language=\"SP\",F134),IF(LifeCycle_Status=table!$C$106,_xlfn.IFS(Language=\"EN\",H134,Language=\"FR\",I134,Language=\"SP\",J134)))","v":"Critical"},null,"Critical","Critique",null,null,"Critical"]
[]
[null,{"$f":"IF(OR(LifeCycle_Status=table!$C$105,LifeCycle_Status=\"\"),_xlfn.IFS(Language=\"EN\",D136,Language=\"FR\",E136,Language=\"SP\",F136),IF(LifeCycle_Status=table!$C$106,_xlfn.IFS(Language=\"EN\",H136,Language=\"FR\",I136,Language=\"SP\",J136)))","v":"Good"},null,"Good","Bon",null,null,"Low"]
[null,{"$f":"IF(OR(LifeCycle_Status=table!$C$105,LifeCycle_Status=\"\"),_xlfn.IFS(Language=\"EN\",D137,Language=\"FR\",E137,Language=\"SP\",F137),IF(LifeCycle_Status=table!$C$106,_xlfn.IFS(Language=\"EN\",H137,Language=\"FR\",I137,Language=\"SP\",J137)))","v":"Medium"},null,"Medium","Moyen",null,null,"Medium"]
[null,{"$f":"IF(OR(LifeCycle_Status=table!$C$105,LifeCycle_Status=\"\"),_xlfn.IFS(Language=\"EN\",D138,Language=\"FR\",E138,Language=\"SP\",F138),IF(LifeCycle_Status=table!$C$106,_xlfn.IFS(Language=\"EN\",H138,Language=\"FR\",I138,Language=\"SP\",J138)))","v":"Bad"},null,"Bad","Mauvais",null,null,"High"]
[null,{"$f":"IF(OR(LifeCycle_Status=table!$C$105,LifeCycle_Status=\"\"),_xlfn.IFS(Language=\"EN\",D139,Language=\"FR\",E139,Language=\"SP\",F139),IF(LifeCycle_Status=table!$C$106,_xlfn.IFS(Language=\"EN\",H139,Language=\"FR\",I139,Language=\"SP\",J139)))","v":"Very bad"},null,"Very bad","Très mauvais",null,null,"Critical"]

{"sheet":"Onglet_consult_upload","index":19,"n_rows":21,"n_cols":6,"rows_kept":21,"cut":false,"hidden":false,"merged":[[12,2,12,5],[13,2,13,5],[14,2,14,5],[15,2,15,5],[10,2,10,5]]}
[]
[]
[]
[]
[]
[null,{"$f":"Onglet_trad_menus!B253","v":"Manage interviews"}]
[]
[null,null,"INSTRUCTIONS"]
[]
[null,null,{"$f":"Onglet_trad_menus!B244","v":"Before downloading interview form, make sure that you have completed your panel selection:"}]
[null,null,{"$f":"Onglet_trad_menus!B245","v":"Stakeholder names are automatically reported in interview forms based on stakeholders selected in panel, so this is the unique way to ensure that interviews will be properly consolidated"}]
[null,null,{"$f":"Onglet_trad_menus!B247","v":"Before uploading interviews, make sure that:"}]
[null,null,{"$f":"Onglet_trad_menus!B248","v":"- you have gathered the interviews you want to upload in one folder on your computer"}]
[null,null,{"$f":"Onglet_trad_menus!B249","v":"- you have selected a stakeholder name in the interview file before uploading it. If you try to upload an interview file without stakeholder name, it will not work"}]
[null,null,{"$f":"Onglet_trad_menus!B250","v":"- if the stakeholder name is not available in your interview file, it means that the stakeholder was not properly selected in the panel or identified in the mapping. In that case you need to check you panel and / or mapping and add the stakeholder"}]
[null,null,{"$f":"Onglet_trad_menus!B251","v":"- if you upload an interview that has already been uploaded before, you will be asked if you want to replace it. If you say yes, you will loose any information that was linked to the previous interview"}]
[]
[]
[null,null,{"$f":"Onglet_trad_menus!B255","v":"Imported interviews"},{"$f":"Onglet_trad_menus!B254","v":"You will find below highlighted in green and in bold, the stakeholder reports already imported in the tool:"}]
[]
[null,null,{"$f":"AUT_long","v":"Authorities"},{"$f":"BUS_long","v":"Business"},{"$f":"CIV_long","v":"Civil society"},{"$f":"COM_long","v":"Communities"}]

{"sheet":"Onglet_corresponding_table","index":20,"n_rows":108,"n_cols":8,"rows_kept":108,"cut":false,"hidden":false,"merged":[]}
[]
[]
[null,"Table de correspondance IND",null,null,"Table de correspondance Topics"]
[]
[null,"IND","PILLAR","ISSUE","TOPIC","Pillar","Issue","IND"]
[null,"C01",{"$f":"VLOOKUP(F6,Pillars,2,FALSE)","v":"Pillar 1 - Relationships & dialogue"},{"$f":"VLOOKUP(G6,Issues,2,FALSE)","v":"Relations with civil society"},{"$f":"VLOOKUP(B6,SRR_referential,2,FALSE)","v":"Position of the media regarding TotalEnergies"},"P1","IS01_CIV",{"$f":"B6","v":"C01"}]
[null,"C02","Pillar 1 - Relationships & dialogue","Relations with civil society","Existence of activitist associations","P1","IS01_CIV",{"$f":"B7","v":"C02"}]
[null,"C03","Pillar 1 - Relationships & dialogue","Relations with all stakeholders","Negative perception linked to past or unfulfilled social commitments","P1","IS01_STK","C03"]
[null,"C04","Pillar 1 - Relationships & dialogue","Relations with all stakeholders","External factors threatening license to operate","P1","IS01_STK","C04"]
[null,"C05","Pillar 1 - Relationships & dialogue","Relations with all stakeholders","Alignment of local practices and regulations with Company standards","P1","IS01_STK","C05"]
[null,"C06","Pillar 1 - Relationships & dialogue","Relations with all stakeholders","Opposition to expansion projects, restructuring or conversion","P1","IS01_STK","C06"]
[null,"C07","Pillar 2 - Negative impacts","HSE impacts","Proximity of communities near operations","P2","IS05","C07"]
[null,"C08","Pillar 2 - Negative impacts","HSE impacts","Risk of confusion with negative impacts of other industries","P2","IS05","C08"]
[null,"C09","Pillar 2 - Negative impacts","HSE impacts","Security","P2","IS05","C09"]
[null,"C10","Pillar 2 - Negative impacts","HSE impacts","Biodiversity","P2","IS05","C10"]
[null,"C11","Pillar 2 - Negative impacts","Human rights","Religious and cultural heritage","P2","IS06","C11"]
[null,"C12","Pillar 2 - Negative impacts","Human rights","Vulnerable populations","P2","IS06","C12"]
[null,"C13","Pillar 3 - Positive impacts","Local jobs & capacity building","Level of economic development of the area","P3","IS07","C13"]
[null,"C14","Pillar 3 - Positive impacts","Social investments","Level of human development","P3","IS09","C14"]
[null,"C15","Pillar 3 - Positive impacts","Local jobs & capacity building","Economic footprint of TotalEnergies","P3","IS07","C15"]
[null,"C16","Pillar 3 - Positive impacts","Communication (Strategic outlook, Societal, Sustainability)","Employment trends in TotalEnergies","P3","IS04","C16"]
[null,"I01","Pillar 1 - Relationships & dialogue","Relations with authorities","Relations with authorities","P1","IS01_AUT","I01"]
[null,"I02","Pillar 1 - Relationships & dialogue","Relations with business partners","Relations with business partners","P1","IS01_BUS","I02"]
[null,"I03","Pillar 1 - Relationships & dialogue","Relations with civil society","Relations with civil society","P1","IS01_CIV","I03"]
[null,"I04","Pillar 1 - Relationships & dialogue","Relations with communities","Relations with affected communities","P1","IS01_COM","I04"]
[null,"I05","Pillar 2 - Negative impacts","HSE impacts","Negative impacts on people & environment","P2","IS05","I05"]
[null,"I06","Pillar 2 - Negative impacts","Human rights","Negative impacts on livelihoods & human rights","P2","IS06","I06"]
[null,"I07","Pillar 3 - Positive impacts","Local jobs & capacity building","Local employment","P3","IS07","I07"]
[null,"I08","Pillar 3 - Positive impacts","Local content","Local procurement","P3","IS08","I08"]
[null,"I09","Pillar 3 - Positive impacts","Social investments","Local socio-economic investments","P3","IS09","I09"]
[null,"P01","Pillar 1 - Relationships & dialogue","Relations with all stakeholders","Transparent and regular stakeholder engagement","P1","IS01_STK","P01"]
[null,"P02","Pillar 1 - Relationships & dialogue","Relations with all stakeholders","Fullfilment and follow-up of commitments","P1","IS01_STK","P02"]
[null,"P03","Pillar 1 - Relationships & dialogue","Grievance mechanism","Management of grievances","P1","IS03","P03"]
[null,"P04","Pillar 1 - Relationships & dialogue","Communication (Strategic outlook, Societal, Sustainability)","Communication (activities, strategic outlook, social performance, sustainability…)","P1","IS04","P04"]
[null,"P05","Pillar 2 - Negative impacts","HSE impacts","Information on HSE impacts","P2","IS05","P05"]
[null,"P06","Pillar 2 - Negative impacts","HSE impacts","Management of negative impacts on stakeholders","P2","IS05","P06"]
[null,"P07","Pillar 2 - Negative impacts","HSE impacts","Cooperation with authorities & industrial neighbors","P2","IS05","P07"]
[null,"P08","Pillar 2 - Negative impacts",{"$f":"VLOOKUP(G38,Issues,2,FALSE)","v":"Human rights"},"Control of contractors on HSE & Human Rights related matters","P2","IS06","P08"]
[null,"P09","Pillar 3 - Positive impacts","Local jobs & capacity building","Access to jobs opportunities for locals","P3","IS07","P09"]
[null,"P10","Pillar 3 - Positive impacts","Local jobs & capacity building","Access to tenders for local contractors","P3","IS07","P10"]
[null,"P11","Pillar 3 - Positive impacts","Local jobs & capacity building","Capacity building of locals","P3","IS07","P11"]
[null,"P12","Pillar 3 - Positive impacts","Local content","Participation in local economic institutions","P3","IS08","P12"]
[null,"P13","Pillar 3 - Positive impacts","Local content","Control of contractors on local content","P3","IS08","P13"]
[null,"P14","Pillar 3 - Positive impacts","Social investments","Management of socio-economic projects","P3","IS09","P14"]
[null,"P15","Pillar 3 - Positive impacts","Social investments","Partnerships","P3","IS09","P15"]
[null,"P16","SP Governance","Social Performance governance","Social performance resources (budget, staff)","P4","IS10","P16"]
[null,"P17","SP Governance","Social Performance governance","Interactions with top management and other departments","P4","IS10","P17"]
[null,"P18","SP Governance","Social Performance governance","Social risk assessment and management","P4","IS10","P18"]
[null,"P19","SP Governance","Social Performance governance","Stakeholder mapping and stakeholder engagement plan","P4","IS10","P19"]
[null,"P20","SP Governance","Social Performance governance","Social Performance strategy","P4","IS10","P20"]
[null,"P21","SP Governance","Social Performance governance","Social Performance action plan","P4","IS10","P21"]
[null,"P22","SP Governance","Social Performance governance","Monitoring of Social Performance","P4","IS10","P22"]
[null,"P23","SP Governance","Social Performance governance","Social Performance Reporting","P4","IS10","P23"]
[null,"P24","SP Governance","Social Performance governance","Benchmark with other operators / industries","P4","IS10","P24"]
[null,"P01.1",{"$f":"VLOOKUP(F55,Pillars,2,FALSE)","v":"Pillar 1 - Relationships & dialogue"},"Relations with authorities",{"$f":"E31&\" with authorities\"","v":"Transparent and regular stakeholder engagement with authorities"},"P1","IS01_AUT","P01.1"]
[null,"P01.2","Pillar 1 - Relationships & dialogue","Relations with business partners",{"$f":"E31&\" with business partners\"","v":"Transparent and regular stakeholder engagement with business partners"},"P1","IS01_BUS","P01.2"]
[null,"P01.3","Pillar 1 - Relationships & dialogue","Relations with civil society",{"$f":"E31&\" with civil society\"","v":"Transparent and regular stakeholder engagement with civil society"},"P1","IS01_CIV","P01.3"]
[null,"P01.4","Pillar 1 - Relationships & dialogue","Relations with communities",{"$f":"E31&\" with affected communities\"","v":"Transparent and regular stakeholder engagement with affected communities"},"P1","IS01_COM","P01.4"]
[null,"I05.1","Pillar 2 - Negative impacts",{"$f":"VLOOKUP(G59,Issues,2,FALSE)","v":"HSE impacts"},{"$f":"VLOOKUP(B59,SRR_referential,2,FALSE)","v":"Impacts on environment"},"P2","IS05","I05.1"]
[null,"I05.1.1","Pillar 2 - Negative impacts","HSE impacts","Impacts on health of populations","P2","IS05","I05.1.1"]
[null,"I05.1.2","Pillar 2 - Negative impacts","HSE impacts","Impacts on biodiversity","P2","IS05","I05.1.2"]
[null,"I05.1.3","Pillar 2 - Negative impacts","HSE impacts","Impacts on climate change","P2","IS05","I05.1.3"]
[null,"I05.2","Pillar 2 - Negative impacts","HSE impacts","Industrial risks","P2","IS05","I05.2"]
[null,"I05.3","Pillar 2 - Negative impacts","HSE impacts","Nuisances","P2","IS05","I05.3"]
[null,"I06.1","Pillar 2 - Negative impacts","Human rights","Marine / Land use restrictions","P2","IS06","I06.1"]
[null,"I06.2","Pillar 2 - Negative impacts","Human rights","Disturbance of local economy and livelihoods","P2","IS06","I06.2"]
[null,"I06.3","Pillar 2 - Negative impacts","Human rights","Impacts on religious and cultural heritage","P2","IS06","I06.3"]
[null,"I06.4","Pillar 2 - Negative impacts","Human rights","Violation of human rights in the workplace","P2","IS06","I06.4"]
[null,"I06.4.1","Pillar 2 - Negative impacts","Human rights","Violation of civil, political and security rights","P2","IS06","I06.4.1"]
[null,"S01",{"$f":"VLOOKUP(F70,Pillars,2,FALSE)","v":"Pillar 3 - Positive impacts"},{"$f":"VLOOKUP(G70,Issues,2,FALSE)","v":"Social investments"},"Road safety","P3","IS09","S01"]
[null,"S02",{"$f":"VLOOKUP(F71,Pillars,2,FALSE)","v":"Pillar 3 - Positive impacts"},{"$f":"VLOOKUP(G71,Issues,2,FALSE)","v":"Social investments"},{"$f":"VLOOKUP(B71,SRR_referential,2,FALSE)","v":"Environment & climate"},"P3","IS09",{"$f":"B71","v":"S02"}]
[null,"S03","Pillar 3 - Positive impacts","Social investments","Culture and heritage","P3","IS09","S03"]
[null,"S04","Pillar 3 - Positive impacts","Social investments","Education / training / professional integration","P3","IS09","S04"]
[null,"S05","Pillar 3 - Positive impacts","Social investments","Economic empowerment/support to business development","P3","IS09","S05"]
[null,"S06","Pillar 3 - Positive impacts","Social investments","Improved access to essential services (health, water, energy)","P3","IS09","S06"]
[null,"S07","Pillar 3 - Positive impacts","Social investments","Other","P3","IS09","S07"]
[]
[]
[]
[]
[]
[]
[]
[]
[]
[]
[]
[]
[]
[]
[]
[]
[]
[null,"Table de correspondance Issues -> Pillar"]
[]
[null,"IS01_AUT",{"$f":"Onglet_SRR_Table!$B$39","v":"Pillar 1 - Relationships & dialogue"}]
[null,"IS01_BUS",{"$f":"Onglet_SRR_Table!$B$39","v":"Pillar 1 - Relationships & dialogue"}]
[null,"IS01_CIV",{"$f":"Onglet_SRR_Table!$B$39","v":"Pillar 1 - Relationships & dialogue"}]
[null,"IS01_COM",{"$f":"Onglet_SRR_Table!$B$39","v":"Pillar 1 - Relationships & dialogue"}]
[null,"IS01_STK",{"$f":"Onglet_SRR_Table!$B$39","v":"Pillar 1 - Relationships & dialogue"}]
[null,"IS03",{"$f":"Onglet_SRR_Table!$B$39","v":"Pillar 1 - Relationships & dialogue"}]
[null,"IS04",{"$f":"Onglet_SRR_Table!$B$39","v":"Pillar 1 - Relationships & dialogue"}]
[null,"IS05",{"$f":"Onglet_SRR_Table!$B$40","v":"Pillar 2 - Negative impacts"}]
[null,"IS06",{"$f":"Onglet_SRR_Table!$B$40","v":"Pillar 2 - Negative impacts"}]
[null,"IS07",{"$f":"Onglet_SRR_Table!$B$41","v":"Pillar 3 - Positive impacts"}]
[null,"IS08",{"$f":"Onglet_SRR_Table!$B$41","v":"Pillar 3 - Positive impacts"}]
[null,"IS09",{"$f":"Onglet_SRR_Table!$B$41","v":"Pillar 3 - Positive impacts"}]
[null,"IS10",{"$f":"Onglet_SRR_Table!$B$42","v":"SP Governance"}]

{"sheet":"Onglet_Gap_P1","index":21,"n_rows":48,"n_cols":46,"rows_kept":48,"cut":false,"hidden":false,"merged":[[22,19,24,19],[22,16,24,16],[40,19,42,19],[40,16,42,16]]}
[]
[]
[]
[]
[]
[null,{"$f":"Onglet_trad_menus!B46","v":"Pillar 1 - RELATIONSHIPS & DIALOGUE"}]
[]
[null,null,null,{"$f":"Onglet_Gap_Table!B68","v":"INTERNAL"}]
[null,null,{"$f":"Onglet_Gap_Table!B61","v":"Your societal exposure before mitigation"},{"$f":"Onglet_SRR_graph!F13","v":"Not assessed yet"}]
[]
[]
[null,null,{"$f":"Onglet_Gap_Table!B62","v":"Minimum maturity recommended on social performance"},{"$f":"Min_P1","v":""}]
[]
[]
[]
[null,null,"INSTRUCTIONS"]
[null,null,{"$f":"Onglet_Gap_Table!B64","v":"Double click on the topics below to perform gap analysis, mitigate your risks "}]
[null,null,{"$f":"Onglet_Gap_Table!B66","v":"You must at least review the topics highlighted in red"}]
[]
[]
[null,1,{"$f":"Onglet_Gap_Table!B35","v":"Mitigate the key factors that are driving your risk"}]
[]
[null,null,{"$f":"Onglet_Gap_Table!B36","v":"INTERNAL VISION"},null,null,null,null,{"$f":"Onglet_Gap_Table!B37","v":"EXTERNAL VISION"},null,null,null,null,null,null,null,null,{"$f":"Onglet_Gap_Table!B46","v":"Priorities for action"},null,null,{"$f":"Onglet_Gap_Table!B47","v":"Review status"},null,null,null,null,null,null,null,"INTERNAL",null,null,"EXTERNAL",null,null,null,null,null,null,"INTERNAL",null,null,"EXTERNAL ANSWER RATE"]
[]
[null,null,{"$f":"Onglet_Gap_Table!B38","v":"Risks"},{"$f":"Onglet_Gap_Table!B39","v":"Type of risk"},"Score",null,null,{"$f":"Onglet_Gap_Table!B41","v":"All panel"},null,{"$f":"Onglet_Gap_Table!B42","v":"AUT"},{"$f":"Onglet_Gap_Table!B43","v":"BUS"},{"$f":"Onglet_Gap_Table!B44","v":"CIV"},{"$f":"Onglet_Gap_Table!B45","v":"COM"},"(*)",null,null,null,null,null,null,null,null,null,null,null,null,null,"Score",null,null,"All panel",null,"AUT","BUS","CIV","COM",null,"Score",null,null,"All panel",null,"AUT","BUS","CIV","COM"]
[]
[null,"C01",{"$f":"VLOOKUP(B27,SRR_referential,2,FALSE)","v":"Position of the media regarding TotalEnergies"},{"$f":"_xlfn.IFS(MID($B27,1,1)=\"C\",Onglet_SRR_Table!$B$35,MID($B27,1,1)=\"I\",Onglet_SRR_Table!$B$36)","v":"Context"},"Not assessed yet",null,null,null,null,null,null,null,null,null,null,null,{"$f":"IF(OR(AB27=Onglet_SRR_Table!$B$31,AB27=\"N/A\"),\"\",IF(AB27>=Threshold,Onglet_SRR_Table!$B$30,\"\"))","v":""},null,null,{"$f":"VLOOKUP(B27,review_status_scores,5,FALSE)","v":"Done"},null,null,null,null,null,null,null,{"$f":"IF(Onglet_SRR_dataset!O5=\"\",Onglet_SRR_Table!$B$31,Onglet_SRR_dataset!O5)","v":"Not assessed yet"},null,null,null,null,null,null,null,null,null,1]
[null,"C02","Existence of activitist associations",{"$f":"_xlfn.IFS(MID($B28,1,1)=\"C\",Onglet_SRR_Table!$B$35,MID($B28,1,1)=\"I\",Onglet_SRR_Table!$B$36)","v":"Context"},"Not assessed yet",null,null,null,null,null,null,null,null,null,null,null,{"$f":"IF(OR(AB28=Onglet_SRR_Table!$B$31,AB28=\"N/A\"),\"\",IF(AB28>=Threshold,Onglet_SRR_Table!$B$30,\"\"))","v":""},null,null,"Done",null,null,null,null,null,null,null,{"$f":"IF(Onglet_SRR_dataset!O6=\"\",Onglet_SRR_Table!$B$31,Onglet_SRR_dataset!O6)","v":"Not assessed yet"},null,null,null,null,null,null,null,null,null,1]
[null,"C03","Negative perception linked to past or unfulfilled social commitments",{"$f":"_xlfn.IFS(MID($B29,1,1)=\"C\",Onglet_SRR_Table!$B$35,MID($B29,1,1)=\"I\",Onglet_SRR_Table!$B$36)","v":"Context"},"Not assessed yet",null,null,null,null,null,null,null,null,null,null,null,{"$f":"IF(OR(AB29=Onglet_SRR_Table!$B$31,AB29=\"N/A\"),\"\",IF(AB29>=Threshold,Onglet_SRR_Table!$B$30,\"\"))","v":""},null,null,"Done",null,null,null,null,null,null,null,{"$f":"IF(Onglet_SRR_dataset!O7=\"\",Onglet_SRR_Table!$B$31,Onglet_SRR_dataset!O7)","v":"Not assessed yet"},null,null,null,null,null,null,null,null,null,1]
[null,"C04","External factors threatening license to operate",{"$f":"_xlfn.IFS(MID($B30,1,1)=\"C\",Onglet_SRR_Table!$B$35,MID($B30,1,1)=\"I\",Onglet_SRR_Table!$B$36)","v":"Context"},"Not assessed yet",null,null,null,null,null,null,null,null,null,null,null,{"$f":"IF(OR(AB30=Onglet_SRR_Table!$B$31,AB30=\"N/A\"),\"\",IF(AB30>=Threshold,Onglet_SRR_Table!$B$30,\"\"))","v":""},null,null,"Done",null,null,null,null,null,null,null,{"$f":"IF(Onglet_SRR_dataset!O8=\"\",Onglet_SRR_Table!$B$31,Onglet_SRR_dataset!O8)","v":"Not assessed yet"},null,null,null,null,null,null,null,null,null,1]
[null,"C05","Alignment of local practices and regulations with Company standards",{"$f":"_xlfn.IFS(MID($B31,1,1)=\"C\",Onglet_SRR_Table!$B$35,MID($B31,1,1)=\"I\",Onglet_SRR_Table!$B$36)","v":"Context"},"Not assessed yet",null,null,null,null,null,null,null,null,null,null,null,{"$f":"IF(OR(AB31=Onglet_SRR_Table!$B$31,AB31=\"N/A\"),\"\",IF(AB31>=Threshold,Onglet_SRR_Table!$B$30,\"\"))","v":""},null,null,"Done",null,null,null,null,null,null,null,{"$f":"IF(Onglet_SRR_dataset!O9=\"\",Onglet_SRR_Table!$B$31,Onglet_SRR_dataset!O9)","v":"Not assessed yet"},null,null,null,null,null,null,null,null,null,1]
[null,"C06","Opposition to expansion projects, restructuring or conversion",{"$f":"_xlfn.IFS(MID($B32,1,1)=\"C\",Onglet_SRR_Table!$B$35,MID($B32,1,1)=\"I\",Onglet_SRR_Table!$B$36)","v":"Context"},"Not assessed yet",null,null,null,null,null,null,null,null,null,null,null,{"$f":"IF(OR(AB32=Onglet_SRR_Table!$B$31,AB32=\"N/A\"),\"\",IF(AB32>=Threshold,Onglet_SRR_Table!$B$30,\"\"))","v":""},null,null,"Done",null,null,null,null,null,null,null,{"$f":"IF(Onglet_SRR_dataset!O10=\"\",Onglet_SRR_Table!$B$31,Onglet_SRR_dataset!O10)","v":"Not assessed yet"},null,null,null,null,null,null,null,null,null,1]
[null,"I01","Relations with authorities",{"$f":"_xlfn.IFS(MID($B33,1,1)=\"C\",Onglet_SRR_Table!$B$35,MID($B33,1,1)=\"I\",Onglet_SRR_Table!$B$36)","v":"Impact"},"Not assessed yet",null,null,null,null,null,null,null,null,{"$f":"IFERROR(IF(Onglet_consult_dataset!N8<Answer_rate_threshold,Onglet_consult_dataset!N8,\"\"),\"\")","v":""},null,null,{"$f":"IF(OR(AB33=Onglet_SRR_Table!$B$31,AB33=\"N/A\"),\"\",IF(AND(AJ33>=Threshold,AJ33<>\"\"),Onglet_SRR_Table!$B$131,IF(AB33>=Threshold,Onglet_SRR_Table!$B$30,\"\")))","v":""},null,null,"Done",null,null,null,null,null,null,null,{"$f":"IF(Onglet_SRR_dataset!O12=\"\",Onglet_SRR_Table!$B$31,Onglet_SRR_dataset!O12)","v":"Not assessed yet"},null,null,null,null,{"$f":"VLOOKUP(B33,Consult_dataset,3,FALSE)","v":""},null,null,null,null,1,null,null,{"$f":"VLOOKUP(B33,Consult_dataset,13,FALSE)","v":""},null,{"$f":"VLOOKUP(B33,Consult_dataset,9,FALSE)","v":""},{"$f":"VLOOKUP(B33,Consult_dataset,10,FALSE)","v":0},{"$f":"VLOOKUP(B33,Consult_dataset,11,FALSE)","v":0},{"$f":"VLOOKUP(B33,Consult_dataset,12,FALSE)","v":0}]
[null,"I02","Relations with business partners",{"$f":"_xlfn.IFS(MID($B34,1,1)=\"C\",Onglet_SRR_Table!$B$35,MID($B34,1,1)=\"I\",Onglet_SRR_Table!$B$36)","v":"Impact"},"Not assessed yet",null,null,null,null,null,null,null,null,{"$f":"IFERROR(IF(Onglet_consult_dataset!N9<Answer_rate_threshold,Onglet_consult_dataset!N9,\"\"),\"\")","v":""},null,null,{"$f":"IF(OR(AB34=Onglet_SRR_Table!$B$31,AB34=\"N/A\"),\"\",IF(AND(AJ34>=Threshold,AJ34<>\"\"),Onglet_SRR_Table!$B$131,IF(AB34>=Threshold,Onglet_SRR_Table!$B$30,\"\")))","v":""},null,null,"Done",null,null,null,null,null,null,null,{"$f":"IF(Onglet_SRR_dataset!O13=\"\",Onglet_SRR_Table!$B$31,Onglet_SRR_dataset!O13)","v":"Not assessed yet"},null,null,null,null,null,{"$f":"VLOOKUP(B34,Consult_dataset,4,FALSE)","v":""},null,null,null,1,null,null,{"$f":"VLOOKUP(B34,Consult_dataset,13,FALSE)","v":""},null,{"$f":"VLOOKUP(B34,Consult_dataset,9,FALSE)","v":0},{"$f":"VLOOKUP(B34,Consult_dataset,10,FALSE)","v":""},{"$f":"VLOOKUP(B34,Consult_dataset,11,FALSE)","v":0},{"$f":"VLOOKUP(B34,Consult_dataset,12,FALSE)","v":0}]
[null,"I03","Relations with civil society",{"$f":"_xlfn.IFS(MID($B35,1,1)=\"C\",Onglet_SRR_Table!$B$35,MID($B35,1,1)=\"I\",Onglet_SRR_Table!$B$36)","v":"Impact"},"Not assessed yet",null,null,null,null,null,null,null,null,{"$f":"IFERROR(IF(Onglet_consult_dataset!N10<Answer_rate_threshold,Onglet_consult_dataset!N10,\"\"),\"\")","v":""},null,null,{"$f":"IF(OR(AB35=Onglet_SRR_Table!$B$31,AB35=\"N/A\"),\"\",IF(AND(AJ35>=Threshold,AJ35<>\"\"),Onglet_SRR_Table!$B$131,IF(AB35>=Threshold,Onglet_SRR_Table!$B$30,\"\")))","v":""},null,null,"Done",null,null,null,null,null,null,null,{"$f":"IF(Onglet_SRR_dataset!O14=\"\",Onglet_SRR_Table!$B$31,Onglet_SRR_dataset!O14)","v":"Not assessed yet"},null,null,null,null,null,null,{"$f":"VLOOKUP(B35,Consult_dataset,5,FALSE)","v":""},null,null,1,null,null,{"$f":"VLOOKUP(B35,Consult_dataset,13,FALSE)","v":""},null,{"$f":"VLOOKUP(B35,Consult_dataset,9,FALSE)","v":0},{"$f":"VLOOKUP(B35,Consult_dataset,10,FALSE)","v":0},{"$f":"VLOOKUP(B35,Consult_dataset,11,FALSE)","v":""},{"$f":"VLOOKUP(B35,Consult_dataset,12,FALSE)","v":0}]
[null,"I04","Relations with affected communities",{"$f":"_xlfn.IFS(MID($B36,1,1)=\"C\",Onglet_SRR_Table!$B$35,MID($B36,1,1)=\"I\",Onglet_SRR_Table!$B$36)","v":"Impact"},"Not assessed yet",null,null,null,null,null,null,null,null,{"$f":"IFERROR(IF(Onglet_consult_dataset!N11<Answer_rate_threshold,Onglet_consult_dataset!N11,\"\"),\"\")","v":""},null,null,{"$f":"IF(OR(AB36=Onglet_SRR_Table!$B$31,AB36=\"N/A\"),\"\",IF(AND(AJ36>=Threshold,AJ36<>\"\"),Onglet_SRR_Table!$B$131,IF(AB36>=Threshold,Onglet_SRR_Table!$B$30,\"\")))","v":""},null,null,"Done",null,null,null,null,null,null,null,{"$f":"IF(Onglet_SRR_dataset!O15=\"\",Onglet_SRR_Table!$B$31,Onglet_SRR_dataset!O15)","v":"Not assessed yet"},null,null,null,null,null,null,null,{"$f":"VLOOKUP(B36,Consult_dataset,6,FALSE)","v":""},null,1,null,null,{"$f":"VLOOKUP(B36,Consult_dataset,13,FALSE)","v":""},null,{"$f":"VLOOKUP(B36,Consult_dataset,9,FALSE)","v":0},{"$f":"VLOOKUP(B36,Consult_dataset,10,FALSE)","v":0},{"$f":"VLOOKUP(B36,Consult_dataset,11,FALSE)","v":0},{"$f":"VLOOKUP(B36,Consult_dataset,12,FALSE)","v":""}]
[]
[]
[null,2,{"$f":"Onglet_Gap_Table!$B$48","v":"Improve your social performance"}]
[]
[null,null,{"$f":"Onglet_Gap_Table!$B$36","v":"INTERNAL VISION"},null,null,null,null,{"$f":"Onglet_Gap_Table!$B$37","v":"EXTERNAL VISION"},null,null,null,null,null,null,null,null,{"$f":"Onglet_Gap_Table!$B$46","v":"Priorities for action"},null,null,{"$f":"Onglet_Gap_Table!$B$47","v":"Review status"},null,null,null,null,null,null,null,"INTERNAL",null,null,"EXTERNAL",null,null,null,null,null,null,"INTERNAL",null,null,"EXTERNAL ANSWER RATE"]
[]
[null,null,{"$f":"Onglet_Gap_Table!$B$48","v":"Improve your social performance"},{"$f":"Onglet_Gap_Table!$B$50","v":"Current level"},{"$f":"Onglet_Gap_Table!$B$53","v":"Minimum required"},null,null,{"$f":"Onglet_Gap_Table!$B$41","v":"All panel"},null,{"$f":"Onglet_Gap_Table!$B$42","v":"AUT"},{"$f":"Onglet_Gap_Table!$B$43","v":"BUS"},{"$f":"Onglet_Gap_Table!$B$44","v":"CIV"},{"$f":"Onglet_Gap_Table!$B$45","v":"COM"},"(*)",null,null,null,null,null,null,null,null,null,null,null,null,null,"Score",null,null,"All panel",null,"AUT","BUS","CIV","COM",null,"Score",null,null,"All panel",null,"AUT","BUS","CIV","COM"]
[]
[null,"P01",{"$f":"VLOOKUP(B45,SRR_referential,2,FALSE)","v":"Transparent and regular stakeholder engagement"},{"$f":"IF(Onglet_SRR_dataset!O17=\"N/A\",\"N/A\",IF(Onglet_SRR_dataset!O17=\"\",Onglet_SRR_Table!$B$31,IFERROR(INDEX(Maturity,MATCH(Onglet_SRR_dataset!O17,Onglet_SRR_Rules!$C$7:$C$10,-1),4),\"\")))","v":"Not assessed yet"},{"$f":"$D$12","v":""},null,null,{"$f":"IFERROR(INDEX(Onglet_SRR_Rules!$B$41:$D$44,MATCH(Onglet_consult_dataset!H12,Onglet_SRR_Rules!$C$41:$C$44,-1),3),\"\")","v":""},null,null,null,null,null,{"$f":"IFERROR(IF(Onglet_consult_dataset!N12<Answer_rate_threshold,Onglet_consult_dataset!N12,\"\"),\"\")","v":""},null,null,{"$f":"IFERROR(_xlfn.IFS(OR(D45=Onglet_SRR_Table!$B$31,D45=\"N/A\"),\"\",Onglet_SRR_dataset!T17=1,Onglet_SRR_Table!$B$132,AND(OR(H45=Onglet_SRR_Table!$B$62,H45=Onglet_SRR_Table!$B$63),N45<>\"\"),Onglet_SRR_Table!$B$33,AND(OR(H45=Onglet_SRR_Table!$B$62,H45=Onglet_SRR_Table!$B$63),N45=\"\"),Onglet_SRR_Table!$B$131),\"\")","v":""},null,null,{"$f":"VLOOKUP(B45,review_status_scores,5,FALSE)","v":"Done"},null,null,null,null,null,null,null,null,null,null,null,null,{"$f":"VLOOKUP($B45,Consult_dataset,3,FALSE)","v":""},{"$f":"VLOOKUP($B45,Consult_dataset,4,FALSE)","v":""},{"$f":"VLOOKUP($B45,Consult_dataset,5,FALSE)","v":""},{"$f":"VLOOKUP($B45,Consult_dataset,6,FALSE)","v":""},null,1,null,null,{"$f":"VLOOKUP(B45,Consult_dataset,13,FALSE)","v":""},null,{"$f":"VLOOKUP(B45,Consult_dataset,9,FALSE)","v":""},{"$f":"VLOOKUP(B45,Consult_dataset,10,FALSE)","v":""},{"$f":"VLOOKUP(B45,Consult_dataset,11,FALSE)","v":""},{"$f":"VLOOKUP(B45,Consult_dataset,12,FALSE)","v":""}]
[null,"P02",{"$f":"VLOOKUP(B46,SRR_referential,2,FALSE)","v":"Fullfilment and follow-up of commitments"},{"$f":"IF(Onglet_SRR_dataset!O18=\"N/A\",\"N/A\",IF(Onglet_SRR_dataset!O18=\"\",Onglet_SRR_Table!$B$31,IFERROR(INDEX(Maturity,MATCH(Onglet_SRR_dataset!O18,Onglet_SRR_Rules!$C$7:$C$10,-1),4),\"\")))","v":"Not assessed yet"},{"$f":"$D$12","v":""},null,null,{"$f":"IFERROR(INDEX(Onglet_SRR_Rules!$B$41:$D$44,MATCH(Onglet_consult_dataset!H13,Onglet_SRR_Rules!$C$41:$C$44,-1),3),\"\")","v":""},null,null,null,null,null,{"$f":"IFERROR(IF(Onglet_consult_dataset!N13<Answer_rate_threshold,Onglet_consult_dataset!N13,\"\"),\"\")","v":""},null,null,{"$f":"IFERROR(_xlfn.IFS(OR(D46=Onglet_SRR_Table!$B$31,D46=\"N/A\"),\"\",Onglet_SRR_dataset!T18=1,Onglet_SRR_Table!$B$132,AND(OR(H46=Onglet_SRR_Table!$B$62,H46=Onglet_SRR_Table!$B$63),N46<>\"\"),Onglet_SRR_Table!$B$33,AND(OR(H46=Onglet_SRR_Table!$B$62,H46=Onglet_SRR_Table!$B$63),N46=\"\"),Onglet_SRR_Table!$B$131),\"\")","v":""},null,null,{"$f":"VLOOKUP(B46,review_status_scores,5,FALSE)","v":"Done"},null,null,null,null,null,null,null,null,null,null,null,null,{"$f":"VLOOKUP($B46,Consult_dataset,3,FALSE)","v":""},{"$f":"VLOOKUP($B46,Consult_dataset,4,FALSE)","v":""},{"$f":"VLOOKUP($B46,Consult_dataset,5,FALSE)","v":""},{"$f":"VLOOKUP($B46,Consult_dataset,6,FALSE)","v":""},null,1,null,null,{"$f":"VLOOKUP(B46,Consult_dataset,13,FALSE)","v":""},null,{"$f":"VLOOKUP(B46,Consult_dataset,9,FALSE)","v":""},{"$f":"VLOOKUP(B46,Consult_dataset,10,FALSE)","v":""},{"$f":"VLOOKUP(B46,Consult_dataset,11,FALSE)","v":""},{"$f":"VLOOKUP(B46,Consult_dataset,12,FALSE)","v":""}]
[null,"P03",{"$f":"VLOOKUP(B47,SRR_referential,2,FALSE)","v":"Management of grievances"},{"$f":"IF(Onglet_SRR_dataset!O19=\"N/A\",\"N/A\",IF(Onglet_SRR_dataset!O19=\"\",Onglet_SRR_Table!$B$31,IFERROR(INDEX(Maturity,MATCH(Onglet_SRR_dataset!O19,Onglet_SRR_Rules!$C$7:$C$10,-1),4),\"\")))","v":"Not assessed yet"},{"$f":"$D$12","v":""},null,null,{"$f":"IFERROR(INDEX(Onglet_SRR_Rules!$B$41:$D$44,MATCH(Onglet_consult_dataset!H14,Onglet_SRR_Rules!$C$41:$C$44,-1),3),\"\")","v":""},null,null,null,null,null,{"$f":"IFERROR(IF(Onglet_consult_dataset!N14<Answer_rate_threshold,Onglet_consult_dataset!N14,\"\"),\"\")","v":""},null,null,{"$f":"IFERROR(_xlfn.IFS(OR(D47=Onglet_SRR_Table!$B$31,D47=\"N/A\"),\"\",Onglet_SRR_dataset!T19=1,Onglet_SRR_Table!$B$132,AND(OR(H47=Onglet_SRR_Table!$B$62,H47=Onglet_SRR_Table!$B$63),N47<>\"\"),Onglet_SRR_Table!$B$33,AND(OR(H47=Onglet_SRR_Table!$B$62,H47=Onglet_SRR_Table!$B$63),N47=\"\"),Onglet_SRR_Table!$B$131),\"\")","v":""},null,null,{"$f":"VLOOKUP(B47,review_status_scores,5,FALSE)","v":"Done"},null,null,null,null,null,null,null,null,null,null,null,null,{"$f":"VLOOKUP($B47,Consult_dataset,3,FALSE)","v":""},{"$f":"VLOOKUP($B47,Consult_dataset,4,FALSE)","v":""},{"$f":"VLOOKUP($B47,Consult_dataset,5,FALSE)","v":""},{"$f":"VLOOKUP($B47,Consult_dataset,6,FALSE)","v":""},null,1,null,null,{"$f":"VLOOKUP(B47,Consult_dataset,13,FALSE)","v":""},null,{"$f":"VLOOKUP(B47,Consult_dataset,9,FALSE)","v":""},{"$f":"VLOOKUP(B47,Consult_dataset,10,FALSE)","v":""},{"$f":"VLOOKUP(B47,Consult_dataset,11,FALSE)","v":""},{"$f":"VLOOKUP(B47,Consult_dataset,12,FALSE)","v":""}]
[null,"P04",{"$f":"VLOOKUP(B48,SRR_referential,2,FALSE)","v":"Communication (activities, strategic outlook, social performance, sustainability…)"},{"$f":"IF(Onglet_SRR_dataset!O20=\"N/A\",\"N/A\",IF(Onglet_SRR_dataset!O20=\"\",Onglet_SRR_Table!$B$31,IFERROR(INDEX(Maturity,MATCH(Onglet_SRR_dataset!O20,Onglet_SRR_Rules!$C$7:$C$10,-1),4),\"\")))","v":"Not assessed yet"},{"$f":"$D$12","v":""},null,null,{"$f":"IFERROR(INDEX(Onglet_SRR_Rules!$B$41:$D$44,MATCH(Onglet_consult_dataset!H15,Onglet_SRR_Rules!$C$41:$C$44,-1),3),\"\")","v":""},null,null,null,null,null,{"$f":"IFERROR(IF(Onglet_consult_dataset!N15<Answer_rate_threshold,Onglet_consult_dataset!N15,\"\"),\"\")","v":""},null,null,{"$f":"IFERROR(_xlfn.IFS(OR(D48=Onglet_SRR_Table!$B$31,D48=\"N/A\"),\"\",Onglet_SRR_dataset!T20=1,Onglet_SRR_Table!$B$132,AND(OR(H48=Onglet_SRR_Table!$B$62,H48=Onglet_SRR_Table!$B$63),N48<>\"\"),Onglet_SRR_Table!$B$33,AND(OR(H48=Onglet_SRR_Table!$B$62,H48=Onglet_SRR_Table!$B$63),N48=\"\"),Onglet_SRR_Table!$B$131),\"\")","v":""},null,null,{"$f":"VLOOKUP(B48,review_status_scores,5,FALSE)","v":"Done"},null,null,null,null,null,null,null,null,null,null,null,null,{"$f":"VLOOKUP($B48,Consult_dataset,3,FALSE)","v":""},{"$f":"VLOOKUP($B48,Consult_dataset,4,FALSE)","v":""},{"$f":"VLOOKUP($B48,Consult_dataset,5,FALSE)","v":""},{"$f":"VLOOKUP($B48,Consult_dataset,6,FALSE)","v":""},null,1,null,null,{"$f":"VLOOKUP(B48,Consult_dataset,13,FALSE)","v":""},null,{"$f":"VLOOKUP(B48,Consult_dataset,9,FALSE)","v":""},{"$f":"VLOOKUP(B48,Consult_dataset,10,FALSE)","v":""},{"$f":"VLOOKUP(B48,Consult_dataset,11,FALSE)","v":""},{"$f":"VLOOKUP(B48,Consult_dataset,12,FALSE)","v":""}]

{"sheet":"Onglet_Gap_P2","index":22,"n_rows":55,"n_cols":46,"rows_kept":55,"cut":false,"hidden":false,"merged":[[22,16,24,16],[22,19,24,19],[47,16,49,16],[47,19,49,19]]}
[]
[]
[]
[]
[]
[null,{"$f":"Onglet_trad_menus!B47","v":"Pillar 2 - NEGATIVE IMPACTS"}]
[]
[null,null,null,{"$f":"Onglet_Gap_Table!B68","v":"INTERNAL"}]
[null,null,{"$f":"Onglet_Gap_Table!B61","v":"Your societal exposure before mitigation"},{"$f":"Onglet_SRR_graph!F15","v":"Not assessed yet"}]
[]
[]
[null,null,{"$f":"Onglet_Gap_Table!B62","v":"Minimum maturity recommended on social performance"},{"$f":"Min_P2","v":""}]
[]
[]
[]
[null,null,"INSTRUCTIONS"]
[null,null,{"$f":"Onglet_Gap_Table!B64","v":"Double click on the topics below to perform gap analysis, mitigate your risks "}]
[null,null,{"$f":"Onglet_Gap_Table!B66","v":"You must at least review the topics highlighted in red"}]
[]
[]
[null,1,{"$f":"Onglet_Gap_Table!B35","v":"Mitigate the key factors that are driving your risk"}]
[]
[null,null,{"$f":"Onglet_Gap_Table!B36","v":"INTERNAL VISION"},null,null,null,null,{"$f":"Onglet_Gap_Table!B37","v":"EXTERNAL VISION"},null,null,null,null,null,null,null,null,{"$f":"Onglet_Gap_Table!B46","v":"Priorities for action"},null,null,{"$f":"Onglet_Gap_Table!B47","v":"Review status"},null,null,null,null,null,null,null,"INTERNAL",null,null,"EXTERNAL",null,null,null,null,null,null,"INTERNAL",null,null,"EXTERNAL ANSWER RATE"]
[]
[null,null,{"$f":"Onglet_Gap_Table!B38","v":"Risks"},{"$f":"Onglet_Gap_Table!B39","v":"Type of risk"},"Score",null,null,{"$f":"Onglet_Gap_Table!B41","v":"All panel"},null,{"$f":"Onglet_Gap_Table!B42","v":"AUT"},{"$f":"Onglet_Gap_Table!B43","v":"BUS"},{"$f":"Onglet_Gap_Table!B44","v":"CIV"},{"$f":"Onglet_Gap_Table!B45","v":"COM"},"(*)",null,null,null,null,null,null,null,null,null,null,null,null,null,"Score",null,null,"All panel",null,"AUT","BUS","CIV","COM",null,"Score",null,null,"All panel",null,"AUT","BUS","CIV","COM"]
[]
[null,"C07",{"$f":"VLOOKUP(B27,SRR_referential,2,FALSE)","v":"Proximity of communities near operations"},{"$f":"_xlfn.IFS(MID($B27,1,1)=\"C\",Onglet_SRR_Table!$B$35,MID($B27,1,1)=\"I\",Onglet_SRR_Table!$B$36)","v":"Context"},"Not assessed yet",null,null,null,null,null,null,null,null,null,null,null,{"$f":"IF(OR(AB27=Onglet_SRR_Table!$B$31,AB27=\"N/A\"),\"\",IF(AB27>=Threshold,Onglet_SRR_Table!$B$30,\"\"))","v":""},null,null,{"$f":"VLOOKUP(B27,review_status_scores,5,FALSE)","v":"Done"},null,null,null,null,null,null,null,{"$f":"IF(Onglet_SRR_dataset!O23=\"\",Onglet_SRR_Table!$B$31,Onglet_SRR_dataset!O23)","v":"Not assessed yet"},null,null,null,null,null,null,null,null,null,1]
[null,"C08","Risk of confusion with negative impacts of other industries",{"$f":"_xlfn.IFS(MID($B28,1,1)=\"C\",Onglet_SRR_Table!$B$35,MID($B28,1,1)=\"I\",Onglet_SRR_Table!$B$36)","v":"Context"},"Not assessed yet",null,null,null,null,null,null,null,null,null,null,null,{"$f":"IF(OR(AB28=Onglet_SRR_Table!$B$31,AB28=\"N/A\"),\"\",IF(AB28>=Threshold,Onglet_SRR_Table!$B$30,\"\"))","v":""},null,null,"Done",null,null,null,null,null,null,null,{"$f":"IF(Onglet_SRR_dataset!O24=\"\",Onglet_SRR_Table!$B$31,Onglet_SRR_dataset!O24)","v":"Not assessed yet"},null,null,null,null,null,null,null,null,null,1]
[null,"C09","Security",{"$f":"_xlfn.IFS(MID($B29,1,1)=\"C\",Onglet_SRR_Table!$B$35,MID($B29,1,1)=\"I\",Onglet_SRR_Table!$B$36)","v":"Context"},"Not assessed yet",null,null,null,null,null,null,null,null,null,null,null,{"$f":"IF(OR(AB29=Onglet_SRR_Table!$B$31,AB29=\"N/A\"),\"\",IF(AB29>=Threshold,Onglet_SRR_Table!$B$30,\"\"))","v":""},null,null,"Done",null,null,null,null,null,null,null,{"$f":"IF(Onglet_SRR_dataset!O25=\"\",Onglet_SRR_Table!$B$31,Onglet_SRR_dataset!O25)","v":"Not assessed yet"},null,null,null,null,null,null,null,null,null,1]
[null,"C10","Biodiversity",{"$f":"_xlfn.IFS(MID($B30,1,1)=\"C\",Onglet_SRR_Table!$B$35,MID($B30,1,1)=\"I\",Onglet_SRR_Table!$B$36)","v":"Context"},"Not assessed yet",null,null,null,null,null,null,null,null,null,null,null,{"$f":"IF(OR(AB30=Onglet_SRR_Table!$B$31,AB30=\"N/A\"),\"\",IF(AB30>=Threshold,Onglet_SRR_Table!$B$30,\"\"))","v":""},null,null,"Done",null,null,null,null,null,null,null,{"$f":"IF(Onglet_SRR_dataset!O26=\"\",Onglet_SRR_Table!$B$31,Onglet_SRR_dataset!O26)","v":"Not assessed yet"},null,null,null,null,null,null,null,null,null,1]
[null,"C11","Religious and cultural heritage",{"$f":"_xlfn.IFS(MID($B31,1,1)=\"C\",Onglet_SRR_Table!$B$35,MID($B31,1,1)=\"I\",Onglet_SRR_Table!$B$36)","v":"Context"},"Not assessed yet",null,null,null,null,null,null,null,null,null,null,null,{"$f":"IF(OR(AB31=Onglet_SRR_Table!$B$31,AB31=\"N/A\"),\"\",IF(AB31>=Threshold,Onglet_SRR_Table!$B$30,\"\"))","v":""},null,null,"Done",null,null,null,null,null,null,null,{"$f":"IF(Onglet_SRR_dataset!O27=\"\",Onglet_SRR_Table!$B$31,Onglet_SRR_dataset!O27)","v":"Not assessed yet"},null,null,null,null,null,null,null,null,null,1]
[null,"C12","Vulnerable populations",{"$f":"_xlfn.IFS(MID($B32,1,1)=\"C\",Onglet_SRR_Table!$B$35,MID($B32,1,1)=\"I\",Onglet_SRR_Table!$B$36)","v":"Context"},"Not assessed yet",null,null,null,null,null,null,null,null,null,null,null,{"$f":"IF(OR(AB32=Onglet_SRR_Table!$B$31,AB32=\"N/A\"),\"\",IF(AB32>=Threshold,Onglet_SRR_Table!$B$30,\"\"))","v":""},null,null,"Done",null,null,null,null,null,null,null,{"$f":"IF(Onglet_SRR_dataset!O28=\"\",Onglet_SRR_Table!$B$31,Onglet_SRR_dataset!O28)","v":"Not assessed yet"},null,null,null,null,null,null,null,null,null,1]
[null,"I05.1","Impacts on environment",{"$f":"_xlfn.IFS(MID($B33,1,1)=\"C\",Onglet_SRR_Table!$B$35,MID($B33,1,1)=\"I\",Onglet_SRR_Table!$B$36)","v":"Impact"},"Not assessed yet",null,null,null,null,null,null,null,null,{"$f":"IFERROR(IF(Onglet_consult_dataset!N17<Answer_rate_threshold,Onglet_consult_dataset!N17,\"\"),\"\")","v":""},null,null,{"$f":"IFERROR(_xlfn.IFS(OR(AB33=Onglet_SRR_Table!$B$31,AB33=\"N/A\"),\"\",AND(AE33>=Threshold,AE33<>\"\",N33=\"\"),Onglet_SRR_Table!$B$131,AND(AE33>=Threshold,AE33<>\"\",N33<>\"\"),Onglet_SRR_Table!$B$33,AB33>=Threshold,Onglet_SRR_Table!$B$30),\"\")","v":""},null,null,{"$f":"VLOOKUP(B33,review_status_scores,5,FALSE)","v":"Done"},null,null,null,null,null,null,null,{"$f":"IF(Onglet_SRR_dataset!O31=\"\",Onglet_SRR_Table!$B$31,Onglet_SRR_dataset!O31)","v":"Not assessed yet"},null,null,{"$f":"VLOOKUP(B33,Consult_dataset,7,FALSE)","v":""},null,{"$f":"VLOOKUP(B33,Consult_dataset,3,FALSE)","v":""},{"$f":"VLOOKUP(B33,Consult_dataset,4,FALSE)","v":""},{"$f":"VLOOKUP(B33,Consult_dataset,5,FALSE)","v":""},{"$f":"VLOOKUP(B33,Consult_dataset,6,FALSE)","v":""},null,1,null,null,{"$f":"VLOOKUP(B33,Consult_dataset,13,FALSE)","v":""},null,{"$f":"VLOOKUP(B33,Consult_dataset,9,FALSE)","v":""},{"$f":"VLOOKUP(B33,Consult_dataset,10,FALSE)","v":""},{"$f":"VLOOKUP(B33,Consult_dataset,11,FALSE)","v":""},{"$f":"VLOOKUP(B33,Consult_dataset,12,FALSE)","v":""}]
[null,"I05.1.1","Impacts on health of populations",{"$f":"_xlfn.IFS(MID($B34,1,1)=\"C\",Onglet_SRR_Table!$B$35,MID($B34,1,1)=\"I\",Onglet_SRR_Table!$B$36)","v":"Impact"},"Not assessed yet",null,null,null,null,null,null,null,null,null,null,null,{"$f":"IF(OR(AB34=Onglet_SRR_Table!$B$31,AB34=\"N/A\"),\"\",IF(AB34>=Threshold,Onglet_SRR_Table!$B$30,\"\"))","v":""},null,null,"Done",null,null,null,null,null,null,null,{"$f":"IF(Onglet_SRR_dataset!O32=\"\",Onglet_SRR_Table!$B$31,Onglet_SRR_dataset!O32)","v":"Not assessed yet"},null,null,null,null,null,null,null,null,null,1]
[null,"I05.1.2","Impacts on biodiversity",{"$f":"_xlfn.IFS(MID($B35,1,1)=\"C\",Onglet_SRR_Table!$B$35,MID($B35,1,1)=\"I\",Onglet_SRR_Table!$B$36)","v":"Impact"},"Not assessed yet",null,null,null,null,null,null,null,null,null,null,null,{"$f":"IF(OR(AB35=Onglet_SRR_Table!$B$31,AB35=\"N/A\"),\"\",IF(AB35>=Threshold,Onglet_SRR_Table!$B$30,\"\"))","v":""},null,null,"Done",null,null,null,null,null,null,null,{"$f":"IF(Onglet_SRR_dataset!O33=\"\",Onglet_SRR_Table!$B$31,Onglet_SRR_dataset!O33)","v":"Not assessed yet"},null,null,null,null,null,null,null,null,null,1]
[null,"I05.1.3","Impacts on climate change",{"$f":"_xlfn.IFS(MID($B36,1,1)=\"C\",Onglet_SRR_Table!$B$35,MID($B36,1,1)=\"I\",Onglet_SRR_Table!$B$36)","v":"Impact"},"Not assessed yet",null,null,null,null,null,null,null,null,{"$f":"IFERROR(IF(Onglet_consult_dataset!N18<Answer_rate_threshold,Onglet_consult_dataset!N18,\"\"),\"\")","v":""},null,null,{"$f":"IFERROR(_xlfn.IFS(OR(AB36=Onglet_SRR_Table!$B$31,AB36=\"N/A\"),\"\",AND(AE36>=Threshold,AE36<>\"\",N36=\"\"),Onglet_SRR_Table!$B$131,AND(AE36>=Threshold,AE36<>\"\",N36<>\"\"),Onglet_SRR_Table!$B$33,AB36>=Threshold,Onglet_SRR_Table!$B$30),\"\")","v":""},null,null,{"$f":"VLOOKUP(B36,review_status_scores,5,FALSE)","v":"Done"},null,null,null,null,null,null,null,{"$f":"IF(Onglet_SRR_dataset!O34=\"\",Onglet_SRR_Table!$B$31,Onglet_SRR_dataset!O34)","v":"Not assessed yet"},null,null,{"$f":"VLOOKUP(B36,Consult_dataset,7,FALSE)","v":""},null,{"$f":"VLOOKUP(B36,Consult_dataset,3,FALSE)","v":""},{"$f":"VLOOKUP(B36,Consult_dataset,4,FALSE)","v":""},{"$f":"VLOOKUP(B36,Consult_dataset,5,FALSE)","v":""},{"$f":"VLOOKUP(B36,Consult_dataset,6,FALSE)","v":""},null,1,null,null,{"$f":"VLOOKUP(B36,Consult_dataset,13,FALSE)","v":""},null,{"$f":"VLOOKUP(B36,Consult_dataset,9,FALSE)","v":""},{"$f":"VLOOKUP(B36,Consult_dataset,10,FALSE)","v":""},{"$f":"VLOOKUP(B36,Consult_dataset,11,FALSE)","v":""},{"$f":"VLOOKUP(B36,Consult_dataset,12,FALSE)","v":""}]
[null,"I05.2","Industrial risks",{"$f":"_xlfn.IFS(MID($B37,1,1)=\"C\",Onglet_SRR_Table!$B$35,MID($B37,1,1)=\"I\",Onglet_SRR_Table!$B$36)","v":"Impact"},"Not assessed yet",null,null,null,null,null,null,null,null,{"$f":"IFERROR(IF(Onglet_consult_dataset!N19<Answer_rate_threshold,Onglet_consult_dataset!N19,\"\"),\"\")","v":""},null,null,{"$f":"IFERROR(_xlfn.IFS(OR(AB37=Onglet_SRR_Table!$B$31,AB37=\"N/A\"),\"\",AND(AE37>=Threshold,AE37<>\"\",N37=\"\"),Onglet_SRR_Table!$B$131,AND(AE37>=Threshold,AE37<>\"\",N37<>\"\"),Onglet_SRR_Table!$B$33,AB37>=Threshold,Onglet_SRR_Table!$B$30),\"\")","v":""},null,null,"Done",null,null,null,null,null,null,null,{"$f":"IF(Onglet_SRR_dataset!O35=\"\",Onglet_SRR_Table!$B$31,Onglet_SRR_dataset!O35)","v":"Not assessed yet"},null,null,"",null,"","","","",null,1,null,null,"",null,"","","",""]
[null,"I05.3","Nuisances",{"$f":"_xlfn.IFS(MID($B38,1,1)=\"C\",Onglet_SRR_Table!$B$35,MID($B38,1,1)=\"I\",Onglet_SRR_Table!$B$36)","v":"Impact"},"Not assessed yet",null,null,null,null,null,null,null,null,{"$f":"IFERROR(IF(Onglet_consult_dataset!N20<Answer_rate_threshold,Onglet_consult_dataset!N20,\"\"),\"\")","v":""},null,null,{"$f":"IFERROR(_xlfn.IFS(OR(AB38=Onglet_SRR_Table!$B$31,AB38=\"N/A\"),\"\",AND(AE38>=Threshold,AE38<>\"\",N38=\"\"),Onglet_SRR_Table!$B$131,AND(AE38>=Threshold,AE38<>\"\",N38<>\"\"),Onglet_SRR_Table!$B$33,AB38>=Threshold,Onglet_SRR_Table!$B$30),\"\")","v":""},null,null,"Done",null,null,null,null,null,null,null,{"$f":"IF(Onglet_SRR_dataset!O36=\"\",Onglet_SRR_Table!$B$31,Onglet_SRR_dataset!O36)","v":"Not assessed yet"},null,null,"",null,"","","","",null,1,null,null,"",null,"","","",""]
[null,"I06.1","Marine / Land use restrictions",{"$f":"_xlfn.IFS(MID($B39,1,1)=\"C\",Onglet_SRR_Table!$B$35,MID($B39,1,1)=\"I\",Onglet_SRR_Table!$B$36)","v":"Impact"},"Not assessed yet",null,null,null,null,null,null,null,null,{"$f":"IFERROR(IF(Onglet_consult_dataset!N21<Answer_rate_threshold,Onglet_consult_dataset!N21,\"\"),\"\")","v":""},null,null,{"$f":"IFERROR(_xlfn.IFS(OR(AB39=Onglet_SRR_Table!$B$31,AB39=\"N/A\"),\"\",AND(AE39>=Threshold,AE39<>\"\",N39=\"\"),Onglet_SRR_Table!$B$131,AND(AE39>=Threshold,AE39<>\"\",N39<>\"\"),Onglet_SRR_Table!$B$33,AB39>=Threshold,Onglet_SRR_Table!$B$30),\"\")","v":""},null,null,"Done",null,null,null,null,null,null,null,{"$f":"IF(Onglet_SRR_dataset!O38=\"\",Onglet_SRR_Table!$B$31,Onglet_SRR_dataset!O38)","v":"Not assessed yet"},null,null,"",null,"","","","",null,1,null,null,"",null,"","","",""]
[null,"I06.2","Disturbance of local economy and livelihoods",{"$f":"_xlfn.IFS(MID($B40,1,1)=\"C\",Onglet_SRR_Table!$B$35,MID($B40,1,1)=\"I\",Onglet_SRR_Table!$B$36)","v":"Impact"},"Not assessed yet",null,null,null,null,null,null,null,null,{"$f":"IFERROR(IF(Onglet_consult_dataset!N22<Answer_rate_threshold,Onglet_consult_dataset!N22,\"\"),\"\")","v":""},null,null,{"$f":"IFERROR(_xlfn.IFS(OR(AB40=Onglet_SRR_Table!$B$31,AB40=\"N/A\"),\"\",AND(AE40>=Threshold,AE40<>\"\",N40=\"\"),Onglet_SRR_Table!$B$131,AND(AE40>=Threshold,AE40<>\"\",N40<>\"\"),Onglet_SRR_Table!$B$33,AB40>=Threshold,Onglet_SRR_Table!$B$30),\"\")","v":""},null,null,"Done",null,null,null,null,null,null,null,{"$f":"IF(Onglet_SRR_dataset!O39=\"\",Onglet_SRR_Table!$B$31,Onglet_SRR_dataset!O39)","v":"Not assessed yet"},null,null,"",null,"","","","",null,1,null,null,"",null,"","","",""]
[null,"I06.3","Impacts on religious and cultural heritage",{"$f":"_xlfn.IFS(MID($B41,1,1)=\"C\",Onglet_SRR_Table!$B$35,MID($B41,1,1)=\"I\",Onglet_SRR_Table!$B$36)","v":"Impact"},"Not assessed yet",null,null,null,null,null,null,null,null,{"$f":"IFERROR(IF(Onglet_consult_dataset!N23<Answer_rate_threshold,Onglet_consult_dataset!N23,\"\"),\"\")","v":""},null,null,{"$f":"IFERROR(_xlfn.IFS(OR(AB41=Onglet_SRR_Table!$B$31,AB41=\"N/A\"),\"\",AND(AE41>=Threshold,AE41<>\"\",N41=\"\"),Onglet_SRR_Table!$B$131,AND(AE41>=Threshold,AE41<>\"\",N41<>\"\"),Onglet_SRR_Table!$B$33,AB41>=Threshold,Onglet_SRR_Table!$B$30),\"\")","v":""},null,null,"Done",null,null,null,null,null,null,null,{"$f":"IF(Onglet_SRR_dataset!O40=\"\",Onglet_SRR_Table!$B$31,Onglet_SRR_dataset!O40)","v":"Not assessed yet"},null,null,"",null,"","","","",null,1,null,null,"",null,"","","",""]
[null,"I06.4","Violation of human rights in the workplace",{"$f":"_xlfn.IFS(MID($B42,1,1)=\"C\",Onglet_SRR_Table!$B$35,MID($B42,1,1)=\"I\",Onglet_SRR_Table!$B$36)","v":"Impact"},"Not assessed yet",null,null,null,null,null,null,null,null,{"$f":"IFERROR(IF(Onglet_consult_dataset!N24<Answer_rate_threshold,Onglet_consult_dataset!N24,\"\"),\"\")","v":""},null,null,{"$f":"IFERROR(_xlfn.IFS(OR(AB42=Onglet_SRR_Table!$B$31,AB42=\"N/A\"),\"\",AND(AE42>=Threshold,AE42<>\"\",N42=\"\"),Onglet_SRR_Table!$B$131,AND(AE42>=Threshold,AE42<>\"\",N42<>\"\"),Onglet_SRR_Table!$B$33,AB42>=Threshold,Onglet_SRR_Table!$B$30),\"\")","v":""},null,null,"Done",null,null,null,null,null,null,null,{"$f":"IF(Onglet_SRR_dataset!O41=\"\",Onglet_SRR_Table!$B$31,Onglet_SRR_dataset!O41)","v":"Not assessed yet"},null,null,"",null,"","","","",null,1,null,null,"",null,"","","",""]
[null,"I06.4.1","Violation of civil, political and security rights",{"$f":"_xlfn.IFS(MID($B43,1,1)=\"C\",Onglet_SRR_Table!$D$35,MID($B43,1,1)=\"I\",Onglet_SRR_Table!$D$36)","v":"Impact"},"Not assessed yet",null,null,null,null,null,null,null,null,null,null,null,{"$f":"IF(OR(AB43=Onglet_SRR_Table!$B$31,AB43=\"N/A\"),\"\",IF(AB43>=Threshold,Onglet_SRR_Table!$B$30,\"\"))","v":""},null,null,"Done",null,null,null,null,null,null,null,{"$f":"IF(Onglet_SRR_dataset!O42=\"\",Onglet_SRR_Table!$B$31,Onglet_SRR_dataset!O42)","v":"Not assessed yet"},null,null,null,null,null,null,null,null,null,1]
[]
[]
[null,2,{"$f":"Onglet_Gap_Table!$B$48","v":"Improve your social performance"}]
[]
[null,null,{"$f":"Onglet_Gap_Table!$B$36","v":"INTERNAL VISION"},null,null,null,null,{"$f":"Onglet_Gap_Table!$B$37","v":"EXTERNAL VISION"},null,null,null,null,null,null,null,null,{"$f":"Onglet_Gap_Table!$B$46","v":"Priorities for action"},null,null,{"$f":"Onglet_Gap_Table!$B$47","v":"Review status"}]
[]
[null,null,{"$f":"Onglet_Gap_Table!$B$48","v":"Improve your social performance"},{"$f":"Onglet_Gap_Table!$B$50","v":"Current level"},{"$f":"Onglet_Gap_Table!$B$53","v":"Minimum required"},null,null,{"$f":"Onglet_Gap_Table!$B$41","v":"All panel"},null,{"$f":"Onglet_Gap_Table!$B$42","v":"AUT"},{"$f":"Onglet_Gap_Table!$B$43","v":"BUS"},{"$f":"Onglet_Gap_Table!$B$44","v":"CIV"},{"$f":"Onglet_Gap_Table!$B$45","v":"COM"},"(*)"]
[]
[null,"P05",{"$f":"VLOOKUP(B52,SRR_referential,2,FALSE)","v":"Information on HSE impacts"},{"$f":"IF(Onglet_SRR_dataset!O44=\"N/A\",\"N/A\",IF(Onglet_SRR_dataset!O44=\"\",Onglet_SRR_Table!$B$31,IFERROR(INDEX(Maturity,MATCH(Onglet_SRR_dataset!O44,Onglet_SRR_Rules!$C$7:$C$10,-1),4),\"\")))","v":"Not assessed yet"},{"$f":"$D$12","v":""},null,null,{"$f":"IFERROR(INDEX(Onglet_SRR_Rules!$B$41:$D$44,MATCH(Onglet_consult_dataset!H25,Onglet_SRR_Rules!$C$41:$C$44,-1),3),\"\")","v":""},null,null,null,null,null,{"$f":"IFERROR(IF(Onglet_consult_dataset!N25<Answer_rate_threshold,Onglet_consult_dataset!N25,\"\"),\"\")","v":""},null,null,{"$f":"IFERROR(_xlfn.IFS(OR(D52=Onglet_SRR_Table!$B$31,D52=\"N/A\"),\"\",Onglet_SRR_dataset!T44=1,Onglet_SRR_Table!$B$132,AND(OR(H52=Onglet_SRR_Table!$B$62,H52=Onglet_SRR_Table!$B$63),N52<>\"\"),Onglet_SRR_Table!$B$33,AND(OR(H52=Onglet_SRR_Table!$B$62,H52=Onglet_SRR_Table!$B$63),N52=\"\"),Onglet_SRR_Table!$B$131),\"\")","v":""},null,null,{"$f":"VLOOKUP(B52,review_status_scores,5,FALSE)","v":"Done"},null,null,null,null,null,null,null,null,null,null,null,null,{"$f":"VLOOKUP($B52,Consult_dataset,3,FALSE)","v":""},{"$f":"VLOOKUP($B52,Consult_dataset,4,FALSE)","v":""},{"$f":"VLOOKUP($B52,Consult_dataset,5,FALSE)","v":""},{"$f":"VLOOKUP($B52,Consult_dataset,6,FALSE)","v":""},null,1,null,null,{"$f":"VLOOKUP(B52,Consult_dataset,13,FALSE)","v":""},null,{"$f":"VLOOKUP(B52,Consult_dataset,9,FALSE)","v":""},{"$f":"VLOOKUP(B52,Consult_dataset,10,FALSE)","v":""},{"$f":"VLOOKUP(B52,Consult_dataset,11,FALSE)","v":""},{"$f":"VLOOKUP(B52,Consult_dataset,12,FALSE)","v":""}]
[null,"P06",{"$f":"VLOOKUP(B53,SRR_referential,2,FALSE)","v":"Management of negative impacts on stakeholders"},{"$f":"IF(Onglet_SRR_dataset!O45=\"N/A\",\"N/A\",IF(Onglet_SRR_dataset!O45=\"\",Onglet_SRR_Table!$B$31,IFERROR(INDEX(Maturity,MATCH(Onglet_SRR_dataset!O45,Onglet_SRR_Rules!$C$7:$C$10,-1),4),\"\")))","v":"Not assessed yet"},{"$f":"$D$12","v":""},null,null,{"$f":"IFERROR(INDEX(Onglet_SRR_Rules!$B$41:$D$44,MATCH(Onglet_consult_dataset!H26,Onglet_SRR_Rules!$C$41:$C$44,-1),3),\"\")","v":""},null,null,null,null,null,{"$f":"IFERROR(IF(Onglet_consult_dataset!N26<Answer_rate_threshold,Onglet_consult_dataset!N26,\"\"),\"\")","v":""},null,null,{"$f":"IFERROR(_xlfn.IFS(OR(D53=Onglet_SRR_Table!$B$31,D53=\"N/A\"),\"\",Onglet_SRR_dataset!T45=1,Onglet_SRR_Table!$B$132,AND(OR(H53=Onglet_SRR_Table!$B$62,H53=Onglet_SRR_Table!$B$63),N53<>\"\"),Onglet_SRR_Table!$B$33,AND(OR(H53=Onglet_SRR_Table!$B$62,H53=Onglet_SRR_Table!$B$63),N53=\"\"),Onglet_SRR_Table!$B$131),\"\")","v":""},null,null,{"$f":"VLOOKUP(B53,review_status_scores,5,FALSE)","v":"Done"},null,null,null,null,null,null,null,null,null,null,null,null,{"$f":"VLOOKUP($B53,Consult_dataset,3,FALSE)","v":""},{"$f":"VLOOKUP($B53,Consult_dataset,4,FALSE)","v":""},{"$f":"VLOOKUP($B53,Consult_dataset,5,FALSE)","v":""},{"$f":"VLOOKUP($B53,Consult_dataset,6,FALSE)","v":""},null,1,null,null,{"$f":"VLOOKUP(B53,Consult_dataset,13,FALSE)","v":""},null,{"$f":"VLOOKUP(B53,Consult_dataset,9,FALSE)","v":""},{"$f":"VLOOKUP(B53,Consult_dataset,10,FALSE)","v":""},{"$f":"VLOOKUP(B53,Consult_dataset,11,FALSE)","v":""},{"$f":"VLOOKUP(B53,Consult_dataset,12,FALSE)","v":""}]
[null,"P07",{"$f":"VLOOKUP(B54,SRR_referential,2,FALSE)","v":"Cooperation with authorities & industrial neighbors"},{"$f":"IF(Onglet_SRR_dataset!O46=\"N/A\",\"N/A\",IF(Onglet_SRR_dataset!O46=\"\",Onglet_SRR_Table!$B$31,IFERROR(INDEX(Maturity,MATCH(Onglet_SRR_dataset!O46,Onglet_SRR_Rules!$C$7:$C$10,-1),4),\"\")))","v":"Not assessed yet"},{"$f":"$D$12","v":""},null,null,{"$f":"IFERROR(INDEX(Onglet_SRR_Rules!$B$41:$D$44,MATCH(Onglet_consult_dataset!H27,Onglet_SRR_Rules!$C$41:$C$44,-1),3),\"\")","v":""},null,null,null,null,null,{"$f":"IFERROR(IF(Onglet_consult_dataset!N27<Answer_rate_threshold,Onglet_consult_dataset!N27,\"\"),\"\")","v":""},null,null,{"$f":"IFERROR(_xlfn.IFS(OR(D54=Onglet_SRR_Table!$B$31,D54=\"N/A\"),\"\",Onglet_SRR_dataset!T46=1,Onglet_SRR_Table!$B$132,AND(OR(H54=Onglet_SRR_Table!$B$62,H54=Onglet_SRR_Table!$B$63),N54<>\"\"),Onglet_SRR_Table!$B$33,AND(OR(H54=Onglet_SRR_Table!$B$62,H54=Onglet_SRR_Table!$B$63),N54=\"\"),Onglet_SRR_Table!$B$131),\"\")","v":""},null,null,{"$f":"VLOOKUP(B54,review_status_scores,5,FALSE)","v":"Done"},null,null,null,null,null,null,null,null,null,null,null,null,{"$f":"VLOOKUP($B54,Consult_dataset,3,FALSE)","v":""},{"$f":"VLOOKUP($B54,Consult_dataset,4,FALSE)","v":""},{"$f":"VLOOKUP($B54,Consult_dataset,5,FALSE)","v":""},{"$f":"VLOOKUP($B54,Consult_dataset,6,FALSE)","v":""},null,1,null,null,{"$f":"VLOOKUP(B54,Consult_dataset,13,FALSE)","v":""},null,{"$f":"VLOOKUP(B54,Consult_dataset,9,FALSE)","v":""},{"$f":"VLOOKUP(B54,Consult_dataset,10,FALSE)","v":""},{"$f":"VLOOKUP(B54,Consult_dataset,11,FALSE)","v":""},{"$f":"VLOOKUP(B54,Consult_dataset,12,FALSE)","v":""}]
[null,"P08",{"$f":"VLOOKUP(B55,SRR_referential,2,FALSE)","v":"Control of contractors on HSE & Human Rights related matters"},{"$f":"IF(Onglet_SRR_dataset!O47=\"N/A\",\"N/A\",IF(Onglet_SRR_dataset!O47=\"\",Onglet_SRR_Table!$B$31,IFERROR(INDEX(Maturity,MATCH(Onglet_SRR_dataset!O47,Onglet_SRR_Rules!$C$7:$C$10,-1),4),\"\")))","v":"Not assessed yet"},{"$f":"$D$12","v":""},null,null,{"$f":"IFERROR(INDEX(Onglet_SRR_Rules!$B$41:$D$44,MATCH(Onglet_consult_dataset!H28,Onglet_SRR_Rules!$C$41:$C$44,-1),3),\"\")","v":""},null,null,null,null,null,{"$f":"IFERROR(IF(Onglet_consult_dataset!N28<Answer_rate_threshold,Onglet_consult_dataset!N28,\"\"),\"\")","v":""},null,null,{"$f":"IFERROR(_xlfn.IFS(OR(D55=Onglet_SRR_Table!$B$31,D55=\"N/A\"),\"\",Onglet_SRR_dataset!T47=1,Onglet_SRR_Table!$B$132,AND(OR(H55=Onglet_SRR_Table!$B$62,H55=Onglet_SRR_Table!$B$63),N55<>\"\"),Onglet_SRR_Table!$B$33,AND(OR(H55=Onglet_SRR_Table!$B$62,H55=Onglet_SRR_Table!$B$63),N55=\"\"),Onglet_SRR_Table!$B$131),\"\")","v":""},null,null,{"$f":"VLOOKUP(B55,review_status_scores,5,FALSE)","v":"Done"},null,null,null,null,null,null,null,null,null,null,null,null,{"$f":"VLOOKUP($B55,Consult_dataset,3,FALSE)","v":""},{"$f":"VLOOKUP($B55,Consult_dataset,4,FALSE)","v":""},{"$f":"VLOOKUP($B55,Consult_dataset,5,FALSE)","v":""},{"$f":"VLOOKUP($B55,Consult_dataset,6,FALSE)","v":""},null,1,null,null,{"$f":"VLOOKUP(B55,Consult_dataset,13,FALSE)","v":""},null,{"$f":"VLOOKUP(B55,Consult_dataset,9,FALSE)","v":""},{"$f":"VLOOKUP(B55,Consult_dataset,10,FALSE)","v":""},{"$f":"VLOOKUP(B55,Consult_dataset,11,FALSE)","v":""},{"$f":"VLOOKUP(B55,Consult_dataset,12,FALSE)","v":""}]

{"sheet":"Onglet_Gap_P3","index":23,"n_rows":63,"n_cols":46,"rows_kept":63,"cut":false,"hidden":false,"merged":[[22,16,24,16],[22,19,24,19],[37,16,39,16],[37,19,39,19],[52,16,54,16],[52,19,54,19]]}
[]
[]
[]
[]
[]
[null,{"$f":"Onglet_trad_menus!B48","v":"Pillar 3 - POSITIVE IMPACTS"}]
[]
[null,null,null,{"$f":"Onglet_Gap_Table!B68","v":"INTERNAL"}]
[null,null,{"$f":"Onglet_Gap_Table!B61","v":"Your societal exposure before mitigation"},{"$f":"Onglet_SRR_graph!F17","v":"Not assessed yet"}]
[]
[]
[null,null,{"$f":"Onglet_Gap_Table!B62","v":"Minimum maturity recommended on social performance"},{"$f":"Min_P3","v":""}]
[]
[]
[]
[null,null,"INSTRUCTIONS"]
[null,null,{"$f":"Onglet_Gap_Table!B64","v":"Double click on the topics below to perform gap analysis, mitigate your risks "}]
[null,null,{"$f":"Onglet_Gap_Table!B66","v":"You must at least review the topics highlighted in red"}]
[]
[]
[null,1,{"$f":"Onglet_Gap_Table!B35","v":"Mitigate the key factors that are driving your risk"}]
[]
[null,null,{"$f":"Onglet_Gap_Table!B36","v":"INTERNAL VISION"},null,null,null,null,{"$f":"Onglet_Gap_Table!B37","v":"EXTERNAL VISION"},null,null,null,null,null,null,null,null,{"$f":"Onglet_Gap_Table!B46","v":"Priorities for action"},null,null,{"$f":"Onglet_Gap_Table!B47","v":"Review status"},null,null,null,null,null,null,null,"INTERNAL",null,null,"EXTERNAL",null,null,null,null,null,null,"INTERNAL",null,null,"EXTERNAL ANSWER RATE"]
[]
[null,null,{"$f":"Onglet_Gap_Table!B38","v":"Risks"},{"$f":"Onglet_Gap_Table!B39","v":"Type of risk"},"Score",null,null,{"$f":"Onglet_Gap_Table!B41","v":"All panel"},null,{"$f":"Onglet_Gap_Table!B42","v":"AUT"},{"$f":"Onglet_Gap_Table!B43","v":"BUS"},{"$f":"Onglet_Gap_Table!B44","v":"CIV"},{"$f":"Onglet_Gap_Table!B45","v":"COM"},"(*)",null,null,null,null,null,null,null,null,null,null,null,null,null,"Score",null,null,"All panel",null,"AUT","BUS","CIV","COM",null,"Score",null,null,"All panel",null,"AUT","BUS","CIV","COM"]
[]
[null,"C13",{"$f":"VLOOKUP(B27,SRR_referential,2,FALSE)","v":"Level of economic development of the area"},{"$f":"_xlfn.IFS(MID($B27,1,1)=\"C\",Onglet_SRR_Table!$B$35,MID($B27,1,1)=\"I\",Onglet_SRR_Table!$B$36)","v":"Context"},"Not assessed yet",null,null,null,null,null,null,null,null,null,null,null,{"$f":"IF(OR(AB27=Onglet_SRR_Table!$B$31,AB27=\"N/A\"),\"\",IF(AB27>=Threshold,Onglet_SRR_Table!$B$30,\"\"))","v":""},null,null,{"$f":"VLOOKUP(B27,review_status_scores,5,FALSE)","v":"Done"},null,null,null,null,null,null,null,{"$f":"IF(Onglet_SRR_dataset!O50=\"\",Onglet_SRR_Table!$B$31,Onglet_SRR_dataset!O50)","v":"Not assessed yet"},null,null,null,null,null,null,null,null,null,1]
[null,"C14","Level of human development",{"$f":"_xlfn.IFS(MID($B28,1,1)=\"C\",Onglet_SRR_Table!$B$35,MID($B28,1,1)=\"I\",Onglet_SRR_Table!$B$36)","v":"Context"},"Not assessed yet",null,null,null,null,null,null,null,null,null,null,null,{"$f":"IF(OR(AB28=Onglet_SRR_Table!$B$31,AB28=\"N/A\"),\"\",IF(AB28>=Threshold,Onglet_SRR_Table!$B$30,\"\"))","v":""},null,null,"Done",null,null,null,null,null,null,null,{"$f":"IF(Onglet_SRR_dataset!O51=\"\",Onglet_SRR_Table!$B$31,Onglet_SRR_dataset!O51)","v":"Not assessed yet"},null,null,null,null,null,null,null,null,null,1]
[null,"C15","Economic footprint of TotalEnergies",{"$f":"_xlfn.IFS(MID($B29,1,1)=\"C\",Onglet_SRR_Table!$B$35,MID($B29,1,1)=\"I\",Onglet_SRR_Table!$B$36)","v":"Context"},"Not assessed yet",null,null,null,null,null,null,null,null,null,null,null,{"$f":"IF(OR(AB29=Onglet_SRR_Table!$B$31,AB29=\"N/A\"),\"\",IF(AB29>=Threshold,Onglet_SRR_Table!$B$30,\"\"))","v":""},null,null,"Done",null,null,null,null,null,null,null,{"$f":"IF(Onglet_SRR_dataset!O52=\"\",Onglet_SRR_Table!$B$31,Onglet_SRR_dataset!O52)","v":"Not assessed yet"},null,null,null,null,null,null,null,null,null,1]
[null,"C16","Employment trends in TotalEnergies",{"$f":"_xlfn.IFS(MID($B30,1,1)=\"C\",Onglet_SRR_Table!$B$35,MID($B30,1,1)=\"I\",Onglet_SRR_Table!$B$36)","v":"Context"},"Not assessed yet",null,null,null,null,null,null,null,null,null,null,null,{"$f":"IF(OR(AB30=Onglet_SRR_Table!$B$31,AB30=\"N/A\"),\"\",IF(AB30>=Threshold,Onglet_SRR_Table!$B$30,\"\"))","v":""},null,null,"Done",null,null,null,null,null,null,null,{"$f":"IF(Onglet_SRR_dataset!O53=\"\",Onglet_SRR_Table!$B$31,Onglet_SRR_dataset!O53)","v":"Not assessed yet"},null,null,null,null,null,null,null,null,null,1]
[null,"I07","Local employment",{"$f":"_xlfn.IFS(MID($B31,1,1)=\"C\",Onglet_SRR_Table!$B$35,MID($B31,1,1)=\"I\",Onglet_SRR_Table!$B$36)","v":"Impact"},"Not assessed yet",null,null,null,null,null,null,null,null,{"$f":"IFERROR(IF(Onglet_consult_dataset!N30<Answer_rate_threshold,Onglet_consult_dataset!N30,\"\"),\"\")","v":""},null,null,{"$f":"IFERROR(_xlfn.IFS(OR(AB31=Onglet_SRR_Table!$B$31,AB31=\"N/A\"),\"\",AND(AE31>=Threshold,AE31<>\"\",N31=\"\"),Onglet_SRR_Table!$B$131,AND(AE31>=Threshold,AE31<>\"\",N31<>\"\"),Onglet_SRR_Table!$B$33,AB31>=Threshold,Onglet_SRR_Table!$B$30),\"\")","v":""},null,null,"Done",null,null,null,null,null,null,null,{"$f":"IF(Onglet_SRR_dataset!O55=\"\",Onglet_SRR_Table!$B$31,Onglet_SRR_dataset!O55)","v":"Not assessed yet"},null,null,{"$f":"VLOOKUP(B31,Consult_dataset,7,FALSE)","v":""},null,{"$f":"VLOOKUP(B31,Consult_dataset,3,FALSE)","v":""},{"$f":"VLOOKUP(B31,Consult_dataset,4,FALSE)","v":""},{"$f":"VLOOKUP(B31,Consult_dataset,5,FALSE)","v":""},{"$f":"VLOOKUP(B31,Consult_dataset,6,FALSE)","v":""},null,1,null,null,{"$f":"VLOOKUP(B31,Consult_dataset,13,FALSE)","v":""},null,{"$f":"VLOOKUP(B31,Consult_dataset,9,FALSE)","v":""},{"$f":"VLOOKUP(B31,Consult_dataset,10,FALSE)","v":""},{"$f":"VLOOKUP(B31,Consult_dataset,11,FALSE)","v":""},{"$f":"VLOOKUP(B31,Consult_dataset,12,FALSE)","v":""}]
[null,"I08","Local procurement",{"$f":"_xlfn.IFS(MID($B32,1,1)=\"C\",Onglet_SRR_Table!$B$35,MID($B32,1,1)=\"I\",Onglet_SRR_Table!$B$36)","v":"Impact"},"Not assessed yet",null,null,null,null,null,null,null,null,{"$f":"IFERROR(IF(Onglet_consult_dataset!N31<Answer_rate_threshold,Onglet_consult_dataset!N31,\"\"),\"\")","v":""},null,null,{"$f":"IFERROR(_xlfn.IFS(OR(AB32=Onglet_SRR_Table!$B$31,AB32=\"N/A\"),\"\",AND(AE32>=Threshold,AE32<>\"\",N32=\"\"),Onglet_SRR_Table!$B$131,AND(AE32>=Threshold,AE32<>\"\",N32<>\"\",AB32>=Threshold,Onglet_SRR_Table!$B$30),Onglet_SRR_Table!$B$33),\"\")","v":""},null,null,"Done",null,null,null,null,null,null,null,{"$f":"IF(Onglet_SRR_dataset!O56=\"\",Onglet_SRR_Table!$B$31,Onglet_SRR_dataset!O56)","v":"Not assessed yet"},null,null,{"$f":"VLOOKUP(B32,Consult_dataset,7,FALSE)","v":""},null,{"$f":"VLOOKUP(B32,Consult_dataset,3,FALSE)","v":""},{"$f":"VLOOKUP(B32,Consult_dataset,4,FALSE)","v":""},{"$f":"VLOOKUP(B32,Consult_dataset,5,FALSE)","v":""},{"$f":"VLOOKUP(B32,Consult_dataset,6,FALSE)","v":""},null,1,null,null,{"$f":"VLOOKUP(B32,Consult_dataset,13,FALSE)","v":""},null,{"$f":"VLOOKUP(B32,Consult_dataset,9,FALSE)","v":""},{"$f":"VLOOKUP(B32,Consult_dataset,10,FALSE)","v":""},{"$f":"VLOOKUP(B32,Consult_dataset,11,FALSE)","v":""},{"$f":"VLOOKUP(B32,Consult_dataset,12,FALSE)","v":""}]
[null,"I09","Local socio-economic investments",{"$f":"_xlfn.IFS(MID($B33,1,1)=\"C\",Onglet_SRR_Table!$B$35,MID($B33,1,1)=\"I\",Onglet_SRR_Table!$B$36)","v":"Impact"},"Not assessed yet",null,null,null,null,null,null,null,null,{"$f":"IFERROR(IF(Onglet_consult_dataset!N32<Answer_rate_threshold,Onglet_consult_dataset!N32,\"\"),\"\")","v":""},null,null,{"$f":"IFERROR(_xlfn.IFS(OR(AB33=Onglet_SRR_Table!$B$31,AB33=\"N/A\"),\"\",AND(AE33>=Threshold,AE33<>\"\",N33=\"\"),Onglet_SRR_Table!$B$131,AND(AE33>=Threshold,AE33<>\"\",N33<>\"\"),Onglet_SRR_Table!$B$33,AB33>=Threshold,Onglet_SRR_Table!$B$30),\"\")","v":""},null,null,"Done",null,null,null,null,null,null,null,{"$f":"IF(Onglet_SRR_dataset!O57=\"\",Onglet_SRR_Table!$B$31,Onglet_SRR_dataset!O57)","v":"Not assessed yet"},null,null,{"$f":"VLOOKUP(B33,Consult_dataset,7,FALSE)","v":""},null,{"$f":"VLOOKUP(B33,Consult_dataset,3,FALSE)","v":""},{"$f":"VLOOKUP(B33,Consult_dataset,4,FALSE)","v":""},{"$f":"VLOOKUP(B33,Consult_dataset,5,FALSE)","v":""},{"$f":"VLOOKUP(B33,Consult_dataset,6,FALSE)","v":""},null,1,null,null,{"$f":"VLOOKUP(B33,Consult_dataset,13,FALSE)","v":""},null,{"$f":"VLOOKUP(B33,Consult_dataset,9,FALSE)","v":""},{"$f":"VLOOKUP(B33,Consult_dataset,10,FALSE)","v":""},{"$f":"VLOOKUP(B33,Consult_dataset,11,FALSE)","v":""},{"$f":"VLOOKUP(B33,Consult_dataset,12,FALSE)","v":""}]
[]
[]
[null,2,{"$f":"Onglet_Gap_Table!$B$48","v":"Improve your social performance"}]
[]
[null,null,{"$f":"Onglet_Gap_Table!$B$36","v":"INTERNAL VISION"},null,null,null,null,{"$f":"Onglet_Gap_Table!$B$37","v":"EXTERNAL VISION"},null,null,null,null,null,null,null,null,{"$f":"Onglet_Gap_Table!$B$46","v":"Priorities for action"},null,null,{"$f":"Onglet_Gap_Table!$B$47","v":"Review status"},null,null,null,null,null,null,null,"INTERNAL",null,null,"EXTERNAL",null,null,null,null,null,null,"INTERNAL",null,null,"EXTERNAL ANSWER RATE"]
[]
[null,null,{"$f":"Onglet_Gap_Table!$B$48","v":"Improve your social performance"},{"$f":"Onglet_Gap_Table!$B$50","v":"Current level"},{"$f":"Onglet_Gap_Table!$B$53","v":"Minimum required"},null,null,{"$f":"Onglet_Gap_Table!$B$41","v":"All panel"},null,{"$f":"Onglet_Gap_Table!$B$42","v":"AUT"},{"$f":"Onglet_Gap_Table!$B$43","v":"BUS"},{"$f":"Onglet_Gap_Table!$B$44","v":"CIV"},{"$f":"Onglet_Gap_Table!$B$45","v":"COM"},"(*)",null,null,null,null,null,null,null,null,null,null,null,null,null,"Score",null,null,"All panel",null,"AUT","BUS","CIV","COM",null,"Score",null,null,"All panel",null,"AUT","BUS","CIV","COM"]
[]
[null,"P09",{"$f":"VLOOKUP(B42,SRR_referential,2,FALSE)","v":"Access to jobs opportunities for locals"},{"$f":"IF(Onglet_SRR_dataset!O59=\"N/A\",\"N/A\",IF(Onglet_SRR_dataset!O59=\"\",Onglet_SRR_Table!$B$31,IFERROR(INDEX(Maturity,MATCH(Onglet_SRR_dataset!O59,Onglet_SRR_Rules!$C$7:$C$10,-1),4),\"\")))","v":"Not assessed yet"},{"$f":"$D$12","v":""},null,null,{"$f":"IFERROR(INDEX(Onglet_SRR_Rules!$B$41:$D$44,MATCH(Onglet_consult_dataset!H33,Onglet_SRR_Rules!$C$41:$C$44,-1),3),\"\")","v":""},null,null,null,null,null,{"$f":"IFERROR(IF(Onglet_consult_dataset!N33<Answer_rate_threshold,Onglet_consult_dataset!N33,\"\"),\"\")","v":""},null,null,{"$f":"IFERROR(_xlfn.IFS(OR(D42=Onglet_SRR_Table!$B$31,D42=\"N/A\"),\"\",Onglet_SRR_dataset!T59=1,Onglet_SRR_Table!$B$132,AND(OR(H42=Onglet_SRR_Table!$B$62,H42=Onglet_SRR_Table!$B$63),N42<>\"\"),Onglet_SRR_Table!$B$33,AND(OR(H42=Onglet_SRR_Table!$B$62,H42=Onglet_SRR_Table!$B$63),N42=\"\"),Onglet_SRR_Table!$B$131),\"\")","v":""},null,null,{"$f":"VLOOKUP(B42,review_status_scores,5,FALSE)","v":"Done"},null,null,null,null,null,null,null,null,null,null,{"$f":"VLOOKUP(B42,Consult_dataset,7,FALSE)","v":""},null,{"$f":"VLOOKUP($B42,Consult_dataset,3,FALSE)","v":""},{"$f":"VLOOKUP(B42,Consult_dataset,4,FALSE)","v":""},{"$f":"VLOOKUP(B42,Consult_dataset,5,FALSE)","v":""},{"$f":"VLOOKUP(B42,Consult_dataset,6,FALSE)","v":""},null,null,null,null,{"$f":"VLOOKUP(B42,Consult_dataset,13,FALSE)","v":""},null,{"$f":"VLOOKUP(B42,Consult_dataset,9,FALSE)","v":""},{"$f":"VLOOKUP(B42,Consult_dataset,10,FALSE)","v":""},{"$f":"VLOOKUP(B42,Consult_dataset,11,FALSE)","v":""},{"$f":"VLOOKUP(B42,Consult_dataset,12,FALSE)","v":""}]
[null,"P10","Access to tenders for local contractors",{"$f":"IF(Onglet_SRR_dataset!O60=\"N/A\",\"N/A\",IF(Onglet_SRR_dataset!O60=\"\",Onglet_SRR_Table!$B$31,IFERROR(INDEX(Maturity,MATCH(Onglet_SRR_dataset!O60,Onglet_SRR_Rules!$C$7:$C$10,-1),4),\"\")))","v":"Not assessed yet"},"",null,null,{"$f":"IFERROR(INDEX(Onglet_SRR_Rules!$B$41:$D$44,MATCH(Onglet_consult_dataset!H34,Onglet_SRR_Rules!$C$41:$C$44,-1),3),\"\")","v":""},null,null,null,null,null,{"$f":"IFERROR(IF(Onglet_consult_dataset!N34<Answer_rate_threshold,Onglet_consult_dataset!N34,\"\"),\"\")","v":""},null,null,{"$f":"IFERROR(_xlfn.IFS(OR(D43=Onglet_SRR_Table!$B$31,D43=\"N/A\"),\"\",Onglet_SRR_dataset!T60=1,Onglet_SRR_Table!$B$132,AND(OR(H43=Onglet_SRR_Table!$B$62,H43=Onglet_SRR_Table!$B$63),N43<>\"\"),Onglet_SRR_Table!$B$33,AND(OR(H43=Onglet_SRR_Table!$B$62,H43=Onglet_SRR_Table!$B$63),N43=\"\"),Onglet_SRR_Table!$B$131),\"\")","v":""},null,null,"Done",null,null,null,null,null,null,null,null,null,null,"",null,"","","","",null,null,null,null,"",null,"","","",""]
[null,"P11","Capacity building of locals",{"$f":"IF(Onglet_SRR_dataset!O61=\"N/A\",\"N/A\",IF(Onglet_SRR_dataset!O61=\"\",Onglet_SRR_Table!$B$31,IFERROR(INDEX(Maturity,MATCH(Onglet_SRR_dataset!O61,Onglet_SRR_Rules!$C$7:$C$10,-1),4),\"\")))","v":"Not assessed yet"},"",null,null,{"$f":"IFERROR(INDEX(Onglet_SRR_Rules!$B$41:$D$44,MATCH(Onglet_consult_dataset!H35,Onglet_SRR_Rules!$C$41:$C$44,-1),3),\"\")","v":""},null,null,null,null,null,{"$f":"IFERROR(IF(Onglet_consult_dataset!N35<Answer_rate_threshold,Onglet_consult_dataset!N35,\"\"),\"\")","v":""},null,null,{"$f":"IFERROR(_xlfn.IFS(OR(D44=Onglet_SRR_Table!$B$31,D44=\"N/A\"),\"\",Onglet_SRR_dataset!T61=1,Onglet_SRR_Table!$B$132,AND(OR(H44=Onglet_SRR_Table!$B$62,H44=Onglet_SRR_Table!$B$63),N44<>\"\"),Onglet_SRR_Table!$B$33,AND(OR(H44=Onglet_SRR_Table!$B$62,H44=Onglet_SRR_Table!$B$63),N44=\"\"),Onglet_SRR_Table!$B$131),\"\")","v":""},null,null,"Done",null,null,null,null,null,null,null,null,null,null,"",null,"","","","",null,null,null,null,"",null,"","","",""]
[null,"P12",{"$f":"VLOOKUP(B45,SRR_referential,2,FALSE)","v":"Participation in local economic institutions"},{"$f":"IF(Onglet_SRR_dataset!O62=\"N/A\",\"N/A\",IF(Onglet_SRR_dataset!O62=\"\",Onglet_SRR_Table!$B$31,IFERROR(INDEX(Maturity,MATCH(Onglet_SRR_dataset!O62,Onglet_SRR_Rules!$C$7:$C$10,-1),4),\"\")))","v":"Not assessed yet"},"",null,null,{"$f":"IFERROR(INDEX(Onglet_SRR_Rules!$B$41:$D$44,MATCH(Onglet_consult_dataset!H36,Onglet_SRR_Rules!$C$41:$C$44,-1),3),\"\")","v":""},null,null,null,null,null,{"$f":"IFERROR(IF(Onglet_consult_dataset!N36<Answer_rate_threshold,Onglet_consult_dataset!N36,\"\"),\"\")","v":""},null,null,{"$f":"IFERROR(_xlfn.IFS(OR(D45=Onglet_SRR_Table!$B$31,D45=\"N/A\"),\"\",Onglet_SRR_dataset!T62=1,Onglet_SRR_Table!$B$132,AND(OR(H45=Onglet_SRR_Table!$B$62,H45=Onglet_SRR_Table!$B$63),N45<>\"\"),Onglet_SRR_Table!$B$33,AND(OR(H45=Onglet_SRR_Table!$B$62,H45=Onglet_SRR_Table!$B$63),N45=\"\"),Onglet_SRR_Table!$B$131),\"\")","v":""},null,null,"Done",null,null,null,null,null,null,null,null,null,null,"",null,"","","","",null,null,null,null,"",null,"","","",""]
[null,"P13","Control of contractors on local content",{"$f":"IF(Onglet_SRR_dataset!O63=\"N/A\",\"N/A\",IF(Onglet_SRR_dataset!O63=\"\",Onglet_SRR_Table!$B$31,IFERROR(INDEX(Maturity,MATCH(Onglet_SRR_dataset!O63,Onglet_SRR_Rules!$C$7:$C$10,-1),4),\"\")))","v":"Not assessed yet"},"",null,null,{"$f":"IFERROR(INDEX(Onglet_SRR_Rules!$B$41:$D$44,MATCH(Onglet_consult_dataset!H37,Onglet_SRR_Rules!$C$41:$C$44,-1),3),\"\")","v":""},null,null,null,null,null,{"$f":"IFERROR(IF(Onglet_consult_dataset!N37<Answer_rate_threshold,Onglet_consult_dataset!N37,\"\"),\"\")","v":""},null,null,{"$f":"IFERROR(_xlfn.IFS(OR(D46=Onglet_SRR_Table!$B$31,D46=\"N/A\"),\"\",Onglet_SRR_dataset!T63=1,Onglet_SRR_Table!$B$132,AND(OR(H46=Onglet_SRR_Table!$B$62,H46=Onglet_SRR_Table!$B$63),N46<>\"\"),Onglet_SRR_Table!$B$33,AND(OR(H46=Onglet_SRR_Table!$B$62,H46=Onglet_SRR_Table!$B$63),N46=\"\"),Onglet_SRR_Table!$B$131),\"\")","v":""},null,null,"Done",null,null,null,null,null,null,null,null,null,null,"",null,"","","","",null,null,null,null,"",null,"","","",""]
[null,"P14","Management of socio-economic projects",{"$f":"IF(Onglet_SRR_dataset!O64=\"N/A\",\"N/A\",IF(Onglet_SRR_dataset!O64=\"\",Onglet_SRR_Table!$B$31,IFERROR(INDEX(Maturity,MATCH(Onglet_SRR_dataset!O64,Onglet_SRR_Rules!$C$7:$C$10,-1),4),\"\")))","v":"Not assessed yet"},"",null,null,{"$f":"IFERROR(INDEX(Onglet_SRR_Rules!$B$41:$D$44,MATCH(Onglet_consult_dataset!H38,Onglet_SRR_Rules!$C$41:$C$44,-1),3),\"\")","v":""},null,null,null,null,null,{"$f":"IFERROR(IF(Onglet_consult_dataset!N38<Answer_rate_threshold,Onglet_consult_dataset!N38,\"\"),\"\")","v":""},null,null,{"$f":"IFERROR(_xlfn.IFS(OR(D47=Onglet_SRR_Table!$B$31,D47=\"N/A\"),\"\",Onglet_SRR_dataset!T64=1,Onglet_SRR_Table!$B$132,AND(OR(H47=Onglet_SRR_Table!$B$62,H47=Onglet_SRR_Table!$B$63),N47<>\"\"),Onglet_SRR_Table!$B$33,AND(OR(H47=Onglet_SRR_Table!$B$62,H47=Onglet_SRR_Table!$B$63),N47=\"\"),Onglet_SRR_Table!$B$131),\"\")","v":""},null,null,"Done",null,null,null,null,null,null,null,null,null,null,"",null,"","","","",null,null,null,null,"",null,"","","",""]
[null,"P15",{"$f":"VLOOKUP(B48,SRR_referential,2,FALSE)","v":"Partnerships"},{"$f":"IF(Onglet_SRR_dataset!O65=\"N/A\",\"N/A\",IF(Onglet_SRR_dataset!O65=\"\",Onglet_SRR_Table!$B$31,IFERROR(INDEX(Maturity,MATCH(Onglet_SRR_dataset!O65,Onglet_SRR_Rules!$C$7:$C$10,-1),4),\"\")))","v":"Not assessed yet"},"",null,null,{"$f":"IFERROR(INDEX(Onglet_SRR_Rules!$B$41:$D$44,MATCH(Onglet_consult_dataset!H39,Onglet_SRR_Rules!$C$41:$C$44,-1),3),\"\")","v":""},null,null,null,null,null,{"$f":"IFERROR(IF(Onglet_consult_dataset!N39<Answer_rate_threshold,Onglet_consult_dataset!N39,\"\"),\"\")","v":""},null,null,{"$f":"IFERROR(_xlfn.IFS(OR(D48=Onglet_SRR_Table!$B$31,D48=\"N/A\"),\"\",Onglet_SRR_dataset!T65=1,Onglet_SRR_Table!$B$132,AND(OR(H48=Onglet_SRR_Table!$B$62,H48=Onglet_SRR_Table!$B$63),N48<>\"\"),Onglet_SRR_Table!$B$33,AND(OR(H48=Onglet_SRR_Table!$B$62,H48=Onglet_SRR_Table!$B$63),N48=\"\"),Onglet_SRR_Table!$B$31),\"\")","v":""},null,null,"Done",null,null,null,null,null,null,null,null,null,null,"",null,"","","","",null,null,null,null,"",null,"","","",""]
[]
[]
[null,3,{"$f":"Onglet_Gap_Table!B72","v":"Take into account stakeholder priorities for social investments"}]
[]
[null,null,{"$f":"Onglet_Gap_Table!$B$36","v":"INTERNAL VISION"},null,null,null,null,{"$f":"Onglet_Gap_Table!$B$37","v":"EXTERNAL VISION"},null,null,null,null,null,null,null,null,{"$f":"Onglet_Gap_Table!$B$46","v":"Priorities for action"},null,null,{"$f":"Onglet_Gap_Table!$B$47","v":"Review status"},null,null,null,null,null,null,null,"INTERNAL",null,null,"EXTERNAL",null,null,null,null,null,null,"INTERNAL",null,null,"EXTERNAL ANSWER RATE"]
[]
[null,null,{"$f":"Onglet_Gap_Table!B70","v":"Areas of social investment"},{"$f":"Onglet_Gap_Table!B71","v":"Priorities"},null,null,null,{"$f":"Onglet_Gap_Table!$B$41","v":"All panel"},null,{"$f":"Onglet_Gap_Table!$B$42","v":"AUT"},{"$f":"Onglet_Gap_Table!$B$43","v":"BUS"},{"$f":"Onglet_Gap_Table!$B$44","v":"CIV"},{"$f":"Onglet_Gap_Table!$B$45","v":"COM"},"(*)",null,null,null,null,null,null,null,null,null,null,null,null,null,"Score",null,null,"All panel",null,"AUT","BUS","CIV","COM",null,"Score",null,null,"All panel",null,"AUT","BUS","CIV","COM"]
[]
[null,"S01",{"$f":"VLOOKUP(B57,SRR_referential,2,FALSE)","v":"Road safety"},{"$f":"IF(COUNTA(Onglet_SRR_P3!$F$159:'Onglet_SRR_P3'!$F$165)=0,Onglet_SRR_Table!$B$31,IF(Onglet_SRR_P3!F159=0,\"\",Onglet_SRR_P3!F159))","v":"Not assessed yet"},null,null,null,{"$f":"IFERROR(VLOOKUP(C57,SI_top3,2,FALSE),\"\")","v":""},null,null,null,null,null,null,null,null,{"$f":"IFERROR(_xlfn.IFS(AND(H57<>\"\",D57<>\"\",Onglet_SRR_dataset!T68<>1,Onglet_consult_dataset!AJ42=1),Onglet_SRR_Table!$B$131,AND(H57<>\"\",D57<>\"\",Onglet_SRR_dataset!T68=1,Onglet_consult_dataset!AJ42<>1),Onglet_SRR_Table!$B$131,OR(Onglet_SRR_dataset!T68=1,Onglet_consult_dataset!AJ42=1),Onglet_SRR_Table!$B$133),\"\")","v":""},null,null,{"$f":"VLOOKUP(B57,review_status_scores,5,FALSE)","v":"Done"},null,null,null,null,null,null,null,null,null,null,{"$f":"VLOOKUP(B57,Consult_dataset,7,FALSE)","v":""},null,{"$f":"VLOOKUP($B57,Consult_dataset,3,FALSE)","v":""},{"$f":"VLOOKUP(B57,Consult_dataset,4,FALSE)","v":""},{"$f":"VLOOKUP(B57,Consult_dataset,5,FALSE)","v":""},{"$f":"VLOOKUP(B57,Consult_dataset,6,FALSE)","v":""},null,null,null,null,{"$f":"VLOOKUP(B57,Consult_dataset,13,FALSE)","v":""},null,{"$f":"VLOOKUP(B57,Consult_dataset,9,FALSE)","v":""},{"$f":"VLOOKUP(B57,Consult_dataset,10,FALSE)","v":""},{"$f":"VLOOKUP(B57,Consult_dataset,11,FALSE)","v":""},{"$f":"VLOOKUP(B57,Consult_dataset,12,FALSE)","v":""}]
[null,"S02",{"$f":"VLOOKUP(B58,SRR_referential,2,FALSE)","v":"Environment & climate"},{"$f":"IF(COUNTA(Onglet_SRR_P3!$F$159:'Onglet_SRR_P3'!$F$165)=0,Onglet_SRR_Table!$B$31,IF(Onglet_SRR_P3!F160=0,\"\",Onglet_SRR_P3!F160))","v":"Not assessed yet"},null,null,null,"",null,null,null,null,null,null,null,null,{"$f":"IFERROR(_xlfn.IFS(AND(H58<>\"\",D58<>\"\",Onglet_SRR_dataset!T69<>1,Onglet_consult_dataset!AJ43=1),Onglet_SRR_Table!$B$131,AND(H58<>\"\",D58<>\"\",Onglet_SRR_dataset!T69=1,Onglet_consult_dataset!AJ43<>1),Onglet_SRR_Table!$B$131,OR(Onglet_SRR_dataset!T69=1,Onglet_consult_dataset!AJ43=1),Onglet_SRR_Table!$B$133),\"\")","v":""},null,null,"Done",null,null,null,null,null,null,null,null,null,null,"",null,"","","","",null,null,null,null,"",null,"","","",""]
[null,"S03","Culture and heritage",{"$f":"IF(COUNTA(Onglet_SRR_P3!$F$159:'Onglet_SRR_P3'!$F$165)=0,Onglet_SRR_Table!$B$31,IF(Onglet_SRR_P3!F161=0,\"\",Onglet_SRR_P3!F161))","v":"Not assessed yet"},null,null,null,"",null,null,null,null,null,null,null,null,{"$f":"IFERROR(_xlfn.IFS(AND(H59<>\"\",D59<>\"\",Onglet_SRR_dataset!T70<>1,Onglet_consult_dataset!AJ44=1),Onglet_SRR_Table!$B$131,AND(H59<>\"\",D59<>\"\",Onglet_SRR_dataset!T70=1,Onglet_consult_dataset!AJ44<>1),Onglet_SRR_Table!$B$131,OR(Onglet_SRR_dataset!T70=1,Onglet_consult_dataset!AJ44=1),Onglet_SRR_Table!$B$133),\"\")","v":""},null,null,"Done",null,null,null,null,null,null,null,null,null,null,"",null,"","","","",null,null,null,null,"",null,"","","",""]
[null,"S04","Education / training / professional integration",{"$f":"IF(COUNTA(Onglet_SRR_P3!$F$159:'Onglet_SRR_P3'!$F$165)=0,Onglet_SRR_Table!$B$31,IF(Onglet_SRR_P3!F162=0,\"\",Onglet_SRR_P3!F162))","v":"Not assessed yet"},null,null,null,"",null,null,null,null,null,null,null,null,{"$f":"IFERROR(_xlfn.IFS(AND(H60<>\"\",D60<>\"\",Onglet_SRR_dataset!T71<>1,Onglet_consult_dataset!AJ45=1),Onglet_SRR_Table!$B$131,AND(H60<>\"\",D60<>\"\",Onglet_SRR_dataset!T71=1,Onglet_consult_dataset!AJ45<>1),Onglet_SRR_Table!$B$131,OR(Onglet_SRR_dataset!T71=1,Onglet_consult_dataset!AJ45=1),Onglet_SRR_Table!$B$133),\"\")","v":""},null,null,"Done",null,null,null,null,null,null,null,null,null,null,"",null,"","","","",null,null,null,null,"",null,"","","",""]
[null,"S05","Economic empowerment/support to business development",{"$f":"IF(COUNTA(Onglet_SRR_P3!$F$159:'Onglet_SRR_P3'!$F$165)=0,Onglet_SRR_Table!$B$31,IF(Onglet_SRR_P3!F163=0,\"\",Onglet_SRR_P3!F163))","v":"Not assessed yet"},null,null,null,"",null,null,null,null,null,null,null,null,{"$f":"IFERROR(_xlfn.IFS(AND(H61<>\"\",D61<>\"\",Onglet_SRR_dataset!T72<>1,Onglet_consult_dataset!AJ46=1),Onglet_SRR_Table!$B$131,AND(H61<>\"\",D61<>\"\",Onglet_SRR_dataset!T72=1,Onglet_consult_dataset!AJ46<>1),Onglet_SRR_Table!$B$131,OR(Onglet_SRR_dataset!T72=1,Onglet_consult_dataset!AJ46=1),Onglet_SRR_Table!$B$133),\"\")","v":""},null,null,"Done",null,null,null,null,null,null,null,null,null,null,"",null,"","","","",null,null,null,null,"",null,"","","",""]
[null,"S06","Improved access to essential services (health, water, energy)",{"$f":"IF(COUNTA(Onglet_SRR_P3!$F$159:'Onglet_SRR_P3'!$F$165)=0,Onglet_SRR_Table!$B$31,IF(Onglet_SRR_P3!F164=0,\"\",Onglet_SRR_P3!F164))","v":"Not assessed yet"},null,null,null,"",null,null,null,null,null,null,null,null,{"$f":"IFERROR(_xlfn.IFS(AND(H62<>\"\",D62<>\"\",Onglet_SRR_dataset!T73<>1,Onglet_consult_dataset!AJ47=1),Onglet_SRR_Table!$B$131,AND(H62<>\"\",D62<>\"\",Onglet_SRR_dataset!T73=1,Onglet_consult_dataset!AJ47<>1),Onglet_SRR_Table!$B$131,OR(Onglet_SRR_dataset!T73=1,Onglet_consult_dataset!AJ47=1),Onglet_SRR_Table!$B$133),\"\")","v":""},null,null,"Done",null,null,null,null,null,null,null,null,null,null,"",null,"","","","",null,null,null,null,"",null,"","","",""]
[null,"S07","Other",{"$f":"IF(COUNTA(Onglet_SRR_P3!$F$159:'Onglet_SRR_P3'!$F$165)=0,Onglet_SRR_Table!$B$31,IF(Onglet_SRR_P3!F165=0,\"\",Onglet_SRR_P3!F165))","v":"Not assessed yet"},null,null,null,"",null,null,null,null,null,null,null,null,{"$f":"IFERROR(_xlfn.IFS(AND(H63<>\"\",D63<>\"\",Onglet_SRR_dataset!T74<>1,Onglet_consult_dataset!AJ48=1),Onglet_SRR_Table!$B$131,AND(H63<>\"\",D63<>\"\",Onglet_SRR_dataset!T74=1,Onglet_consult_dataset!AJ48<>1),Onglet_SRR_Table!$B$131,OR(Onglet_SRR_dataset!T74=1,Onglet_consult_dataset!AJ48=1),Onglet_SRR_Table!$B$133),\"\")","v":""},null,null,"Done",null,null,null,null,null,null,null,null,null,null,"",null,"","","","",null,null,null,null,"",null,"","","",""]

{"sheet":"Onglet_Gap_P4","index":24,"n_rows":36,"n_cols":12,"rows_kept":36,"cut":false,"hidden":false,"merged":[[23,8,25,8],[23,11,25,11]]}
[]
[]
[]
[]
[]
[null,{"$f":"Onglet_trad_menus!B49","v":"SOCIAL PERFORMANCE GOVERNANCE"}]
[]
[null,null,null,{"$f":"Onglet_Gap_Table!B68","v":"INTERNAL"}]
[null,null,{"$f":"Onglet_Gap_Table!B61","v":"Your societal exposure before mitigation"},{"$f":"Onglet_SRR_graph!D103","v":"Not assessed yet"}]
[]
[]
[null,null,{"$f":"Onglet_Gap_Table!B62","v":"Minimum maturity recommended on social performance"},{"$f":"Min_P4","v":""}]
[]
[]
[]
[null,null,"INSTRUCTIONS"]
[null,null,{"$f":"Onglet_Gap_Table!B64","v":"Double click on the topics below to perform gap analysis, mitigate your risks "}]
[null,null,{"$f":"Onglet_Gap_Table!B65","v":"and improve your social performance"}]
[null,null,{"$f":"Onglet_Gap_Table!B66","v":"You must at least review the topics highlighted in red"}]
[]
[]
[null,1,{"$f":"Onglet_Gap_Table!$B$48","v":"Improve your social performance"}]
[]
[null,null,{"$f":"Onglet_Gap_Table!$B$36","v":"INTERNAL VISION"},null,null,null,null,null,{"$f":"Onglet_Gap_Table!$B$46","v":"Priorities for action"},null,null,{"$f":"Onglet_Gap_Table!$B$47","v":"Review status"}]
[]
[null,null,{"$f":"Onglet_Gap_Table!$B$48","v":"Improve your social performance"},{"$f":"Onglet_Gap_Table!$B$50","v":"Current level"},{"$f":"Onglet_Gap_Table!$B$53","v":"Minimum required"}]
[]
[null,"P16",{"$f":"VLOOKUP(B28,SRR_referential,2,FALSE)","v":"Social performance resources (budget, staff)"},{"$f":"IF(Onglet_SRR_dataset!O77=\"N/A\",\"N/A\",IF(Onglet_SRR_dataset!O77=\"\",Onglet_SRR_Table!$B$31,IFERROR(INDEX(Maturity,MATCH(Onglet_SRR_dataset!O77,Onglet_SRR_Rules!$C$7:$C$10,-1),4),\"\")))","v":"Not assessed yet"},{"$f":"$D$12","v":""},null,null,null,{"$f":"IFERROR(_xlfn.IFS(OR(D28=Onglet_SRR_Table!$B$31,D28=\"N/A\"),\"\",Onglet_SRR_dataset!T77=1,Onglet_SRR_Table!$B$132),\"\")","v":""},null,null,{"$f":"VLOOKUP(B28,review_status_scores,5,FALSE)","v":"Done"}]
[null,"P17","Interactions with top management and other departments",{"$f":"IF(Onglet_SRR_dataset!O78=\"N/A\",\"N/A\",IF(Onglet_SRR_dataset!O78=\"\",Onglet_SRR_Table!$B$31,IFERROR(INDEX(Maturity,MATCH(Onglet_SRR_dataset!O78,Onglet_SRR_Rules!$C$7:$C$10,-1),4),\"\")))","v":"Not assessed yet"},"",null,null,null,{"$f":"IFERROR(_xlfn.IFS(OR(D29=Onglet_SRR_Table!$B$31,D29=\"N/A\"),\"\",Onglet_SRR_dataset!T78=1,Onglet_SRR_Table!$B$132),\"\")","v":""},null,null,"Done"]
[null,"P18","Social risk assessment and management",{"$f":"IF(Onglet_SRR_dataset!O79=\"N/A\",\"N/A\",IF(Onglet_SRR_dataset!O79=\"\",Onglet_SRR_Table!$B$31,IFERROR(INDEX(Maturity,MATCH(Onglet_SRR_dataset!O79,Onglet_SRR_Rules!$C$7:$C$10,-1),4),\"\")))","v":"Not assessed yet"},"",null,null,null,{"$f":"IFERROR(_xlfn.IFS(OR(D30=Onglet_SRR_Table!$B$31,D30=\"N/A\"),\"\",Onglet_SRR_dataset!T79=1,Onglet_SRR_Table!$B$132),\"\")","v":""},null,null,"Done"]
[null,"P19",{"$f":"VLOOKUP(B31,SRR_referential,2,FALSE)","v":"Stakeholder mapping and stakeholder engagement plan"},{"$f":"IF(Onglet_SRR_dataset!O80=\"N/A\",\"N/A\",IF(Onglet_SRR_dataset!O80=\"\",Onglet_SRR_Table!$B$31,IFERROR(INDEX(Maturity,MATCH(Onglet_SRR_dataset!O80,Onglet_SRR_Rules!$C$7:$C$10,-1),4),\"\")))","v":"Not assessed yet"},"",null,null,null,{"$f":"IFERROR(_xlfn.IFS(OR(D31=Onglet_SRR_Table!$B$31,D31=\"N/A\"),\"\",Onglet_SRR_dataset!T80=1,Onglet_SRR_Table!$B$132),\"\")","v":""},null,null,"Done"]
[null,"P20",{"$f":"VLOOKUP(B32,SRR_referential,2,FALSE)","v":"Social Performance strategy"},{"$f":"IF(Onglet_SRR_dataset!O81=\"N/A\",\"N/A\",IF(Onglet_SRR_dataset!O81=\"\",Onglet_SRR_Table!$B$31,IFERROR(INDEX(Maturity,MATCH(Onglet_SRR_dataset!O81,Onglet_SRR_Rules!$C$7:$C$10,-1),4),\"\")))","v":"Not assessed yet"},"",null,null,null,{"$f":"IFERROR(_xlfn.IFS(OR(D32=Onglet_SRR_Table!$B$31,D32=\"N/A\"),\"\",Onglet_SRR_dataset!T81=1,Onglet_SRR_Table!$B$132),\"\")","v":""},null,null,"Done"]
[null,"P21","Social Performance action plan",{"$f":"IF(Onglet_SRR_dataset!O82=\"N/A\",\"N/A\",IF(Onglet_SRR_dataset!O82=\"\",Onglet_SRR_Table!$B$31,IFERROR(INDEX(Maturity,MATCH(Onglet_SRR_dataset!O82,Onglet_SRR_Rules!$C$7:$C$10,-1),4),\"\")))","v":"Not assessed yet"},"",null,null,null,{"$f":"IFERROR(_xlfn.IFS(OR(D33=Onglet_SRR_Table!$B$31,D33=\"N/A\"),\"\",Onglet_SRR_dataset!T82=1,Onglet_SRR_Table!$B$132),\"\")","v":""},null,null,"Done"]
[null,"P22",{"$f":"VLOOKUP(B34,SRR_referential,2,FALSE)","v":"Monitoring of Social Performance"},{"$f":"IF(Onglet_SRR_dataset!O83=\"N/A\",\"N/A\",IF(Onglet_SRR_dataset!O83=\"\",Onglet_SRR_Table!$B$31,IFERROR(INDEX(Maturity,MATCH(Onglet_SRR_dataset!O83,Onglet_SRR_Rules!$C$7:$C$10,-1),4),\"\")))","v":"Not assessed yet"},"",null,null,null,{"$f":"IFERROR(_xlfn.IFS(OR(D34=Onglet_SRR_Table!$B$31,D34=\"N/A\"),\"\",Onglet_SRR_dataset!T83=1,Onglet_SRR_Table!$B$132),\"\")","v":""},null,null,{"$f":"VLOOKUP(B34,review_status_scores,5,FALSE)","v":"Done"}]
[null,"P23",{"$f":"VLOOKUP(B35,SRR_referential,2,FALSE)","v":"Social Performance Reporting"},{"$f":"IF(Onglet_SRR_dataset!O84=\"N/A\",\"N/A\",IF(Onglet_SRR_dataset!O84=\"\",Onglet_SRR_Table!$B$31,IFERROR(INDEX(Maturity,MATCH(Onglet_SRR_dataset!O84,Onglet_SRR_Rules!$C$7:$C$10,-1),4),\"\")))","v":"Not assessed yet"},"",null,null,null,{"$f":"IFERROR(_xlfn.IFS(OR(D35=Onglet_SRR_Table!$B$31,D35=\"N/A\"),\"\",Onglet_SRR_dataset!T84=1,Onglet_SRR_Table!$B$132),\"\")","v":""},null,null,{"$f":"VLOOKUP(B35,review_status_scores,5,FALSE)","v":"Done"}]
[null,"P24",{"$f":"VLOOKUP(B36,SRR_referential,2,FALSE)","v":"Benchmark with other operators / industries"},{"$f":"IF(Onglet_SRR_dataset!O85=\"N/A\",\"N/A\",IF(Onglet_SRR_dataset!O85=\"\",Onglet_SRR_Table!$B$31,IFERROR(INDEX(Maturity,MATCH(Onglet_SRR_dataset!O85,Onglet_SRR_Rules!$C$7:$C$10,-1),4),\"\")))","v":"Not assessed yet"},"",null,null,null,{"$f":"IFERROR(_xlfn.IFS(OR(D36=Onglet_SRR_Table!$B$31,D36=\"N/A\"),\"\",Onglet_SRR_dataset!T85=1,Onglet_SRR_Table!$B$132),\"\")","v":""},null,null,"Done"]

{"sheet":"Onglet_Gap_Table","index":25,"n_rows":74,"n_cols":6,"rows_kept":74,"cut":false,"hidden":false,"merged":[]}
[]
[]
[]
[]
[]
[]
[]
[]
[]
[]
[null,"Current",null,"EN","FR","SP"]
[]
[]
[]
[]
[]
[]
[]
[]
[]
[]
[]
[null,{"$f":"_xlfn.IFS(Language=\"EN\",D23,Language=\"FR\",E23,Language=\"SP\",F23)","v":"Communication issue"},null,"Communication issue","Problème de communication"]
[null,{"$f":"_xlfn.IFS(Language=\"EN\",D24,Language=\"FR\",E24,Language=\"SP\",F24)","v":"Performance issue"},null,"Performance issue","Problème de performance"]
[null,{"$f":"_xlfn.IFS(Language=\"EN\",D25,Language=\"FR\",E25,Language=\"SP\",F25)","v":"Both"},null,"Both","Les deux"]
[null,{"$f":"_xlfn.IFS(Language=\"EN\",D26,Language=\"FR\",E26,Language=\"SP\",F26)","v":"Not relevant"},null,"Not relevant","Sans objet"]
[null,{"$f":"_xlfn.IFS(Language=\"EN\",D27,Language=\"FR\",E27,Language=\"SP\",F27)","v":"Redundant"},null,"Redundant","Redondant"]
[]
[]
[]
[null,{"$f":"_xlfn.IFS(Language=\"EN\",D31,Language=\"FR\",E31,Language=\"SP\",F31)","v":"✔"},null,"✔","✔","✔"]
[null,{"$f":"_xlfn.IFS(Language=\"EN\",D32,Language=\"FR\",E32,Language=\"SP\",F32)","v":"✘"},null,"✘","✘","✘"]
[]
[]
[null,{"$f":"_xlfn.IFS(Language=\"EN\",D35,Language=\"FR\",E35,Language=\"SP\",F35)","v":"Mitigate the key factors that are driving your risk"},null,"Mitigate the key factors that are driving your risk","Atténuer les principaux facteurs de risque"]
[null,{"$f":"_xlfn.IFS(Language=\"EN\",D36,Language=\"FR\",E36,Language=\"SP\",F36)","v":"INTERNAL VISION"},null,"INTERNAL VISION","VISION INTERNE"]
[null,{"$f":"_xlfn.IFS(Language=\"EN\",D37,Language=\"FR\",E37,Language=\"SP\",F37)","v":"EXTERNAL VISION"},null,"EXTERNAL VISION","VISION EXTERNE"]
[null,{"$f":"_xlfn.IFS(Language=\"EN\",D38,Language=\"FR\",E38,Language=\"SP\",F38)","v":"Risks"},null,"Risks","Risques"]
[null,{"$f":"_xlfn.IFS(Language=\"EN\",D39,Language=\"FR\",E39,Language=\"SP\",F39)","v":"Type of risk"},null,"Type of risk","Type de risque"]
[null,{"$f":"_xlfn.IFS(Language=\"EN\",D40,Language=\"FR\",E40,Language=\"SP\",F40)","v":"Score"},null,"Score","Score"]
[null,{"$f":"_xlfn.IFS(Language=\"EN\",D41,Language=\"FR\",E41,Language=\"SP\",F41)","v":"All panel"},null,"All panel","Tout le panel"]
[null,{"$f":"_xlfn.IFS(Language=\"EN\",D42,Language=\"FR\",E42,Language=\"SP\",F42)","v":"AUT"},null,"AUT","AUT"]
[null,{"$f":"_xlfn.IFS(Language=\"EN\",D43,Language=\"FR\",E43,Language=\"SP\",F43)","v":"BUS"},null,"BUS","BUS"]
[null,{"$f":"_xlfn.IFS(Language=\"EN\",D44,Language=\"FR\",E44,Language=\"SP\",F44)","v":"CIV"},null,"CIV","CIV"]
[null,{"$f":"_xlfn.IFS(Language=\"EN\",D45,Language=\"FR\",E45,Language=\"SP\",F45)","v":"COM"},null,"COM","COM"]
[null,{"$f":"_xlfn.IFS(Language=\"EN\",D46,Language=\"FR\",E46,Language=\"SP\",F46)","v":"Priorities for action"},null,"Priorities for action","Points à adresser en priorité"]
[null,{"$f":"_xlfn.IFS(Language=\"EN\",D47,Language=\"FR\",E47,Language=\"SP\",F47)","v":"Review status"},null,"Review status","Statut de la revue"]
[null,{"$f":"_xlfn.IFS(Language=\"EN\",D48,Language=\"FR\",E48,Language=\"SP\",F48)","v":"Improve your social performance"},null,"Improve your social performance","Améliorer votre performance sociétale"]
[null,{"$f":"_xlfn.IFS(Language=\"EN\",D49,Language=\"FR\",E49,Language=\"SP\",F49)","v":"Social Performance lever"},null,"Social Performance lever","Levier de performance sociétale"]
[null,{"$f":"_xlfn.IFS(Language=\"EN\",D50,Language=\"FR\",E50,Language=\"SP\",F50)","v":"Current level"},null,"Current level","Niveau actuel"]
[null,{"$f":"_xlfn.IFS(Language=\"EN\",D51,Language=\"FR\",E51,Language=\"SP\",F51)","v":"Improvement areas"},null,"Improvement areas","Axes d'amélioration"]
[null,{"$f":"_xlfn.IFS(Language=\"EN\",D52,Language=\"FR\",E52,Language=\"SP\",F52)","v":"(*) answer rate when below 50% for all panel"},null,"(*) answer rate when below 50% for all panel","(*) taux de réponse lorsque inférieur à 50% pour l'ensemble du panel"]
[null,{"$f":"_xlfn.IFS(Language=\"EN\",D53,Language=\"FR\",E53,Language=\"SP\",F53)","v":"Minimum required"},null,"Minimum required","Minimum requis"]
[]
[]
[null,{"$f":"_xlfn.IFS(Language=\"EN\",D56,Language=\"FR\",E56,Language=\"SP\",F56)","v":"Tutorial #4.1: Gap analysis"},null,"Tutorial #4.1: Gap analysis","Tuto#4.1 : Analyse des écarts"]
[]
[null,{"$f":"_xlfn.IFS(Language=\"EN\",D58,Language=\"FR\",E58,Language=\"SP\",F58)","v":"Score legend"},null,"Score legend","Légende des scores"]
[]
[]
[null,{"$f":"_xlfn.IFS(Language=\"EN\",D61,Language=\"FR\",E61,Language=\"SP\",F61)","v":"Your societal exposure before mitigation"},null,"Your societal exposure before mitigation","Votre exposition sociétale avant mesures d'atténuation"]
[null,{"$f":"_xlfn.IFS(Language=\"EN\",D62,Language=\"FR\",E62,Language=\"SP\",F62)","v":"Minimum maturity recommended on social performance"},null,"Minimum maturity recommended on social performance","Niveau de maturité minimum recommandé en matière de performance sociétale"]
[]
[null,{"$f":"_xlfn.IFS(Language=\"EN\",D64,Language=\"FR\",E64,Language=\"SP\",F64)","v":"Double click on the topics below to perform gap analysis, mitigate your risks "},null,"Double click on the topics below to perform gap analysis, mitigate your risks ","Double-cliquez sur les sujets ci-dessous pour effectuer une analyse des écarts,"]
[null,{"$f":"_xlfn.IFS(Language=\"EN\",D65,Language=\"FR\",E65,Language=\"SP\",F65)","v":"and improve your social performance"},null,"and improve your social performance","atténuer vos risques et améliorer votre performance sociétale"]
[null,{"$f":"_xlfn.IFS(Language=\"EN\",D66,Language=\"FR\",E66,Language=\"SP\",F66)","v":"You must at least review the topics highlighted in red"},null,"You must at least review the topics highlighted in red","Vous devez au moins passer en revue les sujets surlignés en rouge"]
[]
[null,{"$f":"_xlfn.IFS(Language=\"EN\",D68,Language=\"FR\",E68,Language=\"SP\",F68)","v":"INTERNAL"},null,"INTERNAL","INTERNE"]
[]
[null,{"$f":"_xlfn.IFS(Language=\"EN\",D70,Language=\"FR\",E70,Language=\"SP\",F70)","v":"Areas of social investment"},null,"Areas of social investment","Domaines d'investissement sociétal"]
[null,{"$f":"_xlfn.IFS(Language=\"EN\",D71,Language=\"FR\",E71,Language=\"SP\",F71)","v":"Priorities"},null,"Priorities","Priorités"]
[null,{"$f":"_xlfn.IFS(Language=\"EN\",D72,Language=\"FR\",E72,Language=\"SP\",F72)","v":"Take into account stakeholder priorities for social investments"},null,"Take into account stakeholder priorities for social investments","Prendre en compte les priorités des parties prenantes en matière d'investissements sociétaux"]
[]
[null,{"$f":"_xlfn.IFS(Language=\"EN\",D74,Language=\"FR\",E74,Language=\"SP\",F74)","v":"Tutorial #4.2: Gap analysis and action plan"},null,"Tutorial #4.2: Gap analysis and action plan","Tuto#4.2 : Analyse des écarts et plan d'actions"]

{"sheet":"Onglet_mapping_database","index":26,"n_rows":3,"n_cols":35,"rows_kept":3,"cut":false,"hidden":false,"merged":[]}
[]
["C1","C2","C3","C4","C5","C6","C7","C8","C9","C10","C11","C12","C13","C14","C15","C16","C17","C18","C19","C20","C21","C22","C23","C24","C25","C26","C27","C28","C29","C30","C31","C32","C33","C34","C35"]
[null,null,{"$f":"Onglet_mapping_parameters!E120","v":"Stakeholder (short) name"},{"$f":"Onglet_mapping_parameters!E121","v":"Category"},{"$f":"Onglet_mapping_parameters!E122","v":"Subcategory"},{"$f":"Onglet_mapping_parameters!E123","v":"Stakeholder Influence"},{"$f":"Onglet_mapping_parameters!E124","v":"Stakeholder's interest / expectations"},{"$f":"Onglet_mapping_parameters!E125","v":"Geographical scope"},{"$f":"Onglet_mapping_parameters!E126","v":"Focal point"},{"$f":"Onglet_mapping_parameters!E127","v":"Comments on stakeholder influence"},{"$f":"Onglet_mapping_parameters!E128","v":"Comments on stakeholder expectations"},{"$f":"Onglet_mapping_parameters!E129","v":"Interview panel"},{"$f":"Onglet_mapping_parameters!E130","v":"Name / Contact 1"},{"$f":"Onglet_mapping_parameters!E131","v":"Function / Contact 1"},{"$f":"Onglet_mapping_parameters!E132","v":"Mail / Contact 1"},{"$f":"Onglet_mapping_parameters!E133","v":"Name / Contact 2"},{"$f":"Onglet_mapping_parameters!E134","v":"Function / Contact 2"},{"$f":"Onglet_mapping_parameters!E135","v":"Mail / Contact 2"},{"$f":"Onglet_mapping_parameters!E136","v":"Name / Contact 3"},{"$f":"Onglet_mapping_parameters!E137","v":"Function / Contact 3"},{"$f":"Onglet_mapping_parameters!E138","v":"Mail / Contact 3"},{"$f":"Onglet_mapping_parameters!E139","v":"Name / Contact 4"},{"$f":"Onglet_mapping_parameters!E140","v":"Function / Contact 4"},{"$f":"Onglet_mapping_parameters!E141","v":"Mail / Contact 4"},{"$f":"Onglet_mapping_parameters!E142","v":"Interview_status"},{"$f":"Onglet_mapping_parameters!E143","v":"Interview_date"},{"$f":"Onglet_mapping_parameters!E144","v":"Interview_location"},{"$f":"Onglet_mapping_parameters!E145","v":"Phone Contact 1"},{"$f":"Onglet_mapping_parameters!E146","v":"Phone Contact 2"},{"$f":"Onglet_mapping_parameters!E147","v":"Phone Contact 3"},{"$f":"Onglet_mapping_parameters!E148","v":"Phone Contact 4"},{"$f":"Onglet_mapping_parameters!E149","v":"Stakeholder name (long)"},{"$f":"Onglet_mapping_parameters!E150","v":"Stakeholder ID"},{"$f":"Onglet_mapping_parameters!E151","v":"Asset"},{"$f":"Onglet_mapping_parameters!E152","v":"About the stakeholder"}]

{"sheet":"Onglet_mapping_import_param","index":27,"n_rows":32,"n_cols":9,"rows_kept":32,"cut":false,"hidden":false,"merged":[]}
["Source","Destination","ColSource","ColDest"]
["Name of the stakeholder","Stakeholder (short) name",5,3]
["stakeholder category","Category",6,4]
["Influence","Stakeholder Influence",7,6]
["Expectations","Stakeholder's interest / expectations",8,7]
["Stakeholder description","About the stakeholder",9,35]
[]
[]
[]
[]
[]
[null,null,null,null,"Name of the stakeholder","stakeholder category","Influence","Expectations","Stakeholder description"]
[null,null,null,null,"Stakeholder 1","Authority",3,2,"Delivers permits"]
[null,null,null,null,"Stakeholder 2","Business",2,3]
[null,null,null,null,"Stakeholder 3","Civil society",1,2]
[null,null,null,null,"Stakeholder 4","Communities",4,3]
[null,null,null,null,"Stakeholder 5","Authority",3,2]
[null,null,null,null,"Stakeholder 6","Business",2,3]
[null,null,null,null,"Stakeholder 7","Civil society",3,3]
[null,null,null,null,"Stakeholder 8","Communities",3,4]
[null,null,null,null,"Stakeholder 9","Authority",3,1]
[null,null,null,null,"Stakeholder 10","Business",4,1]
[null,null,null,null,"Stakeholder 11","Civil society",1,1]
[null,null,null,null,"Stakeholder 12","Communities",1,2]
[null,null,null,null,"Stakeholder 13","Authority",1,1]
[null,null,null,null,"Stakeholder 14","Business",3,4]
[null,null,null,null,"Stakeholder 15","Civil society",2,2]
[null,null,null,null,"Stakeholder 16","Communities",1,1]
[null,null,null,null,"Stakeholder 17","Authority",4,4]
[null,null,null,null,"Stakeholder 18","Business",3,3]
[null,null,null,null,"Stakeholder 19","Civil society",2,2]
[null,null,null,null,"Stakeholder 20","Communities",3,3]

{"sheet":"Onglet_mapping_matrix","index":28,"n_rows":26,"n_cols":28,"rows_kept":26,"cut":false,"hidden":false,"merged":[[9,3,9,10],[8,3,8,10]]}
[null,null,null,null,null,null,null,null,null,null,null,null,null,null,null,null,null,null,null,null,null,null,null,null,null,null,5]
[null,null,null,null,null,null,null,null,null,null,null,null,null,null,null,null,null,null,null,null,null,null,null,null,null,null,0]
[]
[]
[]
[null,null,null,{"$f":"Onglet_trad_menus!B291","v":"Visualize stakeholder matrix"}]
[]
[null,null,null,"INSTRUCTIONS"]
[null,null,null,{"$f":"Onglet_trad_menus!B289","v":"Use the filters on the right to show the selected stakeholder category or group. The position of the stakeholders on the matrix is generated automatically. If you change the position on the matrix, it will not be saved."},null,null,null,null,null,null,null,null,null,null,null,null,null,null,null,null,null,null,null,null,"Category:","All stakeholders","or","Group:"]
[]
[]
[]
[]
[]
[]
[]
[]
[]
[]
[]
[]
[]
[]
[]
[]
[null,null,null,null,null,null,null,null,null,null,null,null,null,null,null,null,{"$f":"Onglet_mapping_parameters!E191","v":"Click on the axes of the matrix to see the definitions of Influence and Interest"}]

{"sheet":"Onglet_mapping_matrix_single","index":29,"n_rows":15,"n_cols":10,"rows_kept":15,"cut":false,"hidden":false,"merged":[]}
[]
[null,null,null,null,"Threshold",2.5]
[]
[null,null,null,null,"POWER","INTEREST"]
[null,null,null,null,3,3,1,{"$f":"_xlfn.IFS(AND(E5>=$F$2,F5>=$F$2),D12,AND(E5>=$F$2,F5<$F$2),D13,AND(E5<$F$2,F5>=$F$2),D14,AND(E5<$F$2,F5<$F$2),D15)","v":"Continuous engagement"}]
[null,null,null,"Témoin",-5,-5,10]
[]
[]
[]
[]
[null,null,null,null,null,null,null,"EN","FR","ES"]
[null,null,null,{"$f":"_xlfn.IFS(Language=\"EN\",H12,Language=\"FR\",I12,Language=\"SP\",J12)","v":"Continuous engagement"},null,null,null,"Continuous engagement","Dialogue continu"]
[null,null,null,{"$f":"_xlfn.IFS(Language=\"EN\",H13,Language=\"FR\",I13,Language=\"SP\",J13)","v":"Active listening"},null,null,null,"Active listening","Écoute active"]
[null,null,null,{"$f":"_xlfn.IFS(Language=\"EN\",H14,Language=\"FR\",I14,Language=\"SP\",J14)","v":"Targeted engagement"},null,null,null,"Targeted engagement","Engagement ciblé"]
[null,null,null,{"$f":"_xlfn.IFS(Language=\"EN\",H15,Language=\"FR\",I15,Language=\"SP\",J15)","v":"Strategic monitoring"},null,null,null,"Strategic monitoring","Veille stratégique"]

{"sheet":"Onglet_mapping_parameters","index":30,"n_rows":294,"n_cols":16,"rows_kept":294,"cut":false,"hidden":false,"merged":[]}
[]
[null,null,"Final"]
[null,null,null,null,null,null,null,null,null,null,null,null,null,"EN","FR","SP"]
[]
[null,"Question_ID","Question","Sh_type","Sh_category","Answer","Question_ID",null,"Nombre de champs",null,15,null,null,"Question","Question","Question"]
[null,"Q1",{"$f":"_xlfn.IFS(Language=\"EN\",N6,Language=\"FR\",O6,Language=\"SP\",P6)","v":"Are there authorities that regulate your activities and deliver permit?"},{"$f":"AUT_long","v":"Authorities"},{"$f":"E27","v":"Regulator"},"Yes",{"$f":"B6","v":"Q1"},null,null,null,null,null,null,"Are there authorities that regulate your activities and deliver permit?","Existe-t-il des autorités qui réglementent vos activités et délivrent des autorisations ?"]
[null,"Q2",{"$f":"_xlfn.IFS(Language=\"EN\",N7,Language=\"FR\",O7,Language=\"SP\",P7)","v":"Do you regularly interact with specific administrations & governmental agencies?"},{"$f":"AUT_long","v":"Authorities"},{"$f":"E28","v":"Administration"},"Yes",{"$f":"B7","v":"Q2"},null,null,null,null,null,null,"Do you regularly interact with specific administrations & governmental agencies?","Interagissez-vous régulièrement avec des administrations et des agences gouvernementales spécifiques ?"]
[null,"Q3",{"$f":"_xlfn.IFS(Language=\"EN\",N8,Language=\"FR\",O8,Language=\"SP\",P8)","v":"Do you interact with local authorities?"},{"$f":"AUT_long","v":"Authorities"},{"$f":"E29","v":"Local authorities"},"Yes","Q3",null,null,null,null,null,null,"Do you interact with local authorities?","Interagissez-vous avec les autorités locales ?"]
[null,"Q4",{"$f":"_xlfn.IFS(Language=\"EN\",N9,Language=\"FR\",O9,Language=\"SP\",P9)","v":"Can you think of any other key authorities?"},{"$f":"AUT_long","v":"Authorities"},{"$f":"E30","v":"Other authorities"},"Yes","Q4",null,null,"&H00EDEAE2&",null,null,null,"Can you think of any other key authorities?","Pouvez-vous citer d'autres autorités clés ?"]
[null,"Q5",{"$f":"_xlfn.IFS(Language=\"EN\",N10,Language=\"FR\",O10,Language=\"SP\",P10)","v":"Do you have major contractors for your operations?"},{"$f":"BUS_long","v":"Business"},{"$f":"E33","v":"Contractors"},"Yes","Q5",null,null,"&HBF7300&","Authorities",null,null,"Do you have major contractors for your operations?","Avez-vous des sous-traitants importants pour vos opérations ?"]
[null,"Q6",{"$f":"_xlfn.IFS(Language=\"EN\",N11,Language=\"FR\",O11,Language=\"SP\",P11)","v":"Do you interact with local contractors with potential impact on local employment (catering, security…)"},"Business",{"$f":"E34","v":"Local suppliers"},"Yes","Q6",null,null,"&HFFC166&","Business",null,null,"Do you interact with local contractors with potential impact on local employment (catering, security…)","Interagissez-vous avec des entrepreneurs locaux ayant un impact potentiel sur l'emploi local (restauration, sécurité...) ?"]
[null,"Q7",{"$f":"_xlfn.IFS(Language=\"EN\",N12,Language=\"FR\",O12,Language=\"SP\",P12)","v":"Do you have industrial neighbors?"},"Business","Industrial neighbors","Yes","Q7",null,null,"&H0095BF&","Civil society",null,null,"Do you have industrial neighbors?","Avez-vous des voisins industriels ?"]
[null,"Q8",{"$f":"_xlfn.IFS(Language=\"EN\",N13,Language=\"FR\",O13,Language=\"SP\",P13)","v":"Do you interact with professional organizations?"},"Business","Professional organizations","Yes","Q8",null,null,"&H66DDFF&","Communities",null,null,"Do you interact with professional organizations?","Avez-vous des relations avec des organisations professionnelles ?"]
[null,"Q9",{"$f":"_xlfn.IFS(Language=\"EN\",N14,Language=\"FR\",O14,Language=\"SP\",P14)","v":"Do you interact with JV partners?"},"Business","JV partners","Yes","Q9",null,null,null,null,null,null,"Do you interact with JV partners?","Interagissez-vous avec des partenaires JV ?"]
[null,"Q10",{"$f":"_xlfn.IFS(Language=\"EN\",N15,Language=\"FR\",O15,Language=\"SP\",P15)","v":"Do you interact with customers?"},"Business","Customers","No","Q10",null,null,null,null,null,null,"Do you interact with customers?","Interagissez-vous avec des clients ?"]
[null,"Q11",{"$f":"_xlfn.IFS(Language=\"EN\",N16,Language=\"FR\",O16,Language=\"SP\",P16)","v":"Can you think of any other key business stakeholder?"},"Business","Other business stakeholders","No","Q11",null,"Seuils quadrants",2.5,null,null,null,"Can you think of any other key business stakeholder?","Pouvez-vous citer d'autres parties prenantes clés de l'entreprise ?"]
[null,"Q12",{"$f":"_xlfn.IFS(Language=\"EN\",N17,Language=\"FR\",O17,Language=\"SP\",P17)","v":"Are there any NGOs or associations potentially interested by your activities?"},{"$f":"CIV_long","v":"Civil society"},{"$f":"E42","v":"NGOs and associations"},"Yes","Q12",null,null,null,null,null,null,"Are there any NGOs or associations potentially interested by your activities?","Existe-t-il des ONG ou des associations potentiellement intéressées par vos activités ?"]
[null,"Q13",{"$f":"_xlfn.IFS(Language=\"EN\",N18,Language=\"FR\",O18,Language=\"SP\",P18)","v":"Do you have influent media interested by your activities?"},{"$f":"CIV_long","v":"Civil society"},{"$f":"E43","v":"Media & opinion leaders"},"Yes","Q13",null,null,"Zone 4",null,null,null,"Do you have influent media interested by your activities?","Y a-t-il des médias influents intéressés par vos activités ?"]
[null,"Q14",{"$f":"_xlfn.IFS(Language=\"EN\",N19,Language=\"FR\",O19,Language=\"SP\",P19)","v":"Are there any education & research stakeholders interested in your operations?"},{"$f":"CIV_long","v":"Civil society"},"Education & research","Yes",{"$f":"B19","v":"Q14"},null,null,null,null,null,null,"Are there any education & research stakeholders interested in your operations?","Y a-t-il des acteurs de l'éducation et de la recherche intéressés par vos activités ?"]
[null,"Q15",{"$f":"_xlfn.IFS(Language=\"EN\",N20,Language=\"FR\",O20,Language=\"SP\",P20)","v":"Can you think of any other key civil society stakeholder?"},{"$f":"CIV_long","v":"Civil society"},"Other civil society stakeholders","Yes","Q15",null,null,"Zone 3",null,null,null,"Can you think of any other key civil society stakeholder?","Pensez-vous à une autre partie prenante clé de la société civile ?"]
[null,"Q16",{"$f":"_xlfn.IFS(Language=\"EN\",N21,Language=\"FR\",O21,Language=\"SP\",P21)","v":"Are there any leaders (community representatives, traditional leaders…) in the communities potentially impacted by your operations?"},{"$f":"COM_long","v":"Communities"},{"$f":"E48","v":"Community representatives"},"Yes","Q16",null,null,"Zone 2",null,null,null,"Are there any leaders (community representatives, traditional leaders…) in the communities potentially impacted by your operations?","Existe-t-il des leaders (représentants des communautés, chefs traditionnels...) dans les communautés potentiellement touchées par vos activités ?"]
[null,"Q17",{"$f":"_xlfn.IFS(Language=\"EN\",N22,Language=\"FR\",O22,Language=\"SP\",P22)","v":"Are there any specific groups potentially impacted by your activities (landowners, users of land and rivers, indigenous people…)"},{"$f":"COM_long","v":"Communities"},{"$f":"E49","v":"Specific groups"},"Yes","Q17",null,null,"Zone 1",null,null,null,"Are there any specific groups potentially impacted by your activities (landowners, users of land and rivers, indigenous people…)","Existe-t-il des groupes spécifiques susceptibles d'être affectés par vos activités (propriétaires fonciers, utilisateurs des terres et des rivières, populations autochtones...) ?"]
[null,"Q18",{"$f":"_xlfn.IFS(Language=\"EN\",N23,Language=\"FR\",O23,Language=\"SP\",P23)","v":"Are there any schools and universities in the communities nearby?"},{"$f":"COM_long","v":"Communities"},"Schools","Yes","Q18",null,null,null,null,null,null,"Are there any schools and universities in the communities nearby?","Y a-t-il des écoles et des universités dans les communautés voisines ?"]
[null,"Q19",{"$f":"_xlfn.IFS(Language=\"EN\",N24,Language=\"FR\",O24,Language=\"SP\",P24)","v":"Can you think of any other community stakeholders?"},{"$f":"COM_long","v":"Communities"},"Other community stakeholders","Yes","Q19",null,null,null,null,null,null,"Can you think of any other community stakeholders?","Pensez-vous à d'autres parties prenantes au sein de la communauté ?"]
[null,null,null,null,{"$f":"E54","v":"All stakeholders"}]
[null,null,null,null,null,null,null,null,null,null,null,null,null,"Categories","Catégories"]
[null,"Group_AUT_short",{"$f":"AUT_long","v":"Authorities"},{"$f":"AUT_short","v":"Aut"},{"$f":"_xlfn.IFS(Language=\"EN\",N27,Language=\"FR\",O27,Language=\"SP\",P27)","v":"Regulator"},null,null,"Asset 1","nqn",null,null,null,null,"Regulator","Régulateur"]
[null,"Group_BUS_short",{"$f":"BUS_long","v":"Business"},{"$f":"AUT_short","v":"Aut"},{"$f":"_xlfn.IFS(Language=\"EN\",N28,Language=\"FR\",O28,Language=\"SP\",P28)","v":"Administration"},null,null,"Asset 2",null,null,null,null,null,"Administration","Administration"]
[null,"Group_SOC_short",{"$f":"CIV_long","v":"Civil society"},{"$f":"AUT_short","v":"Aut"},{"$f":"_xlfn.IFS(Language=\"EN\",N29,Language=\"FR\",O29,Language=\"SP\",P29)","v":"Local authorities"},null,null,"Asset 3",null,null,null,null,null,"Local authorities","Autorités locales"]
[null,"Group_COM_short",{"$f":"COM_long","v":"Communities"},{"$f":"AUT_short","v":"Aut"},{"$f":"_xlfn.IFS(Language=\"EN\",N30,Language=\"FR\",O30,Language=\"SP\",P30)","v":"Other authorities"},null,null,"Asset 4",null,null,null,null,null,"Other authorities","Autres autorités"]
[null,null,{"$f":"E54","v":"All stakeholders"},{"$f":"AUT_short","v":"Aut"},{"$f":"_xlfn.IFS(Language=\"EN\",N31,Language=\"FR\",O31,Language=\"SP\",P31)","v":"All authorities"},null,null,"Asset 5",null,null,null,null,null,"All authorities","Toutes les autorités"]
[null,null,null,null,null,null,null,null,{"$f":"E245","v":"All assets"}]
[null,null,null,{"$f":"BUS_short","v":"Bus"},{"$f":"_xlfn.IFS(Language=\"EN\",N33,Language=\"FR\",O33,Language=\"SP\",P33)","v":"Contractors"},null,null,null,null,null,null,null,null,"Contractors","Sous-traitants"]
[null,null,null,"Bus",{"$f":"_xlfn.IFS(Language=\"EN\",N34,Language=\"FR\",O34,Language=\"SP\",P34)","v":"Local suppliers"},null,null,null,null,null,null,null,null,"Local suppliers","Fournisseurs locaux"]
[null,null,null,"Bus",{"$f":"_xlfn.IFS(Language=\"EN\",N35,Language=\"FR\",O35,Language=\"SP\",P35)","v":"Industrial neighbors"},null,null,null,null,null,null,null,null,"Industrial neighbors","Voisins industriels"]
[null,null,null,"Bus",{"$f":"_xlfn.IFS(Language=\"EN\",N36,Language=\"FR\",O36,Language=\"SP\",P36)","v":"Professional organizations"},null,null,null,null,null,null,null,null,"Professional organizations","Organisations professionnelles"]
[null,null,null,"Bus",{"$f":"_xlfn.IFS(Language=\"EN\",N37,Language=\"FR\",O37,Language=\"SP\",P37)","v":"JV partners"},null,null,null,null,null,null,null,null,"JV partners","Partenaires JV"]
[null,null,null,"Bus",{"$f":"_xlfn.IFS(Language=\"EN\",N38,Language=\"FR\",O38,Language=\"SP\",P38)","v":"Customers"},null,null,null,null,null,null,null,null,"Customers","Clients"]
[null,null,null,"Bus",{"$f":"_xlfn.IFS(Language=\"EN\",N39,Language=\"FR\",O39,Language=\"SP\",P39)","v":"Other business stakeholders"},null,null,null,null,null,null,null,null,"Other business stakeholders","Autres parties prenantes business"]
[null,null,null,"Bus",{"$f":"_xlfn.IFS(Language=\"EN\",N40,Language=\"FR\",O40,Language=\"SP\",P40)","v":"All business"},null,null,null,null,null,null,null,null,"All business","Tous les acteurs business"]
[]
[null,null,null,{"$f":"CIV_short","v":"Civ"},{"$f":"_xlfn.IFS(Language=\"EN\",N42,Language=\"FR\",O42,Language=\"SP\",P42)","v":"NGOs and associations"},null,null,null,null,null,null,null,null,"NGOs and associations","ONG et associations"]
[null,null,null,{"$f":"CIV_short","v":"Civ"},{"$f":"_xlfn.IFS(Language=\"EN\",N43,Language=\"FR\",O43,Language=\"SP\",P43)","v":"Media & opinion leaders"},null,null,null,null,null,null,null,null,"Media & opinion leaders","Médias et leaders d'opinion"]
[null,null,null,{"$f":"CIV_short","v":"Civ"},{"$f":"_xlfn.IFS(Language=\"EN\",N44,Language=\"FR\",O44,Language=\"SP\",P44)","v":"Education & research"},null,null,null,null,null,null,null,null,"Education & research","Éducation et recherche"]
[null,null,null,{"$f":"CIV_short","v":"Civ"},{"$f":"_xlfn.IFS(Language=\"EN\",N45,Language=\"FR\",O45,Language=\"SP\",P45)","v":"Other civil society stakeholders"},null,null,null,null,null,null,null,null,"Other civil society stakeholders","Autres acteurs de la société civile"]
[null,null,null,{"$f":"CIV_short","v":"Civ"},{"$f":"_xlfn.IFS(Language=\"EN\",N46,Language=\"FR\",O46,Language=\"SP\",P46)","v":"All civil society"},null,null,null,null,null,null,null,null,"All civil society","Toute la société civile"]
[]
[null,null,null,{"$f":"COM_short","v":"Com"},{"$f":"_xlfn.IFS(Language=\"EN\",N48,Language=\"FR\",O48,Language=\"SP\",P48)","v":"Community representatives"},null,null,null,null,null,null,null,null,"Community representatives","Représentants des communautés locales"]
[null,null,null,{"$f":"COM_short","v":"Com"},{"$f":"_xlfn.IFS(Language=\"EN\",N49,Language=\"FR\",O49,Language=\"SP\",P49)","v":"Specific groups"},null,null,null,null,null,null,null,null,"Specific groups","Groupes spécifiques"]
[null,null,null,{"$f":"COM_short","v":"Com"},{"$f":"_xlfn.IFS(Language=\"EN\",N50,Language=\"FR\",O50,Language=\"SP\",P50)","v":"Schools"},null,null,null,null,null,null,null,null,"Schools","Écoles"]
[null,null,null,{"$f":"COM_short","v":"Com"},{"$f":"_xlfn.IFS(Language=\"EN\",N51,Language=\"FR\",O51,Language=\"SP\",P51)","v":"Other community stakeholders"},null,null,null,null,null,null,null,null,"Other community stakeholders","Autres acteurs de la communauté"]
[null,null,null,{"$f":"COM_short","v":"Com"},{"$f":"_xlfn.IFS(Language=\"EN\",N52,Language=\"FR\",O52,Language=\"SP\",P52)","v":"All communities"},null,null,null,null,null,null,null,null,"All communities","Toutes les communautés"]
[]
[null,null,null,null,{"$f":"_xlfn.IFS(Language=\"EN\",N54,Language=\"FR\",O54,Language=\"SP\",P54)","v":"All stakeholders"},null,null,null,null,null,null,null,null,"All stakeholders","Toutes les parties prenantes"]
[]
[null,null,null,null,{"$f":"_xlfn.IFS(Language=\"EN\",N56,Language=\"FR\",O56,Language=\"SP\",P56)","v":"Upoad your stakeholder list"},null,null,null,null,null,null,null,null,"Upoad your stakeholder list","Importez votre liste de parties prenantes"]
[]
[null,null,null,null,{"$f":"_xlfn.IFS(Language=\"EN\",N58,Language=\"FR\",O58,Language=\"SP\",P58)","v":"Not selected"},null,null,null,null,null,null,null,null,"Not selected","Non sélectionné"]
[]
[]
[]
[]
[]
[]
[]
[null,null,null,null,{"$f":"_xlfn.IFS(Language=\"EN\",N66,Language=\"FR\",O66,Language=\"SP\",P66)","v":"Identify and prioritize key stakeholders"},null,null,null,null,null,null,null,null,"Identify and prioritize key stakeholders","Identifier et prioriser les principales parties prenantes"]
[]
[null,null,null,null,{"$f":"_xlfn.IFS(Language=\"EN\",N68,Language=\"FR\",O68,Language=\"SP\",P68)","v":"List your main stakeholders in the table below.\n\nIf you need to add specific contacts linked to a stakeholder, double-click on the stakeholder to open the stakeholder form and add contacts (you can add a maximum of 4 contacts).\n\nIf you wish to attach a stakeholder to one or more assets, you must first define your assets (up to a maximum of 5). Then simply right-click in the Asset column and assign the relevant asset(s) to your stakeholder."},null,null,null,null,null,null,null,null,"List your main stakeholders in the table below.\n\nIf you need to add specific contacts linked to a stakeholder, double-click on the stakeholder to open the stakeholder form and add contacts (you can add a maximum of 4 contacts).\n\nIf you wish to attach a stakeholder to one or more assets, you must first define your assets (up to a maximum of 5). Then simply right-click in the Asset column and assign the relevant asset(s) to your stakeholder.","Dressez la liste de vos principales parties prenantes dans le tableau ci-dessous.\n\nSi vous devez ajouter des contacts spécifiques liés à une partie prenante, double-cliquez sur la partie prenante pour ouvrir le formulaire partie prenante et ajouter des contacts (vous pouvez ajouter un maximum de 4 contacts).\n\nSi vous souhaitez rattacher une partie prenante à un ou plusieurs assets, vous devez préalablement définir vos assets (jusqu'à 5 assets maximum). Ensuite il vous suffit de faire un clic droit dans la colonne Asset et d'affecter le ou les assets concernés à votre partie prenante"]
[]
[]
[null,null,null,null,{"$f":"_xlfn.IFS(Language=\"EN\",N71,Language=\"FR\",O71,Language=\"SP\",P71)","v":"Organization (name short)"},null,null,null,null,null,null,null,null,"Organization (name short)","Organisation (nom court)"]
[null,null,null,null,{"$f":"_xlfn.IFS(Language=\"EN\",N72,Language=\"FR\",O72,Language=\"SP\",P72)","v":"Category"},null,null,null,null,null,null,null,null,"Category","Catégorie"]
[null,null,null,null,{"$f":"_xlfn.IFS(Language=\"EN\",N73,Language=\"FR\",O73,Language=\"SP\",P73)","v":"Group"},null,null,null,null,null,null,null,null,"Group","Groupe"]
[null,null,null,null,{"$f":"_xlfn.IFS(Language=\"EN\",N74,Language=\"FR\",O74,Language=\"SP\",P74)","v":"Influence"},null,null,null,null,null,null,null,null,"Influence","Influence"]
[null,null,null,null,{"$f":"_xlfn.IFS(Language=\"EN\",N75,Language=\"FR\",O75,Language=\"SP\",P75)","v":"Interest"},null,null,null,null,null,null,null,null,"Interest","Intérêt"]
[null,null,null,null,{"$f":"_xlfn.IFS(Language=\"EN\",N76,Language=\"FR\",O76,Language=\"SP\",P76)","v":"Geography"},null,null,null,null,null,null,null,null,"Geography","Géographie"]
[null,null,null,null,{"$f":"_xlfn.IFS(Language=\"EN\",N77,Language=\"FR\",O77,Language=\"SP\",P77)","v":"Focal point (internal)"},null,null,null,null,null,null,null,null,"Focal point (internal)","Point focal (en interne)"]
[null,null,null,null,{"$f":"_xlfn.IFS(Language=\"EN\",N78,Language=\"FR\",O78,Language=\"SP\",P78)","v":"Priority"},null,null,null,null,null,null,null,null,"Priority","Priorité"]
[null,null,null,null,{"$f":"_xlfn.IFS(Language=\"EN\",N79,Language=\"FR\",O79,Language=\"SP\",P79)","v":"Asset"},null,null,null,null,null,null,null,null,"Asset","Asset"]
[null,null,null,null,{"$f":"_xlfn.IFS(Language=\"EN\",N80,Language=\"FR\",O80,Language=\"SP\",P80)","v":"GroupShort"},null,null,null,null,null,null,null,null,"GroupShort","GroupShort"]
[null,null,null,null,{"$f":"_xlfn.IFS(Language=\"EN\",N81,Language=\"FR\",O81,Language=\"SP\",P81)","v":"SHID"},null,null,null,null,null,null,null,null,"SHID","SHID"]
[null,null,null,null,{"$f":"_xlfn.IFS(Language=\"EN\",N82,Language=\"FR\",O82,Language=\"SP\",P82)","v":"Question_ID"},null,null,null,null,null,null,null,null,"Question_ID","Question_ID"]
[null,null,null,null,{"$f":"_xlfn.IFS(Language=\"EN\",N83,Language=\"FR\",O83,Language=\"SP\",P83)","v":"Double-click to delete"},null,null,null,null,null,null,null,null,"Double-click to delete","Double-cliquer pour supprimer"]
[]
[null,null,null,null,{"$f":"_xlfn.IFS(Language=\"EN\",N85,Language=\"FR\",O85,Language=\"SP\",P85)","v":"STAKEHOLDER INFLUENCE\nCapacity of the stakeholder to influence, positively or negatively, TotalEnergies' entity activity, operations, project or reputation."},null,null,null,null,null,null,null,null,"STAKEHOLDER INFLUENCE\nCapacity of the stakeholder to influence, positively or negatively, TotalEnergies' entity activity, operations, project or reputation.","INFLUENCE DE LA PARTIE PRENANTE\nCapacité de la partie prenante à influencer, positivement ou négativement, l'activité, les opérations, le projet ou la réputation de l'entité de TotalEnergies"]
[null,null,null,null,{"$f":"_xlfn.IFS(Language=\"EN\",N86,Language=\"FR\",O86,Language=\"SP\",P86)","v":"The stakeholder has the ability to allow or hinder TotalEnergies operating license, permits or operations"},null,null,null,null,null,null,null,null,"The stakeholder has the ability to allow or hinder TotalEnergies operating license, permits or operations","La partie prenante a la capacité d'autoriser ou d'entraver les licences d'exploitation, les permis ou les opérations de TotalEnergies"]
[null,null,null,null,{"$f":"_xlfn.IFS(Language=\"EN\",N87,Language=\"FR\",O87,Language=\"SP\",P87)","v":"The stakeholder can significantly influence TotalEnergies activity, operations, project and/or reputation"},null,null,null,null,null,null,null,null,"The stakeholder can significantly influence TotalEnergies activity, operations, project and/or reputation","La partie prenante peut influencer de manière significative l'activité, les opérations, le projet et/ou la réputation de TotalEnergies"]
[null,null,null,null,{"$f":"_xlfn.IFS(Language=\"EN\",N88,Language=\"FR\",O88,Language=\"SP\",P88)","v":"The stakeholder has limited influence on TotalEnergies activity, operations, project and/or reputation"},null,null,null,null,null,null,null,null,"The stakeholder has limited influence on TotalEnergies activity, operations, project and/or reputation","La partie prenante a une influence limitée sur l'activité, les opérations, le projet et/ou la réputation de TotalEnergies"]
[null,null,null,null,{"$f":"_xlfn.IFS(Language=\"EN\",N89,Language=\"FR\",O89,Language=\"SP\",P89)","v":"The stakeholder has very little influence on TotalEnergies activity, operations, project and/or reputation"},null,null,null,null,null,null,null,null,"The stakeholder has very little influence on TotalEnergies activity, operations, project and/or reputation","La partie prenante a très peu d'influence sur l'activité, les opérations, le projet et/ou la réputation de TotalEnergies"]
[]
[null,null,null,null,{"$f":"_xlfn.IFS(Language=\"EN\",N91,Language=\"FR\",O91,Language=\"SP\",P91)","v":"Score = 4"},null,null,null,null,null,null,null,null,"Score = 4","Score = 4"]
[null,null,null,null,{"$f":"_xlfn.IFS(Language=\"EN\",N92,Language=\"FR\",O92,Language=\"SP\",P92)","v":"Score = 3"},null,null,null,null,null,null,null,null,"Score = 3","Score = 3"]
[null,null,null,null,{"$f":"_xlfn.IFS(Language=\"EN\",N93,Language=\"FR\",O93,Language=\"SP\",P93)","v":"Score = 2"},null,null,null,null,null,null,null,null,"Score = 2","Score = 2"]
[null,null,null,null,{"$f":"_xlfn.IFS(Language=\"EN\",N94,Language=\"FR\",O94,Language=\"SP\",P94)","v":"Score = 1"},null,null,null,null,null,null,null,null,"Score = 1","Score = 1"]
[]
[null,null,null,null,{"$f":"_xlfn.IFS(Language=\"EN\",N96,Language=\"FR\",O96,Language=\"SP\",P96)","v":"Critical"},null,null,null,null,null,null,null,null,"Critical","Critique"]
[null,null,null,null,{"$f":"_xlfn.IFS(Language=\"EN\",N97,Language=\"FR\",O97,Language=\"SP\",P97)","v":"High"},null,null,null,null,null,null,null,null,"High","Élevée"]
[null,null,null,null,{"$f":"_xlfn.IFS(Language=\"EN\",N98,Language=\"FR\",O98,Language=\"SP\",P98)","v":"Medium"},null,null,null,null,null,null,null,null,"Medium","Moyenne"]
[null,null,null,null,{"$f":"_xlfn.IFS(Language=\"EN\",N99,Language=\"FR\",O99,Language=\"SP\",P99)","v":"Low"},null,null,null,null,null,null,null,null,"Low","Faible"]
[]
[]
[]
[null,null,null,null,{"$f":"_xlfn.IFS(Language=\"EN\",N103,Language=\"FR\",O103,Language=\"SP\",P103)","v":"Tutorial to score influence"},null,null,null,null,null,null,null,null,"Tutorial to score influence","Tutoriel pour l'évaluation de l'influence"]
[null,null,null,null,{"$f":"_xlfn.IFS(Language=\"EN\",N104,Language=\"FR\",O104,Language=\"SP\",P104)","v":"Tutorial to score interest"},null,null,null,null,null,null,null,null,"Tutorial to score interest","Tutoriel pour évaluer l'intérêt"]
[null,null,null,null,{"$f":"_xlfn.IFS(Language=\"EN\",N105,Language=\"FR\",O105,Language=\"SP\",P105)","v":"Guidance on stakeholder mapping"},null,null,null,null,null,null,null,null,"Guidance on stakeholder mapping","Conseils sur la cartographie des parties prenantes"]
[]
[null,null,null,null,{"$f":"_xlfn.IFS(Language=\"EN\",N107,Language=\"FR\",O107,Language=\"SP\",P107)","v":"STAKEHOLDER INTEREST\nLevel of interest, concerns and expectations towards TotalEnergies' entity activity, operations or projects; related to actual, potential or perceived negative impacts or benefits/opportunities."},null,null,null,null,null,null,null,null,"STAKEHOLDER INTEREST\nLevel of interest, concerns and expectations towards TotalEnergies' entity activity, operations or projects; related to actual, potential or perceived negative impacts or benefits/opportunities.","INTÉRÊT DES PARTIES PRENANTES\nNiveau d'intérêt, de préoccupations et d'attentes à l'égard de l'activité, des opérations ou des projets de l'entité TotalEnergies, en ce qui concerne les impacts négatifs réels, potentiels ou perçus, ou les avantages/opportunités"]
[null,null,null,null,{"$f":"_xlfn.IFS(Language=\"EN\",N108,Language=\"FR\",O108,Language=\"SP\",P108)","v":"The stakeholder is affected by TotalEnergies activities and  expresses great interest, concerns or expectations"},null,null,null,null,null,null,null,null,"The stakeholder is affected by TotalEnergies activities and  expresses great interest, concerns or expectations","La partie prenante est concernée par les activités de TotalEnergies et exprime un grand intérêt, des préoccupations ou des attentes."]
[null,null,null,null,{"$f":"_xlfn.IFS(Language=\"EN\",N109,Language=\"FR\",O109,Language=\"SP\",P109)","v":"The stakeholder is affected by TotalEnergies activities and  expresses limited interest, concerns or expectations"},null,null,null,null,null,null,null,null,"The stakeholder is affected by TotalEnergies activities and  expresses limited interest, concerns or expectations","La partie prenante est concernée par les activités de TotalEnergies et exprime un intérêt, des préoccupations ou des attentes limités."]
[null,null,null,null,{"$f":"_xlfn.IFS(Language=\"EN\",N110,Language=\"FR\",O110,Language=\"SP\",P110)","v":"The stakeholder is indirectly affected and expresses some interest in TotalEnergies activities"},null,null,null,null,null,null,null,null,"The stakeholder is indirectly affected and expresses some interest in TotalEnergies activities","La partie prenante est indirectement affectée et exprime un certain intérêt pour les activités de TotalEnergies"]
[null,null,null,null,{"$f":"_xlfn.IFS(Language=\"EN\",N111,Language=\"FR\",O111,Language=\"SP\",P111)","v":"The stakeholder is not affected but expresses some interest in TotalEnergies activities "},null,null,null,null,null,null,null,null,"The stakeholder is not affected but expresses some interest in TotalEnergies activities ","La partie prenante n'est pas affectée mais exprime un certain intérêt pour les activités de TotalEnergies. "]
[]
[]
[]
[null,null,null,null,{"$f":"_xlfn.IFS(Language=\"EN\",N115,Language=\"FR\",O115,Language=\"SP\",P115)","v":"Use the assistant to map your stakeholders if you start from scratch"},null,null,null,null,null,null,null,null,"Use the assistant to map your stakeholders if you start from scratch","Utilisez l'assistant pour cartographier vos parties prenantes si vous partez de zéro"]
[]
[]
[]
[]
[null,null,null,null,{"$f":"_xlfn.IFS(Language=\"EN\",N120,Language=\"FR\",O120,Language=\"SP\",P120)","v":"Stakeholder (short) name"},null,null,null,null,null,null,null,null,"Stakeholder (short) name","Nom (abrégé) de la partie prenante"]
[null,null,null,null,{"$f":"_xlfn.IFS(Language=\"EN\",N121,Language=\"FR\",O121,Language=\"SP\",P121)","v":"Category"},null,null,null,null,null,null,null,null,"Category","Catégorie"]
[null,null,null,null,{"$f":"_xlfn.IFS(Language=\"EN\",N122,Language=\"FR\",O122,Language=\"SP\",P122)","v":"Subcategory"},null,null,null,null,null,null,null,null,"Subcategory","Groupe"]
[null,null,null,null,{"$f":"_xlfn.IFS(Language=\"EN\",N123,Language=\"FR\",O123,Language=\"SP\",P123)","v":"Stakeholder Influence"},null,null,null,null,null,null,null,null,"Stakeholder Influence","Influence de la partie prenante"]
[null,null,null,null,{"$f":"_xlfn.IFS(Language=\"EN\",N124,Language=\"FR\",O124,Language=\"SP\",P124)","v":"Stakeholder's interest / expectations"},null,null,null,null,null,null,null,null,"Stakeholder's interest / expectations","Intérêt / attentes de la partie prenante"]
[null,null,null,null,{"$f":"_xlfn.IFS(Language=\"EN\",N125,Language=\"FR\",O125,Language=\"SP\",P125)","v":"Geographical scope"},null,null,null,null,null,null,null,null,"Geographical scope","Portée géographique"]
[null,null,null,null,{"$f":"_xlfn.IFS(Language=\"EN\",N126,Language=\"FR\",O126,Language=\"SP\",P126)","v":"Focal point"},null,null,null,null,null,null,null,null,"Focal point","Point focal"]
[null,null,null,null,{"$f":"_xlfn.IFS(Language=\"EN\",N127,Language=\"FR\",O127,Language=\"SP\",P127)","v":"Comments on stakeholder influence"},null,null,null,null,null,null,null,null,"Comments on stakeholder influence","Commentaires sur l'influence de la partie prenante"]
[null,null,null,null,{"$f":"_xlfn.IFS(Language=\"EN\",N128,Language=\"FR\",O128,Language=\"SP\",P128)","v":"Comments on stakeholder expectations"},null,null,null,null,null,null,null,null,"Comments on stakeholder expectations","Commentaires sur les attentes de la partie prenante"]
[null,null,null,null,{"$f":"_xlfn.IFS(Language=\"EN\",N129,Language=\"FR\",O129,Language=\"SP\",P129)","v":"Interview panel"},null,null,null,null,null,null,null,null,"Interview panel","Panel d'interview"]
[null,null,null,null,{"$f":"_xlfn.IFS(Language=\"EN\",N130,Language=\"FR\",O130,Language=\"SP\",P130)","v":"Name / Contact 1"},null,null,null,null,null,null,null,null,"Name / Contact 1","Nom / Contact 1"]
[null,null,null,null,{"$f":"_xlfn.IFS(Language=\"EN\",N131,Language=\"FR\",O131,Language=\"SP\",P131)","v":"Function / Contact 1"},null,null,null,null,null,null,null,null,"Function / Contact 1","Fonction / Contact 1"]
[null,null,null,null,{"$f":"_xlfn.IFS(Language=\"EN\",N132,Language=\"FR\",O132,Language=\"SP\",P132)","v":"Mail / Contact 1"},null,null,null,null,null,null,null,null,"Mail / Contact 1","Mail / Contact 1"]
[null,null,null,null,{"$f":"_xlfn.IFS(Language=\"EN\",N133,Language=\"FR\",O133,Language=\"SP\",P133)","v":"Name / Contact 2"},null,null,null,null,null,null,null,null,"Name / Contact 2","Nom / Contact 2"]
[null,null,null,null,{"$f":"_xlfn.IFS(Language=\"EN\",N134,Language=\"FR\",O134,Language=\"SP\",P134)","v":"Function / Contact 2"},null,null,null,null,null,null,null,null,"Function / Contact 2","Fonction / Contact 2"]
[null,null,null,null,{"$f":"_xlfn.IFS(Language=\"EN\",N135,Language=\"FR\",O135,Language=\"SP\",P135)","v":"Mail / Contact 2"},null,null,null,null,null,null,null,null,"Mail / Contact 2","Mail / Contact 2"]
[null,null,null,null,{"$f":"_xlfn.IFS(Language=\"EN\",N136,Language=\"FR\",O136,Language=\"SP\",P136)","v":"Name / Contact 3"},null,null,null,null,null,null,null,null,"Name / Contact 3","Nom / Contact 3"]
[null,null,null,null,{"$f":"_xlfn.IFS(Language=\"EN\",N137,Language=\"FR\",O137,Language=\"SP\",P137)","v":"Function / Contact 3"},null,null,null,null,null,null,null,null,"Function / Contact 3","Fonction / Contact 3"]
[null,null,null,null,{"$f":"_xlfn.IFS(Language=\"EN\",N138,Language=\"FR\",O138,Language=\"SP\",P138)","v":"Mail / Contact 3"},null,null,null,null,null,null,null,null,"Mail / Contact 3","Mail / Contact 3"]
[null,null,null,null,{"$f":"_xlfn.IFS(Language=\"EN\",N139,Language=\"FR\",O139,Language=\"SP\",P139)","v":"Name / Contact 4"},null,null,null,null,null,null,null,null,"Name / Contact 4","Nom / Contact 4"]
[null,null,null,null,{"$f":"_xlfn.IFS(Language=\"EN\",N140,Language=\"FR\",O140,Language=\"SP\",P140)","v":"Function / Contact 4"},null,null,null,null,null,null,null,null,"Function / Contact 4","Fonction / Contact 4"]
[null,null,null,null,{"$f":"_xlfn.IFS(Language=\"EN\",N141,Language=\"FR\",O141,Language=\"SP\",P141)","v":"Mail / Contact 4"},null,null,null,null,null,null,null,null,"Mail / Contact 4","Mail / Contact 4"]
[null,null,null,null,{"$f":"_xlfn.IFS(Language=\"EN\",N142,Language=\"FR\",O142,Language=\"SP\",P142)","v":"Interview_status"},null,null,null,null,null,null,null,null,"Interview_status","Statut de l'entretien"]
[null,null,null,null,{"$f":"_xlfn.IFS(Language=\"EN\",N143,Language=\"FR\",O143,Language=\"SP\",P143)","v":"Interview_date"},null,null,null,null,null,null,null,null,"Interview_date","Date de l'entretien"]
[null,null,null,null,{"$f":"_xlfn.IFS(Language=\"EN\",N144,Language=\"FR\",O144,Language=\"SP\",P144)","v":"Interview_location"},null,null,null,null,null,null,null,null,"Interview_location","Lieu de l'entretien"]
[null,null,null,null,{"$f":"_xlfn.IFS(Language=\"EN\",N145,Language=\"FR\",O145,Language=\"SP\",P145)","v":"Phone Contact 1"},null,null,null,null,null,null,null,null,"Phone Contact 1","Téléphone du contact 1"]
[null,null,null,null,{"$f":"_xlfn.IFS(Language=\"EN\",N146,Language=\"FR\",O146,Language=\"SP\",P146)","v":"Phone Contact 2"},null,null,null,null,null,null,null,null,"Phone Contact 2","Téléphone du contact 2"]
[null,null,null,null,{"$f":"_xlfn.IFS(Language=\"EN\",N147,Language=\"FR\",O147,Language=\"SP\",P147)","v":"Phone Contact 3"},null,null,null,null,null,null,null,null,"Phone Contact 3","Téléphone du contact 3"]
[null,null,null,null,{"$f":"_xlfn.IFS(Language=\"EN\",N148,Language=\"FR\",O148,Language=\"SP\",P148)","v":"Phone Contact 4"},null,null,null,null,null,null,null,null,"Phone Contact 4","Téléphone du contact 4"]
[null,null,null,null,{"$f":"_xlfn.IFS(Language=\"EN\",N149,Language=\"FR\",O149,Language=\"SP\",P149)","v":"Stakeholder name (long)"},null,null,null,null,null,null,null,null,"Stakeholder name (long)","Nom de l'acteur (long)"]
[null,null,null,null,{"$f":"_xlfn.IFS(Language=\"EN\",N150,Language=\"FR\",O150,Language=\"SP\",P150)","v":"Stakeholder ID"},null,null,null,null,null,null,null,null,"Stakeholder ID","ID de la partie prenante"]
[null,null,null,null,{"$f":"_xlfn.IFS(Language=\"EN\",N151,Language=\"FR\",O151,Language=\"SP\",P151)","v":"Asset"},null,null,null,null,null,null,null,null,"Asset","Asset"]
[null,null,null,null,{"$f":"_xlfn.IFS(Language=\"EN\",N152,Language=\"FR\",O152,Language=\"SP\",P152)","v":"About the stakeholder"},null,null,null,null,null,null,null,null,"About the stakeholder","A propos de la partie prenante"]
[]
[]
[null,null,null,null,{"$f":"_xlfn.IFS(Language=\"EN\",N155,Language=\"FR\",O155,Language=\"SP\",P155)","v":"Zone 1"},null,null,null,null,null,null,null,null,"Zone 1","Zone 1"]
[null,null,null,null,{"$f":"_xlfn.IFS(Language=\"EN\",N156,Language=\"FR\",O156,Language=\"SP\",P156)","v":"Zone 2"},null,null,null,null,null,null,null,null,"Zone 2","Zone 2"]
[null,null,null,null,{"$f":"_xlfn.IFS(Language=\"EN\",N157,Language=\"FR\",O157,Language=\"SP\",P157)","v":"Zone 3"},null,null,null,null,null,null,null,null,"Zone 3","Zone 3"]
[null,null,null,null,{"$f":"_xlfn.IFS(Language=\"EN\",N158,Language=\"FR\",O158,Language=\"SP\",P158)","v":"Zone 4"},null,null,null,null,null,null,null,null,"Zone 4","Zone 4"]
[]
[null,null,null,null,{"$f":"_xlfn.IFS(Language=\"EN\",N160,Language=\"FR\",O160,Language=\"SP\",P160)","v":"High"},null,null,null,null,null,null,null,null,"High","Haut"]
[null,null,null,null,{"$f":"_xlfn.IFS(Language=\"EN\",N161,Language=\"FR\",O161,Language=\"SP\",P161)","v":"Medium"},null,null,null,null,null,null,null,null,"Medium","Moyenne"]
[null,null,null,null,{"$f":"_xlfn.IFS(Language=\"EN\",N162,Language=\"FR\",O162,Language=\"SP\",P162)","v":"Low"},null,null,null,null,null,null,null,null,"Low","Faible"]
[]
[null,null,null,null,{"$f":"_xlfn.IFS(Language=\"EN\",N164,Language=\"FR\",O164,Language=\"SP\",P164)","v":"Information"},null,null,null,null,null,null,null,null,"Information","Information"]
[null,null,null,null,{"$f":"_xlfn.IFS(Language=\"EN\",N165,Language=\"FR\",O165,Language=\"SP\",P165)","v":"Consultation"},null,null,null,null,null,null,null,null,"Consultation","Consultation"]
[null,null,null,null,{"$f":"_xlfn.IFS(Language=\"EN\",N166,Language=\"FR\",O166,Language=\"SP\",P166)","v":"Collaboration"},null,null,null,null,null,null,null,null,"Collaboration","Collaboration"]
[]
[null,null,null,null,{"$f":"_xlfn.IFS(Language=\"EN\",N168,Language=\"FR\",O168,Language=\"SP\",P168)","v":"Not started"},null,null,null,null,null,null,null,null,"Not started","Non lancé"]
[null,null,null,null,{"$f":"_xlfn.IFS(Language=\"EN\",N169,Language=\"FR\",O169,Language=\"SP\",P169)","v":"Ongoing"},null,null,null,null,null,null,null,null,"Ongoing","En cours"]
[null,null,null,null,{"$f":"_xlfn.IFS(Language=\"EN\",N170,Language=\"FR\",O170,Language=\"SP\",P170)","v":"Completed"},null,null,null,null,null,null,null,null,"Completed","Terminé"]
[]
[null,null,null,null,{"$f":"_xlfn.IFS(Language=\"EN\",N172,Language=\"FR\",O172,Language=\"SP\",P172)","v":"Authorities"},null,null,null,null,null,null,null,null,"Authorities","Autorités"]
[null,null,null,null,{"$f":"_xlfn.IFS(Language=\"EN\",N173,Language=\"FR\",O173,Language=\"SP\",P173)","v":"Business"},null,null,null,null,null,null,null,null,"Business","Business"]
[null,null,null,null,{"$f":"_xlfn.IFS(Language=\"EN\",N174,Language=\"FR\",O174,Language=\"SP\",P174)","v":"Civil society"},null,null,null,null,null,null,null,null,"Civil society","Société civile"]
[null,null,null,null,{"$f":"_xlfn.IFS(Language=\"EN\",N175,Language=\"FR\",O175,Language=\"SP\",P175)","v":"Communities"},null,null,null,null,null,null,null,null,"Communities","Communautés"]
[null,null,null,null,{"$f":"_xlfn.IFS(Language=\"EN\",N176,Language=\"FR\",O176,Language=\"SP\",P176)","v":"Multiple"},null,null,null,null,null,null,null,null,"Multiple","Multiples"]
[]
[null,null,null,null,{"$f":"E31","v":"All authorities"}]
[null,null,null,null,{"$f":"E40","v":"All business"}]
[null,null,null,null,{"$f":"E46","v":"All civil society"}]
[null,null,null,null,{"$f":"E52","v":"All communities"}]
[]
[]
[null,null,null,null,{"$f":"_xlfn.IFS(Language=\"EN\",N184,Language=\"FR\",O184,Language=\"SP\",P184)","v":"List your assets"},null,null,null,null,null,null,null,null,"List your assets","Listez vos assets"]
[]
[null,null,null,null,{"$f":"_xlfn.IFS(Language=\"EN\",N186,Language=\"FR\",O186,Language=\"SP\",P186)","v":"Tuto # 2.1. Stakeholder mapping"},null,null,null,null,null,null,null,null,"Tuto # 2.1. Stakeholder mapping","Tuto # 2.1. Cartographie des parties prenantes"]
[]
[null,null,null,null,{"$f":"_xlfn.IFS(Language=\"EN\",N188,Language=\"FR\",O188,Language=\"SP\",P188)","v":"INFLUENCE"},null,null,null,null,null,null,null,null,"INFLUENCE","INFLUENCE"]
[null,null,null,null,{"$f":"_xlfn.IFS(Language=\"EN\",N189,Language=\"FR\",O189,Language=\"SP\",P189)","v":"INTEREST"},null,null,null,null,null,null,null,null,"INTEREST","INTERET"]
[]
[null,null,null,null,{"$f":"_xlfn.IFS(Language=\"EN\",N191,Language=\"FR\",O191,Language=\"SP\",P191)","v":"Click on the axes of the matrix to see the definitions of Influence and Interest"},null,null,null,null,null,null,null,null,"Click on the axes of the matrix to see the definitions of Influence and Interest","Cliquer sur les axes de la matrice pour voir les définitions de Influence et Intérêt"]
[]
[]
[]
[null,null,null,null,{"$f":"_xlfn.IFS(Language=\"EN\",N195,Language=\"FR\",O195,Language=\"SP\",P195)","v":"Comments"},null,null,null,null,null,null,null,null,"Comments","Commentaires"]
[]
[null,null,null,null,"ONGLET SEP"]
[null,null,null,null,{"$f":"_xlfn.IFS(Language=\"EN\",N198,Language=\"FR\",O198,Language=\"SP\",P198)","v":"Stakeholder category"},null,null,null,null,null,null,null,null,"Stakeholder category","Catégorie de parties prenantes"]
[null,null,null,null,{"$f":"_xlfn.IFS(Language=\"EN\",N199,Language=\"FR\",O199,Language=\"SP\",P199)","v":"Stakeholder group"},null,null,null,null,null,null,null,null,"Stakeholder group","Groupe de parties prenantes"]
[null,null,null,null,{"$f":"_xlfn.IFS(Language=\"EN\",N200,Language=\"FR\",O200,Language=\"SP\",P200)","v":"Stakeholder name"},null,null,null,null,null,null,null,null,"Stakeholder name","Nom de la partie prenante"]
[null,null,null,null,{"$f":"_xlfn.IFS(Language=\"EN\",N201,Language=\"FR\",O201,Language=\"SP\",P201)","v":"Purpose of engagement"},null,null,null,null,null,null,null,null,"Purpose of engagement","Objectif de l'engagement"]
[null,null,null,null,{"$f":"_xlfn.IFS(Language=\"EN\",N202,Language=\"FR\",O202,Language=\"SP\",P202)","v":"Priority"},null,null,null,null,null,null,null,null,"Priority","Priorité"]
[null,null,null,null,{"$f":"_xlfn.IFS(Language=\"EN\",N203,Language=\"FR\",O203,Language=\"SP\",P203)","v":"Activity"},null,null,null,null,null,null,null,null,"Activity","Activité"]
[null,null,null,null,{"$f":"_xlfn.IFS(Language=\"EN\",N204,Language=\"FR\",O204,Language=\"SP\",P204)","v":"Responsibility"},null,null,null,null,null,null,null,null,"Responsibility","Responsabilité"]
[null,null,null,null,{"$f":"_xlfn.IFS(Language=\"EN\",N205,Language=\"FR\",O205,Language=\"SP\",P205)","v":"Engagement type"},null,null,null,null,null,null,null,null,"Engagement type","Type d'engagement"]
[null,null,null,null,{"$f":"_xlfn.IFS(Language=\"EN\",N206,Language=\"FR\",O206,Language=\"SP\",P206)","v":"Recurrence (if any)"},null,null,null,null,null,null,null,null,"Recurrence (if any)","Récurrence (le cas échéant)"]
[null,null,null,null,{"$f":"_xlfn.IFS(Language=\"EN\",N207,Language=\"FR\",O207,Language=\"SP\",P207)","v":"Start Date"},null,null,null,null,null,null,null,null,"Start Date","Date de début"]
[null,null,null,null,{"$f":"_xlfn.IFS(Language=\"EN\",N208,Language=\"FR\",O208,Language=\"SP\",P208)","v":"End Date"},null,null,null,null,null,null,null,null,"End Date","Date de fin"]
[null,null,null,null,{"$f":"_xlfn.IFS(Language=\"EN\",N209,Language=\"FR\",O209,Language=\"SP\",P209)","v":"Progress status"},null,null,null,null,null,null,null,null,"Progress status","État d'avancement"]
[null,null,null,null,{"$f":"_xlfn.IFS(Language=\"EN\",N210,Language=\"FR\",O210,Language=\"SP\",P210)","v":"Comments (if any)"},null,null,null,null,null,null,null,null,"Comments (if any)","Commentaires (le cas échéant)"]
[null,null,null,null,{"$f":"_xlfn.IFS(Language=\"EN\",N211,Language=\"FR\",O211,Language=\"SP\",P211)","v":"Achievements"},null,null,null,null,null,null,null,null,"Achievements","Réalisations"]
[null,null,null,null,{"$f":"_xlfn.IFS(Language=\"EN\",N212,Language=\"FR\",O212,Language=\"SP\",P212)","v":"N"},null,null,null,null,null,null,null,null,"N","N"]
[null,null,null,null,{"$f":"_xlfn.IFS(Language=\"EN\",N213,Language=\"FR\",O213,Language=\"SP\",P213)","v":"Double click to delete line"},null,null,null,null,null,null,null,null,"Double click to delete line","Double clic pour supprimer la ligne"]
[]
[]
[]
[]
[null,null,null,null,{"$f":"_xlfn.IFS(Language=\"EN\",N218,Language=\"FR\",O218,Language=\"SP\",P218)","v":"The assistant takes you step by step in identifying your key stakeholders: \n- Just answer the questions by yes or no. \n- If you answer yes, then fill in below the list of your stakeholders,\n and qualify their influence, interest and indicate the geographical scope\n\nYou can validate and exit the form any time you want, \nand come back later to complete your work\n\nYou cannot delete a stakeholder within the form"},null,null,null,null,null,null,null,null,"The assistant takes you step by step in identifying your key stakeholders: \n- Just answer the questions by yes or no. \n- If you answer yes, then fill in below the list of your stakeholders,\n and qualify their influence, interest and indicate the geographical scope\n\nYou can validate and exit the form any time you want, \nand come back later to complete your work\n\nYou cannot delete a stakeholder within the form","L'assistant vous guide pas à pas dans l'identification de vos principales parties prenantes :\n- Répondez simplement aux questions par oui ou par non.\n- Si vous répondez oui, complétez ci-dessous la liste de vos parties prenantes,\n et qualifiez leur influence, leur intérêt et indiquez la portée géographique.\n\nVous pouvez valider et quitter le formulaire à tout moment,\net revenir plus tard pour compléter votre travail\n\nVous ne pouvez pas supprimer une partie prenante dans le formulaire"]
[]
[null,null,null,null,{"$f":"_xlfn.IFS(Language=\"EN\",N220,Language=\"FR\",O220,Language=\"SP\",P220)","v":"Fill stakeholders below if you answered yes to the question:"},null,null,null,null,null,null,null,null,"Fill stakeholders below if you answered yes to the question:","Remplissez les parties prenantes ci-dessous si vous avez répondu oui à la question :"]
[]
[null,null,null,null,{"$f":"_xlfn.IFS(Language=\"EN\",N222,Language=\"FR\",O222,Language=\"SP\",P222)","v":"In the next window, point to the directory containing the stakeholder file you wish to import into SRM+. Make sure that the file is in the same language as SRM+ and that you have qualified the stakeholders in accordance with SRM+, otherwise the import will not work."},null,null,null,null,null,null,null,null,"In the next window, point to the directory containing the stakeholder file you wish to import into SRM+. Make sure that the file is in the same language as SRM+ and that you have qualified the stakeholders in accordance with SRM+, otherwise the import will not work.","Dans la fenêtre suivante, pointez le répertoire où se trouve le fichier des parties prenantes que vous voulez importer dans SRM+. Assurez-vous préalablement qu'il est dans la même langue que SRM+ et que vous qualifiez les parties prenantes de manière conforme à SRM+, sans quoi l'import ne fonctionnera pas"]
[]
[null,null,null,null,{"$f":"_xlfn.IFS(Language=\"EN\",N224,Language=\"FR\",O224,Language=\"SP\",P224)","v":"Recurrence"},null,null,null,null,null,null,null,null,"Recurrence","Récurrence"]
[null,null,null,null,{"$f":"_xlfn.IFS(Language=\"EN\",N225,Language=\"FR\",O225,Language=\"SP\",P225)","v":"Comments"},null,null,null,null,null,null,null,null,"Comments","Commentaires"]
[]
[null,null,null,null,{"$f":"_xlfn.IFS(Language=\"EN\",N227,Language=\"FR\",O227,Language=\"SP\",P227)","v":"Build Stakeholder Engagement Plan"},null,null,null,null,null,null,null,null,"Build Stakeholder Engagement Plan","Élaborer un Plan d'Engagement des Parties Prenantes"]
[null,null,null,null,{"$f":"_xlfn.IFS(Language=\"EN\",N228,Language=\"FR\",O228,Language=\"SP\",P228)","v":"When building your Stakeholder Engagement Plan:"},null,null,null,null,null,null,null,null,"When building your Stakeholder Engagement Plan:","Lors de l'élaboration de votre Plan d'Engagement des Parties Prenantes : "]
[null,null,null,null,{"$f":"_xlfn.IFS(Language=\"EN\",N229,Language=\"FR\",O229,Language=\"SP\",P229)","v":"- Make sure to include Zone 1 stakeholders in your SEP"},null,null,null,null,null,null,null,null,"- Make sure to include Zone 1 stakeholders in your SEP","- Veillez à inclure les parties prenantes de la Zone 1 dans votre PEPP"]
[null,null,null,null,{"$f":"_xlfn.IFS(Language=\"EN\",N230,Language=\"FR\",O230,Language=\"SP\",P230)","v":"- Each stakeholder category should be present in your SEP, especially communities"},null,null,null,null,null,null,null,null,"- Each stakeholder category should be present in your SEP, especially communities","- Chaque catégorie de parties prenantes doit être présente dans votre PEPP, en particulier les communautés."]
[null,null,null,null,{"$f":"_xlfn.IFS(Language=\"EN\",N231,Language=\"FR\",O231,Language=\"SP\",P231)","v":0}]
[null,null,null,null,{"$f":"_xlfn.IFS(Language=\"EN\",N232,Language=\"FR\",O232,Language=\"SP\",P232)","v":"Use the filters and buttons to manage your SEP"},null,null,null,null,null,null,null,null,"Use the filters and buttons to manage your SEP","Utilisez les filtres et les boutons pour gérer votre PEPP"]
[]
[null,null,null,null,{"$f":"_xlfn.IFS(Language=\"EN\",N234,Language=\"FR\",O234,Language=\"SP\",P234)","v":"Tuto # 2.2. Stakeholder Engagement Plan (SEP)"},null,null,null,null,null,null,null,null,"Tuto # 2.2. Stakeholder Engagement Plan (SEP)","Tuto # 2.2. Plan de Dialogue avec les Parties Prenantes (PDPP)"]
[null,null,null,null,{"$f":"_xlfn.IFS(Language=\"EN\",N235,Language=\"FR\",O235,Language=\"SP\",P235)","v":"Show or hide stakeholder categories"},null,null,null,null,null,null,null,null,"Show or hide stakeholder categories","Afficher ou masquer les catégories de parties prenantes"]
[null,null,null,null,{"$f":"_xlfn.IFS(Language=\"EN\",N236,Language=\"FR\",O236,Language=\"SP\",P236)","v":"Filter on progress status"},null,null,null,null,null,null,null,null,"Filter on progress status","Filtrer sur l'état d'avancement"]
[null,null,null,null,{"$f":"_xlfn.IFS(Language=\"EN\",N237,Language=\"FR\",O237,Language=\"SP\",P237)","v":"Show or hide stakeholder from specific zones in the matrix"},null,null,null,null,null,null,null,null,"Show or hide stakeholder from specific zones in the matrix","Afficher ou masquer les parties prenantes des zones de la matrice"]
[null,null,null,null,{"$f":"_xlfn.IFS(Language=\"EN\",N238,Language=\"FR\",O238,Language=\"SP\",P238)","v":"Show or hide column"},null,null,null,null,null,null,null,null,"Show or hide column","Afficher ou masquer la colonne"]
[null,null,null,null,{"$f":"_xlfn.IFS(Language=\"EN\",N239,Language=\"FR\",O239,Language=\"SP\",P239)","v":"Select one or more specific assets"},null,null,null,null,null,null,null,null,"Select one or more specific assets","Sélectionner un ou plusieurs assets spécifiques"]
[null,null,null,null,{"$f":"_xlfn.IFS(Language=\"EN\",N240,Language=\"FR\",O240,Language=\"SP\",P240)","v":"Check if you have included all Zone 1 stakeholders in your SEP"},null,null,null,null,null,null,null,null,"Check if you have included all Zone 1 stakeholders in your SEP","Vérifiez si vous avez inclus toutes les parties prenantes de la zone 1 dans votre PEPP"]
[null,null,null,null,{"$f":"_xlfn.IFS(Language=\"EN\",N241,Language=\"FR\",O241,Language=\"SP\",P241)","v":"Right-click to select the type of commitment (several choices possible)"},null,null,null,null,null,null,null,null,"Right-click to select the type of commitment (several choices possible)","Utilisez le clic droit pour sélectionner le type d'engagement (plusieurs choix possibles)"]
[null,null,null,null,{"$f":"_xlfn.IFS(Language=\"EN\",N242,Language=\"FR\",O242,Language=\"SP\",P242)","v":"To display stakeholder names, you must first"},null,null,null,null,null,null,null,null,"To display stakeholder names, you must first","Pour afficher le nom des parties prenantes, vous devez d'abord"]
[null,null,null,null,{"$f":"_xlfn.IFS(Language=\"EN\",N243,Language=\"FR\",O243,Language=\"SP\",P243)","v":"select the group to which they belong"},null,null,null,null,null,null,null,null,"select the group to which they belong","sélectionner le groupe auquel elles appartiennent"]
[]
[null,null,null,null,{"$f":"_xlfn.IFS(Language=\"EN\",N245,Language=\"FR\",O245,Language=\"SP\",P245)","v":"All assets"},null,null,null,null,null,null,null,null,"All assets","Tous les assets"]
[]
[null,null,null,null,{"$f":"_xlfn.IFS(Language=\"EN\",N247,Language=\"FR\",O247,Language=\"SP\",P247)","v":"Refresh data"},null,null,null,null,null,null,null,null,"Refresh data","Rafraichir les données"]
[]
[null,null,null,null,{"$f":"_xlfn.IFS(Language=\"EN\",N249,Language=\"FR\",O249,Language=\"SP\",P249)","v":"If you have several assets"},null,null,null,null,null,null,null,null,"If you have several assets","Si vous avez plusieurs assets"]
[null,null,null,null,{"$f":"_xlfn.IFS(Language=\"EN\",N250,Language=\"FR\",O250,Language=\"SP\",P250)","v":"Select one or more assets. If you select several assets, the tool displays the common stakeholders"},null,null,null,null,null,null,null,null,"Select one or more assets. If you select several assets, the tool displays the common stakeholders","Sélectionner un ou plusieurs assets. Si vous sélectionner plusieurs assets, l'outil affiche les parties prenantes communes"]
[]
[null,null,null,null,{"$f":"_xlfn.IFS(Language=\"EN\",N252,Language=\"FR\",O252,Language=\"SP\",P252)","v":"Enable / Disable filters"},null,null,null,null,null,null,null,null,"Enable / Disable filters","Activer / Désactiver les filtres"]
[]
[null,null,null,null,{"$f":"_xlfn.IFS(Language=\"EN\",N254,Language=\"FR\",O254,Language=\"SP\",P254)","v":"Previous"},null,null,null,null,null,null,null,null,"Previous","Précédent"]
[null,null,null,null,{"$f":"_xlfn.IFS(Language=\"EN\",N255,Language=\"FR\",O255,Language=\"SP\",P255)","v":"Next"},null,null,null,null,null,null,null,null,"Next","Suivant"]
[]
[null,null,null,null,{"$f":"_xlfn.IFS(Language=\"EN\",N257,Language=\"FR\",O257,Language=\"SP\",P257)","v":"Submit and exit form"},null,null,null,null,null,null,null,null,"Submit and exit form","Valider et quitter le formulaire"]
[null,null,null,null,{"$f":"_xlfn.IFS(Language=\"EN\",N258,Language=\"FR\",O258,Language=\"SP\",P258)","v":"Cancel"},null,null,null,null,null,null,null,null,"Cancel","Annuler"]
[]
[null,null,null,null,{"$f":"_xlfn.IFS(Language=\"EN\",N260,Language=\"FR\",O260,Language=\"SP\",P260)","v":"on"},null,null,null,null,null,null,null,null,"on","sur"]
[]
[null,null,null,null,{"$f":"_xlfn.IFS(Language=\"EN\",N262,Language=\"FR\",O262,Language=\"SP\",P262)","v":"Yes"},null,null,null,null,null,null,null,null,"Yes","Oui"]
[null,null,null,null,{"$f":"_xlfn.IFS(Language=\"EN\",N263,Language=\"FR\",O263,Language=\"SP\",P263)","v":"No"},null,null,null,null,null,null,null,null,"No","Non"]
[]
[null,null,"Page2",null,{"$f":"_xlfn.IFS(Language=\"EN\",N265,Language=\"FR\",O265,Language=\"SP\",P265)","v":"1 - Contacts"},null,null,null,null,null,null,null,null,"1 - Contacts","1 - Contacts"]
[null,null,"Label_SH_name",null,{"$f":"_xlfn.IFS(Language=\"EN\",N266,Language=\"FR\",O266,Language=\"SP\",P266)","v":"Stakeholder (short name)"},null,null,null,null,null,null,null,null,"Stakeholder (short name)","Partie prenante (nom court)"]
[null,null,"Label31",null,{"$f":"_xlfn.IFS(Language=\"EN\",N267,Language=\"FR\",O267,Language=\"SP\",P267)","v":"Stakeholder name (long)"},null,null,null,null,null,null,null,null,"Stakeholder name (long)","Nom de la partie prenante (long)"]
[null,null,"Label_type",null,{"$f":"_xlfn.IFS(Language=\"EN\",N268,Language=\"FR\",O268,Language=\"SP\",P268)","v":"Category of stakeholder:"},null,null,null,null,null,null,null,null,"Category of stakeholder:","Catégorie de la partie prenante :"]
[null,null,"label_category",null,{"$f":"_xlfn.IFS(Language=\"EN\",N269,Language=\"FR\",O269,Language=\"SP\",P269)","v":"Group of stakeholder:"},null,null,null,null,null,null,null,null,"Group of stakeholder:","Groupe de la partie prenante :"]
[null,null,"Label3",null,{"$f":"_xlfn.IFS(Language=\"EN\",N270,Language=\"FR\",O270,Language=\"SP\",P270)","v":"Contact name"},null,null,null,null,null,null,null,null,"Contact name","Nom du contact"]
[null,null,"Label4",null,{"$f":"_xlfn.IFS(Language=\"EN\",N271,Language=\"FR\",O271,Language=\"SP\",P271)","v":"Position"},null,null,null,null,null,null,null,null,"Position","Poste"]
[null,null,"Label5",null,{"$f":"_xlfn.IFS(Language=\"EN\",N272,Language=\"FR\",O272,Language=\"SP\",P272)","v":"Email"},null,null,null,null,null,null,null,null,"Email","Courriel"]
[null,null,"Label27",null,{"$f":"_xlfn.IFS(Language=\"EN\",N273,Language=\"FR\",O273,Language=\"SP\",P273)","v":"Phone"},null,null,null,null,null,null,null,null,"Phone","Téléphone"]
[null,null,"Frame2",null,{"$f":"_xlfn.IFS(Language=\"EN\",N274,Language=\"FR\",O274,Language=\"SP\",P274)","v":"3 - Matrix position"},null,null,null,null,null,null,null,null,"3 - Matrix position","3 - Position dans la matrice"]
[null,null,"Label_ImpactonTE",null,{"$f":"_xlfn.IFS(Language=\"EN\",N275,Language=\"FR\",O275,Language=\"SP\",P275)","v":"POWER"},null,null,null,null,null,null,null,null,"POWER","INFLUENCE"]
[null,null,"Label15",null,{"$f":"_xlfn.IFS(Language=\"EN\",N276,Language=\"FR\",O276,Language=\"SP\",P276)","v":"Evaluates the stakeholder's potential influence on TE"},null,null,null,null,null,null,null,null,"Evaluates the stakeholder's potential influence on TE","Evalue l'influence potentielle de la partie prenante sur TE"]
[null,null,"Label_impactonsh",null,{"$f":"_xlfn.IFS(Language=\"EN\",N277,Language=\"FR\",O277,Language=\"SP\",P277)","v":"INTEREST"},null,null,null,null,null,null,null,null,"INTEREST","INTÉRÊT"]
[null,null,"Label14",null,{"$f":"_xlfn.IFS(Language=\"EN\",N278,Language=\"FR\",O278,Language=\"SP\",P278)","v":"Evaluates stakeholder interest in TE"},null,null,null,null,null,null,null,null,"Evaluates stakeholder interest in TE","Evalue l'intérêt exprimé par la partie prenante vis-à-vis de TE"]
[null,null,"Label26",null,{"$f":"_xlfn.IFS(Language=\"EN\",N279,Language=\"FR\",O279,Language=\"SP\",P279)","v":"INSTRUCTIONS"},null,null,null,null,null,null,null,null,"INSTRUCTIONS","INSTRUCTIONS"]
[null,null,"Label28",null,{"$f":"_xlfn.IFS(Language=\"EN\",N280,Language=\"FR\",O280,Language=\"SP\",P280)","v":"List key contacts for the stakeholder"},null,null,null,null,null,null,null,null,"List key contacts for the stakeholder","Dresser la liste des contacts clés de la partie prenante"]
[null,null,"Label25",null,{"$f":"_xlfn.IFS(Language=\"EN\",N281,Language=\"FR\",O281,Language=\"SP\",P281)","v":"Comment on power and interest (if useful)"},null,null,null,null,null,null,null,null,"Comment on power and interest (if useful)","Commenter le pouvoir et l'intérêt (si utile)"]
[null,null,"CommandButtonValidate",null,{"$f":"_xlfn.IFS(Language=\"EN\",N282,Language=\"FR\",O282,Language=\"SP\",P282)","v":"Validate"},null,null,null,null,null,null,null,null,"Validate","Valider"]
[null,null,"CommandButtonCancel",null,{"$f":"_xlfn.IFS(Language=\"EN\",N283,Language=\"FR\",O283,Language=\"SP\",P283)","v":"Cancel"},null,null,null,null,null,null,null,null,"Cancel","Annuler"]
[null,null,"Label8",null,{"$f":"_xlfn.IFS(Language=\"EN\",N284,Language=\"FR\",O284,Language=\"SP\",P284)","v":"Stakeholder engagement objective"},null,null,null,null,null,null,null,null,"Stakeholder engagement objective","Objectif de dialogue"]
[null,null,"SH_description",null,{"$f":"_xlfn.IFS(Language=\"EN\",N285,Language=\"FR\",O285,Language=\"SP\",P285)","v":"About the stakeholder"},null,null,null,null,null,null,null,null,"About the stakeholder","A propos de la partie prenante"]
[null,null,null,null,{"$f":"_xlfn.IFS(Language=\"EN\",N286,Language=\"FR\",O286,Language=\"SP\",P286)","v":"Progress report of Stakeholder mapping"},null,null,null,null,null,null,null,null,"Progress report of Stakeholder mapping","Etat d'avancement de la cartographie des parties prenantes"]
[null,null,null,null,{"$f":"_xlfn.IFS(Language=\"EN\",N287,Language=\"FR\",O287,Language=\"SP\",P287)","v":"Stakeholder categories"},null,null,null,null,null,null,null,null,"Stakeholder categories","Catégories de parties prenantes"]
[null,null,null,null,{"$f":"_xlfn.IFS(Language=\"EN\",N288,Language=\"FR\",O288,Language=\"SP\",P288)","v":"Number of stakeholders mapped"},null,null,null,null,null,null,null,null,"Number of stakeholders mapped","Nombre de parties prenantes cartographiées"]
[null,null,null,null,{"$f":"_xlfn.IFS(Language=\"EN\",N289,Language=\"FR\",O289,Language=\"SP\",P289)","v":"% of groups mapped"},null,null,null,null,null,null,null,null,"% of groups mapped","% de groupes cartographiés"]
[null,null,null,null,{"$f":"_xlfn.IFS(Language=\"EN\",N290,Language=\"FR\",O290,Language=\"SP\",P290)","v":"Number of activities in SEP"},null,null,null,null,null,null,null,null,"Number of activities in SEP","Nombre d'activités dans le SEP"]
[null,null,null,null,{"$f":"_xlfn.IFS(Language=\"EN\",N291,Language=\"FR\",O291,Language=\"SP\",P291)","v":"Overall Progress status"},null,null,null,null,null,null,null,null,"Overall Progress status","État d'avancement global"]
[null,null,null,null,{"$f":"_xlfn.IFS(Language=\"EN\",N292,Language=\"FR\",O292,Language=\"SP\",P292)","v":"The % shows the progress of the Stakeholder mapping"},null,null,null,null,null,null,null,null,"The % shows the progress of the Stakeholder mapping","Le pourcentage indique l'état d'avancement de la cartographie des parties prenantes"]
[null,null,null,null,{"$f":"_xlfn.IFS(Language=\"EN\",N293,Language=\"FR\",O293,Language=\"SP\",P293)","v":"The % is based on the number of groups mapped"},null,null,null,null,null,null,null,null,"The % is based on the number of groups mapped","Le pourcentage est basé sur le nombre de groupes cartographiés"]
[null,null,null,null,{"$f":"_xlfn.IFS(Language=\"EN\",N294,Language=\"FR\",O294,Language=\"SP\",P294)","v":"2 - Stakeholder Engagement Plan"},null,null,null,null,null,null,null,null,"2 - Stakeholder Engagement Plan","2 - Plan de dialogue avec la partie prenante"]

{"sheet":"Onglet_Mapping_progress","index":31,"n_rows":52,"n_cols":10,"rows_kept":52,"cut":false,"hidden":false,"merged":[]}
[]
[]
[]
[]
[]
[null,{"$f":"Onglet_mapping_parameters!E286","v":"Progress report of Stakeholder mapping"}]
[]
[null,{"$f":"Onglet_mapping_parameters!E287","v":"Stakeholder categories"},null,{"$f":"Onglet_mapping_parameters!E288","v":"Number of stakeholders mapped"},null,{"$f":"Onglet_mapping_parameters!E289","v":"% of groups mapped"},null,{"$f":"Onglet_mapping_parameters!E290","v":"Number of activities in SEP"}]
[]
[null,{"$f":"AUT_long","v":"Authorities"},null,{"$f":"COUNTIF(Onglet_mapping_database!$D:$D,Onglet_Mapping_progress!$B10)","v":0},null,{"$f":"COUNTIF(D24:D26,\"<>\"&0)/COUNTA(D24:D26)","v":0}]
[]
[null,{"$f":"BUS_long","v":"Business"},null,{"$f":"COUNTIF(Onglet_mapping_database!$D:$D,Onglet_Mapping_progress!$B12)","v":0},null,{"$f":"COUNTIF(D31:D36,\"<>\"&0)/COUNTA(D31:D36)","v":0}]
[]
[null,{"$f":"CIV_long","v":"Civil society"},null,{"$f":"COUNTIF(Onglet_mapping_database!$D:$D,Onglet_Mapping_progress!$B14)","v":0},null,{"$f":"COUNTIF(D41:D43,\"<>\"&0)/COUNTA(D41:D43)","v":0}]
[]
[null,{"$f":"COM_long","v":"Communities"},null,{"$f":"COUNTIF(Onglet_mapping_database!$D:$D,Onglet_Mapping_progress!$B16)","v":0},null,{"$f":"COUNTIF(D48:D50,\"<>\"&0)/COUNTA(D48:D50)","v":0},null,null,null,{"$f":"Onglet_mapping_parameters!E292","v":"The % shows the progress of the Stakeholder mapping"}]
[null,null,null,null,null,null,null,null,null,{"$f":"Onglet_mapping_parameters!E293","v":"The % is based on the number of groups mapped"}]
[null,"Total",null,{"$f":"SUM(D10:D16)","v":0},null,{"$f":"IF(D18=0,0,SUMPRODUCT(D10:D16,F10:F16)/D18)","v":0}]
[]
[]
[]
[null,null,null,1,null,1]
[null,{"$f":"AUT_long","v":"Authorities"},null,{"$f":"Onglet_mapping_parameters!E288","v":"Number of stakeholders mapped"},null,{"$f":"Onglet_mapping_parameters!E290","v":"Number of activities in SEP"}]
[null,{"$f":"Onglet_mapping_parameters!E27","v":"Regulator"},null,{"$f":"COUNTIF(Onglet_mapping_database!$E:$E,Onglet_Mapping_progress!$B24)","v":0}]
[null,{"$f":"Onglet_mapping_parameters!E28","v":"Administration"},null,{"$f":"COUNTIF(Onglet_mapping_database!$E:$E,Onglet_Mapping_progress!$B25)","v":0}]
[null,{"$f":"Onglet_mapping_parameters!E29","v":"Local authorities"},null,{"$f":"COUNTIF(Onglet_mapping_database!$E:$E,Onglet_Mapping_progress!$B26)","v":0}]
[null,{"$f":"Onglet_mapping_parameters!E30","v":"Other authorities"},null,{"$f":"COUNTIF(Onglet_mapping_database!$E:$E,Onglet_Mapping_progress!$B27)","v":0}]
[null,{"$f":"Onglet_mapping_parameters!E31","v":"All authorities"},null,{"$f":"SUM(D24:D27)","v":0}]
[]
[null,{"$f":"BUS_long","v":"Business"},null,{"$f":"Onglet_mapping_parameters!E288","v":"Number of stakeholders mapped"},null,{"$f":"Onglet_mapping_parameters!E290","v":"Number of activities in SEP"}]
[null,{"$f":"Onglet_mapping_parameters!E33","v":"Contractors"},null,{"$f":"COUNTIF(Onglet_mapping_database!$E:$E,Onglet_Mapping_progress!$B31)","v":0}]
[null,{"$f":"Onglet_mapping_parameters!E34","v":"Local suppliers"},null,{"$f":"COUNTIF(Onglet_mapping_database!$E:$E,Onglet_Mapping_progress!$B32)","v":0}]
[null,{"$f":"Onglet_mapping_parameters!E35","v":"Industrial neighbors"},null,{"$f":"COUNTIF(Onglet_mapping_database!$E:$E,Onglet_Mapping_progress!$B33)","v":0}]
[null,{"$f":"Onglet_mapping_parameters!E36","v":"Professional organizations"},null,{"$f":"COUNTIF(Onglet_mapping_database!$E:$E,Onglet_Mapping_progress!$B34)","v":0}]
[null,{"$f":"Onglet_mapping_parameters!E37","v":"JV partners"},null,{"$f":"COUNTIF(Onglet_mapping_database!$E:$E,Onglet_Mapping_progress!$B35)","v":0}]
[null,{"$f":"Onglet_mapping_parameters!E38","v":"Customers"},null,{"$f":"COUNTIF(Onglet_mapping_database!$E:$E,Onglet_Mapping_progress!$B36)","v":0}]
[null,{"$f":"Onglet_mapping_parameters!E39","v":"Other business stakeholders"},null,{"$f":"COUNTIF(Onglet_mapping_database!$E:$E,Onglet_Mapping_progress!$B37)","v":0}]
[null,{"$f":"Onglet_mapping_parameters!E40","v":"All business"},null,{"$f":"SUM(D31:D37)","v":0}]
[]
[null,{"$f":"CIV_long","v":"Civil society"},null,{"$f":"Onglet_mapping_parameters!E288","v":"Number of stakeholders mapped"},null,{"$f":"Onglet_mapping_parameters!E290","v":"Number of activities in SEP"}]
[null,{"$f":"Onglet_mapping_parameters!E42","v":"NGOs and associations"},null,{"$f":"COUNTIF(Onglet_mapping_database!$E:$E,Onglet_Mapping_progress!$B41)","v":0}]
[null,{"$f":"Onglet_mapping_parameters!E43","v":"Media & opinion leaders"},null,{"$f":"COUNTIF(Onglet_mapping_database!$E:$E,Onglet_Mapping_progress!$B42)","v":0}]
[null,{"$f":"Onglet_mapping_parameters!E44","v":"Education & research"},null,{"$f":"COUNTIF(Onglet_mapping_database!$E:$E,Onglet_Mapping_progress!$B43)","v":0}]
[null,{"$f":"Onglet_mapping_parameters!E45","v":"Other civil society stakeholders"},null,{"$f":"COUNTIF(Onglet_mapping_database!$E:$E,Onglet_Mapping_progress!$B44)","v":0}]
[null,{"$f":"Onglet_mapping_parameters!E46","v":"All civil society"},null,{"$f":"SUM(D41:D44)","v":0}]
[]
[null,{"$f":"COM_long","v":"Communities"},null,{"$f":"Onglet_mapping_parameters!E288","v":"Number of stakeholders mapped"},null,{"$f":"Onglet_mapping_parameters!E290","v":"Number of activities in SEP"}]
[null,{"$f":"Onglet_mapping_parameters!E48","v":"Community representatives"},null,{"$f":"COUNTIF(Onglet_mapping_database!$E:$E,Onglet_Mapping_progress!$B48)","v":0}]
[null,{"$f":"Onglet_mapping_parameters!E49","v":"Specific groups"},null,{"$f":"COUNTIF(Onglet_mapping_database!$E:$E,Onglet_Mapping_progress!$B49)","v":0}]
[null,{"$f":"Onglet_mapping_parameters!E50","v":"Schools"},null,{"$f":"COUNTIF(Onglet_mapping_database!$E:$E,Onglet_Mapping_progress!$B50)","v":0}]
[null,{"$f":"Onglet_mapping_parameters!E51","v":"Other community stakeholders"},null,{"$f":"COUNTIF(Onglet_mapping_database!$E:$E,Onglet_Mapping_progress!$B51)","v":0}]
[null,{"$f":"Onglet_mapping_parameters!E52","v":"All communities"},null,{"$f":"SUM(D48:D51)","v":0}]

{"sheet":"Onglet_Mapping_SEP","index":32,"n_rows":217,"n_cols":22,"rows_kept":217,"cut":false,"hidden":false,"merged":[]}
[]
[]
[]
[]
[]
[null,null,{"$f":"Onglet_mapping_parameters!E227","v":"Build Stakeholder Engagement Plan"}]
[]
[null,null,"INSTRUCTIONS"]
[null,null,{"$f":"Onglet_mapping_parameters!E228","v":"When building your Stakeholder Engagement Plan:"}]
[null,null,{"$f":"Onglet_mapping_parameters!E229","v":"- Make sure to include Zone 1 stakeholders in your SEP"}]
[null,null,{"$f":"Onglet_mapping_parameters!E230","v":"- Each stakeholder category should be present in your SEP, especially communities"}]
[null,null,{"$f":"Onglet_mapping_parameters!E232","v":"Use the filters and buttons to manage your SEP"}]
[null,null,{"$f":"Onglet_mapping_parameters!E241","v":"Right-click to select the type of commitment (several choices possible)"}]
[null,null,{"$f":"Onglet_mapping_parameters!E242","v":"To display stakeholder names, you must first"}]
[null,null,{"$f":"Onglet_mapping_parameters!E243","v":"select the group to which they belong"}]
[null,null,{"$f":"Onglet_mapping_parameters!E249","v":"If you have several assets"}]
[null,null,{"$f":"Onglet_mapping_parameters!E250","v":"Select one or more assets. If you select several assets, the tool displays the common stakeholders"}]
[]
[]
[null,null,"#","Stakeholder category","Stakeholder group","Stakeholder name","Purpose of engagement","Priority","Activity","Responsibility","Engagement type","Recurrence (if any)","Start Date","End Date","Progress status","Comments (if any)","Achievements","N","Double click to delete line","Zone","Asset","SHID"]
[null,null,null,"Business","Contractors","SH1",null,null,null,null,null,null,null,null,"Not started",null,null,{"$f":"MID(Tableau2[[#This Row],[Stakeholder category]],1,3)","v":"Bus"},"Delete",null,null,{"$f":"IFERROR(VLOOKUP(Tableau2[[#This Row],[Stakeholder name]],SH_list,11,FALSE),\"\")","v":""}]
[null,null,null,"Authorities","Regulator","SH2",null,null,null,null,null,null,null,null,null,null,null,{"$f":"MID(Tableau2[[#This Row],[Stakeholder category]],1,3)","v":"Aut"},"Delete",null,null,{"$f":"IFERROR(VLOOKUP(Tableau2[[#This Row],[Stakeholder name]],SH_list,11,FALSE),\"\")","v":""}]
[null,null,null,null,null,null,null,null,null,null,null,null,null,null,null,null,null,{"$f":"MID(Tableau2[[#This Row],[Stakeholder category]],1,3)","v":""},"Delete",null,null,{"$f":"IFERROR(VLOOKUP(Tableau2[[#This Row],[Stakeholder name]],SH_list,11,FALSE),\"\")","v":""}]
[null,null,null,null,null,null,null,null,null,null,null,null,null,null,null,null,null,{"$f":"MID(Tableau2[[#This Row],[Stakeholder category]],1,3)","v":""},"Delete",null,null,{"$f":"IFERROR(VLOOKUP(Tableau2[[#This Row],[Stakeholder name]],SH_list,11,FALSE),\"\")","v":""}]
[null,null,null,null,null,null,null,null,null,null,null,null,null,null,null,null,null,{"$f":"MID(Tableau2[[#This Row],[Stakeholder category]],1,3)","v":""},"Delete",null,null,"ID32"]
[null,null,null,null,null,null,null,null,null,null,null,null,null,null,null,null,null,{"$f":"MID(Tableau2[[#This Row],[Stakeholder category]],1,3)","v":""},"Delete",null,null,{"$f":"IFERROR(VLOOKUP(Tableau2[[#This Row],[Stakeholder name]],SH_list,11,FALSE),\"\")","v":""}]
[null,null,null,null,null,null,null,null,null,null,null,null,null,null,null,null,null,{"$f":"MID(Tableau2[[#This Row],[Stakeholder category]],1,3)","v":""},"Delete",null,null,{"$f":"IFERROR(VLOOKUP(Tableau2[[#This Row],[Stakeholder name]],SH_list,11,FALSE),\"\")","v":""}]
[null,null,null,null,null,null,null,null,null,null,null,null,null,null,null,null,null,{"$f":"MID(Tableau2[[#This Row],[Stakeholder category]],1,3)","v":""},"Delete",null,null,{"$f":"IFERROR(VLOOKUP(Tableau2[[#This Row],[Stakeholder name]],SH_list,11,FALSE),\"\")","v":""}]
[null,null,null,null,null,null,null,null,null,null,null,null,null,null,null,null,null,{"$f":"MID(Tableau2[[#This Row],[Stakeholder category]],1,3)","v":""},"Delete",null,null,{"$f":"IFERROR(VLOOKUP(Tableau2[[#This Row],[Stakeholder name]],SH_list,11,FALSE),\"\")","v":""}]
[null,null,null,null,null,null,null,null,null,null,null,null,null,null,null,null,null,{"$f":"MID(Tableau2[[#This Row],[Stakeholder category]],1,3)","v":""},"Delete",null,null,{"$f":"IFERROR(VLOOKUP(Tableau2[[#This Row],[Stakeholder name]],SH_list,11,FALSE),\"\")","v":""}]
[null,null,null,null,null,null,null,null,null,null,null,null,null,null,null,null,null,{"$f":"MID(Tableau2[[#This Row],[Stakeholder category]],1,3)","v":""},"Delete",null,null,{"$f":"IFERROR(VLOOKUP(Tableau2[[#This Row],[Stakeholder name]],SH_list,11,FALSE),\"\")","v":""}]
[null,null,null,null,null,null,null,null,null,null,null,null,null,null,null,null,null,{"$f":"MID(Tableau2[[#This Row],[Stakeholder category]],1,3)","v":""},"Delete",null,null,{"$f":"IFERROR(VLOOKUP(Tableau2[[#This Row],[Stakeholder name]],SH_list,11,FALSE),\"\")","v":""}]
[null,null,null,null,null,null,null,null,null,null,null,null,null,null,null,null,null,{"$f":"MID(Tableau2[[#This Row],[Stakeholder category]],1,3)","v":""},"Delete",null,null,{"$f":"IFERROR(VLOOKUP(Tableau2[[#This Row],[Stakeholder name]],SH_list,11,FALSE),\"\")","v":""}]
[null,null,null,null,null,null,null,null,null,null,null,null,null,null,null,null,null,{"$f":"MID(Tableau2[[#This Row],[Stakeholder category]],1,3)","v":""},"Delete",null,null,{"$f":"IFERROR(VLOOKUP(Tableau2[[#This Row],[Stakeholder name]],SH_list,11,FALSE),\"\")","v":""}]
[null,null,null,null,null,null,null,null,null,null,null,null,null,null,null,null,null,{"$f":"MID(Tableau2[[#This Row],[Stakeholder category]],1,3)","v":""},"Delete",null,null,{"$f":"IFERROR(VLOOKUP(Tableau2[[#This Row],[Stakeholder name]],SH_list,11,FALSE),\"\")","v":""}]
[null,null,null,null,null,null,null,null,null,null,null,null,null,null,null,null,null,{"$f":"MID(Tableau2[[#This Row],[Stakeholder category]],1,3)","v":""},"Delete",null,null,{"$f":"IFERROR(VLOOKUP(Tableau2[[#This Row],[Stakeholder name]],SH_list,11,FALSE),\"\")","v":""}]
[null,null,null,null,null,null,null,null,null,null,null,null,null,null,null,null,null,{"$f":"MID(Tableau2[[#This Row],[Stakeholder category]],1,3)","v":""},"Delete",null,null,{"$f":"IFERROR(VLOOKUP(Tableau2[[#This Row],[Stakeholder name]],SH_list,11,FALSE),\"\")","v":""}]
[null,null,null,null,null,null,null,null,null,null,null,null,null,null,null,null,null,{"$f":"MID(Tableau2[[#This Row],[Stakeholder category]],1,3)","v":""},"Delete",null,null,{"$f":"IFERROR(VLOOKUP(Tableau2[[#This Row],[Stakeholder name]],SH_list,11,FALSE),\"\")","v":""}]
[null,null,null,null,null,null,null,null,null,null,null,null,null,null,null,null,null,{"$f":"MID(Tableau2[[#This Row],[Stakeholder category]],1,3)","v":""},"Delete",null,null,{"$f":"IFERROR(VLOOKUP(Tableau2[[#This Row],[Stakeholder name]],SH_list,11,FALSE),\"\")","v":""}]
[null,null,null,null,null,null,null,null,null,null,null,null,null,null,null,null,null,{"$f":"MID(Tableau2[[#This Row],[Stakeholder category]],1,3)","v":""},"Delete",null,null,{"$f":"IFERROR(VLOOKUP(Tableau2[[#This Row],[Stakeholder name]],SH_list,11,FALSE),\"\")","v":""}]
[null,null,null,null,null,null,null,null,null,null,null,null,null,null,null,null,null,{"$f":"MID(Tableau2[[#This Row],[Stakeholder category]],1,3)","v":""},"Delete",null,null,{"$f":"IFERROR(VLOOKUP(Tableau2[[#This Row],[Stakeholder name]],SH_list,11,FALSE),\"\")","v":""}]
[null,null,null,null,null,null,null,null,null,null,null,null,null,null,null,null,null,{"$f":"MID(Tableau2[[#This Row],[Stakeholder category]],1,3)","v":""},"Delete",null,null,{"$f":"IFERROR(VLOOKUP(Tableau2[[#This Row],[Stakeholder name]],SH_list,11,FALSE),\"\")","v":""}]
[null,null,null,null,null,null,null,null,null,null,null,null,null,null,null,null,null,{"$f":"MID(Tableau2[[#This Row],[Stakeholder category]],1,3)","v":""},"Delete",null,null,{"$f":"IFERROR(VLOOKUP(Tableau2[[#This Row],[Stakeholder name]],SH_list,11,FALSE),\"\")","v":""}]
[null,null,null,null,null,null,null,null,null,null,null,null,null,null,null,null,null,{"$f":"MID(Tableau2[[#This Row],[Stakeholder category]],1,3)","v":""},"Delete",null,null,{"$f":"IFERROR(VLOOKUP(Tableau2[[#This Row],[Stakeholder name]],SH_list,11,FALSE),\"\")","v":""}]
[null,null,null,null,null,null,null,null,null,null,null,null,null,null,null,null,null,{"$f":"MID(Tableau2[[#This Row],[Stakeholder category]],1,3)","v":""},"Delete",null,null,{"$f":"IFERROR(VLOOKUP(Tableau2[[#This Row],[Stakeholder name]],SH_list,11,FALSE),\"\")","v":""}]
[null,null,null,null,null,null,null,null,null,null,null,null,null,null,null,null,null,{"$f":"MID(Tableau2[[#This Row],[Stakeholder category]],1,3)","v":""},"Delete",null,null,{"$f":"IFERROR(VLOOKUP(Tableau2[[#This Row],[Stakeholder name]],SH_list,11,FALSE),\"\")","v":""}]
[null,null,null,null,null,null,null,null,null,null,null,null,null,null,null,null,null,{"$f":"MID(Tableau2[[#This Row],[Stakeholder category]],1,3)","v":""},"Delete",null,null,{"$f":"IFERROR(VLOOKUP(Tableau2[[#This Row],[Stakeholder name]],SH_list,11,FALSE),\"\")","v":""}]
[null,null,null,null,null,null,null,null,null,null,null,null,null,null,null,null,null,{"$f":"MID(Tableau2[[#This Row],[Stakeholder category]],1,3)","v":""},"Delete",null,null,{"$f":"IFERROR(VLOOKUP(Tableau2[[#This Row],[Stakeholder name]],SH_list,11,FALSE),\"\")","v":""}]
[null,null,null,null,null,null,null,null,null,null,null,null,null,null,null,null,null,{"$f":"MID(Tableau2[[#This Row],[Stakeholder category]],1,3)","v":""},"Delete",null,null,{"$f":"IFERROR(VLOOKUP(Tableau2[[#This Row],[Stakeholder name]],SH_list,11,FALSE),\"\")","v":""}]
[null,null,null,null,null,null,null,null,null,null,null,null,null,null,null,null,null,{"$f":"MID(Tableau2[[#This Row],[Stakeholder category]],1,3)","v":""},"Delete",null,null,{"$f":"IFERROR(VLOOKUP(Tableau2[[#This Row],[Stakeholder name]],SH_list,11,FALSE),\"\")","v":""}]
[null,null,null,null,null,null,null,null,null,null,null,null,null,null,null,null,null,{"$f":"MID(Tableau2[[#This Row],[Stakeholder category]],1,3)","v":""},"Delete",null,null,{"$f":"IFERROR(VLOOKUP(Tableau2[[#This Row],[Stakeholder name]],SH_list,11,FALSE),\"\")","v":""}]
[null,null,null,null,null,null,null,null,null,null,null,null,null,null,null,null,null,{"$f":"MID(Tableau2[[#This Row],[Stakeholder category]],1,3)","v":""},"Delete",null,null,{"$f":"IFERROR(VLOOKUP(Tableau2[[#This Row],[Stakeholder name]],SH_list,11,FALSE),\"\")","v":""}]
[null,null,null,null,null,null,null,null,null,null,null,null,null,null,null,null,null,{"$f":"MID(Tableau2[[#This Row],[Stakeholder category]],1,3)","v":""},"Delete",null,null,{"$f":"IFERROR(VLOOKUP(Tableau2[[#This Row],[Stakeholder name]],SH_list,11,FALSE),\"\")","v":""}]
[null,null,null,null,null,null,null,null,null,null,null,null,null,null,null,null,null,{"$f":"MID(Tableau2[[#This Row],[Stakeholder category]],1,3)","v":""},"Delete",null,null,{"$f":"IFERROR(VLOOKUP(Tableau2[[#This Row],[Stakeholder name]],SH_list,11,FALSE),\"\")","v":""}]
[null,null,null,null,null,null,null,null,null,null,null,null,null,null,null,null,null,{"$f":"MID(Tableau2[[#This Row],[Stakeholder category]],1,3)","v":""},"Delete",null,null,{"$f":"IFERROR(VLOOKUP(Tableau2[[#This Row],[Stakeholder name]],SH_list,11,FALSE),\"\")","v":""}]
[null,null,null,null,null,null,null,null,null,null,null,null,null,null,null,null,null,{"$f":"MID(Tableau2[[#This Row],[Stakeholder category]],1,3)","v":""},"Delete",null,null,{"$f":"IFERROR(VLOOKUP(Tableau2[[#This Row],[Stakeholder name]],SH_list,11,FALSE),\"\")","v":""}]
[null,null,null,null,null,null,null,null,null,null,null,null,null,null,null,null,null,{"$f":"MID(Tableau2[[#This Row],[Stakeholder category]],1,3)","v":""},"Delete",null,null,{"$f":"IFERROR(VLOOKUP(Tableau2[[#This Row],[Stakeholder name]],SH_list,11,FALSE),\"\")","v":""}]
[null,null,null,null,null,null,null,null,null,null,null,null,null,null,null,null,null,{"$f":"MID(Tableau2[[#This Row],[Stakeholder category]],1,3)","v":""},"Delete",null,null,{"$f":"IFERROR(VLOOKUP(Tableau2[[#This Row],[Stakeholder name]],SH_list,11,FALSE),\"\")","v":""}]
[null,null,null,null,null,null,null,null,null,null,null,null,null,null,null,null,null,{"$f":"MID(Tableau2[[#This Row],[Stakeholder category]],1,3)","v":""},"Delete",null,null,{"$f":"IFERROR(VLOOKUP(Tableau2[[#This Row],[Stakeholder name]],SH_list,11,FALSE),\"\")","v":""}]
[null,null,null,null,null,null,null,null,null,null,null,null,null,null,null,null,null,{"$f":"MID(Tableau2[[#This Row],[Stakeholder category]],1,3)","v":""},"Delete",null,null,{"$f":"IFERROR(VLOOKUP(Tableau2[[#This Row],[Stakeholder name]],SH_list,11,FALSE),\"\")","v":""}]
[null,null,null,null,null,null,null,null,null,null,null,null,null,null,null,null,null,{"$f":"MID(Tableau2[[#This Row],[Stakeholder category]],1,3)","v":""},"Delete",null,null,{"$f":"IFERROR(VLOOKUP(Tableau2[[#This Row],[Stakeholder name]],SH_list,11,FALSE),\"\")","v":""}]
[null,null,null,null,null,null,null,null,null,null,null,null,null,null,null,null,null,{"$f":"MID(Tableau2[[#This Row],[Stakeholder category]],1,3)","v":""},"Delete",null,null,{"$f":"IFERROR(VLOOKUP(Tableau2[[#This Row],[Stakeholder name]],SH_list,11,FALSE),\"\")","v":""}]
[null,null,null,null,null,null,null,null,null,null,null,null,null,null,null,null,null,{"$f":"MID(Tableau2[[#This Row],[Stakeholder category]],1,3)","v":""},"Delete",null,null,{"$f":"IFERROR(VLOOKUP(Tableau2[[#This Row],[Stakeholder name]],SH_list,11,FALSE),\"\")","v":""}]
[null,null,null,null,null,null,null,null,null,null,null,null,null,null,null,null,null,{"$f":"MID(Tableau2[[#This Row],[Stakeholder category]],1,3)","v":""},"Delete",null,null,{"$f":"IFERROR(VLOOKUP(Tableau2[[#This Row],[Stakeholder name]],SH_list,11,FALSE),\"\")","v":""}]
[null,null,null,null,null,null,null,null,null,null,null,null,null,null,null,null,null,{"$f":"MID(Tableau2[[#This Row],[Stakeholder category]],1,3)","v":""},"Delete",null,null,{"$f":"IFERROR(VLOOKUP(Tableau2[[#This Row],[Stakeholder name]],SH_list,11,FALSE),\"\")","v":""}]
[null,null,null,null,null,null,null,null,null,null,null,null,null,null,null,null,null,{"$f":"MID(Tableau2[[#This Row],[Stakeholder category]],1,3)","v":""},"Delete",null,null,{"$f":"IFERROR(VLOOKUP(Tableau2[[#This Row],[Stakeholder name]],SH_list,11,FALSE),\"\")","v":""}]
[null,null,null,null,null,null,null,null,null,null,null,null,null,null,null,null,null,{"$f":"MID(Tableau2[[#This Row],[Stakeholder category]],1,3)","v":""},"Delete",null,null,{"$f":"IFERROR(VLOOKUP(Tableau2[[#This Row],[Stakeholder name]],SH_list,11,FALSE),\"\")","v":""}]
[null,null,null,null,null,null,null,null,null,null,null,null,null,null,null,null,null,{"$f":"MID(Tableau2[[#This Row],[Stakeholder category]],1,3)","v":""},"Delete",null,null,{"$f":"IFERROR(VLOOKUP(Tableau2[[#This Row],[Stakeholder name]],SH_list,11,FALSE),\"\")","v":""}]
[null,null,null,null,null,null,null,null,null,null,null,null,null,null,null,null,null,{"$f":"MID(Tableau2[[#This Row],[Stakeholder category]],1,3)","v":""},"Delete",null,null,{"$f":"IFERROR(VLOOKUP(Tableau2[[#This Row],[Stakeholder name]],SH_list,11,FALSE),\"\")","v":""}]
[null,null,null,null,null,null,null,null,null,null,null,null,null,null,null,null,null,{"$f":"MID(Tableau2[[#This Row],[Stakeholder category]],1,3)","v":""},"Delete",null,null,{"$f":"IFERROR(VLOOKUP(Tableau2[[#This Row],[Stakeholder name]],SH_list,11,FALSE),\"\")","v":""}]
[null,null,null,null,null,null,null,null,null,null,null,null,null,null,null,null,null,{"$f":"MID(Tableau2[[#This Row],[Stakeholder category]],1,3)","v":""},"Delete",null,null,{"$f":"IFERROR(VLOOKUP(Tableau2[[#This Row],[Stakeholder name]],SH_list,11,FALSE),\"\")","v":""}]
[null,null,null,null,null,null,null,null,null,null,null,null,null,null,null,null,null,{"$f":"MID(Tableau2[[#This Row],[Stakeholder category]],1,3)","v":""},"Delete",null,null,{"$f":"IFERROR(VLOOKUP(Tableau2[[#This Row],[Stakeholder name]],SH_list,11,FALSE),\"\")","v":""}]
[null,null,null,null,null,null,null,null,null,null,null,null,null,null,null,null,null,{"$f":"MID(Tableau2[[#This Row],[Stakeholder category]],1,3)","v":""},"Delete",null,null,{"$f":"IFERROR(VLOOKUP(Tableau2[[#This Row],[Stakeholder name]],SH_list,11,FALSE),\"\")","v":""}]
[null,null,null,null,null,null,null,null,null,null,null,null,null,null,null,null,null,{"$f":"MID(Tableau2[[#This Row],[Stakeholder category]],1,3)","v":""},"Delete",null,null,{"$f":"IFERROR(VLOOKUP(Tableau2[[#This Row],[Stakeholder name]],SH_list,11,FALSE),\"\")","v":""}]
[null,null,null,null,null,null,null,null,null,null,null,null,null,null,null,null,null,{"$f":"MID(Tableau2[[#This Row],[Stakeholder category]],1,3)","v":""},"Delete",null,null,{"$f":"IFERROR(VLOOKUP(Tableau2[[#This Row],[Stakeholder name]],SH_list,11,FALSE),\"\")","v":""}]
[null,null,null,null,null,null,null,null,null,null,null,null,null,null,null,null,null,{"$f":"MID(Tableau2[[#This Row],[Stakeholder category]],1,3)","v":""},"Delete",null,null,{"$f":"IFERROR(VLOOKUP(Tableau2[[#This Row],[Stakeholder name]],SH_list,11,FALSE),\"\")","v":""}]
[null,null,null,null,null,null,null,null,null,null,null,null,null,null,null,null,null,{"$f":"MID(Tableau2[[#This Row],[Stakeholder category]],1,3)","v":""},"Delete",null,null,{"$f":"IFERROR(VLOOKUP(Tableau2[[#This Row],[Stakeholder name]],SH_list,11,FALSE),\"\")","v":""}]
[null,null,null,null,null,null,null,null,null,null,null,null,null,null,null,null,null,{"$f":"MID(Tableau2[[#This Row],[Stakeholder category]],1,3)","v":""},"Delete",null,null,{"$f":"IFERROR(VLOOKUP(Tableau2[[#This Row],[Stakeholder name]],SH_list,11,FALSE),\"\")","v":""}]
[null,null,null,null,null,null,null,null,null,null,null,null,null,null,null,null,null,{"$f":"MID(Tableau2[[#This Row],[Stakeholder category]],1,3)","v":""},"Delete",null,null,{"$f":"IFERROR(VLOOKUP(Tableau2[[#This Row],[Stakeholder name]],SH_list,11,FALSE),\"\")","v":""}]
[null,null,null,null,null,null,null,null,null,null,null,null,null,null,null,null,null,{"$f":"MID(Tableau2[[#This Row],[Stakeholder category]],1,3)","v":""},"Delete",null,null,{"$f":"IFERROR(VLOOKUP(Tableau2[[#This Row],[Stakeholder name]],SH_list,11,FALSE),\"\")","v":""}]
[null,null,null,null,null,null,null,null,null,null,null,null,null,null,null,null,null,{"$f":"MID(Tableau2[[#This Row],[Stakeholder category]],1,3)","v":""},"Delete",null,null,{"$f":"IFERROR(VLOOKUP(Tableau2[[#This Row],[Stakeholder name]],SH_list,11,FALSE),\"\")","v":""}]
[null,null,null,null,null,null,null,null,null,null,null,null,null,null,null,null,null,{"$f":"MID(Tableau2[[#This Row],[Stakeholder category]],1,3)","v":""},"Delete",null,null,{"$f":"IFERROR(VLOOKUP(Tableau2[[#This Row],[Stakeholder name]],SH_list,11,FALSE),\"\")","v":""}]
[null,null,null,null,null,null,null,null,null,null,null,null,null,null,null,null,null,{"$f":"MID(Tableau2[[#This Row],[Stakeholder category]],1,3)","v":""},"Delete",null,null,{"$f":"IFERROR(VLOOKUP(Tableau2[[#This Row],[Stakeholder name]],SH_list,11,FALSE),\"\")","v":""}]
[null,null,null,null,null,null,null,null,null,null,null,null,null,null,null,null,null,{"$f":"MID(Tableau2[[#This Row],[Stakeholder category]],1,3)","v":""},"Delete",null,null,{"$f":"IFERROR(VLOOKUP(Tableau2[[#This Row],[Stakeholder name]],SH_list,11,FALSE),\"\")","v":""}]
[null,null,null,null,null,null,null,null,null,null,null,null,null,null,null,null,null,{"$f":"MID(Tableau2[[#This Row],[Stakeholder category]],1,3)","v":""},"Delete",null,null,{"$f":"IFERROR(VLOOKUP(Tableau2[[#This Row],[Stakeholder name]],SH_list,11,FALSE),\"\")","v":""}]
[null,null,null,null,null,null,null,null,null,null,null,null,null,null,null,null,null,{"$f":"MID(Tableau2[[#This Row],[Stakeholder category]],1,3)","v":""},"Delete",null,null,{"$f":"IFERROR(VLOOKUP(Tableau2[[#This Row],[Stakeholder name]],SH_list,11,FALSE),\"\")","v":""}]
[null,null,null,null,null,null,null,null,null,null,null,null,null,null,null,null,null,{"$f":"MID(Tableau2[[#This Row],[Stakeholder category]],1,3)","v":""},"Delete",null,null,{"$f":"IFERROR(VLOOKUP(Tableau2[[#This Row],[Stakeholder name]],SH_list,11,FALSE),\"\")","v":""}]
[null,null,null,null,null,null,null,null,null,null,null,null,null,null,null,null,null,{"$f":"MID(Tableau2[[#This Row],[Stakeholder category]],1,3)","v":""},"Delete",null,null,{"$f":"IFERROR(VLOOKUP(Tableau2[[#This Row],[Stakeholder name]],SH_list,11,FALSE),\"\")","v":""}]
[null,null,null,null,null,null,null,null,null,null,null,null,null,null,null,null,null,{"$f":"MID(Tableau2[[#This Row],[Stakeholder category]],1,3)","v":""},"Delete",null,null,{"$f":"IFERROR(VLOOKUP(Tableau2[[#This Row],[Stakeholder name]],SH_list,11,FALSE),\"\")","v":""}]
[null,null,null,null,null,null,null,null,null,null,null,null,null,null,null,null,null,{"$f":"MID(Tableau2[[#This Row],[Stakeholder category]],1,3)","v":""},"Delete",null,null,{"$f":"IFERROR(VLOOKUP(Tableau2[[#This Row],[Stakeholder name]],SH_list,11,FALSE),\"\")","v":""}]
[null,null,null,null,null,null,null,null,null,null,null,null,null,null,null,null,null,{"$f":"MID(Tableau2[[#This Row],[Stakeholder category]],1,3)","v":""},"Delete",null,null,{"$f":"IFERROR(VLOOKUP(Tableau2[[#This Row],[Stakeholder name]],SH_list,11,FALSE),\"\")","v":""}]
[null,null,null,null,null,null,null,null,null,null,null,null,null,null,null,null,null,{"$f":"MID(Tableau2[[#This Row],[Stakeholder category]],1,3)","v":""},"Delete",null,null,{"$f":"IFERROR(VLOOKUP(Tableau2[[#This Row],[Stakeholder name]],SH_list,11,FALSE),\"\")","v":""}]
[null,null,null,null,null,null,null,null,null,null,null,null,null,null,null,null,null,{"$f":"MID(Tableau2[[#This Row],[Stakeholder category]],1,3)","v":""},"Delete",null,null,{"$f":"IFERROR(VLOOKUP(Tableau2[[#This Row],[Stakeholder name]],SH_list,11,FALSE),\"\")","v":""}]
[null,null,null,null,null,null,null,null,null,null,null,null,null,null,null,null,null,{"$f":"MID(Tableau2[[#This Row],[Stakeholder category]],1,3)","v":""},"Delete",null,null,{"$f":"IFERROR(VLOOKUP(Tableau2[[#This Row],[Stakeholder name]],SH_list,11,FALSE),\"\")","v":""}]
[null,null,null,null,null,null,null,null,null,null,null,null,null,null,null,null,null,{"$f":"MID(Tableau2[[#This Row],[Stakeholder category]],1,3)","v":""},"Delete",null,null,{"$f":"IFERROR(VLOOKUP(Tableau2[[#This Row],[Stakeholder name]],SH_list,11,FALSE),\"\")","v":""}]
[null,null,null,null,null,null,null,null,null,null,null,null,null,null,null,null,null,{"$f":"MID(Tableau2[[#This Row],[Stakeholder category]],1,3)","v":""},"Delete",null,null,{"$f":"IFERROR(VLOOKUP(Tableau2[[#This Row],[Stakeholder name]],SH_list,11,FALSE),\"\")","v":""}]
[null,null,null,null,null,null,null,null,null,null,null,null,null,null,null,null,null,{"$f":"MID(Tableau2[[#This Row],[Stakeholder category]],1,3)","v":""},"Delete",null,null,{"$f":"IFERROR(VLOOKUP(Tableau2[[#This Row],[Stakeholder name]],SH_list,11,FALSE),\"\")","v":""}]
[null,null,null,null,null,null,null,null,null,null,null,null,null,null,null,null,null,{"$f":"MID(Tableau2[[#This Row],[Stakeholder category]],1,3)","v":""},"Delete",null,null,{"$f":"IFERROR(VLOOKUP(Tableau2[[#This Row],[Stakeholder name]],SH_list,11,FALSE),\"\")","v":""}]
[null,null,null,null,null,null,null,null,null,null,null,null,null,null,null,null,null,{"$f":"MID(Tableau2[[#This Row],[Stakeholder category]],1,3)","v":""},"Delete",null,null,{"$f":"IFERROR(VLOOKUP(Tableau2[[#This Row],[Stakeholder name]],SH_list,11,FALSE),\"\")","v":""}]
[null,null,null,null,null,null,null,null,null,null,null,null,null,null,null,null,null,{"$f":"MID(Tableau2[[#This Row],[Stakeholder category]],1,3)","v":""},"Delete",null,null,{"$f":"IFERROR(VLOOKUP(Tableau2[[#This Row],[Stakeholder name]],SH_list,11,FALSE),\"\")","v":""}]
[null,null,null,null,null,null,null,null,null,null,null,null,null,null,null,null,null,{"$f":"MID(Tableau2[[#This Row],[Stakeholder category]],1,3)","v":""},"Delete",null,null,{"$f":"IFERROR(VLOOKUP(Tableau2[[#This Row],[Stakeholder name]],SH_list,11,FALSE),\"\")","v":""}]
[null,null,null,null,null,null,null,null,null,null,null,null,null,null,null,null,null,{"$f":"MID(Tableau2[[#This Row],[Stakeholder category]],1,3)","v":""},"Delete",null,null,{"$f":"IFERROR(VLOOKUP(Tableau2[[#This Row],[Stakeholder name]],SH_list,11,FALSE),\"\")","v":""}]
[null,null,null,null,null,null,null,null,null,null,null,null,null,null,null,null,null,{"$f":"MID(Tableau2[[#This Row],[Stakeholder category]],1,3)","v":""},"Delete",null,null,{"$f":"IFERROR(VLOOKUP(Tableau2[[#This Row],[Stakeholder name]],SH_list,11,FALSE),\"\")","v":""}]
[null,null,null,null,null,null,null,null,null,null,null,null,null,null,null,null,null,{"$f":"MID(Tableau2[[#This Row],[Stakeholder category]],1,3)","v":""},"Delete",null,null,{"$f":"IFERROR(VLOOKUP(Tableau2[[#This Row],[Stakeholder name]],SH_list,11,FALSE),\"\")","v":""}]
[null,null,null,null,null,null,null,null,null,null,null,null,null,null,null,null,null,{"$f":"MID(Tableau2[[#This Row],[Stakeholder category]],1,3)","v":""},"Delete",null,null,{"$f":"IFERROR(VLOOKUP(Tableau2[[#This Row],[Stakeholder name]],SH_list,11,FALSE),\"\")","v":""}]
[null,null,null,null,null,null,null,null,null,null,null,null,null,null,null,null,null,{"$f":"MID(Tableau2[[#This Row],[Stakeholder category]],1,3)","v":""},"Delete",null,null,{"$f":"IFERROR(VLOOKUP(Tableau2[[#This Row],[Stakeholder name]],SH_list,11,FALSE),\"\")","v":""}]
[null,null,null,null,null,null,null,null,null,null,null,null,null,null,null,null,null,{"$f":"MID(Tableau2[[#This Row],[Stakeholder category]],1,3)","v":""},"Delete",null,null,{"$f":"IFERROR(VLOOKUP(Tableau2[[#This Row],[Stakeholder name]],SH_list,11,FALSE),\"\")","v":""}]
[null,null,null,null,null,null,null,null,null,null,null,null,null,null,null,null,null,{"$f":"MID(Tableau2[[#This Row],[Stakeholder category]],1,3)","v":""},"Delete",null,null,{"$f":"IFERROR(VLOOKUP(Tableau2[[#This Row],[Stakeholder name]],SH_list,11,FALSE),\"\")","v":""}]
[null,null,null,null,null,null,null,null,null,null,null,null,null,null,null,null,null,{"$f":"MID(Tableau2[[#This Row],[Stakeholder category]],1,3)","v":""},"Delete",null,null,{"$f":"IFERROR(VLOOKUP(Tableau2[[#This Row],[Stakeholder name]],SH_list,11,FALSE),\"\")","v":""}]
[null,null,null,null,null,null,null,null,null,null,null,null,null,null,null,null,null,{"$f":"MID(Tableau2[[#This Row],[Stakeholder category]],1,3)","v":""},"Delete",null,null,{"$f":"IFERROR(VLOOKUP(Tableau2[[#This Row],[Stakeholder name]],SH_list,11,FALSE),\"\")","v":""}]
[null,null,null,null,null,null,null,null,null,null,null,null,null,null,null,null,null,{"$f":"MID(Tableau2[[#This Row],[Stakeholder category]],1,3)","v":""},"Delete",null,null,{"$f":"IFERROR(VLOOKUP(Tableau2[[#This Row],[Stakeholder name]],SH_list,11,FALSE),\"\")","v":""}]
[null,null,null,null,null,null,null,null,null,null,null,null,null,null,null,null,null,{"$f":"MID(Tableau2[[#This Row],[Stakeholder category]],1,3)","v":""},"Delete",null,null,{"$f":"IFERROR(VLOOKUP(Tableau2[[#This Row],[Stakeholder name]],SH_list,11,FALSE),\"\")","v":""}]
[null,null,null,null,null,null,null,null,null,null,null,null,null,null,null,null,null,{"$f":"MID(Tableau2[[#This Row],[Stakeholder category]],1,3)","v":""},"Delete",null,null,{"$f":"IFERROR(VLOOKUP(Tableau2[[#This Row],[Stakeholder name]],SH_list,11,FALSE),\"\")","v":""}]
[null,null,null,null,null,null,null,null,null,null,null,null,null,null,null,null,null,{"$f":"MID(Tableau2[[#This Row],[Stakeholder category]],1,3)","v":""},"Delete",null,null,{"$f":"IFERROR(VLOOKUP(Tableau2[[#This Row],[Stakeholder name]],SH_list,11,FALSE),\"\")","v":""}]
[null,null,null,null,null,null,null,null,null,null,null,null,null,null,null,null,null,{"$f":"MID(Tableau2[[#This Row],[Stakeholder category]],1,3)","v":""},"Delete",null,null,{"$f":"IFERROR(VLOOKUP(Tableau2[[#This Row],[Stakeholder name]],SH_list,11,FALSE),\"\")","v":""}]
[null,null,null,null,null,null,null,null,null,null,null,null,null,null,null,null,null,{"$f":"MID(Tableau2[[#This Row],[Stakeholder category]],1,3)","v":""},"Delete",null,null,{"$f":"IFERROR(VLOOKUP(Tableau2[[#This Row],[Stakeholder name]],SH_list,11,FALSE),\"\")","v":""}]
[null,null,null,null,null,null,null,null,null,null,null,null,null,null,null,null,null,{"$f":"MID(Tableau2[[#This Row],[Stakeholder category]],1,3)","v":""},"Delete",null,null,{"$f":"IFERROR(VLOOKUP(Tableau2[[#This Row],[Stakeholder name]],SH_list,11,FALSE),\"\")","v":""}]
[null,null,null,null,null,null,null,null,null,null,null,null,null,null,null,null,null,{"$f":"MID(Tableau2[[#This Row],[Stakeholder category]],1,3)","v":""},"Delete",null,null,{"$f":"IFERROR(VLOOKUP(Tableau2[[#This Row],[Stakeholder name]],SH_list,11,FALSE),\"\")","v":""}]
[null,null,null,null,null,null,null,null,null,null,null,null,null,null,null,null,null,{"$f":"MID(Tableau2[[#This Row],[Stakeholder category]],1,3)","v":""},"Delete",null,null,{"$f":"IFERROR(VLOOKUP(Tableau2[[#This Row],[Stakeholder name]],SH_list,11,FALSE),\"\")","v":""}]
[null,null,null,null,null,null,null,null,null,null,null,null,null,null,null,null,null,{"$f":"MID(Tableau2[[#This Row],[Stakeholder category]],1,3)","v":""},"Delete",null,null,{"$f":"IFERROR(VLOOKUP(Tableau2[[#This Row],[Stakeholder name]],SH_list,11,FALSE),\"\")","v":""}]
[null,null,null,null,null,null,null,null,null,null,null,null,null,null,null,null,null,{"$f":"MID(Tableau2[[#This Row],[Stakeholder category]],1,3)","v":""},"Delete",null,null,{"$f":"IFERROR(VLOOKUP(Tableau2[[#This Row],[Stakeholder name]],SH_list,11,FALSE),\"\")","v":""}]
[null,null,null,null,null,null,null,null,null,null,null,null,null,null,null,null,null,{"$f":"MID(Tableau2[[#This Row],[Stakeholder category]],1,3)","v":""},"Delete",null,null,{"$f":"IFERROR(VLOOKUP(Tableau2[[#This Row],[Stakeholder name]],SH_list,11,FALSE),\"\")","v":""}]
[null,null,null,null,null,null,null,null,null,null,null,null,null,null,null,null,null,{"$f":"MID(Tableau2[[#This Row],[Stakeholder category]],1,3)","v":""},"Delete",null,null,{"$f":"IFERROR(VLOOKUP(Tableau2[[#This Row],[Stakeholder name]],SH_list,11,FALSE),\"\")","v":""}]
[null,null,null,null,null,null,null,null,null,null,null,null,null,null,null,null,null,{"$f":"MID(Tableau2[[#This Row],[Stakeholder category]],1,3)","v":""},"Delete",null,null,{"$f":"IFERROR(VLOOKUP(Tableau2[[#This Row],[Stakeholder name]],SH_list,11,FALSE),\"\")","v":""}]
[null,null,null,null,null,null,null,null,null,null,null,null,null,null,null,null,null,{"$f":"MID(Tableau2[[#This Row],[Stakeholder category]],1,3)","v":""},"Delete",null,null,{"$f":"IFERROR(VLOOKUP(Tableau2[[#This Row],[Stakeholder name]],SH_list,11,FALSE),\"\")","v":""}]
[null,null,null,null,null,null,null,null,null,null,null,null,null,null,null,null,null,{"$f":"MID(Tableau2[[#This Row],[Stakeholder category]],1,3)","v":""},"Delete",null,null,{"$f":"IFERROR(VLOOKUP(Tableau2[[#This Row],[Stakeholder name]],SH_list,11,FALSE),\"\")","v":""}]
[null,null,null,null,null,null,null,null,null,null,null,null,null,null,null,null,null,{"$f":"MID(Tableau2[[#This Row],[Stakeholder category]],1,3)","v":""},"Delete",null,null,{"$f":"IFERROR(VLOOKUP(Tableau2[[#This Row],[Stakeholder name]],SH_list,11,FALSE),\"\")","v":""}]
[null,null,null,null,null,null,null,null,null,null,null,null,null,null,null,null,null,{"$f":"MID(Tableau2[[#This Row],[Stakeholder category]],1,3)","v":""},"Delete",null,null,{"$f":"IFERROR(VLOOKUP(Tableau2[[#This Row],[Stakeholder name]],SH_list,11,FALSE),\"\")","v":""}]
[null,null,null,null,null,null,null,null,null,null,null,null,null,null,null,null,null,{"$f":"MID(Tableau2[[#This Row],[Stakeholder category]],1,3)","v":""},"Delete",null,null,{"$f":"IFERROR(VLOOKUP(Tableau2[[#This Row],[Stakeholder name]],SH_list,11,FALSE),\"\")","v":""}]
[null,null,null,null,null,null,null,null,null,null,null,null,null,null,null,null,null,{"$f":"MID(Tableau2[[#This Row],[Stakeholder category]],1,3)","v":""},"Delete",null,null,{"$f":"IFERROR(VLOOKUP(Tableau2[[#This Row],[Stakeholder name]],SH_list,11,FALSE),\"\")","v":""}]
[null,null,null,null,null,null,null,null,null,null,null,null,null,null,null,null,null,{"$f":"MID(Tableau2[[#This Row],[Stakeholder category]],1,3)","v":""},"Delete",null,null,{"$f":"IFERROR(VLOOKUP(Tableau2[[#This Row],[Stakeholder name]],SH_list,11,FALSE),\"\")","v":""}]
[null,null,null,null,null,null,null,null,null,null,null,null,null,null,null,null,null,{"$f":"MID(Tableau2[[#This Row],[Stakeholder category]],1,3)","v":""},"Delete",null,null,{"$f":"IFERROR(VLOOKUP(Tableau2[[#This Row],[Stakeholder name]],SH_list,11,FALSE),\"\")","v":""}]
[null,null,null,null,null,null,null,null,null,null,null,null,null,null,null,null,null,{"$f":"MID(Tableau2[[#This Row],[Stakeholder category]],1,3)","v":""},"Delete",null,null,{"$f":"IFERROR(VLOOKUP(Tableau2[[#This Row],[Stakeholder name]],SH_list,11,FALSE),\"\")","v":""}]
[null,null,null,null,null,null,null,null,null,null,null,null,null,null,null,null,null,{"$f":"MID(Tableau2[[#This Row],[Stakeholder category]],1,3)","v":""},"Delete",null,null,{"$f":"IFERROR(VLOOKUP(Tableau2[[#This Row],[Stakeholder name]],SH_list,11,FALSE),\"\")","v":""}]
[null,null,null,null,null,null,null,null,null,null,null,null,null,null,null,null,null,{"$f":"MID(Tableau2[[#This Row],[Stakeholder category]],1,3)","v":""},"Delete",null,null,{"$f":"IFERROR(VLOOKUP(Tableau2[[#This Row],[Stakeholder name]],SH_list,11,FALSE),\"\")","v":""}]
[null,null,null,null,null,null,null,null,null,null,null,null,null,null,null,null,null,{"$f":"MID(Tableau2[[#This Row],[Stakeholder category]],1,3)","v":""},"Delete",null,null,{"$f":"IFERROR(VLOOKUP(Tableau2[[#This Row],[Stakeholder name]],SH_list,11,FALSE),\"\")","v":""}]
[null,null,null,null,null,null,null,null,null,null,null,null,null,null,null,null,null,{"$f":"MID(Tableau2[[#This Row],[Stakeholder category]],1,3)","v":""},"Delete",null,null,{"$f":"IFERROR(VLOOKUP(Tableau2[[#This Row],[Stakeholder name]],SH_list,11,FALSE),\"\")","v":""}]
[null,null,null,null,null,null,null,null,null,null,null,null,null,null,null,null,null,{"$f":"MID(Tableau2[[#This Row],[Stakeholder category]],1,3)","v":""},"Delete",null,null,{"$f":"IFERROR(VLOOKUP(Tableau2[[#This Row],[Stakeholder name]],SH_list,11,FALSE),\"\")","v":""}]
[null,null,null,null,null,null,null,null,null,null,null,null,null,null,null,null,null,{"$f":"MID(Tableau2[[#This Row],[Stakeholder category]],1,3)","v":""},"Delete",null,null,{"$f":"IFERROR(VLOOKUP(Tableau2[[#This Row],[Stakeholder name]],SH_list,11,FALSE),\"\")","v":""}]
[null,null,null,null,null,null,null,null,null,null,null,null,null,null,null,null,null,{"$f":"MID(Tableau2[[#This Row],[Stakeholder category]],1,3)","v":""},"Delete",null,null,{"$f":"IFERROR(VLOOKUP(Tableau2[[#This Row],[Stakeholder name]],SH_list,11,FALSE),\"\")","v":""}]
[null,null,null,null,null,null,null,null,null,null,null,null,null,null,null,null,null,{"$f":"MID(Tableau2[[#This Row],[Stakeholder category]],1,3)","v":""},"Delete",null,null,{"$f":"IFERROR(VLOOKUP(Tableau2[[#This Row],[Stakeholder name]],SH_list,11,FALSE),\"\")","v":""}]
[null,null,null,null,null,null,null,null,null,null,null,null,null,null,null,null,null,{"$f":"MID(Tableau2[[#This Row],[Stakeholder category]],1,3)","v":""},"Delete",null,null,{"$f":"IFERROR(VLOOKUP(Tableau2[[#This Row],[Stakeholder name]],SH_list,11,FALSE),\"\")","v":""}]
[null,null,null,null,null,null,null,null,null,null,null,null,null,null,null,null,null,{"$f":"MID(Tableau2[[#This Row],[Stakeholder category]],1,3)","v":""},"Delete",null,null,{"$f":"IFERROR(VLOOKUP(Tableau2[[#This Row],[Stakeholder name]],SH_list,11,FALSE),\"\")","v":""}]
[null,null,null,null,null,null,null,null,null,null,null,null,null,null,null,null,null,{"$f":"MID(Tableau2[[#This Row],[Stakeholder category]],1,3)","v":""},"Delete",null,null,{"$f":"IFERROR(VLOOKUP(Tableau2[[#This Row],[Stakeholder name]],SH_list,11,FALSE),\"\")","v":""}]
[null,null,null,null,null,null,null,null,null,null,null,null,null,null,null,null,null,{"$f":"MID(Tableau2[[#This Row],[Stakeholder category]],1,3)","v":""},"Delete",null,null,{"$f":"IFERROR(VLOOKUP(Tableau2[[#This Row],[Stakeholder name]],SH_list,11,FALSE),\"\")","v":""}]
[null,null,null,null,null,null,null,null,null,null,null,null,null,null,null,null,null,{"$f":"MID(Tableau2[[#This Row],[Stakeholder category]],1,3)","v":""},"Delete",null,null,{"$f":"IFERROR(VLOOKUP(Tableau2[[#This Row],[Stakeholder name]],SH_list,11,FALSE),\"\")","v":""}]
[null,null,null,null,null,null,null,null,null,null,null,null,null,null,null,null,null,{"$f":"MID(Tableau2[[#This Row],[Stakeholder category]],1,3)","v":""},"Delete",null,null,{"$f":"IFERROR(VLOOKUP(Tableau2[[#This Row],[Stakeholder name]],SH_list,11,FALSE),\"\")","v":""}]
[null,null,null,null,null,null,null,null,null,null,null,null,null,null,null,null,null,{"$f":"MID(Tableau2[[#This Row],[Stakeholder category]],1,3)","v":""},"Delete",null,null,{"$f":"IFERROR(VLOOKUP(Tableau2[[#This Row],[Stakeholder name]],SH_list,11,FALSE),\"\")","v":""}]
[null,null,null,null,null,null,null,null,null,null,null,null,null,null,null,null,null,{"$f":"MID(Tableau2[[#This Row],[Stakeholder category]],1,3)","v":""},"Delete",null,null,{"$f":"IFERROR(VLOOKUP(Tableau2[[#This Row],[Stakeholder name]],SH_list,11,FALSE),\"\")","v":""}]
[null,null,null,null,null,null,null,null,null,null,null,null,null,null,null,null,null,{"$f":"MID(Tableau2[[#This Row],[Stakeholder category]],1,3)","v":""},"Delete",null,null,{"$f":"IFERROR(VLOOKUP(Tableau2[[#This Row],[Stakeholder name]],SH_list,11,FALSE),\"\")","v":""}]
[null,null,null,null,null,null,null,null,null,null,null,null,null,null,null,null,null,{"$f":"MID(Tableau2[[#This Row],[Stakeholder category]],1,3)","v":""},"Delete",null,null,{"$f":"IFERROR(VLOOKUP(Tableau2[[#This Row],[Stakeholder name]],SH_list,11,FALSE),\"\")","v":""}]
[null,null,null,null,null,null,null,null,null,null,null,null,null,null,null,null,null,{"$f":"MID(Tableau2[[#This Row],[Stakeholder category]],1,3)","v":""},"Delete",null,null,{"$f":"IFERROR(VLOOKUP(Tableau2[[#This Row],[Stakeholder name]],SH_list,11,FALSE),\"\")","v":""}]
[null,null,null,null,null,null,null,null,null,null,null,null,null,null,null,null,null,{"$f":"MID(Tableau2[[#This Row],[Stakeholder category]],1,3)","v":""},"Delete",null,null,{"$f":"IFERROR(VLOOKUP(Tableau2[[#This Row],[Stakeholder name]],SH_list,11,FALSE),\"\")","v":""}]
[null,null,null,null,null,null,null,null,null,null,null,null,null,null,null,null,null,{"$f":"MID(Tableau2[[#This Row],[Stakeholder category]],1,3)","v":""},"Delete",null,null,{"$f":"IFERROR(VLOOKUP(Tableau2[[#This Row],[Stakeholder name]],SH_list,11,FALSE),\"\")","v":""}]
[null,null,null,null,null,null,null,null,null,null,null,null,null,null,null,null,null,{"$f":"MID(Tableau2[[#This Row],[Stakeholder category]],1,3)","v":""},"Delete",null,null,{"$f":"IFERROR(VLOOKUP(Tableau2[[#This Row],[Stakeholder name]],SH_list,11,FALSE),\"\")","v":""}]
[null,null,null,null,null,null,null,null,null,null,null,null,null,null,null,null,null,{"$f":"MID(Tableau2[[#This Row],[Stakeholder category]],1,3)","v":""},"Delete",null,null,{"$f":"IFERROR(VLOOKUP(Tableau2[[#This Row],[Stakeholder name]],SH_list,11,FALSE),\"\")","v":""}]
[null,null,null,null,null,null,null,null,null,null,null,null,null,null,null,null,null,{"$f":"MID(Tableau2[[#This Row],[Stakeholder category]],1,3)","v":""},"Delete",null,null,{"$f":"IFERROR(VLOOKUP(Tableau2[[#This Row],[Stakeholder name]],SH_list,11,FALSE),\"\")","v":""}]
[null,null,null,null,null,null,null,null,null,null,null,null,null,null,null,null,null,{"$f":"MID(Tableau2[[#This Row],[Stakeholder category]],1,3)","v":""},"Delete",null,null,{"$f":"IFERROR(VLOOKUP(Tableau2[[#This Row],[Stakeholder name]],SH_list,11,FALSE),\"\")","v":""}]
[null,null,null,null,null,null,null,null,null,null,null,null,null,null,null,null,null,{"$f":"MID(Tableau2[[#This Row],[Stakeholder category]],1,3)","v":""},"Delete",null,null,{"$f":"IFERROR(VLOOKUP(Tableau2[[#This Row],[Stakeholder name]],SH_list,11,FALSE),\"\")","v":""}]
[null,null,null,null,null,null,null,null,null,null,null,null,null,null,null,null,null,{"$f":"MID(Tableau2[[#This Row],[Stakeholder category]],1,3)","v":""},"Delete",null,null,{"$f":"IFERROR(VLOOKUP(Tableau2[[#This Row],[Stakeholder name]],SH_list,11,FALSE),\"\")","v":""}]
[null,null,null,null,null,null,null,null,null,null,null,null,null,null,null,null,null,{"$f":"MID(Tableau2[[#This Row],[Stakeholder category]],1,3)","v":""},"Delete",null,null,{"$f":"IFERROR(VLOOKUP(Tableau2[[#This Row],[Stakeholder name]],SH_list,11,FALSE),\"\")","v":""}]
[null,null,null,null,null,null,null,null,null,null,null,null,null,null,null,null,null,{"$f":"MID(Tableau2[[#This Row],[Stakeholder category]],1,3)","v":""},"Delete",null,null,{"$f":"IFERROR(VLOOKUP(Tableau2[[#This Row],[Stakeholder name]],SH_list,11,FALSE),\"\")","v":""}]
[null,null,null,null,null,null,null,null,null,null,null,null,null,null,null,null,null,{"$f":"MID(Tableau2[[#This Row],[Stakeholder category]],1,3)","v":""},"Delete",null,null,{"$f":"IFERROR(VLOOKUP(Tableau2[[#This Row],[Stakeholder name]],SH_list,11,FALSE),\"\")","v":""}]
[null,null,null,null,null,null,null,null,null,null,null,null,null,null,null,null,null,{"$f":"MID(Tableau2[[#This Row],[Stakeholder category]],1,3)","v":""},"Delete",null,null,{"$f":"IFERROR(VLOOKUP(Tableau2[[#This Row],[Stakeholder name]],SH_list,11,FALSE),\"\")","v":""}]
[null,null,null,null,null,null,null,null,null,null,null,null,null,null,null,null,null,{"$f":"MID(Tableau2[[#This Row],[Stakeholder category]],1,3)","v":""},"Delete",null,null,{"$f":"IFERROR(VLOOKUP(Tableau2[[#This Row],[Stakeholder name]],SH_list,11,FALSE),\"\")","v":""}]
[null,null,null,null,null,null,null,null,null,null,null,null,null,null,null,null,null,{"$f":"MID(Tableau2[[#This Row],[Stakeholder category]],1,3)","v":""},"Delete",null,null,{"$f":"IFERROR(VLOOKUP(Tableau2[[#This Row],[Stakeholder name]],SH_list,11,FALSE),\"\")","v":""}]
[null,null,null,null,null,null,null,null,null,null,null,null,null,null,null,null,null,{"$f":"MID(Tableau2[[#This Row],[Stakeholder category]],1,3)","v":""},"Delete",null,null,{"$f":"IFERROR(VLOOKUP(Tableau2[[#This Row],[Stakeholder name]],SH_list,11,FALSE),\"\")","v":""}]
[null,null,null,null,null,null,null,null,null,null,null,null,null,null,null,null,null,{"$f":"MID(Tableau2[[#This Row],[Stakeholder category]],1,3)","v":""},"Delete",null,null,{"$f":"IFERROR(VLOOKUP(Tableau2[[#This Row],[Stakeholder name]],SH_list,11,FALSE),\"\")","v":""}]
[null,null,null,null,null,null,null,null,null,null,null,null,null,null,null,null,null,{"$f":"MID(Tableau2[[#This Row],[Stakeholder category]],1,3)","v":""},"Delete",null,null,{"$f":"IFERROR(VLOOKUP(Tableau2[[#This Row],[Stakeholder name]],SH_list,11,FALSE),\"\")","v":""}]
[null,null,null,null,null,null,null,null,null,null,null,null,null,null,null,null,null,{"$f":"MID(Tableau2[[#This Row],[Stakeholder category]],1,3)","v":""},"Delete",null,null,{"$f":"IFERROR(VLOOKUP(Tableau2[[#This Row],[Stakeholder name]],SH_list,11,FALSE),\"\")","v":""}]
[null,null,null,null,null,null,null,null,null,null,null,null,null,null,null,null,null,{"$f":"MID(Tableau2[[#This Row],[Stakeholder category]],1,3)","v":""},"Delete",null,null,{"$f":"IFERROR(VLOOKUP(Tableau2[[#This Row],[Stakeholder name]],SH_list,11,FALSE),\"\")","v":""}]
[null,null,null,null,null,null,null,null,null,null,null,null,null,null,null,null,null,{"$f":"MID(Tableau2[[#This Row],[Stakeholder category]],1,3)","v":""},"Delete",null,null,{"$f":"IFERROR(VLOOKUP(Tableau2[[#This Row],[Stakeholder name]],SH_list,11,FALSE),\"\")","v":""}]
[null,null,null,null,null,null,null,null,null,null,null,null,null,null,null,null,null,{"$f":"MID(Tableau2[[#This Row],[Stakeholder category]],1,3)","v":""},"Delete",null,null,{"$f":"IFERROR(VLOOKUP(Tableau2[[#This Row],[Stakeholder name]],SH_list,11,FALSE),\"\")","v":""}]
[null,null,null,null,null,null,null,null,null,null,null,null,null,null,null,null,null,{"$f":"MID(Tableau2[[#This Row],[Stakeholder category]],1,3)","v":""},"Delete",null,null,{"$f":"IFERROR(VLOOKUP(Tableau2[[#This Row],[Stakeholder name]],SH_list,11,FALSE),\"\")","v":""}]
[null,null,null,null,null,null,null,null,null,null,null,null,null,null,null,null,null,{"$f":"MID(Tableau2[[#This Row],[Stakeholder category]],1,3)","v":""},"Delete",null,null,{"$f":"IFERROR(VLOOKUP(Tableau2[[#This Row],[Stakeholder name]],SH_list,11,FALSE),\"\")","v":""}]
[null,null,null,null,null,null,null,null,null,null,null,null,null,null,null,null,null,{"$f":"MID(Tableau2[[#This Row],[Stakeholder category]],1,3)","v":""},"Delete",null,null,{"$f":"IFERROR(VLOOKUP(Tableau2[[#This Row],[Stakeholder name]],SH_list,11,FALSE),\"\")","v":""}]
[null,null,null,null,null,null,null,null,null,null,null,null,null,null,null,null,null,{"$f":"MID(Tableau2[[#This Row],[Stakeholder category]],1,3)","v":""},"Delete",null,null,{"$f":"IFERROR(VLOOKUP(Tableau2[[#This Row],[Stakeholder name]],SH_list,11,FALSE),\"\")","v":""}]
[null,null,null,null,null,null,null,null,null,null,null,null,null,null,null,null,null,{"$f":"MID(Tableau2[[#This Row],[Stakeholder category]],1,3)","v":""},"Delete",null,null,{"$f":"IFERROR(VLOOKUP(Tableau2[[#This Row],[Stakeholder name]],SH_list,11,FALSE),\"\")","v":""}]
[null,null,null,null,null,null,null,null,null,null,null,null,null,null,null,null,null,{"$f":"MID(Tableau2[[#This Row],[Stakeholder category]],1,3)","v":""},"Delete",null,null,{"$f":"IFERROR(VLOOKUP(Tableau2[[#This Row],[Stakeholder name]],SH_list,11,FALSE),\"\")","v":""}]
[null,null,null,null,null,null,null,null,null,null,null,null,null,null,null,null,null,{"$f":"MID(Tableau2[[#This Row],[Stakeholder category]],1,3)","v":""},"Delete",null,null,{"$f":"IFERROR(VLOOKUP(Tableau2[[#This Row],[Stakeholder name]],SH_list,11,FALSE),\"\")","v":""}]
[null,null,null,null,null,null,null,null,null,null,null,null,null,null,null,null,null,{"$f":"MID(Tableau2[[#This Row],[Stakeholder category]],1,3)","v":""},"Delete",null,null,{"$f":"IFERROR(VLOOKUP(Tableau2[[#This Row],[Stakeholder name]],SH_list,11,FALSE),\"\")","v":""}]
[null,null,null,null,null,null,null,null,null,null,null,null,null,null,null,null,null,{"$f":"MID(Tableau2[[#This Row],[Stakeholder category]],1,3)","v":""},"Delete",null,null,{"$f":"IFERROR(VLOOKUP(Tableau2[[#This Row],[Stakeholder name]],SH_list,11,FALSE),\"\")","v":""}]
[null,null,null,null,null,null,null,null,null,null,null,null,null,null,null,null,null,{"$f":"MID(Tableau2[[#This Row],[Stakeholder category]],1,3)","v":""},"Delete",null,null,{"$f":"IFERROR(VLOOKUP(Tableau2[[#This Row],[Stakeholder name]],SH_list,11,FALSE),\"\")","v":""}]
[null,null,null,null,null,null,null,null,null,null,null,null,null,null,null,null,null,{"$f":"MID(Tableau2[[#This Row],[Stakeholder category]],1,3)","v":""},"Delete",null,null,{"$f":"IFERROR(VLOOKUP(Tableau2[[#This Row],[Stakeholder name]],SH_list,11,FALSE),\"\")","v":""}]
[null,null,null,null,null,null,null,null,null,null,null,null,null,null,null,null,null,{"$f":"MID(Tableau2[[#This Row],[Stakeholder category]],1,3)","v":""},"Delete",null,null,{"$f":"IFERROR(VLOOKUP(Tableau2[[#This Row],[Stakeholder name]],SH_list,11,FALSE),\"\")","v":""}]
[null,null,null,null,null,null,null,null,null,null,null,null,null,null,null,null,null,{"$f":"MID(Tableau2[[#This Row],[Stakeholder category]],1,3)","v":""},"Delete",null,null,{"$f":"IFERROR(VLOOKUP(Tableau2[[#This Row],[Stakeholder name]],SH_list,11,FALSE),\"\")","v":""}]
[null,null,null,null,null,null,null,null,null,null,null,null,null,null,null,null,null,{"$f":"MID(Tableau2[[#This Row],[Stakeholder category]],1,3)","v":""},"Delete",null,null,{"$f":"IFERROR(VLOOKUP(Tableau2[[#This Row],[Stakeholder name]],SH_list,11,FALSE),\"\")","v":""}]
[null,null,null,null,null,null,null,null,null,null,null,null,null,null,null,null,null,{"$f":"MID(Tableau2[[#This Row],[Stakeholder category]],1,3)","v":""},"Delete",null,null,{"$f":"IFERROR(VLOOKUP(Tableau2[[#This Row],[Stakeholder name]],SH_list,11,FALSE),\"\")","v":""}]
[null,null,null,null,null,null,null,null,null,null,null,null,null,null,null,null,null,{"$f":"MID(Tableau2[[#This Row],[Stakeholder category]],1,3)","v":""},"Delete",null,null,{"$f":"IFERROR(VLOOKUP(Tableau2[[#This Row],[Stakeholder name]],SH_list,11,FALSE),\"\")","v":""}]
[null,null,null,null,null,null,null,null,null,null,null,null,null,null,null,null,null,{"$f":"MID(Tableau2[[#This Row],[Stakeholder category]],1,3)","v":""},"Delete",null,null,{"$f":"IFERROR(VLOOKUP(Tableau2[[#This Row],[Stakeholder name]],SH_list,11,FALSE),\"\")","v":""}]
[null,null,null,null,null,null,null,null,null,null,null,null,null,null,null,null,null,{"$f":"MID(Tableau2[[#This Row],[Stakeholder category]],1,3)","v":""},"Delete",null,null,{"$f":"IFERROR(VLOOKUP(Tableau2[[#This Row],[Stakeholder name]],SH_list,11,FALSE),\"\")","v":""}]
[null,null,null,null,null,null,null,null,null,null,null,null,null,null,null,null,null,{"$f":"MID(Tableau2[[#This Row],[Stakeholder category]],1,3)","v":""},"Delete",null,null,{"$f":"IFERROR(VLOOKUP(Tableau2[[#This Row],[Stakeholder name]],SH_list,11,FALSE),\"\")","v":""}]
[null,null,null,null,null,null,null,null,null,null,null,null,null,null,null,null,null,{"$f":"MID(Tableau2[[#This Row],[Stakeholder category]],1,3)","v":""},"Delete",null,null,{"$f":"IFERROR(VLOOKUP(Tableau2[[#This Row],[Stakeholder name]],SH_list,11,FALSE),\"\")","v":""}]
[null,null,null,null,null,null,null,null,null,null,null,null,null,null,null,null,null,{"$f":"MID(Tableau2[[#This Row],[Stakeholder category]],1,3)","v":""},"Delete",null,null,{"$f":"IFERROR(VLOOKUP(Tableau2[[#This Row],[Stakeholder name]],SH_list,11,FALSE),\"\")","v":""}]
[null,null,null,null,null,null,null,null,null,null,null,null,null,null,null,null,null,{"$f":"MID(Tableau2[[#This Row],[Stakeholder category]],1,3)","v":""},"Delete",null,null,{"$f":"IFERROR(VLOOKUP(Tableau2[[#This Row],[Stakeholder name]],SH_list,11,FALSE),\"\")","v":""}]
[null,null,null,null,null,null,null,null,null,null,null,null,null,null,null,null,null,{"$f":"MID(Tableau2[[#This Row],[Stakeholder category]],1,3)","v":""},"Delete",null,null,{"$f":"IFERROR(VLOOKUP(Tableau2[[#This Row],[Stakeholder name]],SH_list,11,FALSE),\"\")","v":""}]
[null,null,null,null,null,null,null,null,null,null,null,null,null,null,null,null,null,{"$f":"MID(Tableau2[[#This Row],[Stakeholder category]],1,3)","v":""},"Delete",null,null,{"$f":"IFERROR(VLOOKUP(Tableau2[[#This Row],[Stakeholder name]],SH_list,11,FALSE),\"\")","v":""}]
[null,null,null,null,null,null,null,null,null,null,null,null,null,null,null,null,null,{"$f":"MID(Tableau2[[#This Row],[Stakeholder category]],1,3)","v":""},"Delete",null,null,{"$f":"IFERROR(VLOOKUP(Tableau2[[#This Row],[Stakeholder name]],SH_list,11,FALSE),\"\")","v":""}]
[null,null,null,null,null,null,null,null,null,null,null,null,null,null,null,null,null,{"$f":"MID(Tableau2[[#This Row],[Stakeholder category]],1,3)","v":""},"Delete",null,null,{"$f":"IFERROR(VLOOKUP(Tableau2[[#This Row],[Stakeholder name]],SH_list,11,FALSE),\"\")","v":""}]
[null,null,null,null,null,null,null,null,null,null,null,null,null,null,null,null,null,{"$f":"MID(Tableau2[[#This Row],[Stakeholder category]],1,3)","v":""},"Delete",null,null,{"$f":"IFERROR(VLOOKUP(Tableau2[[#This Row],[Stakeholder name]],SH_list,11,FALSE),\"\")","v":""}]
[null,null,null,null,null,null,null,null,null,null,null,null,null,null,null,null,null,{"$f":"MID(Tableau2[[#This Row],[Stakeholder category]],1,3)","v":""},"Delete",null,null,{"$f":"IFERROR(VLOOKUP(Tableau2[[#This Row],[Stakeholder name]],SH_list,11,FALSE),\"\")","v":""}]
[null,null,null,null,null,null,null,null,null,null,null,null,null,null,null,null,null,{"$f":"MID(Tableau2[[#This Row],[Stakeholder category]],1,3)","v":""},"Delete",null,null,{"$f":"IFERROR(VLOOKUP(Tableau2[[#This Row],[Stakeholder name]],SH_list,11,FALSE),\"\")","v":""}]
[null,null,null,null,null,null,null,null,null,null,null,null,null,null,null,null,null,{"$f":"MID(Tableau2[[#This Row],[Stakeholder category]],1,3)","v":""},"Delete",null,null,{"$f":"IFERROR(VLOOKUP(Tableau2[[#This Row],[Stakeholder name]],SH_list,11,FALSE),\"\")","v":""}]
[null,null,null,null,null,null,null,null,null,null,null,null,null,null,null,null,null,{"$f":"MID(Tableau2[[#This Row],[Stakeholder category]],1,3)","v":""},"Delete",null,null,{"$f":"IFERROR(VLOOKUP(Tableau2[[#This Row],[Stakeholder name]],SH_list,11,FALSE),\"\")","v":""}]
[null,null,null,null,null,null,null,null,null,null,null,null,null,null,null,null,null,{"$f":"MID(Tableau2[[#This Row],[Stakeholder category]],1,3)","v":""},"Delete",null,null,{"$f":"IFERROR(VLOOKUP(Tableau2[[#This Row],[Stakeholder name]],SH_list,11,FALSE),\"\")","v":""}]
[null,null,null,null,null,null,null,null,null,null,null,null,null,null,null,null,null,{"$f":"MID(Tableau2[[#This Row],[Stakeholder category]],1,3)","v":""},"Delete",null,null,{"$f":"IFERROR(VLOOKUP(Tableau2[[#This Row],[Stakeholder name]],SH_list,11,FALSE),\"\")","v":""}]
[null,null,null,null,null,null,null,null,null,null,null,null,null,null,null,null,null,{"$f":"MID(Tableau2[[#This Row],[Stakeholder category]],1,3)","v":""},"Delete",null,null,{"$f":"IFERROR(VLOOKUP(Tableau2[[#This Row],[Stakeholder name]],SH_list,11,FALSE),\"\")","v":""}]
[null,null,null,null,null,null,null,null,null,null,null,null,null,null,null,null,null,{"$f":"MID(Tableau2[[#This Row],[Stakeholder category]],1,3)","v":""},"Delete",null,null,{"$f":"IFERROR(VLOOKUP(Tableau2[[#This Row],[Stakeholder name]],SH_list,11,FALSE),\"\")","v":""}]
[null,null,null,null,null,null,null,null,null,null,null,null,null,null,null,null,null,{"$f":"MID(Tableau2[[#This Row],[Stakeholder category]],1,3)","v":""},"Delete",null,null,{"$f":"IFERROR(VLOOKUP(Tableau2[[#This Row],[Stakeholder name]],SH_list,11,FALSE),\"\")","v":""}]
[null,null,null,null,null,null,null,null,null,null,null,null,null,null,null,null,null,{"$f":"MID(Tableau2[[#This Row],[Stakeholder category]],1,3)","v":""},"Delete",null,null,{"$f":"IFERROR(VLOOKUP(Tableau2[[#This Row],[Stakeholder name]],SH_list,11,FALSE),\"\")","v":""}]
[null,null,null,null,null,null,null,null,null,null,null,null,null,null,null,null,null,{"$f":"MID(Tableau2[[#This Row],[Stakeholder category]],1,3)","v":""},"Delete",null,null,{"$f":"IFERROR(VLOOKUP(Tableau2[[#This Row],[Stakeholder name]],SH_list,11,FALSE),\"\")","v":""}]
[null,null,null,null,null,null,null,null,null,null,null,null,null,null,null,null,null,{"$f":"MID(Tableau2[[#This Row],[Stakeholder category]],1,3)","v":""},"Delete",null,null,{"$f":"IFERROR(VLOOKUP(Tableau2[[#This Row],[Stakeholder name]],SH_list,11,FALSE),\"\")","v":""}]
[null,null,null,null,null,null,null,null,null,null,null,null,null,null,null,null,null,{"$f":"MID(Tableau2[[#This Row],[Stakeholder category]],1,3)","v":""},"Delete",null,null,{"$f":"IFERROR(VLOOKUP(Tableau2[[#This Row],[Stakeholder name]],SH_list,11,FALSE),\"\")","v":""}]
[null,null,null,null,null,null,null,null,null,null,null,null,null,null,null,null,null,{"$f":"MID(Tableau2[[#This Row],[Stakeholder category]],1,3)","v":""},"Delete",null,null,{"$f":"IFERROR(VLOOKUP(Tableau2[[#This Row],[Stakeholder name]],SH_list,11,FALSE),\"\")","v":""}]
[null,null,null,null,null,null,null,null,null,null,null,null,null,null,null,null,null,null,"Delete",null,null,{"$f":"IFERROR(VLOOKUP(Tableau2[[#This Row],[Stakeholder name]],SH_list,11,FALSE),\"\")","v":""}]
[null,null,null,null,null,null,null,null,null,null,null,null,null,null,null,null,null,null,"Delete",null,null,{"$f":"IFERROR(VLOOKUP(Tableau2[[#This Row],[Stakeholder name]],SH_list,11,FALSE),\"\")","v":""}]
[null,null,null,null,null,null,null,null,null,null,null,null,null,null,null,null,null,null,"Delete",null,null,{"$f":"IFERROR(VLOOKUP(Tableau2[[#This Row],[Stakeholder name]],SH_list,11,FALSE),\"\")","v":""}]

{"sheet":"Onglet_mapping_SHlist","index":33,"n_rows":400,"n_cols":19,"rows_kept":400,"cut":false,"hidden":false,"merged":[[8,2,8,4],[9,2,9,5]]}
[]
[]
[]
[]
[]
[null,null,{"$f":"Onglet_mapping_parameters!E66","v":"Identify and prioritize key stakeholders"}]
[]
[null,null,"INSTRUCTIONS"]
[null,null,{"$f":"Onglet_mapping_parameters!E68","v":"List your main stakeholders in the table below.\n\nIf you need to add specific contacts linked to a stakeholder, double-click on the stakeholder to open the stakeholder form and add contacts (you can add a maximum of 4 contacts).\n\nIf you wish to attach a stakeholder to one or more assets, you must first define your assets (up to a maximum of 5). Then simply right-click in the Asset column and assign the relevant asset(s) to your stakeholder."}]
[]
[]
[null,null,"Organization (name short)","Category","Group","Influence","Interest","Geography","Focal point (internal)","Priority","Asset","GroupShort","SHID","Question_ID","Double-click to delete","About the stakeholder","Comments on stakeholder influence","Comments on stakeholder expectations","Interviews"]
[null,null,null,null,null,null,null,null,null,{"$f":"IFERROR(_xlfn.IFS(OR(F13=\"\",G13=\"\"),\"\",AND(F13<Onglet_mapping_parameters!$J$16,G13<Onglet_mapping_parameters!$J$16),Onglet_mapping_parameters!$J$18,AND(F13<Onglet_mapping_parameters!$J$16,G13>=Onglet_mapping_parameters!$J$16),Onglet_mapping_parameters!$J$20,AND(F13>=Onglet_mapping_parameters!$J$16,G13<Onglet_mapping_parameters!$J$16),Onglet_mapping_parameters!$J$21,AND(F13>=Onglet_mapping_parameters!$J$16,G13>=Onglet_mapping_parameters!$J$16),Onglet_mapping_parameters!$J$22),\"\")","v":""},null,{"$f":"IFERROR(_xlfn.IFS(Tableau1[[#This Row],[Category]]=Onglet_mapping_parameters!$C$27,Onglet_mapping_parameters!$B$27,Tableau1[[#This Row],[Category]]=Onglet_mapping_parameters!$C$28,Onglet_mapping_parameters!$B$28,Tableau1[[#This Row],[Category]]=Onglet_mapping_parameters!$C$29,Onglet_mapping_parameters!$B$29,Tableau1[[#This Row],[Category]]=Onglet_mapping_parameters!$C$30,Onglet_mapping_parameters!$B$30),\"\")","v":""},null,null,"Delete"]
[null,null,null,null,null,null,null,null,null,{"$f":"IFERROR(_xlfn.IFS(OR(F14=\"\",G14=\"\"),\"\",AND(F14<Onglet_mapping_parameters!$J$16,G14<Onglet_mapping_parameters!$J$16),Onglet_mapping_parameters!$J$18,AND(F14<Onglet_mapping_parameters!$J$16,G14>=Onglet_mapping_parameters!$J$16),Onglet_mapping_parameters!$J$20,AND(F14>=Onglet_mapping_parameters!$J$16,G14<Onglet_mapping_parameters!$J$16),Onglet_mapping_parameters!$J$21,AND(F14>=Onglet_mapping_parameters!$J$16,G14>=Onglet_mapping_parameters!$J$16),Onglet_mapping_parameters!$J$22),\"\")","v":""},null,{"$f":"IFERROR(_xlfn.IFS(Tableau1[[#This Row],[Category]]=Onglet_mapping_parameters!$C$27,Onglet_mapping_parameters!$B$27,Tableau1[[#This Row],[Category]]=Onglet_mapping_parameters!$C$28,Onglet_mapping_parameters!$B$28,Tableau1[[#This Row],[Category]]=Onglet_mapping_parameters!$C$29,Onglet_mapping_parameters!$B$29,Tableau1[[#This Row],[Category]]=Onglet_mapping_parameters!$C$30,Onglet_mapping_parameters!$B$30),\"\")","v":""},null,null,"Delete"]
[null,null,null,null,null,null,null,null,null,{"$f":"IFERROR(_xlfn.IFS(OR(F15=\"\",G15=\"\"),\"\",AND(F15<Onglet_mapping_parameters!$J$16,G15<Onglet_mapping_parameters!$J$16),Onglet_mapping_parameters!$J$18,AND(F15<Onglet_mapping_parameters!$J$16,G15>=Onglet_mapping_parameters!$J$16),Onglet_mapping_parameters!$J$20,AND(F15>=Onglet_mapping_parameters!$J$16,G15<Onglet_mapping_parameters!$J$16),Onglet_mapping_parameters!$J$21,AND(F15>=Onglet_mapping_parameters!$J$16,G15>=Onglet_mapping_parameters!$J$16),Onglet_mapping_parameters!$J$22),\"\")","v":""},null,{"$f":"IFERROR(_xlfn.IFS(Tableau1[[#This Row],[Category]]=Onglet_mapping_parameters!$C$27,Onglet_mapping_parameters!$B$27,Tableau1[[#This Row],[Category]]=Onglet_mapping_parameters!$C$28,Onglet_mapping_parameters!$B$28,Tableau1[[#This Row],[Category]]=Onglet_mapping_parameters!$C$29,Onglet_mapping_parameters!$B$29,Tableau1[[#This Row],[Category]]=Onglet_mapping_parameters!$C$30,Onglet_mapping_parameters!$B$30),\"\")","v":""},null,null,"Delete"]
[null,null,null,null,null,null,null,null,null,{"$f":"IFERROR(_xlfn.IFS(OR(F16=\"\",G16=\"\"),\"\",AND(F16<Onglet_mapping_parameters!$J$16,G16<Onglet_mapping_parameters!$J$16),Onglet_mapping_parameters!$J$18,AND(F16<Onglet_mapping_parameters!$J$16,G16>=Onglet_mapping_parameters!$J$16),Onglet_mapping_parameters!$J$20,AND(F16>=Onglet_mapping_parameters!$J$16,G16<Onglet_mapping_parameters!$J$16),Onglet_mapping_parameters!$J$21,AND(F16>=Onglet_mapping_parameters!$J$16,G16>=Onglet_mapping_parameters!$J$16),Onglet_mapping_parameters!$J$22),\"\")","v":""},null,{"$f":"IFERROR(_xlfn.IFS(Tableau1[[#This Row],[Category]]=Onglet_mapping_parameters!$C$27,Onglet_mapping_parameters!$B$27,Tableau1[[#This Row],[Category]]=Onglet_mapping_parameters!$C$28,Onglet_mapping_parameters!$B$28,Tableau1[[#This Row],[Category]]=Onglet_mapping_parameters!$C$29,Onglet_mapping_parameters!$B$29,Tableau1[[#This Row],[Category]]=Onglet_mapping_parameters!$C$30,Onglet_mapping_parameters!$B$30),\"\")","v":""},null,null,"Delete"]
[null,null,null,null,null,null,null,null,null,{"$f":"IFERROR(_xlfn.IFS(OR(F17=\"\",G17=\"\"),\"\",AND(F17<Onglet_mapping_parameters!$J$16,G17<Onglet_mapping_parameters!$J$16),Onglet_mapping_parameters!$J$18,AND(F17<Onglet_mapping_parameters!$J$16,G17>=Onglet_mapping_parameters!$J$16),Onglet_mapping_parameters!$J$20,AND(F17>=Onglet_mapping_parameters!$J$16,G17<Onglet_mapping_parameters!$J$16),Onglet_mapping_parameters!$J$21,AND(F17>=Onglet_mapping_parameters!$J$16,G17>=Onglet_mapping_parameters!$J$16),Onglet_mapping_parameters!$J$22),\"\")","v":""},null,{"$f":"IFERROR(_xlfn.IFS(Tableau1[[#This Row],[Category]]=Onglet_mapping_parameters!$C$27,Onglet_mapping_parameters!$B$27,Tableau1[[#This Row],[Category]]=Onglet_mapping_parameters!$C$28,Onglet_mapping_parameters!$B$28,Tableau1[[#This Row],[Category]]=Onglet_mapping_parameters!$C$29,Onglet_mapping_parameters!$B$29,Tableau1[[#This Row],[Category]]=Onglet_mapping_parameters!$C$30,Onglet_mapping_parameters!$B$30),\"\")","v":""},null,null,"Delete"]
[null,null,null,null,null,null,null,null,null,{"$f":"IFERROR(_xlfn.IFS(OR(F18=\"\",G18=\"\"),\"\",AND(F18<Onglet_mapping_parameters!$J$16,G18<Onglet_mapping_parameters!$J$16),Onglet_mapping_parameters!$J$18,AND(F18<Onglet_mapping_parameters!$J$16,G18>=Onglet_mapping_parameters!$J$16),Onglet_mapping_parameters!$J$20,AND(F18>=Onglet_mapping_parameters!$J$16,G18<Onglet_mapping_parameters!$J$16),Onglet_mapping_parameters!$J$21,AND(F18>=Onglet_mapping_parameters!$J$16,G18>=Onglet_mapping_parameters!$J$16),Onglet_mapping_parameters!$J$22),\"\")","v":""},null,{"$f":"IFERROR(_xlfn.IFS(Tableau1[[#This Row],[Category]]=Onglet_mapping_parameters!$C$27,Onglet_mapping_parameters!$B$27,Tableau1[[#This Row],[Category]]=Onglet_mapping_parameters!$C$28,Onglet_mapping_parameters!$B$28,Tableau1[[#This Row],[Category]]=Onglet_mapping_parameters!$C$29,Onglet_mapping_parameters!$B$29,Tableau1[[#This Row],[Category]]=Onglet_mapping_parameters!$C$30,Onglet_mapping_parameters!$B$30),\"\")","v":""},null,null,"Delete"]
[null,null,null,null,null,null,null,null,null,{"$f":"IFERROR(_xlfn.IFS(OR(F19=\"\",G19=\"\"),\"\",AND(F19<Onglet_mapping_parameters!$J$16,G19<Onglet_mapping_parameters!$J$16),Onglet_mapping_parameters!$J$18,AND(F19<Onglet_mapping_parameters!$J$16,G19>=Onglet_mapping_parameters!$J$16),Onglet_mapping_parameters!$J$20,AND(F19>=Onglet_mapping_parameters!$J$16,G19<Onglet_mapping_parameters!$J$16),Onglet_mapping_parameters!$J$21,AND(F19>=Onglet_mapping_parameters!$J$16,G19>=Onglet_mapping_parameters!$J$16),Onglet_mapping_parameters!$J$22),\"\")","v":""},null,{"$f":"IFERROR(_xlfn.IFS(Tableau1[[#This Row],[Category]]=Onglet_mapping_parameters!$C$27,Onglet_mapping_parameters!$B$27,Tableau1[[#This Row],[Category]]=Onglet_mapping_parameters!$C$28,Onglet_mapping_parameters!$B$28,Tableau1[[#This Row],[Category]]=Onglet_mapping_parameters!$C$29,Onglet_mapping_parameters!$B$29,Tableau1[[#This Row],[Category]]=Onglet_mapping_parameters!$C$30,Onglet_mapping_parameters!$B$30),\"\")","v":""},null,null,"Delete"]
[null,null,null,null,null,null,null,null,null,{"$f":"IFERROR(_xlfn.IFS(OR(F20=\"\",G20=\"\"),\"\",AND(F20<Onglet_mapping_parameters!$J$16,G20<Onglet_mapping_parameters!$J$16),Onglet_mapping_parameters!$J$18,AND(F20<Onglet_mapping_parameters!$J$16,G20>=Onglet_mapping_parameters!$J$16),Onglet_mapping_parameters!$J$20,AND(F20>=Onglet_mapping_parameters!$J$16,G20<Onglet_mapping_parameters!$J$16),Onglet_mapping_parameters!$J$21,AND(F20>=Onglet_mapping_parameters!$J$16,G20>=Onglet_mapping_parameters!$J$16),Onglet_mapping_parameters!$J$22),\"\")","v":""},null,{"$f":"IFERROR(_xlfn.IFS(Tableau1[[#This Row],[Category]]=Onglet_mapping_parameters!$C$27,Onglet_mapping_parameters!$B$27,Tableau1[[#This Row],[Category]]=Onglet_mapping_parameters!$C$28,Onglet_mapping_parameters!$B$28,Tableau1[[#This Row],[Category]]=Onglet_mapping_parameters!$C$29,Onglet_mapping_parameters!$B$29,Tableau1[[#This Row],[Category]]=Onglet_mapping_parameters!$C$30,Onglet_mapping_parameters!$B$30),\"\")","v":""},null,null,"Delete"]
[null,null,null,null,null,null,null,null,null,{"$f":"IFERROR(_xlfn.IFS(OR(F21=\"\",G21=\"\"),\"\",AND(F21<Onglet_mapping_parameters!$J$16,G21<Onglet_mapping_parameters!$J$16),Onglet_mapping_parameters!$J$18,AND(F21<Onglet_mapping_parameters!$J$16,G21>=Onglet_mapping_parameters!$J$16),Onglet_mapping_parameters!$J$20,AND(F21>=Onglet_mapping_parameters!$J$16,G21<Onglet_mapping_parameters!$J$16),Onglet_mapping_parameters!$J$21,AND(F21>=Onglet_mapping_parameters!$J$16,G21>=Onglet_mapping_parameters!$J$16),Onglet_mapping_parameters!$J$22),\"\")","v":""},null,{"$f":"IFERROR(_xlfn.IFS(Tableau1[[#This Row],[Category]]=Onglet_mapping_parameters!$C$27,Onglet_mapping_parameters!$B$27,Tableau1[[#This Row],[Category]]=Onglet_mapping_parameters!$C$28,Onglet_mapping_parameters!$B$28,Tableau1[[#This Row],[Category]]=Onglet_mapping_parameters!$C$29,Onglet_mapping_parameters!$B$29,Tableau1[[#This Row],[Category]]=Onglet_mapping_parameters!$C$30,Onglet_mapping_parameters!$B$30),\"\")","v":""},null,null,"Delete"]
[null,null,null,null,null,null,null,null,null,{"$f":"IFERROR(_xlfn.IFS(OR(F22=\"\",G22=\"\"),\"\",AND(F22<Onglet_mapping_parameters!$J$16,G22<Onglet_mapping_parameters!$J$16),Onglet_mapping_parameters!$J$18,AND(F22<Onglet_mapping_parameters!$J$16,G22>=Onglet_mapping_parameters!$J$16),Onglet_mapping_parameters!$J$20,AND(F22>=Onglet_mapping_parameters!$J$16,G22<Onglet_mapping_parameters!$J$16),Onglet_mapping_parameters!$J$21,AND(F22>=Onglet_mapping_parameters!$J$16,G22>=Onglet_mapping_parameters!$J$16),Onglet_mapping_parameters!$J$22),\"\")","v":""},null,{"$f":"IFERROR(_xlfn.IFS(Tableau1[[#This Row],[Category]]=Onglet_mapping_parameters!$C$27,Onglet_mapping_parameters!$B$27,Tableau1[[#This Row],[Category]]=Onglet_mapping_parameters!$C$28,Onglet_mapping_parameters!$B$28,Tableau1[[#This Row],[Category]]=Onglet_mapping_parameters!$C$29,Onglet_mapping_parameters!$B$29,Tableau1[[#This Row],[Category]]=Onglet_mapping_parameters!$C$30,Onglet_mapping_parameters!$B$30),\"\")","v":""},null,null,"Delete"]
[null,null,null,null,null,null,null,null,null,{"$f":"IFERROR(_xlfn.IFS(OR(F23=\"\",G23=\"\"),\"\",AND(F23<Onglet_mapping_parameters!$J$16,G23<Onglet_mapping_parameters!$J$16),Onglet_mapping_parameters!$J$18,AND(F23<Onglet_mapping_parameters!$J$16,G23>=Onglet_mapping_parameters!$J$16),Onglet_mapping_parameters!$J$20,AND(F23>=Onglet_mapping_parameters!$J$16,G23<Onglet_mapping_parameters!$J$16),Onglet_mapping_parameters!$J$21,AND(F23>=Onglet_mapping_parameters!$J$16,G23>=Onglet_mapping_parameters!$J$16),Onglet_mapping_parameters!$J$22),\"\")","v":""},null,{"$f":"IFERROR(_xlfn.IFS(Tableau1[[#This Row],[Category]]=Onglet_mapping_parameters!$C$27,Onglet_mapping_parameters!$B$27,Tableau1[[#This Row],[Category]]=Onglet_mapping_parameters!$C$28,Onglet_mapping_parameters!$B$28,Tableau1[[#This Row],[Category]]=Onglet_mapping_parameters!$C$29,Onglet_mapping_parameters!$B$29,Tableau1[[#This Row],[Category]]=Onglet_mapping_parameters!$C$30,Onglet_mapping_parameters!$B$30),\"\")","v":""},null,null,"Delete"]
[null,null,null,null,null,null,null,null,null,{"$f":"IFERROR(_xlfn.IFS(OR(F24=\"\",G24=\"\"),\"\",AND(F24<Onglet_mapping_parameters!$J$16,G24<Onglet_mapping_parameters!$J$16),Onglet_mapping_parameters!$J$18,AND(F24<Onglet_mapping_parameters!$J$16,G24>=Onglet_mapping_parameters!$J$16),Onglet_mapping_parameters!$J$20,AND(F24>=Onglet_mapping_parameters!$J$16,G24<Onglet_mapping_parameters!$J$16),Onglet_mapping_parameters!$J$21,AND(F24>=Onglet_mapping_parameters!$J$16,G24>=Onglet_mapping_parameters!$J$16),Onglet_mapping_parameters!$J$22),\"\")","v":""},null,{"$f":"IFERROR(_xlfn.IFS(Tableau1[[#This Row],[Category]]=Onglet_mapping_parameters!$C$27,Onglet_mapping_parameters!$B$27,Tableau1[[#This Row],[Category]]=Onglet_mapping_parameters!$C$28,Onglet_mapping_parameters!$B$28,Tableau1[[#This Row],[Category]]=Onglet_mapping_parameters!$C$29,Onglet_mapping_parameters!$B$29,Tableau1[[#This Row],[Category]]=Onglet_mapping_parameters!$C$30,Onglet_mapping_parameters!$B$30),\"\")","v":""},null,null,"Delete"]
[null,null,null,null,null,null,null,null,null,{"$f":"IFERROR(_xlfn.IFS(OR(F25=\"\",G25=\"\"),\"\",AND(F25<Onglet_mapping_parameters!$J$16,G25<Onglet_mapping_parameters!$J$16),Onglet_mapping_parameters!$J$18,AND(F25<Onglet_mapping_parameters!$J$16,G25>=Onglet_mapping_parameters!$J$16),Onglet_mapping_parameters!$J$20,AND(F25>=Onglet_mapping_parameters!$J$16,G25<Onglet_mapping_parameters!$J$16),Onglet_mapping_parameters!$J$21,AND(F25>=Onglet_mapping_parameters!$J$16,G25>=Onglet_mapping_parameters!$J$16),Onglet_mapping_parameters!$J$22),\"\")","v":""},null,{"$f":"IFERROR(_xlfn.IFS(Tableau1[[#This Row],[Category]]=Onglet_mapping_parameters!$C$27,Onglet_mapping_parameters!$B$27,Tableau1[[#This Row],[Category]]=Onglet_mapping_parameters!$C$28,Onglet_mapping_parameters!$B$28,Tableau1[[#This Row],[Category]]=Onglet_mapping_parameters!$C$29,Onglet_mapping_parameters!$B$29,Tableau1[[#This Row],[Category]]=Onglet_mapping_parameters!$C$30,Onglet_mapping_parameters!$B$30),\"\")","v":""},null,null,"Delete"]
[null,null,null,null,null,null,null,null,null,{"$f":"IFERROR(_xlfn.IFS(OR(F26=\"\",G26=\"\"),\"\",AND(F26<Onglet_mapping_parameters!$J$16,G26<Onglet_mapping_parameters!$J$16),Onglet_mapping_parameters!$J$18,AND(F26<Onglet_mapping_parameters!$J$16,G26>=Onglet_mapping_parameters!$J$16),Onglet_mapping_parameters!$J$20,AND(F26>=Onglet_mapping_parameters!$J$16,G26<Onglet_mapping_parameters!$J$16),Onglet_mapping_parameters!$J$21,AND(F26>=Onglet_mapping_parameters!$J$16,G26>=Onglet_mapping_parameters!$J$16),Onglet_mapping_parameters!$J$22),\"\")","v":""},null,{"$f":"IFERROR(_xlfn.IFS(Tableau1[[#This Row],[Category]]=Onglet_mapping_parameters!$C$27,Onglet_mapping_parameters!$B$27,Tableau1[[#This Row],[Category]]=Onglet_mapping_parameters!$C$28,Onglet_mapping_parameters!$B$28,Tableau1[[#This Row],[Category]]=Onglet_mapping_parameters!$C$29,Onglet_mapping_parameters!$B$29,Tableau1[[#This Row],[Category]]=Onglet_mapping_parameters!$C$30,Onglet_mapping_parameters!$B$30),\"\")","v":""},null,null,"Delete"]
[null,null,null,null,null,null,null,null,null,{"$f":"IFERROR(_xlfn.IFS(OR(F27=\"\",G27=\"\"),\"\",AND(F27<Onglet_mapping_parameters!$J$16,G27<Onglet_mapping_parameters!$J$16),Onglet_mapping_parameters!$J$18,AND(F27<Onglet_mapping_parameters!$J$16,G27>=Onglet_mapping_parameters!$J$16),Onglet_mapping_parameters!$J$20,AND(F27>=Onglet_mapping_parameters!$J$16,G27<Onglet_mapping_parameters!$J$16),Onglet_mapping_parameters!$J$21,AND(F27>=Onglet_mapping_parameters!$J$16,G27>=Onglet_mapping_parameters!$J$16),Onglet_mapping_parameters!$J$22),\"\")","v":""},null,{"$f":"IFERROR(_xlfn.IFS(Tableau1[[#This Row],[Category]]=Onglet_mapping_parameters!$C$27,Onglet_mapping_parameters!$B$27,Tableau1[[#This Row],[Category]]=Onglet_mapping_parameters!$C$28,Onglet_mapping_parameters!$B$28,Tableau1[[#This Row],[Category]]=Onglet_mapping_parameters!$C$29,Onglet_mapping_parameters!$B$29,Tableau1[[#This Row],[Category]]=Onglet_mapping_parameters!$C$30,Onglet_mapping_parameters!$B$30),\"\")","v":""},null,null,"Delete"]
[null,null,null,null,null,null,null,null,null,{"$f":"IFERROR(_xlfn.IFS(OR(F28=\"\",G28=\"\"),\"\",AND(F28<Onglet_mapping_parameters!$J$16,G28<Onglet_mapping_parameters!$J$16),Onglet_mapping_parameters!$J$18,AND(F28<Onglet_mapping_parameters!$J$16,G28>=Onglet_mapping_parameters!$J$16),Onglet_mapping_parameters!$J$20,AND(F28>=Onglet_mapping_parameters!$J$16,G28<Onglet_mapping_parameters!$J$16),Onglet_mapping_parameters!$J$21,AND(F28>=Onglet_mapping_parameters!$J$16,G28>=Onglet_mapping_parameters!$J$16),Onglet_mapping_parameters!$J$22),\"\")","v":""},null,{"$f":"IFERROR(_xlfn.IFS(Tableau1[[#This Row],[Category]]=Onglet_mapping_parameters!$C$27,Onglet_mapping_parameters!$B$27,Tableau1[[#This Row],[Category]]=Onglet_mapping_parameters!$C$28,Onglet_mapping_parameters!$B$28,Tableau1[[#This Row],[Category]]=Onglet_mapping_parameters!$C$29,Onglet_mapping_parameters!$B$29,Tableau1[[#This Row],[Category]]=Onglet_mapping_parameters!$C$30,Onglet_mapping_parameters!$B$30),\"\")","v":""},null,null,"Delete"]
[null,null,null,null,null,null,null,null,null,{"$f":"IFERROR(_xlfn.IFS(OR(F29=\"\",G29=\"\"),\"\",AND(F29<Onglet_mapping_parameters!$J$16,G29<Onglet_mapping_parameters!$J$16),Onglet_mapping_parameters!$J$18,AND(F29<Onglet_mapping_parameters!$J$16,G29>=Onglet_mapping_parameters!$J$16),Onglet_mapping_parameters!$J$20,AND(F29>=Onglet_mapping_parameters!$J$16,G29<Onglet_mapping_parameters!$J$16),Onglet_mapping_parameters!$J$21,AND(F29>=Onglet_mapping_parameters!$J$16,G29>=Onglet_mapping_parameters!$J$16),Onglet_mapping_parameters!$J$22),\"\")","v":""},null,{"$f":"IFERROR(_xlfn.IFS(Tableau1[[#This Row],[Category]]=Onglet_mapping_parameters!$C$27,Onglet_mapping_parameters!$B$27,Tableau1[[#This Row],[Category]]=Onglet_mapping_parameters!$C$28,Onglet_mapping_parameters!$B$28,Tableau1[[#This Row],[Category]]=Onglet_mapping_parameters!$C$29,Onglet_mapping_parameters!$B$29,Tableau1[[#This Row],[Category]]=Onglet_mapping_parameters!$C$30,Onglet_mapping_parameters!$B$30),\"\")","v":""},null,null,"Delete"]
[null,null,null,null,null,null,null,null,null,{"$f":"IFERROR(_xlfn.IFS(OR(F30=\"\",G30=\"\"),\"\",AND(F30<Onglet_mapping_parameters!$J$16,G30<Onglet_mapping_parameters!$J$16),Onglet_mapping_parameters!$J$18,AND(F30<Onglet_mapping_parameters!$J$16,G30>=Onglet_mapping_parameters!$J$16),Onglet_mapping_parameters!$J$20,AND(F30>=Onglet_mapping_parameters!$J$16,G30<Onglet_mapping_parameters!$J$16),Onglet_mapping_parameters!$J$21,AND(F30>=Onglet_mapping_parameters!$J$16,G30>=Onglet_mapping_parameters!$J$16),Onglet_mapping_parameters!$J$22),\"\")","v":""},null,{"$f":"IFERROR(_xlfn.IFS(Tableau1[[#This Row],[Category]]=Onglet_mapping_parameters!$C$27,Onglet_mapping_parameters!$B$27,Tableau1[[#This Row],[Category]]=Onglet_mapping_parameters!$C$28,Onglet_mapping_parameters!$B$28,Tableau1[[#This Row],[Category]]=Onglet_mapping_parameters!$C$29,Onglet_mapping_parameters!$B$29,Tableau1[[#This Row],[Category]]=Onglet_mapping_parameters!$C$30,Onglet_mapping_parameters!$B$30),\"\")","v":""},null,null,"Delete"]
[null,null,null,null,null,null,null,null,null,{"$f":"IFERROR(_xlfn.IFS(OR(F31=\"\",G31=\"\"),\"\",AND(F31<Onglet_mapping_parameters!$J$16,G31<Onglet_mapping_parameters!$J$16),Onglet_mapping_parameters!$J$18,AND(F31<Onglet_mapping_parameters!$J$16,G31>=Onglet_mapping_parameters!$J$16),Onglet_mapping_parameters!$J$20,AND(F31>=Onglet_mapping_parameters!$J$16,G31<Onglet_mapping_parameters!$J$16),Onglet_mapping_parameters!$J$21,AND(F31>=Onglet_mapping_parameters!$J$16,G31>=Onglet_mapping_parameters!$J$16),Onglet_mapping_parameters!$J$22),\"\")","v":""},null,{"$f":"IFERROR(_xlfn.IFS(Tableau1[[#This Row],[Category]]=Onglet_mapping_parameters!$C$27,Onglet_mapping_parameters!$B$27,Tableau1[[#This Row],[Category]]=Onglet_mapping_parameters!$C$28,Onglet_mapping_parameters!$B$28,Tableau1[[#This Row],[Category]]=Onglet_mapping_parameters!$C$29,Onglet_mapping_parameters!$B$29,Tableau1[[#This Row],[Category]]=Onglet_mapping_parameters!$C$30,Onglet_mapping_parameters!$B$30),\"\")","v":""},null,null,"Delete"]
[null,null,null,null,null,null,null,null,null,{"$f":"IFERROR(_xlfn.IFS(OR(F32=\"\",G32=\"\"),\"\",AND(F32<Onglet_mapping_parameters!$J$16,G32<Onglet_mapping_parameters!$J$16),Onglet_mapping_parameters!$J$18,AND(F32<Onglet_mapping_parameters!$J$16,G32>=Onglet_mapping_parameters!$J$16),Onglet_mapping_parameters!$J$20,AND(F32>=Onglet_mapping_parameters!$J$16,G32<Onglet_mapping_parameters!$J$16),Onglet_mapping_parameters!$J$21,AND(F32>=Onglet_mapping_parameters!$J$16,G32>=Onglet_mapping_parameters!$J$16),Onglet_mapping_parameters!$J$22),\"\")","v":""},null,{"$f":"IFERROR(_xlfn.IFS(Tableau1[[#This Row],[Category]]=Onglet_mapping_parameters!$C$27,Onglet_mapping_parameters!$B$27,Tableau1[[#This Row],[Category]]=Onglet_mapping_parameters!$C$28,Onglet_mapping_parameters!$B$28,Tableau1[[#This Row],[Category]]=Onglet_mapping_parameters!$C$29,Onglet_mapping_parameters!$B$29,Tableau1[[#This Row],[Category]]=Onglet_mapping_parameters!$C$30,Onglet_mapping_parameters!$B$30),\"\")","v":""},null,null,"Delete"]
[null,null,null,null,null,null,null,null,null,{"$f":"IFERROR(_xlfn.IFS(OR(F33=\"\",G33=\"\"),\"\",AND(F33<Onglet_mapping_parameters!$J$16,G33<Onglet_mapping_parameters!$J$16),Onglet_mapping_parameters!$J$18,AND(F33<Onglet_mapping_parameters!$J$16,G33>=Onglet_mapping_parameters!$J$16),Onglet_mapping_parameters!$J$20,AND(F33>=Onglet_mapping_parameters!$J$16,G33<Onglet_mapping_parameters!$J$16),Onglet_mapping_parameters!$J$21,AND(F33>=Onglet_mapping_parameters!$J$16,G33>=Onglet_mapping_parameters!$J$16),Onglet_mapping_parameters!$J$22),\"\")","v":""},null,{"$f":"IFERROR(_xlfn.IFS(Tableau1[[#This Row],[Category]]=Onglet_mapping_parameters!$C$27,Onglet_mapping_parameters!$B$27,Tableau1[[#This Row],[Category]]=Onglet_mapping_parameters!$C$28,Onglet_mapping_parameters!$B$28,Tableau1[[#This Row],[Category]]=Onglet_mapping_parameters!$C$29,Onglet_mapping_parameters!$B$29,Tableau1[[#This Row],[Category]]=Onglet_mapping_parameters!$C$30,Onglet_mapping_parameters!$B$30),\"\")","v":""},null,null,"Delete"]
[null,null,null,null,null,null,null,null,null,{"$f":"IFERROR(_xlfn.IFS(OR(F34=\"\",G34=\"\"),\"\",AND(F34<Onglet_mapping_parameters!$J$16,G34<Onglet_mapping_parameters!$J$16),Onglet_mapping_parameters!$J$18,AND(F34<Onglet_mapping_parameters!$J$16,G34>=Onglet_mapping_parameters!$J$16),Onglet_mapping_parameters!$J$20,AND(F34>=Onglet_mapping_parameters!$J$16,G34<Onglet_mapping_parameters!$J$16),Onglet_mapping_parameters!$J$21,AND(F34>=Onglet_mapping_parameters!$J$16,G34>=Onglet_mapping_parameters!$J$16),Onglet_mapping_parameters!$J$22),\"\")","v":""},null,{"$f":"IFERROR(_xlfn.IFS(Tableau1[[#This Row],[Category]]=Onglet_mapping_parameters!$C$27,Onglet_mapping_parameters!$B$27,Tableau1[[#This Row],[Category]]=Onglet_mapping_parameters!$C$28,Onglet_mapping_parameters!$B$28,Tableau1[[#This Row],[Category]]=Onglet_mapping_parameters!$C$29,Onglet_mapping_parameters!$B$29,Tableau1[[#This Row],[Category]]=Onglet_mapping_parameters!$C$30,Onglet_mapping_parameters!$B$30),\"\")","v":""},null,null,"Delete"]
[null,null,null,null,null,null,null,null,null,{"$f":"IFERROR(_xlfn.IFS(OR(F35=\"\",G35=\"\"),\"\",AND(F35<Onglet_mapping_parameters!$J$16,G35<Onglet_mapping_parameters!$J$16),Onglet_mapping_parameters!$J$18,AND(F35<Onglet_mapping_parameters!$J$16,G35>=Onglet_mapping_parameters!$J$16),Onglet_mapping_parameters!$J$20,AND(F35>=Onglet_mapping_parameters!$J$16,G35<Onglet_mapping_parameters!$J$16),Onglet_mapping_parameters!$J$21,AND(F35>=Onglet_mapping_parameters!$J$16,G35>=Onglet_mapping_parameters!$J$16),Onglet_mapping_parameters!$J$22),\"\")","v":""},null,{"$f":"IFERROR(_xlfn.IFS(Tableau1[[#This Row],[Category]]=Onglet_mapping_parameters!$C$27,Onglet_mapping_parameters!$B$27,Tableau1[[#This Row],[Category]]=Onglet_mapping_parameters!$C$28,Onglet_mapping_parameters!$B$28,Tableau1[[#This Row],[Category]]=Onglet_mapping_parameters!$C$29,Onglet_mapping_parameters!$B$29,Tableau1[[#This Row],[Category]]=Onglet_mapping_parameters!$C$30,Onglet_mapping_parameters!$B$30),\"\")","v":""},null,null,"Delete"]
[null,null,null,null,null,null,null,null,null,{"$f":"IFERROR(_xlfn.IFS(OR(F36=\"\",G36=\"\"),\"\",AND(F36<Onglet_mapping_parameters!$J$16,G36<Onglet_mapping_parameters!$J$16),Onglet_mapping_parameters!$J$18,AND(F36<Onglet_mapping_parameters!$J$16,G36>=Onglet_mapping_parameters!$J$16),Onglet_mapping_parameters!$J$20,AND(F36>=Onglet_mapping_parameters!$J$16,G36<Onglet_mapping_parameters!$J$16),Onglet_mapping_parameters!$J$21,AND(F36>=Onglet_mapping_parameters!$J$16,G36>=Onglet_mapping_parameters!$J$16),Onglet_mapping_parameters!$J$22),\"\")","v":""},null,{"$f":"IFERROR(_xlfn.IFS(Tableau1[[#This Row],[Category]]=Onglet_mapping_parameters!$C$27,Onglet_mapping_parameters!$B$27,Tableau1[[#This Row],[Category]]=Onglet_mapping_parameters!$C$28,Onglet_mapping_parameters!$B$28,Tableau1[[#This Row],[Category]]=Onglet_mapping_parameters!$C$29,Onglet_mapping_parameters!$B$29,Tableau1[[#This Row],[Category]]=Onglet_mapping_parameters!$C$30,Onglet_mapping_parameters!$B$30),\"\")","v":""},null,null,"Delete"]
[null,null,null,null,null,null,null,null,null,{"$f":"IFERROR(_xlfn.IFS(OR(F37=\"\",G37=\"\"),\"\",AND(F37<Onglet_mapping_parameters!$J$16,G37<Onglet_mapping_parameters!$J$16),Onglet_mapping_parameters!$J$18,AND(F37<Onglet_mapping_parameters!$J$16,G37>=Onglet_mapping_parameters!$J$16),Onglet_mapping_parameters!$J$20,AND(F37>=Onglet_mapping_parameters!$J$16,G37<Onglet_mapping_parameters!$J$16),Onglet_mapping_parameters!$J$21,AND(F37>=Onglet_mapping_parameters!$J$16,G37>=Onglet_mapping_parameters!$J$16),Onglet_mapping_parameters!$J$22),\"\")","v":""},null,{"$f":"IFERROR(_xlfn.IFS(Tableau1[[#This Row],[Category]]=Onglet_mapping_parameters!$C$27,Onglet_mapping_parameters!$B$27,Tableau1[[#This Row],[Category]]=Onglet_mapping_parameters!$C$28,Onglet_mapping_parameters!$B$28,Tableau1[[#This Row],[Category]]=Onglet_mapping_parameters!$C$29,Onglet_mapping_parameters!$B$29,Tableau1[[#This Row],[Category]]=Onglet_mapping_parameters!$C$30,Onglet_mapping_parameters!$B$30),\"\")","v":""},null,null,"Delete"]
[null,null,null,null,null,null,null,null,null,{"$f":"IFERROR(_xlfn.IFS(OR(F38=\"\",G38=\"\"),\"\",AND(F38<Onglet_mapping_parameters!$J$16,G38<Onglet_mapping_parameters!$J$16),Onglet_mapping_parameters!$J$18,AND(F38<Onglet_mapping_parameters!$J$16,G38>=Onglet_mapping_parameters!$J$16),Onglet_mapping_parameters!$J$20,AND(F38>=Onglet_mapping_parameters!$J$16,G38<Onglet_mapping_parameters!$J$16),Onglet_mapping_parameters!$J$21,AND(F38>=Onglet_mapping_parameters!$J$16,G38>=Onglet_mapping_parameters!$J$16),Onglet_mapping_parameters!$J$22),\"\")","v":""},null,{"$f":"IFERROR(_xlfn.IFS(Tableau1[[#This Row],[Category]]=Onglet_mapping_parameters!$C$27,Onglet_mapping_parameters!$B$27,Tableau1[[#This Row],[Category]]=Onglet_mapping_parameters!$C$28,Onglet_mapping_parameters!$B$28,Tableau1[[#This Row],[Category]]=Onglet_mapping_parameters!$C$29,Onglet_mapping_parameters!$B$29,Tableau1[[#This Row],[Category]]=Onglet_mapping_parameters!$C$30,Onglet_mapping_parameters!$B$30),\"\")","v":""},null,null,"Delete"]
[null,null,null,null,null,null,null,null,null,{"$f":"IFERROR(_xlfn.IFS(OR(F39=\"\",G39=\"\"),\"\",AND(F39<Onglet_mapping_parameters!$J$16,G39<Onglet_mapping_parameters!$J$16),Onglet_mapping_parameters!$J$18,AND(F39<Onglet_mapping_parameters!$J$16,G39>=Onglet_mapping_parameters!$J$16),Onglet_mapping_parameters!$J$20,AND(F39>=Onglet_mapping_parameters!$J$16,G39<Onglet_mapping_parameters!$J$16),Onglet_mapping_parameters!$J$21,AND(F39>=Onglet_mapping_parameters!$J$16,G39>=Onglet_mapping_parameters!$J$16),Onglet_mapping_parameters!$J$22),\"\")","v":""},null,{"$f":"IFERROR(_xlfn.IFS(Tableau1[[#This Row],[Category]]=Onglet_mapping_parameters!$C$27,Onglet_mapping_parameters!$B$27,Tableau1[[#This Row],[Category]]=Onglet_mapping_parameters!$C$28,Onglet_mapping_parameters!$B$28,Tableau1[[#This Row],[Category]]=Onglet_mapping_parameters!$C$29,Onglet_mapping_parameters!$B$29,Tableau1[[#This Row],[Category]]=Onglet_mapping_parameters!$C$30,Onglet_mapping_parameters!$B$30),\"\")","v":""},null,null,"Delete"]
[null,null,null,null,null,null,null,null,null,{"$f":"IFERROR(_xlfn.IFS(OR(F40=\"\",G40=\"\"),\"\",AND(F40<Onglet_mapping_parameters!$J$16,G40<Onglet_mapping_parameters!$J$16),Onglet_mapping_parameters!$J$18,AND(F40<Onglet_mapping_parameters!$J$16,G40>=Onglet_mapping_parameters!$J$16),Onglet_mapping_parameters!$J$20,AND(F40>=Onglet_mapping_parameters!$J$16,G40<Onglet_mapping_parameters!$J$16),Onglet_mapping_parameters!$J$21,AND(F40>=Onglet_mapping_parameters!$J$16,G40>=Onglet_mapping_parameters!$J$16),Onglet_mapping_parameters!$J$22),\"\")","v":""},null,{"$f":"IFERROR(_xlfn.IFS(Tableau1[[#This Row],[Category]]=Onglet_mapping_parameters!$C$27,Onglet_mapping_parameters!$B$27,Tableau1[[#This Row],[Category]]=Onglet_mapping_parameters!$C$28,Onglet_mapping_parameters!$B$28,Tableau1[[#This Row],[Category]]=Onglet_mapping_parameters!$C$29,Onglet_mapping_parameters!$B$29,Tableau1[[#This Row],[Category]]=Onglet_mapping_parameters!$C$30,Onglet_mapping_parameters!$B$30),\"\")","v":""},null,null,"Delete"]
[null,null,null,null,null,null,null,null,null,{"$f":"IFERROR(_xlfn.IFS(OR(F41=\"\",G41=\"\"),\"\",AND(F41<Onglet_mapping_parameters!$J$16,G41<Onglet_mapping_parameters!$J$16),Onglet_mapping_parameters!$J$18,AND(F41<Onglet_mapping_parameters!$J$16,G41>=Onglet_mapping_parameters!$J$16),Onglet_mapping_parameters!$J$20,AND(F41>=Onglet_mapping_parameters!$J$16,G41<Onglet_mapping_parameters!$J$16),Onglet_mapping_parameters!$J$21,AND(F41>=Onglet_mapping_parameters!$J$16,G41>=Onglet_mapping_parameters!$J$16),Onglet_mapping_parameters!$J$22),\"\")","v":""},null,{"$f":"IFERROR(_xlfn.IFS(Tableau1[[#This Row],[Category]]=Onglet_mapping_parameters!$C$27,Onglet_mapping_parameters!$B$27,Tableau1[[#This Row],[Category]]=Onglet_mapping_parameters!$C$28,Onglet_mapping_parameters!$B$28,Tableau1[[#This Row],[Category]]=Onglet_mapping_parameters!$C$29,Onglet_mapping_parameters!$B$29,Tableau1[[#This Row],[Category]]=Onglet_mapping_parameters!$C$30,Onglet_mapping_parameters!$B$30),\"\")","v":""},null,null,"Delete"]
[null,null,null,null,null,null,null,null,null,{"$f":"IFERROR(_xlfn.IFS(OR(F42=\"\",G42=\"\"),\"\",AND(F42<Onglet_mapping_parameters!$J$16,G42<Onglet_mapping_parameters!$J$16),Onglet_mapping_parameters!$J$18,AND(F42<Onglet_mapping_parameters!$J$16,G42>=Onglet_mapping_parameters!$J$16),Onglet_mapping_parameters!$J$20,AND(F42>=Onglet_mapping_parameters!$J$16,G42<Onglet_mapping_parameters!$J$16),Onglet_mapping_parameters!$J$21,AND(F42>=Onglet_mapping_parameters!$J$16,G42>=Onglet_mapping_parameters!$J$16),Onglet_mapping_parameters!$J$22),\"\")","v":""},null,{"$f":"IFERROR(_xlfn.IFS(Tableau1[[#This Row],[Category]]=Onglet_mapping_parameters!$C$27,Onglet_mapping_parameters!$B$27,Tableau1[[#This Row],[Category]]=Onglet_mapping_parameters!$C$28,Onglet_mapping_parameters!$B$28,Tableau1[[#This Row],[Category]]=Onglet_mapping_parameters!$C$29,Onglet_mapping_parameters!$B$29,Tableau1[[#This Row],[Category]]=Onglet_mapping_parameters!$C$30,Onglet_mapping_parameters!$B$30),\"\")","v":""},null,null,"Delete"]
[null,null,null,null,null,null,null,null,null,{"$f":"IFERROR(_xlfn.IFS(OR(F43=\"\",G43=\"\"),\"\",AND(F43<Onglet_mapping_parameters!$J$16,G43<Onglet_mapping_parameters!$J$16),Onglet_mapping_parameters!$J$18,AND(F43<Onglet_mapping_parameters!$J$16,G43>=Onglet_mapping_parameters!$J$16),Onglet_mapping_parameters!$J$20,AND(F43>=Onglet_mapping_parameters!$J$16,G43<Onglet_mapping_parameters!$J$16),Onglet_mapping_parameters!$J$21,AND(F43>=Onglet_mapping_parameters!$J$16,G43>=Onglet_mapping_parameters!$J$16),Onglet_mapping_parameters!$J$22),\"\")","v":""},null,{"$f":"IFERROR(_xlfn.IFS(Tableau1[[#This Row],[Category]]=Onglet_mapping_parameters!$C$27,Onglet_mapping_parameters!$B$27,Tableau1[[#This Row],[Category]]=Onglet_mapping_parameters!$C$28,Onglet_mapping_parameters!$B$28,Tableau1[[#This Row],[Category]]=Onglet_mapping_parameters!$C$29,Onglet_mapping_parameters!$B$29,Tableau1[[#This Row],[Category]]=Onglet_mapping_parameters!$C$30,Onglet_mapping_parameters!$B$30),\"\")","v":""},null,null,"Delete"]
[null,null,null,null,null,null,null,null,null,{"$f":"IFERROR(_xlfn.IFS(OR(F44=\"\",G44=\"\"),\"\",AND(F44<Onglet_mapping_parameters!$J$16,G44<Onglet_mapping_parameters!$J$16),Onglet_mapping_parameters!$J$18,AND(F44<Onglet_mapping_parameters!$J$16,G44>=Onglet_mapping_parameters!$J$16),Onglet_mapping_parameters!$J$20,AND(F44>=Onglet_mapping_parameters!$J$16,G44<Onglet_mapping_parameters!$J$16),Onglet_mapping_parameters!$J$21,AND(F44>=Onglet_mapping_parameters!$J$16,G44>=Onglet_mapping_parameters!$J$16),Onglet_mapping_parameters!$J$22),\"\")","v":""},null,{"$f":"IFERROR(_xlfn.IFS(Tableau1[[#This Row],[Category]]=Onglet_mapping_parameters!$C$27,Onglet_mapping_parameters!$B$27,Tableau1[[#This Row],[Category]]=Onglet_mapping_parameters!$C$28,Onglet_mapping_parameters!$B$28,Tableau1[[#This Row],[Category]]=Onglet_mapping_parameters!$C$29,Onglet_mapping_parameters!$B$29,Tableau1[[#This Row],[Category]]=Onglet_mapping_parameters!$C$30,Onglet_mapping_parameters!$B$30),\"\")","v":""},null,null,"Delete"]
[null,null,null,null,null,null,null,null,null,{"$f":"IFERROR(_xlfn.IFS(OR(F45=\"\",G45=\"\"),\"\",AND(F45<Onglet_mapping_parameters!$J$16,G45<Onglet_mapping_parameters!$J$16),Onglet_mapping_parameters!$J$18,AND(F45<Onglet_mapping_parameters!$J$16,G45>=Onglet_mapping_parameters!$J$16),Onglet_mapping_parameters!$J$20,AND(F45>=Onglet_mapping_parameters!$J$16,G45<Onglet_mapping_parameters!$J$16),Onglet_mapping_parameters!$J$21,AND(F45>=Onglet_mapping_parameters!$J$16,G45>=Onglet_mapping_parameters!$J$16),Onglet_mapping_parameters!$J$22),\"\")","v":""},null,{"$f":"IFERROR(_xlfn.IFS(Tableau1[[#This Row],[Category]]=Onglet_mapping_parameters!$C$27,Onglet_mapping_parameters!$B$27,Tableau1[[#This Row],[Category]]=Onglet_mapping_parameters!$C$28,Onglet_mapping_parameters!$B$28,Tableau1[[#This Row],[Category]]=Onglet_mapping_parameters!$C$29,Onglet_mapping_parameters!$B$29,Tableau1[[#This Row],[Category]]=Onglet_mapping_parameters!$C$30,Onglet_mapping_parameters!$B$30),\"\")","v":""},null,null,"Delete"]
[null,null,null,null,null,null,null,null,null,{"$f":"IFERROR(_xlfn.IFS(OR(F46=\"\",G46=\"\"),\"\",AND(F46<Onglet_mapping_parameters!$J$16,G46<Onglet_mapping_parameters!$J$16),Onglet_mapping_parameters!$J$18,AND(F46<Onglet_mapping_parameters!$J$16,G46>=Onglet_mapping_parameters!$J$16),Onglet_mapping_parameters!$J$20,AND(F46>=Onglet_mapping_parameters!$J$16,G46<Onglet_mapping_parameters!$J$16),Onglet_mapping_parameters!$J$21,AND(F46>=Onglet_mapping_parameters!$J$16,G46>=Onglet_mapping_parameters!$J$16),Onglet_mapping_parameters!$J$22),\"\")","v":""},null,{"$f":"IFERROR(_xlfn.IFS(Tableau1[[#This Row],[Category]]=Onglet_mapping_parameters!$C$27,Onglet_mapping_parameters!$B$27,Tableau1[[#This Row],[Category]]=Onglet_mapping_parameters!$C$28,Onglet_mapping_parameters!$B$28,Tableau1[[#This Row],[Category]]=Onglet_mapping_parameters!$C$29,Onglet_mapping_parameters!$B$29,Tableau1[[#This Row],[Category]]=Onglet_mapping_parameters!$C$30,Onglet_mapping_parameters!$B$30),\"\")","v":""},null,null,"Delete"]
[null,null,null,null,null,null,null,null,null,{"$f":"IFERROR(_xlfn.IFS(OR(F47=\"\",G47=\"\"),\"\",AND(F47<Onglet_mapping_parameters!$J$16,G47<Onglet_mapping_parameters!$J$16),Onglet_mapping_parameters!$J$18,AND(F47<Onglet_mapping_parameters!$J$16,G47>=Onglet_mapping_parameters!$J$16),Onglet_mapping_parameters!$J$20,AND(F47>=Onglet_mapping_parameters!$J$16,G47<Onglet_mapping_parameters!$J$16),Onglet_mapping_parameters!$J$21,AND(F47>=Onglet_mapping_parameters!$J$16,G47>=Onglet_mapping_parameters!$J$16),Onglet_mapping_parameters!$J$22),\"\")","v":""},null,{"$f":"IFERROR(_xlfn.IFS(Tableau1[[#This Row],[Category]]=Onglet_mapping_parameters!$C$27,Onglet_mapping_parameters!$B$27,Tableau1[[#This Row],[Category]]=Onglet_mapping_parameters!$C$28,Onglet_mapping_parameters!$B$28,Tableau1[[#This Row],[Category]]=Onglet_mapping_parameters!$C$29,Onglet_mapping_parameters!$B$29,Tableau1[[#This Row],[Category]]=Onglet_mapping_parameters!$C$30,Onglet_mapping_parameters!$B$30),\"\")","v":""},null,null,"Delete"]
[null,null,null,null,null,null,null,null,null,{"$f":"IFERROR(_xlfn.IFS(OR(F48=\"\",G48=\"\"),\"\",AND(F48<Onglet_mapping_parameters!$J$16,G48<Onglet_mapping_parameters!$J$16),Onglet_mapping_parameters!$J$18,AND(F48<Onglet_mapping_parameters!$J$16,G48>=Onglet_mapping_parameters!$J$16),Onglet_mapping_parameters!$J$20,AND(F48>=Onglet_mapping_parameters!$J$16,G48<Onglet_mapping_parameters!$J$16),Onglet_mapping_parameters!$J$21,AND(F48>=Onglet_mapping_parameters!$J$16,G48>=Onglet_mapping_parameters!$J$16),Onglet_mapping_parameters!$J$22),\"\")","v":""},null,{"$f":"IFERROR(_xlfn.IFS(Tableau1[[#This Row],[Category]]=Onglet_mapping_parameters!$C$27,Onglet_mapping_parameters!$B$27,Tableau1[[#This Row],[Category]]=Onglet_mapping_parameters!$C$28,Onglet_mapping_parameters!$B$28,Tableau1[[#This Row],[Category]]=Onglet_mapping_parameters!$C$29,Onglet_mapping_parameters!$B$29,Tableau1[[#This Row],[Category]]=Onglet_mapping_parameters!$C$30,Onglet_mapping_parameters!$B$30),\"\")","v":""},null,null,"Delete"]
[null,null,null,null,null,null,null,null,null,{"$f":"IFERROR(_xlfn.IFS(OR(F49=\"\",G49=\"\"),\"\",AND(F49<Onglet_mapping_parameters!$J$16,G49<Onglet_mapping_parameters!$J$16),Onglet_mapping_parameters!$J$18,AND(F49<Onglet_mapping_parameters!$J$16,G49>=Onglet_mapping_parameters!$J$16),Onglet_mapping_parameters!$J$20,AND(F49>=Onglet_mapping_parameters!$J$16,G49<Onglet_mapping_parameters!$J$16),Onglet_mapping_parameters!$J$21,AND(F49>=Onglet_mapping_parameters!$J$16,G49>=Onglet_mapping_parameters!$J$16),Onglet_mapping_parameters!$J$22),\"\")","v":""},null,{"$f":"IFERROR(_xlfn.IFS(Tableau1[[#This Row],[Category]]=Onglet_mapping_parameters!$C$27,Onglet_mapping_parameters!$B$27,Tableau1[[#This Row],[Category]]=Onglet_mapping_parameters!$C$28,Onglet_mapping_parameters!$B$28,Tableau1[[#This Row],[Category]]=Onglet_mapping_parameters!$C$29,Onglet_mapping_parameters!$B$29,Tableau1[[#This Row],[Category]]=Onglet_mapping_parameters!$C$30,Onglet_mapping_parameters!$B$30),\"\")","v":""},null,null,"Delete"]
[null,null,null,null,null,null,null,null,null,{"$f":"IFERROR(_xlfn.IFS(OR(F50=\"\",G50=\"\"),\"\",AND(F50<Onglet_mapping_parameters!$J$16,G50<Onglet_mapping_parameters!$J$16),Onglet_mapping_parameters!$J$18,AND(F50<Onglet_mapping_parameters!$J$16,G50>=Onglet_mapping_parameters!$J$16),Onglet_mapping_parameters!$J$20,AND(F50>=Onglet_mapping_parameters!$J$16,G50<Onglet_mapping_parameters!$J$16),Onglet_mapping_parameters!$J$21,AND(F50>=Onglet_mapping_parameters!$J$16,G50>=Onglet_mapping_parameters!$J$16),Onglet_mapping_parameters!$J$22),\"\")","v":""},null,{"$f":"IFERROR(_xlfn.IFS(Tableau1[[#This Row],[Category]]=Onglet_mapping_parameters!$C$27,Onglet_mapping_parameters!$B$27,Tableau1[[#This Row],[Category]]=Onglet_mapping_parameters!$C$28,Onglet_mapping_parameters!$B$28,Tableau1[[#This Row],[Category]]=Onglet_mapping_parameters!$C$29,Onglet_mapping_parameters!$B$29,Tableau1[[#This Row],[Category]]=Onglet_mapping_parameters!$C$30,Onglet_mapping_parameters!$B$30),\"\")","v":""},null,null,"Delete"]
[null,null,null,null,null,null,null,null,null,{"$f":"IFERROR(_xlfn.IFS(OR(F51=\"\",G51=\"\"),\"\",AND(F51<Onglet_mapping_parameters!$J$16,G51<Onglet_mapping_parameters!$J$16),Onglet_mapping_parameters!$J$18,AND(F51<Onglet_mapping_parameters!$J$16,G51>=Onglet_mapping_parameters!$J$16),Onglet_mapping_parameters!$J$20,AND(F51>=Onglet_mapping_parameters!$J$16,G51<Onglet_mapping_parameters!$J$16),Onglet_mapping_parameters!$J$21,AND(F51>=Onglet_mapping_parameters!$J$16,G51>=Onglet_mapping_parameters!$J$16),Onglet_mapping_parameters!$J$22),\"\")","v":""},null,{"$f":"IFERROR(_xlfn.IFS(Tableau1[[#This Row],[Category]]=Onglet_mapping_parameters!$C$27,Onglet_mapping_parameters!$B$27,Tableau1[[#This Row],[Category]]=Onglet_mapping_parameters!$C$28,Onglet_mapping_parameters!$B$28,Tableau1[[#This Row],[Category]]=Onglet_mapping_parameters!$C$29,Onglet_mapping_parameters!$B$29,Tableau1[[#This Row],[Category]]=Onglet_mapping_parameters!$C$30,Onglet_mapping_parameters!$B$30),\"\")","v":""},null,null,"Delete"]
[null,null,null,null,null,null,null,null,null,{"$f":"IFERROR(_xlfn.IFS(OR(F52=\"\",G52=\"\"),\"\",AND(F52<Onglet_mapping_parameters!$J$16,G52<Onglet_mapping_parameters!$J$16),Onglet_mapping_parameters!$J$18,AND(F52<Onglet_mapping_parameters!$J$16,G52>=Onglet_mapping_parameters!$J$16),Onglet_mapping_parameters!$J$20,AND(F52>=Onglet_mapping_parameters!$J$16,G52<Onglet_mapping_parameters!$J$16),Onglet_mapping_parameters!$J$21,AND(F52>=Onglet_mapping_parameters!$J$16,G52>=Onglet_mapping_parameters!$J$16),Onglet_mapping_parameters!$J$22),\"\")","v":""},null,{"$f":"IFERROR(_xlfn.IFS(Tableau1[[#This Row],[Category]]=Onglet_mapping_parameters!$C$27,Onglet_mapping_parameters!$B$27,Tableau1[[#This Row],[Category]]=Onglet_mapping_parameters!$C$28,Onglet_mapping_parameters!$B$28,Tableau1[[#This Row],[Category]]=Onglet_mapping_parameters!$C$29,Onglet_mapping_parameters!$B$29,Tableau1[[#This Row],[Category]]=Onglet_mapping_parameters!$C$30,Onglet_mapping_parameters!$B$30),\"\")","v":""},null,null,"Delete"]
[null,null,null,null,null,null,null,null,null,{"$f":"IFERROR(_xlfn.IFS(OR(F53=\"\",G53=\"\"),\"\",AND(F53<Onglet_mapping_parameters!$J$16,G53<Onglet_mapping_parameters!$J$16),Onglet_mapping_parameters!$J$18,AND(F53<Onglet_mapping_parameters!$J$16,G53>=Onglet_mapping_parameters!$J$16),Onglet_mapping_parameters!$J$20,AND(F53>=Onglet_mapping_parameters!$J$16,G53<Onglet_mapping_parameters!$J$16),Onglet_mapping_parameters!$J$21,AND(F53>=Onglet_mapping_parameters!$J$16,G53>=Onglet_mapping_parameters!$J$16),Onglet_mapping_parameters!$J$22),\"\")","v":""},null,{"$f":"IFERROR(_xlfn.IFS(Tableau1[[#This Row],[Category]]=Onglet_mapping_parameters!$C$27,Onglet_mapping_parameters!$B$27,Tableau1[[#This Row],[Category]]=Onglet_mapping_parameters!$C$28,Onglet_mapping_parameters!$B$28,Tableau1[[#This Row],[Category]]=Onglet_mapping_parameters!$C$29,Onglet_mapping_parameters!$B$29,Tableau1[[#This Row],[Category]]=Onglet_mapping_parameters!$C$30,Onglet_mapping_parameters!$B$30),\"\")","v":""},null,null,"Delete"]
[null,null,null,null,null,null,null,null,null,{"$f":"IFERROR(_xlfn.IFS(OR(F54=\"\",G54=\"\"),\"\",AND(F54<Onglet_mapping_parameters!$J$16,G54<Onglet_mapping_parameters!$J$16),Onglet_mapping_parameters!$J$18,AND(F54<Onglet_mapping_parameters!$J$16,G54>=Onglet_mapping_parameters!$J$16),Onglet_mapping_parameters!$J$20,AND(F54>=Onglet_mapping_parameters!$J$16,G54<Onglet_mapping_parameters!$J$16),Onglet_mapping_parameters!$J$21,AND(F54>=Onglet_mapping_parameters!$J$16,G54>=Onglet_mapping_parameters!$J$16),Onglet_mapping_parameters!$J$22),\"\")","v":""},null,{"$f":"IFERROR(_xlfn.IFS(Tableau1[[#This Row],[Category]]=Onglet_mapping_parameters!$C$27,Onglet_mapping_parameters!$B$27,Tableau1[[#This Row],[Category]]=Onglet_mapping_parameters!$C$28,Onglet_mapping_parameters!$B$28,Tableau1[[#This Row],[Category]]=Onglet_mapping_parameters!$C$29,Onglet_mapping_parameters!$B$29,Tableau1[[#This Row],[Category]]=Onglet_mapping_parameters!$C$30,Onglet_mapping_parameters!$B$30),\"\")","v":""},null,null,"Delete"]
[null,null,null,null,null,null,null,null,null,{"$f":"IFERROR(_xlfn.IFS(OR(F55=\"\",G55=\"\"),\"\",AND(F55<Onglet_mapping_parameters!$J$16,G55<Onglet_mapping_parameters!$J$16),Onglet_mapping_parameters!$J$18,AND(F55<Onglet_mapping_parameters!$J$16,G55>=Onglet_mapping_parameters!$J$16),Onglet_mapping_parameters!$J$20,AND(F55>=Onglet_mapping_parameters!$J$16,G55<Onglet_mapping_parameters!$J$16),Onglet_mapping_parameters!$J$21,AND(F55>=Onglet_mapping_parameters!$J$16,G55>=Onglet_mapping_parameters!$J$16),Onglet_mapping_parameters!$J$22),\"\")","v":""},null,{"$f":"IFERROR(_xlfn.IFS(Tableau1[[#This Row],[Category]]=Onglet_mapping_parameters!$C$27,Onglet_mapping_parameters!$B$27,Tableau1[[#This Row],[Category]]=Onglet_mapping_parameters!$C$28,Onglet_mapping_parameters!$B$28,Tableau1[[#This Row],[Category]]=Onglet_mapping_parameters!$C$29,Onglet_mapping_parameters!$B$29,Tableau1[[#This Row],[Category]]=Onglet_mapping_parameters!$C$30,Onglet_mapping_parameters!$B$30),\"\")","v":""},null,null,"Delete"]
[null,null,null,null,null,null,null,null,null,{"$f":"IFERROR(_xlfn.IFS(OR(F56=\"\",G56=\"\"),\"\",AND(F56<Onglet_mapping_parameters!$J$16,G56<Onglet_mapping_parameters!$J$16),Onglet_mapping_parameters!$J$18,AND(F56<Onglet_mapping_parameters!$J$16,G56>=Onglet_mapping_parameters!$J$16),Onglet_mapping_parameters!$J$20,AND(F56>=Onglet_mapping_parameters!$J$16,G56<Onglet_mapping_parameters!$J$16),Onglet_mapping_parameters!$J$21,AND(F56>=Onglet_mapping_parameters!$J$16,G56>=Onglet_mapping_parameters!$J$16),Onglet_mapping_parameters!$J$22),\"\")","v":""},null,{"$f":"IFERROR(_xlfn.IFS(Tableau1[[#This Row],[Category]]=Onglet_mapping_parameters!$C$27,Onglet_mapping_parameters!$B$27,Tableau1[[#This Row],[Category]]=Onglet_mapping_parameters!$C$28,Onglet_mapping_parameters!$B$28,Tableau1[[#This Row],[Category]]=Onglet_mapping_parameters!$C$29,Onglet_mapping_parameters!$B$29,Tableau1[[#This Row],[Category]]=Onglet_mapping_parameters!$C$30,Onglet_mapping_parameters!$B$30),\"\")","v":""},null,null,"Delete"]
[null,null,null,null,null,null,null,null,null,{"$f":"IFERROR(_xlfn.IFS(OR(F57=\"\",G57=\"\"),\"\",AND(F57<Onglet_mapping_parameters!$J$16,G57<Onglet_mapping_parameters!$J$16),Onglet_mapping_parameters!$J$18,AND(F57<Onglet_mapping_parameters!$J$16,G57>=Onglet_mapping_parameters!$J$16),Onglet_mapping_parameters!$J$20,AND(F57>=Onglet_mapping_parameters!$J$16,G57<Onglet_mapping_parameters!$J$16),Onglet_mapping_parameters!$J$21,AND(F57>=Onglet_mapping_parameters!$J$16,G57>=Onglet_mapping_parameters!$J$16),Onglet_mapping_parameters!$J$22),\"\")","v":""},null,{"$f":"IFERROR(_xlfn.IFS(Tableau1[[#This Row],[Category]]=Onglet_mapping_parameters!$C$27,Onglet_mapping_parameters!$B$27,Tableau1[[#This Row],[Category]]=Onglet_mapping_parameters!$C$28,Onglet_mapping_parameters!$B$28,Tableau1[[#This Row],[Category]]=Onglet_mapping_parameters!$C$29,Onglet_mapping_parameters!$B$29,Tableau1[[#This Row],[Category]]=Onglet_mapping_parameters!$C$30,Onglet_mapping_parameters!$B$30),\"\")","v":""},null,null,"Delete"]
[null,null,null,null,null,null,null,null,null,{"$f":"IFERROR(_xlfn.IFS(OR(F58=\"\",G58=\"\"),\"\",AND(F58<Onglet_mapping_parameters!$J$16,G58<Onglet_mapping_parameters!$J$16),Onglet_mapping_parameters!$J$18,AND(F58<Onglet_mapping_parameters!$J$16,G58>=Onglet_mapping_parameters!$J$16),Onglet_mapping_parameters!$J$20,AND(F58>=Onglet_mapping_parameters!$J$16,G58<Onglet_mapping_parameters!$J$16),Onglet_mapping_parameters!$J$21,AND(F58>=Onglet_mapping_parameters!$J$16,G58>=Onglet_mapping_parameters!$J$16),Onglet_mapping_parameters!$J$22),\"\")","v":""},null,{"$f":"IFERROR(_xlfn.IFS(Tableau1[[#This Row],[Category]]=Onglet_mapping_parameters!$C$27,Onglet_mapping_parameters!$B$27,Tableau1[[#This Row],[Category]]=Onglet_mapping_parameters!$C$28,Onglet_mapping_parameters!$B$28,Tableau1[[#This Row],[Category]]=Onglet_mapping_parameters!$C$29,Onglet_mapping_parameters!$B$29,Tableau1[[#This Row],[Category]]=Onglet_mapping_parameters!$C$30,Onglet_mapping_parameters!$B$30),\"\")","v":""},null,null,"Delete"]
[null,null,null,null,null,null,null,null,null,{"$f":"IFERROR(_xlfn.IFS(OR(F59=\"\",G59=\"\"),\"\",AND(F59<Onglet_mapping_parameters!$J$16,G59<Onglet_mapping_parameters!$J$16),Onglet_mapping_parameters!$J$18,AND(F59<Onglet_mapping_parameters!$J$16,G59>=Onglet_mapping_parameters!$J$16),Onglet_mapping_parameters!$J$20,AND(F59>=Onglet_mapping_parameters!$J$16,G59<Onglet_mapping_parameters!$J$16),Onglet_mapping_parameters!$J$21,AND(F59>=Onglet_mapping_parameters!$J$16,G59>=Onglet_mapping_parameters!$J$16),Onglet_mapping_parameters!$J$22),\"\")","v":""},null,{"$f":"IFERROR(_xlfn.IFS(Tableau1[[#This Row],[Category]]=Onglet_mapping_parameters!$C$27,Onglet_mapping_parameters!$B$27,Tableau1[[#This Row],[Category]]=Onglet_mapping_parameters!$C$28,Onglet_mapping_parameters!$B$28,Tableau1[[#This Row],[Category]]=Onglet_mapping_parameters!$C$29,Onglet_mapping_parameters!$B$29,Tableau1[[#This Row],[Category]]=Onglet_mapping_parameters!$C$30,Onglet_mapping_parameters!$B$30),\"\")","v":""},null,null,"Delete"]
[null,null,null,null,null,null,null,null,null,{"$f":"IFERROR(_xlfn.IFS(OR(F60=\"\",G60=\"\"),\"\",AND(F60<Onglet_mapping_parameters!$J$16,G60<Onglet_mapping_parameters!$J$16),Onglet_mapping_parameters!$J$18,AND(F60<Onglet_mapping_parameters!$J$16,G60>=Onglet_mapping_parameters!$J$16),Onglet_mapping_parameters!$J$20,AND(F60>=Onglet_mapping_parameters!$J$16,G60<Onglet_mapping_parameters!$J$16),Onglet_mapping_parameters!$J$21,AND(F60>=Onglet_mapping_parameters!$J$16,G60>=Onglet_mapping_parameters!$J$16),Onglet_mapping_parameters!$J$22),\"\")","v":""},null,{"$f":"IFERROR(_xlfn.IFS(Tableau1[[#This Row],[Category]]=Onglet_mapping_parameters!$C$27,Onglet_mapping_parameters!$B$27,Tableau1[[#This Row],[Category]]=Onglet_mapping_parameters!$C$28,Onglet_mapping_parameters!$B$28,Tableau1[[#This Row],[Category]]=Onglet_mapping_parameters!$C$29,Onglet_mapping_parameters!$B$29,Tableau1[[#This Row],[Category]]=Onglet_mapping_parameters!$C$30,Onglet_mapping_parameters!$B$30),\"\")","v":""},null,null,"Delete"]
[null,null,null,null,null,null,null,null,null,{"$f":"IFERROR(_xlfn.IFS(OR(F61=\"\",G61=\"\"),\"\",AND(F61<Onglet_mapping_parameters!$J$16,G61<Onglet_mapping_parameters!$J$16),Onglet_mapping_parameters!$J$18,AND(F61<Onglet_mapping_parameters!$J$16,G61>=Onglet_mapping_parameters!$J$16),Onglet_mapping_parameters!$J$20,AND(F61>=Onglet_mapping_parameters!$J$16,G61<Onglet_mapping_parameters!$J$16),Onglet_mapping_parameters!$J$21,AND(F61>=Onglet_mapping_parameters!$J$16,G61>=Onglet_mapping_parameters!$J$16),Onglet_mapping_parameters!$J$22),\"\")","v":""},null,{"$f":"IFERROR(_xlfn.IFS(Tableau1[[#This Row],[Category]]=Onglet_mapping_parameters!$C$27,Onglet_mapping_parameters!$B$27,Tableau1[[#This Row],[Category]]=Onglet_mapping_parameters!$C$28,Onglet_mapping_parameters!$B$28,Tableau1[[#This Row],[Category]]=Onglet_mapping_parameters!$C$29,Onglet_mapping_parameters!$B$29,Tableau1[[#This Row],[Category]]=Onglet_mapping_parameters!$C$30,Onglet_mapping_parameters!$B$30),\"\")","v":""},null,null,"Delete"]
[null,null,null,null,null,null,null,null,null,{"$f":"IFERROR(_xlfn.IFS(OR(F62=\"\",G62=\"\"),\"\",AND(F62<Onglet_mapping_parameters!$J$16,G62<Onglet_mapping_parameters!$J$16),Onglet_mapping_parameters!$J$18,AND(F62<Onglet_mapping_parameters!$J$16,G62>=Onglet_mapping_parameters!$J$16),Onglet_mapping_parameters!$J$20,AND(F62>=Onglet_mapping_parameters!$J$16,G62<Onglet_mapping_parameters!$J$16),Onglet_mapping_parameters!$J$21,AND(F62>=Onglet_mapping_parameters!$J$16,G62>=Onglet_mapping_parameters!$J$16),Onglet_mapping_parameters!$J$22),\"\")","v":""},null,{"$f":"IFERROR(_xlfn.IFS(Tableau1[[#This Row],[Category]]=Onglet_mapping_parameters!$C$27,Onglet_mapping_parameters!$B$27,Tableau1[[#This Row],[Category]]=Onglet_mapping_parameters!$C$28,Onglet_mapping_parameters!$B$28,Tableau1[[#This Row],[Category]]=Onglet_mapping_parameters!$C$29,Onglet_mapping_parameters!$B$29,Tableau1[[#This Row],[Category]]=Onglet_mapping_parameters!$C$30,Onglet_mapping_parameters!$B$30),\"\")","v":""},null,null,"Delete"]
[null,null,null,null,null,null,null,null,null,{"$f":"IFERROR(_xlfn.IFS(OR(F63=\"\",G63=\"\"),\"\",AND(F63<Onglet_mapping_parameters!$J$16,G63<Onglet_mapping_parameters!$J$16),Onglet_mapping_parameters!$J$18,AND(F63<Onglet_mapping_parameters!$J$16,G63>=Onglet_mapping_parameters!$J$16),Onglet_mapping_parameters!$J$20,AND(F63>=Onglet_mapping_parameters!$J$16,G63<Onglet_mapping_parameters!$J$16),Onglet_mapping_parameters!$J$21,AND(F63>=Onglet_mapping_parameters!$J$16,G63>=Onglet_mapping_parameters!$J$16),Onglet_mapping_parameters!$J$22),\"\")","v":""},null,{"$f":"IFERROR(_xlfn.IFS(Tableau1[[#This Row],[Category]]=Onglet_mapping_parameters!$C$27,Onglet_mapping_parameters!$B$27,Tableau1[[#This Row],[Category]]=Onglet_mapping_parameters!$C$28,Onglet_mapping_parameters!$B$28,Tableau1[[#This Row],[Category]]=Onglet_mapping_parameters!$C$29,Onglet_mapping_parameters!$B$29,Tableau1[[#This Row],[Category]]=Onglet_mapping_parameters!$C$30,Onglet_mapping_parameters!$B$30),\"\")","v":""},null,null,"Delete"]
[null,null,null,null,null,null,null,null,null,{"$f":"IFERROR(_xlfn.IFS(OR(F64=\"\",G64=\"\"),\"\",AND(F64<Onglet_mapping_parameters!$J$16,G64<Onglet_mapping_parameters!$J$16),Onglet_mapping_parameters!$J$18,AND(F64<Onglet_mapping_parameters!$J$16,G64>=Onglet_mapping_parameters!$J$16),Onglet_mapping_parameters!$J$20,AND(F64>=Onglet_mapping_parameters!$J$16,G64<Onglet_mapping_parameters!$J$16),Onglet_mapping_parameters!$J$21,AND(F64>=Onglet_mapping_parameters!$J$16,G64>=Onglet_mapping_parameters!$J$16),Onglet_mapping_parameters!$J$22),\"\")","v":""},null,{"$f":"IFERROR(_xlfn.IFS(Tableau1[[#This Row],[Category]]=Onglet_mapping_parameters!$C$27,Onglet_mapping_parameters!$B$27,Tableau1[[#This Row],[Category]]=Onglet_mapping_parameters!$C$28,Onglet_mapping_parameters!$B$28,Tableau1[[#This Row],[Category]]=Onglet_mapping_parameters!$C$29,Onglet_mapping_parameters!$B$29,Tableau1[[#This Row],[Category]]=Onglet_mapping_parameters!$C$30,Onglet_mapping_parameters!$B$30),\"\")","v":""},null,null,"Delete"]
[null,null,null,null,null,null,null,null,null,{"$f":"IFERROR(_xlfn.IFS(OR(F65=\"\",G65=\"\"),\"\",AND(F65<Onglet_mapping_parameters!$J$16,G65<Onglet_mapping_parameters!$J$16),Onglet_mapping_parameters!$J$18,AND(F65<Onglet_mapping_parameters!$J$16,G65>=Onglet_mapping_parameters!$J$16),Onglet_mapping_parameters!$J$20,AND(F65>=Onglet_mapping_parameters!$J$16,G65<Onglet_mapping_parameters!$J$16),Onglet_mapping_parameters!$J$21,AND(F65>=Onglet_mapping_parameters!$J$16,G65>=Onglet_mapping_parameters!$J$16),Onglet_mapping_parameters!$J$22),\"\")","v":""},null,{"$f":"IFERROR(_xlfn.IFS(Tableau1[[#This Row],[Category]]=Onglet_mapping_parameters!$C$27,Onglet_mapping_parameters!$B$27,Tableau1[[#This Row],[Category]]=Onglet_mapping_parameters!$C$28,Onglet_mapping_parameters!$B$28,Tableau1[[#This Row],[Category]]=Onglet_mapping_parameters!$C$29,Onglet_mapping_parameters!$B$29,Tableau1[[#This Row],[Category]]=Onglet_mapping_parameters!$C$30,Onglet_mapping_parameters!$B$30),\"\")","v":""},null,null,"Delete"]
[null,null,null,null,null,null,null,null,null,{"$f":"IFERROR(_xlfn.IFS(OR(F66=\"\",G66=\"\"),\"\",AND(F66<Onglet_mapping_parameters!$J$16,G66<Onglet_mapping_parameters!$J$16),Onglet_mapping_parameters!$J$18,AND(F66<Onglet_mapping_parameters!$J$16,G66>=Onglet_mapping_parameters!$J$16),Onglet_mapping_parameters!$J$20,AND(F66>=Onglet_mapping_parameters!$J$16,G66<Onglet_mapping_parameters!$J$16),Onglet_mapping_parameters!$J$21,AND(F66>=Onglet_mapping_parameters!$J$16,G66>=Onglet_mapping_parameters!$J$16),Onglet_mapping_parameters!$J$22),\"\")","v":""},null,{"$f":"IFERROR(_xlfn.IFS(Tableau1[[#This Row],[Category]]=Onglet_mapping_parameters!$C$27,Onglet_mapping_parameters!$B$27,Tableau1[[#This Row],[Category]]=Onglet_mapping_parameters!$C$28,Onglet_mapping_parameters!$B$28,Tableau1[[#This Row],[Category]]=Onglet_mapping_parameters!$C$29,Onglet_mapping_parameters!$B$29,Tableau1[[#This Row],[Category]]=Onglet_mapping_parameters!$C$30,Onglet_mapping_parameters!$B$30),\"\")","v":""},null,null,"Delete"]
[null,null,null,null,null,null,null,null,null,{"$f":"IFERROR(_xlfn.IFS(OR(F67=\"\",G67=\"\"),\"\",AND(F67<Onglet_mapping_parameters!$J$16,G67<Onglet_mapping_parameters!$J$16),Onglet_mapping_parameters!$J$18,AND(F67<Onglet_mapping_parameters!$J$16,G67>=Onglet_mapping_parameters!$J$16),Onglet_mapping_parameters!$J$20,AND(F67>=Onglet_mapping_parameters!$J$16,G67<Onglet_mapping_parameters!$J$16),Onglet_mapping_parameters!$J$21,AND(F67>=Onglet_mapping_parameters!$J$16,G67>=Onglet_mapping_parameters!$J$16),Onglet_mapping_parameters!$J$22),\"\")","v":""},null,{"$f":"IFERROR(_xlfn.IFS(Tableau1[[#This Row],[Category]]=Onglet_mapping_parameters!$C$27,Onglet_mapping_parameters!$B$27,Tableau1[[#This Row],[Category]]=Onglet_mapping_parameters!$C$28,Onglet_mapping_parameters!$B$28,Tableau1[[#This Row],[Category]]=Onglet_mapping_parameters!$C$29,Onglet_mapping_parameters!$B$29,Tableau1[[#This Row],[Category]]=Onglet_mapping_parameters!$C$30,Onglet_mapping_parameters!$B$30),\"\")","v":""},null,null,"Delete"]
[null,null,null,null,null,null,null,null,null,{"$f":"IFERROR(_xlfn.IFS(OR(F68=\"\",G68=\"\"),\"\",AND(F68<Onglet_mapping_parameters!$J$16,G68<Onglet_mapping_parameters!$J$16),Onglet_mapping_parameters!$J$18,AND(F68<Onglet_mapping_parameters!$J$16,G68>=Onglet_mapping_parameters!$J$16),Onglet_mapping_parameters!$J$20,AND(F68>=Onglet_mapping_parameters!$J$16,G68<Onglet_mapping_parameters!$J$16),Onglet_mapping_parameters!$J$21,AND(F68>=Onglet_mapping_parameters!$J$16,G68>=Onglet_mapping_parameters!$J$16),Onglet_mapping_parameters!$J$22),\"\")","v":""},null,{"$f":"IFERROR(_xlfn.IFS(Tableau1[[#This Row],[Category]]=Onglet_mapping_parameters!$C$27,Onglet_mapping_parameters!$B$27,Tableau1[[#This Row],[Category]]=Onglet_mapping_parameters!$C$28,Onglet_mapping_parameters!$B$28,Tableau1[[#This Row],[Category]]=Onglet_mapping_parameters!$C$29,Onglet_mapping_parameters!$B$29,Tableau1[[#This Row],[Category]]=Onglet_mapping_parameters!$C$30,Onglet_mapping_parameters!$B$30),\"\")","v":""},null,null,"Delete"]
[null,null,null,null,null,null,null,null,null,{"$f":"IFERROR(_xlfn.IFS(OR(F69=\"\",G69=\"\"),\"\",AND(F69<Onglet_mapping_parameters!$J$16,G69<Onglet_mapping_parameters!$J$16),Onglet_mapping_parameters!$J$18,AND(F69<Onglet_mapping_parameters!$J$16,G69>=Onglet_mapping_parameters!$J$16),Onglet_mapping_parameters!$J$20,AND(F69>=Onglet_mapping_parameters!$J$16,G69<Onglet_mapping_parameters!$J$16),Onglet_mapping_parameters!$J$21,AND(F69>=Onglet_mapping_parameters!$J$16,G69>=Onglet_mapping_parameters!$J$16),Onglet_mapping_parameters!$J$22),\"\")","v":""},null,{"$f":"IFERROR(_xlfn.IFS(Tableau1[[#This Row],[Category]]=Onglet_mapping_parameters!$C$27,Onglet_mapping_parameters!$B$27,Tableau1[[#This Row],[Category]]=Onglet_mapping_parameters!$C$28,Onglet_mapping_parameters!$B$28,Tableau1[[#This Row],[Category]]=Onglet_mapping_parameters!$C$29,Onglet_mapping_parameters!$B$29,Tableau1[[#This Row],[Category]]=Onglet_mapping_parameters!$C$30,Onglet_mapping_parameters!$B$30),\"\")","v":""},null,null,"Delete"]
[null,null,null,null,null,null,null,null,null,{"$f":"IFERROR(_xlfn.IFS(OR(F70=\"\",G70=\"\"),\"\",AND(F70<Onglet_mapping_parameters!$J$16,G70<Onglet_mapping_parameters!$J$16),Onglet_mapping_parameters!$J$18,AND(F70<Onglet_mapping_parameters!$J$16,G70>=Onglet_mapping_parameters!$J$16),Onglet_mapping_parameters!$J$20,AND(F70>=Onglet_mapping_parameters!$J$16,G70<Onglet_mapping_parameters!$J$16),Onglet_mapping_parameters!$J$21,AND(F70>=Onglet_mapping_parameters!$J$16,G70>=Onglet_mapping_parameters!$J$16),Onglet_mapping_parameters!$J$22),\"\")","v":""},null,{"$f":"IFERROR(_xlfn.IFS(Tableau1[[#This Row],[Category]]=Onglet_mapping_parameters!$C$27,Onglet_mapping_parameters!$B$27,Tableau1[[#This Row],[Category]]=Onglet_mapping_parameters!$C$28,Onglet_mapping_parameters!$B$28,Tableau1[[#This Row],[Category]]=Onglet_mapping_parameters!$C$29,Onglet_mapping_parameters!$B$29,Tableau1[[#This Row],[Category]]=Onglet_mapping_parameters!$C$30,Onglet_mapping_parameters!$B$30),\"\")","v":""},null,null,"Delete"]
[null,null,null,null,null,null,null,null,null,{"$f":"IFERROR(_xlfn.IFS(OR(F71=\"\",G71=\"\"),\"\",AND(F71<Onglet_mapping_parameters!$J$16,G71<Onglet_mapping_parameters!$J$16),Onglet_mapping_parameters!$J$18,AND(F71<Onglet_mapping_parameters!$J$16,G71>=Onglet_mapping_parameters!$J$16),Onglet_mapping_parameters!$J$20,AND(F71>=Onglet_mapping_parameters!$J$16,G71<Onglet_mapping_parameters!$J$16),Onglet_mapping_parameters!$J$21,AND(F71>=Onglet_mapping_parameters!$J$16,G71>=Onglet_mapping_parameters!$J$16),Onglet_mapping_parameters!$J$22),\"\")","v":""},null,{"$f":"IFERROR(_xlfn.IFS(Tableau1[[#This Row],[Category]]=Onglet_mapping_parameters!$C$27,Onglet_mapping_parameters!$B$27,Tableau1[[#This Row],[Category]]=Onglet_mapping_parameters!$C$28,Onglet_mapping_parameters!$B$28,Tableau1[[#This Row],[Category]]=Onglet_mapping_parameters!$C$29,Onglet_mapping_parameters!$B$29,Tableau1[[#This Row],[Category]]=Onglet_mapping_parameters!$C$30,Onglet_mapping_parameters!$B$30),\"\")","v":""},null,null,"Delete"]
[null,null,null,null,null,null,null,null,null,{"$f":"IFERROR(_xlfn.IFS(OR(F72=\"\",G72=\"\"),\"\",AND(F72<Onglet_mapping_parameters!$J$16,G72<Onglet_mapping_parameters!$J$16),Onglet_mapping_parameters!$J$18,AND(F72<Onglet_mapping_parameters!$J$16,G72>=Onglet_mapping_parameters!$J$16),Onglet_mapping_parameters!$J$20,AND(F72>=Onglet_mapping_parameters!$J$16,G72<Onglet_mapping_parameters!$J$16),Onglet_mapping_parameters!$J$21,AND(F72>=Onglet_mapping_parameters!$J$16,G72>=Onglet_mapping_parameters!$J$16),Onglet_mapping_parameters!$J$22),\"\")","v":""},null,{"$f":"IFERROR(_xlfn.IFS(Tableau1[[#This Row],[Category]]=Onglet_mapping_parameters!$C$27,Onglet_mapping_parameters!$B$27,Tableau1[[#This Row],[Category]]=Onglet_mapping_parameters!$C$28,Onglet_mapping_parameters!$B$28,Tableau1[[#This Row],[Category]]=Onglet_mapping_parameters!$C$29,Onglet_mapping_parameters!$B$29,Tableau1[[#This Row],[Category]]=Onglet_mapping_parameters!$C$30,Onglet_mapping_parameters!$B$30),\"\")","v":""},null,null,"Delete"]
[null,null,null,null,null,null,null,null,null,{"$f":"IFERROR(_xlfn.IFS(OR(F73=\"\",G73=\"\"),\"\",AND(F73<Onglet_mapping_parameters!$J$16,G73<Onglet_mapping_parameters!$J$16),Onglet_mapping_parameters!$J$18,AND(F73<Onglet_mapping_parameters!$J$16,G73>=Onglet_mapping_parameters!$J$16),Onglet_mapping_parameters!$J$20,AND(F73>=Onglet_mapping_parameters!$J$16,G73<Onglet_mapping_parameters!$J$16),Onglet_mapping_parameters!$J$21,AND(F73>=Onglet_mapping_parameters!$J$16,G73>=Onglet_mapping_parameters!$J$16),Onglet_mapping_parameters!$J$22),\"\")","v":""},null,{"$f":"IFERROR(_xlfn.IFS(Tableau1[[#This Row],[Category]]=Onglet_mapping_parameters!$C$27,Onglet_mapping_parameters!$B$27,Tableau1[[#This Row],[Category]]=Onglet_mapping_parameters!$C$28,Onglet_mapping_parameters!$B$28,Tableau1[[#This Row],[Category]]=Onglet_mapping_parameters!$C$29,Onglet_mapping_parameters!$B$29,Tableau1[[#This Row],[Category]]=Onglet_mapping_parameters!$C$30,Onglet_mapping_parameters!$B$30),\"\")","v":""},null,null,"Delete"]
[null,null,null,null,null,null,null,null,null,{"$f":"IFERROR(_xlfn.IFS(OR(F74=\"\",G74=\"\"),\"\",AND(F74<Onglet_mapping_parameters!$J$16,G74<Onglet_mapping_parameters!$J$16),Onglet_mapping_parameters!$J$18,AND(F74<Onglet_mapping_parameters!$J$16,G74>=Onglet_mapping_parameters!$J$16),Onglet_mapping_parameters!$J$20,AND(F74>=Onglet_mapping_parameters!$J$16,G74<Onglet_mapping_parameters!$J$16),Onglet_mapping_parameters!$J$21,AND(F74>=Onglet_mapping_parameters!$J$16,G74>=Onglet_mapping_parameters!$J$16),Onglet_mapping_parameters!$J$22),\"\")","v":""},null,{"$f":"IFERROR(_xlfn.IFS(Tableau1[[#This Row],[Category]]=Onglet_mapping_parameters!$C$27,Onglet_mapping_parameters!$B$27,Tableau1[[#This Row],[Category]]=Onglet_mapping_parameters!$C$28,Onglet_mapping_parameters!$B$28,Tableau1[[#This Row],[Category]]=Onglet_mapping_parameters!$C$29,Onglet_mapping_parameters!$B$29,Tableau1[[#This Row],[Category]]=Onglet_mapping_parameters!$C$30,Onglet_mapping_parameters!$B$30),\"\")","v":""},null,null,"Delete"]
[null,null,null,null,null,null,null,null,null,{"$f":"IFERROR(_xlfn.IFS(OR(F75=\"\",G75=\"\"),\"\",AND(F75<Onglet_mapping_parameters!$J$16,G75<Onglet_mapping_parameters!$J$16),Onglet_mapping_parameters!$J$18,AND(F75<Onglet_mapping_parameters!$J$16,G75>=Onglet_mapping_parameters!$J$16),Onglet_mapping_parameters!$J$20,AND(F75>=Onglet_mapping_parameters!$J$16,G75<Onglet_mapping_parameters!$J$16),Onglet_mapping_parameters!$J$21,AND(F75>=Onglet_mapping_parameters!$J$16,G75>=Onglet_mapping_parameters!$J$16),Onglet_mapping_parameters!$J$22),\"\")","v":""},null,{"$f":"IFERROR(_xlfn.IFS(Tableau1[[#This Row],[Category]]=Onglet_mapping_parameters!$C$27,Onglet_mapping_parameters!$B$27,Tableau1[[#This Row],[Category]]=Onglet_mapping_parameters!$C$28,Onglet_mapping_parameters!$B$28,Tableau1[[#This Row],[Category]]=Onglet_mapping_parameters!$C$29,Onglet_mapping_parameters!$B$29,Tableau1[[#This Row],[Category]]=Onglet_mapping_parameters!$C$30,Onglet_mapping_parameters!$B$30),\"\")","v":""},null,null,"Delete"]
[null,null,null,null,null,null,null,null,null,{"$f":"IFERROR(_xlfn.IFS(OR(F76=\"\",G76=\"\"),\"\",AND(F76<Onglet_mapping_parameters!$J$16,G76<Onglet_mapping_parameters!$J$16),Onglet_mapping_parameters!$J$18,AND(F76<Onglet_mapping_parameters!$J$16,G76>=Onglet_mapping_parameters!$J$16),Onglet_mapping_parameters!$J$20,AND(F76>=Onglet_mapping_parameters!$J$16,G76<Onglet_mapping_parameters!$J$16),Onglet_mapping_parameters!$J$21,AND(F76>=Onglet_mapping_parameters!$J$16,G76>=Onglet_mapping_parameters!$J$16),Onglet_mapping_parameters!$J$22),\"\")","v":""},null,{"$f":"IFERROR(_xlfn.IFS(Tableau1[[#This Row],[Category]]=Onglet_mapping_parameters!$C$27,Onglet_mapping_parameters!$B$27,Tableau1[[#This Row],[Category]]=Onglet_mapping_parameters!$C$28,Onglet_mapping_parameters!$B$28,Tableau1[[#This Row],[Category]]=Onglet_mapping_parameters!$C$29,Onglet_mapping_parameters!$B$29,Tableau1[[#This Row],[Category]]=Onglet_mapping_parameters!$C$30,Onglet_mapping_parameters!$B$30),\"\")","v":""},null,null,"Delete"]
[null,null,null,null,null,null,null,null,null,{"$f":"IFERROR(_xlfn.IFS(OR(F77=\"\",G77=\"\"),\"\",AND(F77<Onglet_mapping_parameters!$J$16,G77<Onglet_mapping_parameters!$J$16),Onglet_mapping_parameters!$J$18,AND(F77<Onglet_mapping_parameters!$J$16,G77>=Onglet_mapping_parameters!$J$16),Onglet_mapping_parameters!$J$20,AND(F77>=Onglet_mapping_parameters!$J$16,G77<Onglet_mapping_parameters!$J$16),Onglet_mapping_parameters!$J$21,AND(F77>=Onglet_mapping_parameters!$J$16,G77>=Onglet_mapping_parameters!$J$16),Onglet_mapping_parameters!$J$22),\"\")","v":""},null,{"$f":"IFERROR(_xlfn.IFS(Tableau1[[#This Row],[Category]]=Onglet_mapping_parameters!$C$27,Onglet_mapping_parameters!$B$27,Tableau1[[#This Row],[Category]]=Onglet_mapping_parameters!$C$28,Onglet_mapping_parameters!$B$28,Tableau1[[#This Row],[Category]]=Onglet_mapping_parameters!$C$29,Onglet_mapping_parameters!$B$29,Tableau1[[#This Row],[Category]]=Onglet_mapping_parameters!$C$30,Onglet_mapping_parameters!$B$30),\"\")","v":""},null,null,"Delete"]
[null,null,null,null,null,null,null,null,null,{"$f":"IFERROR(_xlfn.IFS(OR(F78=\"\",G78=\"\"),\"\",AND(F78<Onglet_mapping_parameters!$J$16,G78<Onglet_mapping_parameters!$J$16),Onglet_mapping_parameters!$J$18,AND(F78<Onglet_mapping_parameters!$J$16,G78>=Onglet_mapping_parameters!$J$16),Onglet_mapping_parameters!$J$20,AND(F78>=Onglet_mapping_parameters!$J$16,G78<Onglet_mapping_parameters!$J$16),Onglet_mapping_parameters!$J$21,AND(F78>=Onglet_mapping_parameters!$J$16,G78>=Onglet_mapping_parameters!$J$16),Onglet_mapping_parameters!$J$22),\"\")","v":""},null,{"$f":"IFERROR(_xlfn.IFS(Tableau1[[#This Row],[Category]]=Onglet_mapping_parameters!$C$27,Onglet_mapping_parameters!$B$27,Tableau1[[#This Row],[Category]]=Onglet_mapping_parameters!$C$28,Onglet_mapping_parameters!$B$28,Tableau1[[#This Row],[Category]]=Onglet_mapping_parameters!$C$29,Onglet_mapping_parameters!$B$29,Tableau1[[#This Row],[Category]]=Onglet_mapping_parameters!$C$30,Onglet_mapping_parameters!$B$30),\"\")","v":""},null,null,"Delete"]
[null,null,null,null,null,null,null,null,null,{"$f":"IFERROR(_xlfn.IFS(OR(F79=\"\",G79=\"\"),\"\",AND(F79<Onglet_mapping_parameters!$J$16,G79<Onglet_mapping_parameters!$J$16),Onglet_mapping_parameters!$J$18,AND(F79<Onglet_mapping_parameters!$J$16,G79>=Onglet_mapping_parameters!$J$16),Onglet_mapping_parameters!$J$20,AND(F79>=Onglet_mapping_parameters!$J$16,G79<Onglet_mapping_parameters!$J$16),Onglet_mapping_parameters!$J$21,AND(F79>=Onglet_mapping_parameters!$J$16,G79>=Onglet_mapping_parameters!$J$16),Onglet_mapping_parameters!$J$22),\"\")","v":""},null,{"$f":"IFERROR(_xlfn.IFS(Tableau1[[#This Row],[Category]]=Onglet_mapping_parameters!$C$27,Onglet_mapping_parameters!$B$27,Tableau1[[#This Row],[Category]]=Onglet_mapping_parameters!$C$28,Onglet_mapping_parameters!$B$28,Tableau1[[#This Row],[Category]]=Onglet_mapping_parameters!$C$29,Onglet_mapping_parameters!$B$29,Tableau1[[#This Row],[Category]]=Onglet_mapping_parameters!$C$30,Onglet_mapping_parameters!$B$30),\"\")","v":""},null,null,"Delete"]
[null,null,null,null,null,null,null,null,null,{"$f":"IFERROR(_xlfn.IFS(OR(F80=\"\",G80=\"\"),\"\",AND(F80<Onglet_mapping_parameters!$J$16,G80<Onglet_mapping_parameters!$J$16),Onglet_mapping_parameters!$J$18,AND(F80<Onglet_mapping_parameters!$J$16,G80>=Onglet_mapping_parameters!$J$16),Onglet_mapping_parameters!$J$20,AND(F80>=Onglet_mapping_parameters!$J$16,G80<Onglet_mapping_parameters!$J$16),Onglet_mapping_parameters!$J$21,AND(F80>=Onglet_mapping_parameters!$J$16,G80>=Onglet_mapping_parameters!$J$16),Onglet_mapping_parameters!$J$22),\"\")","v":""},null,{"$f":"IFERROR(_xlfn.IFS(Tableau1[[#This Row],[Category]]=Onglet_mapping_parameters!$C$27,Onglet_mapping_parameters!$B$27,Tableau1[[#This Row],[Category]]=Onglet_mapping_parameters!$C$28,Onglet_mapping_parameters!$B$28,Tableau1[[#This Row],[Category]]=Onglet_mapping_parameters!$C$29,Onglet_mapping_parameters!$B$29,Tableau1[[#This Row],[Category]]=Onglet_mapping_parameters!$C$30,Onglet_mapping_parameters!$B$30),\"\")","v":""},null,null,"Delete"]
[null,null,null,null,null,null,null,null,null,{"$f":"IFERROR(_xlfn.IFS(OR(F81=\"\",G81=\"\"),\"\",AND(F81<Onglet_mapping_parameters!$J$16,G81<Onglet_mapping_parameters!$J$16),Onglet_mapping_parameters!$J$18,AND(F81<Onglet_mapping_parameters!$J$16,G81>=Onglet_mapping_parameters!$J$16),Onglet_mapping_parameters!$J$20,AND(F81>=Onglet_mapping_parameters!$J$16,G81<Onglet_mapping_parameters!$J$16),Onglet_mapping_parameters!$J$21,AND(F81>=Onglet_mapping_parameters!$J$16,G81>=Onglet_mapping_parameters!$J$16),Onglet_mapping_parameters!$J$22),\"\")","v":""},null,{"$f":"IFERROR(_xlfn.IFS(Tableau1[[#This Row],[Category]]=Onglet_mapping_parameters!$C$27,Onglet_mapping_parameters!$B$27,Tableau1[[#This Row],[Category]]=Onglet_mapping_parameters!$C$28,Onglet_mapping_parameters!$B$28,Tableau1[[#This Row],[Category]]=Onglet_mapping_parameters!$C$29,Onglet_mapping_parameters!$B$29,Tableau1[[#This Row],[Category]]=Onglet_mapping_parameters!$C$30,Onglet_mapping_parameters!$B$30),\"\")","v":""},null,null,"Delete"]
[null,null,null,null,null,null,null,null,null,{"$f":"IFERROR(_xlfn.IFS(OR(F82=\"\",G82=\"\"),\"\",AND(F82<Onglet_mapping_parameters!$J$16,G82<Onglet_mapping_parameters!$J$16),Onglet_mapping_parameters!$J$18,AND(F82<Onglet_mapping_parameters!$J$16,G82>=Onglet_mapping_parameters!$J$16),Onglet_mapping_parameters!$J$20,AND(F82>=Onglet_mapping_parameters!$J$16,G82<Onglet_mapping_parameters!$J$16),Onglet_mapping_parameters!$J$21,AND(F82>=Onglet_mapping_parameters!$J$16,G82>=Onglet_mapping_parameters!$J$16),Onglet_mapping_parameters!$J$22),\"\")","v":""},null,{"$f":"IFERROR(_xlfn.IFS(Tableau1[[#This Row],[Category]]=Onglet_mapping_parameters!$C$27,Onglet_mapping_parameters!$B$27,Tableau1[[#This Row],[Category]]=Onglet_mapping_parameters!$C$28,Onglet_mapping_parameters!$B$28,Tableau1[[#This Row],[Category]]=Onglet_mapping_parameters!$C$29,Onglet_mapping_parameters!$B$29,Tableau1[[#This Row],[Category]]=Onglet_mapping_parameters!$C$30,Onglet_mapping_parameters!$B$30),\"\")","v":""},null,null,"Delete"]
[null,null,null,null,null,null,null,null,null,{"$f":"IFERROR(_xlfn.IFS(OR(F83=\"\",G83=\"\"),\"\",AND(F83<Onglet_mapping_parameters!$J$16,G83<Onglet_mapping_parameters!$J$16),Onglet_mapping_parameters!$J$18,AND(F83<Onglet_mapping_parameters!$J$16,G83>=Onglet_mapping_parameters!$J$16),Onglet_mapping_parameters!$J$20,AND(F83>=Onglet_mapping_parameters!$J$16,G83<Onglet_mapping_parameters!$J$16),Onglet_mapping_parameters!$J$21,AND(F83>=Onglet_mapping_parameters!$J$16,G83>=Onglet_mapping_parameters!$J$16),Onglet_mapping_parameters!$J$22),\"\")","v":""},null,{"$f":"IFERROR(_xlfn.IFS(Tableau1[[#This Row],[Category]]=Onglet_mapping_parameters!$C$27,Onglet_mapping_parameters!$B$27,Tableau1[[#This Row],[Category]]=Onglet_mapping_parameters!$C$28,Onglet_mapping_parameters!$B$28,Tableau1[[#This Row],[Category]]=Onglet_mapping_parameters!$C$29,Onglet_mapping_parameters!$B$29,Tableau1[[#This Row],[Category]]=Onglet_mapping_parameters!$C$30,Onglet_mapping_parameters!$B$30),\"\")","v":""},null,null,"Delete"]
[null,null,null,null,null,null,null,null,null,{"$f":"IFERROR(_xlfn.IFS(OR(F84=\"\",G84=\"\"),\"\",AND(F84<Onglet_mapping_parameters!$J$16,G84<Onglet_mapping_parameters!$J$16),Onglet_mapping_parameters!$J$18,AND(F84<Onglet_mapping_parameters!$J$16,G84>=Onglet_mapping_parameters!$J$16),Onglet_mapping_parameters!$J$20,AND(F84>=Onglet_mapping_parameters!$J$16,G84<Onglet_mapping_parameters!$J$16),Onglet_mapping_parameters!$J$21,AND(F84>=Onglet_mapping_parameters!$J$16,G84>=Onglet_mapping_parameters!$J$16),Onglet_mapping_parameters!$J$22),\"\")","v":""},null,{"$f":"IFERROR(_xlfn.IFS(Tableau1[[#This Row],[Category]]=Onglet_mapping_parameters!$C$27,Onglet_mapping_parameters!$B$27,Tableau1[[#This Row],[Category]]=Onglet_mapping_parameters!$C$28,Onglet_mapping_parameters!$B$28,Tableau1[[#This Row],[Category]]=Onglet_mapping_parameters!$C$29,Onglet_mapping_parameters!$B$29,Tableau1[[#This Row],[Category]]=Onglet_mapping_parameters!$C$30,Onglet_mapping_parameters!$B$30),\"\")","v":""},null,null,"Delete"]
[null,null,null,null,null,null,null,null,null,{"$f":"IFERROR(_xlfn.IFS(OR(F85=\"\",G85=\"\"),\"\",AND(F85<Onglet_mapping_parameters!$J$16,G85<Onglet_mapping_parameters!$J$16),Onglet_mapping_parameters!$J$18,AND(F85<Onglet_mapping_parameters!$J$16,G85>=Onglet_mapping_parameters!$J$16),Onglet_mapping_parameters!$J$20,AND(F85>=Onglet_mapping_parameters!$J$16,G85<Onglet_mapping_parameters!$J$16),Onglet_mapping_parameters!$J$21,AND(F85>=Onglet_mapping_parameters!$J$16,G85>=Onglet_mapping_parameters!$J$16),Onglet_mapping_parameters!$J$22),\"\")","v":""},null,{"$f":"IFERROR(_xlfn.IFS(Tableau1[[#This Row],[Category]]=Onglet_mapping_parameters!$C$27,Onglet_mapping_parameters!$B$27,Tableau1[[#This Row],[Category]]=Onglet_mapping_parameters!$C$28,Onglet_mapping_parameters!$B$28,Tableau1[[#This Row],[Category]]=Onglet_mapping_parameters!$C$29,Onglet_mapping_parameters!$B$29,Tableau1[[#This Row],[Category]]=Onglet_mapping_parameters!$C$30,Onglet_mapping_parameters!$B$30),\"\")","v":""},null,null,"Delete"]
[null,null,null,null,null,null,null,null,null,{"$f":"IFERROR(_xlfn.IFS(OR(F86=\"\",G86=\"\"),\"\",AND(F86<Onglet_mapping_parameters!$J$16,G86<Onglet_mapping_parameters!$J$16),Onglet_mapping_parameters!$J$18,AND(F86<Onglet_mapping_parameters!$J$16,G86>=Onglet_mapping_parameters!$J$16),Onglet_mapping_parameters!$J$20,AND(F86>=Onglet_mapping_parameters!$J$16,G86<Onglet_mapping_parameters!$J$16),Onglet_mapping_parameters!$J$21,AND(F86>=Onglet_mapping_parameters!$J$16,G86>=Onglet_mapping_parameters!$J$16),Onglet_mapping_parameters!$J$22),\"\")","v":""},null,{"$f":"IFERROR(_xlfn.IFS(Tableau1[[#This Row],[Category]]=Onglet_mapping_parameters!$C$27,Onglet_mapping_parameters!$B$27,Tableau1[[#This Row],[Category]]=Onglet_mapping_parameters!$C$28,Onglet_mapping_parameters!$B$28,Tableau1[[#This Row],[Category]]=Onglet_mapping_parameters!$C$29,Onglet_mapping_parameters!$B$29,Tableau1[[#This Row],[Category]]=Onglet_mapping_parameters!$C$30,Onglet_mapping_parameters!$B$30),\"\")","v":""},null,null,"Delete"]
[null,null,null,null,null,null,null,null,null,{"$f":"IFERROR(_xlfn.IFS(OR(F87=\"\",G87=\"\"),\"\",AND(F87<Onglet_mapping_parameters!$J$16,G87<Onglet_mapping_parameters!$J$16),Onglet_mapping_parameters!$J$18,AND(F87<Onglet_mapping_parameters!$J$16,G87>=Onglet_mapping_parameters!$J$16),Onglet_mapping_parameters!$J$20,AND(F87>=Onglet_mapping_parameters!$J$16,G87<Onglet_mapping_parameters!$J$16),Onglet_mapping_parameters!$J$21,AND(F87>=Onglet_mapping_parameters!$J$16,G87>=Onglet_mapping_parameters!$J$16),Onglet_mapping_parameters!$J$22),\"\")","v":""},null,{"$f":"IFERROR(_xlfn.IFS(Tableau1[[#This Row],[Category]]=Onglet_mapping_parameters!$C$27,Onglet_mapping_parameters!$B$27,Tableau1[[#This Row],[Category]]=Onglet_mapping_parameters!$C$28,Onglet_mapping_parameters!$B$28,Tableau1[[#This Row],[Category]]=Onglet_mapping_parameters!$C$29,Onglet_mapping_parameters!$B$29,Tableau1[[#This Row],[Category]]=Onglet_mapping_parameters!$C$30,Onglet_mapping_parameters!$B$30),\"\")","v":""},null,null,"Delete"]
[null,null,null,null,null,null,null,null,null,{"$f":"IFERROR(_xlfn.IFS(OR(F88=\"\",G88=\"\"),\"\",AND(F88<Onglet_mapping_parameters!$J$16,G88<Onglet_mapping_parameters!$J$16),Onglet_mapping_parameters!$J$18,AND(F88<Onglet_mapping_parameters!$J$16,G88>=Onglet_mapping_parameters!$J$16),Onglet_mapping_parameters!$J$20,AND(F88>=Onglet_mapping_parameters!$J$16,G88<Onglet_mapping_parameters!$J$16),Onglet_mapping_parameters!$J$21,AND(F88>=Onglet_mapping_parameters!$J$16,G88>=Onglet_mapping_parameters!$J$16),Onglet_mapping_parameters!$J$22),\"\")","v":""},null,{"$f":"IFERROR(_xlfn.IFS(Tableau1[[#This Row],[Category]]=Onglet_mapping_parameters!$C$27,Onglet_mapping_parameters!$B$27,Tableau1[[#This Row],[Category]]=Onglet_mapping_parameters!$C$28,Onglet_mapping_parameters!$B$28,Tableau1[[#This Row],[Category]]=Onglet_mapping_parameters!$C$29,Onglet_mapping_parameters!$B$29,Tableau1[[#This Row],[Category]]=Onglet_mapping_parameters!$C$30,Onglet_mapping_parameters!$B$30),\"\")","v":""},null,null,"Delete"]
[null,null,null,null,null,null,null,null,null,{"$f":"IFERROR(_xlfn.IFS(OR(F89=\"\",G89=\"\"),\"\",AND(F89<Onglet_mapping_parameters!$J$16,G89<Onglet_mapping_parameters!$J$16),Onglet_mapping_parameters!$J$18,AND(F89<Onglet_mapping_parameters!$J$16,G89>=Onglet_mapping_parameters!$J$16),Onglet_mapping_parameters!$J$20,AND(F89>=Onglet_mapping_parameters!$J$16,G89<Onglet_mapping_parameters!$J$16),Onglet_mapping_parameters!$J$21,AND(F89>=Onglet_mapping_parameters!$J$16,G89>=Onglet_mapping_parameters!$J$16),Onglet_mapping_parameters!$J$22),\"\")","v":""},null,{"$f":"IFERROR(_xlfn.IFS(Tableau1[[#This Row],[Category]]=Onglet_mapping_parameters!$C$27,Onglet_mapping_parameters!$B$27,Tableau1[[#This Row],[Category]]=Onglet_mapping_parameters!$C$28,Onglet_mapping_parameters!$B$28,Tableau1[[#This Row],[Category]]=Onglet_mapping_parameters!$C$29,Onglet_mapping_parameters!$B$29,Tableau1[[#This Row],[Category]]=Onglet_mapping_parameters!$C$30,Onglet_mapping_parameters!$B$30),\"\")","v":""},null,null,"Delete"]
[null,null,null,null,null,null,null,null,null,{"$f":"IFERROR(_xlfn.IFS(OR(F90=\"\",G90=\"\"),\"\",AND(F90<Onglet_mapping_parameters!$J$16,G90<Onglet_mapping_parameters!$J$16),Onglet_mapping_parameters!$J$18,AND(F90<Onglet_mapping_parameters!$J$16,G90>=Onglet_mapping_parameters!$J$16),Onglet_mapping_parameters!$J$20,AND(F90>=Onglet_mapping_parameters!$J$16,G90<Onglet_mapping_parameters!$J$16),Onglet_mapping_parameters!$J$21,AND(F90>=Onglet_mapping_parameters!$J$16,G90>=Onglet_mapping_parameters!$J$16),Onglet_mapping_parameters!$J$22),\"\")","v":""},null,{"$f":"IFERROR(_xlfn.IFS(Tableau1[[#This Row],[Category]]=Onglet_mapping_parameters!$C$27,Onglet_mapping_parameters!$B$27,Tableau1[[#This Row],[Category]]=Onglet_mapping_parameters!$C$28,Onglet_mapping_parameters!$B$28,Tableau1[[#This Row],[Category]]=Onglet_mapping_parameters!$C$29,Onglet_mapping_parameters!$B$29,Tableau1[[#This Row],[Category]]=Onglet_mapping_parameters!$C$30,Onglet_mapping_parameters!$B$30),\"\")","v":""},null,null,"Delete"]
[null,null,null,null,null,null,null,null,null,{"$f":"IFERROR(_xlfn.IFS(OR(F91=\"\",G91=\"\"),\"\",AND(F91<Onglet_mapping_parameters!$J$16,G91<Onglet_mapping_parameters!$J$16),Onglet_mapping_parameters!$J$18,AND(F91<Onglet_mapping_parameters!$J$16,G91>=Onglet_mapping_parameters!$J$16),Onglet_mapping_parameters!$J$20,AND(F91>=Onglet_mapping_parameters!$J$16,G91<Onglet_mapping_parameters!$J$16),Onglet_mapping_parameters!$J$21,AND(F91>=Onglet_mapping_parameters!$J$16,G91>=Onglet_mapping_parameters!$J$16),Onglet_mapping_parameters!$J$22),\"\")","v":""},null,{"$f":"IFERROR(_xlfn.IFS(Tableau1[[#This Row],[Category]]=Onglet_mapping_parameters!$C$27,Onglet_mapping_parameters!$B$27,Tableau1[[#This Row],[Category]]=Onglet_mapping_parameters!$C$28,Onglet_mapping_parameters!$B$28,Tableau1[[#This Row],[Category]]=Onglet_mapping_parameters!$C$29,Onglet_mapping_parameters!$B$29,Tableau1[[#This Row],[Category]]=Onglet_mapping_parameters!$C$30,Onglet_mapping_parameters!$B$30),\"\")","v":""},null,null,"Delete"]
[null,null,null,null,null,null,null,null,null,{"$f":"IFERROR(_xlfn.IFS(OR(F92=\"\",G92=\"\"),\"\",AND(F92<Onglet_mapping_parameters!$J$16,G92<Onglet_mapping_parameters!$J$16),Onglet_mapping_parameters!$J$18,AND(F92<Onglet_mapping_parameters!$J$16,G92>=Onglet_mapping_parameters!$J$16),Onglet_mapping_parameters!$J$20,AND(F92>=Onglet_mapping_parameters!$J$16,G92<Onglet_mapping_parameters!$J$16),Onglet_mapping_parameters!$J$21,AND(F92>=Onglet_mapping_parameters!$J$16,G92>=Onglet_mapping_parameters!$J$16),Onglet_mapping_parameters!$J$22),\"\")","v":""},null,{"$f":"IFERROR(_xlfn.IFS(Tableau1[[#This Row],[Category]]=Onglet_mapping_parameters!$C$27,Onglet_mapping_parameters!$B$27,Tableau1[[#This Row],[Category]]=Onglet_mapping_parameters!$C$28,Onglet_mapping_parameters!$B$28,Tableau1[[#This Row],[Category]]=Onglet_mapping_parameters!$C$29,Onglet_mapping_parameters!$B$29,Tableau1[[#This Row],[Category]]=Onglet_mapping_parameters!$C$30,Onglet_mapping_parameters!$B$30),\"\")","v":""},null,null,"Delete"]
[null,null,null,null,null,null,null,null,null,{"$f":"IFERROR(_xlfn.IFS(OR(F93=\"\",G93=\"\"),\"\",AND(F93<Onglet_mapping_parameters!$J$16,G93<Onglet_mapping_parameters!$J$16),Onglet_mapping_parameters!$J$18,AND(F93<Onglet_mapping_parameters!$J$16,G93>=Onglet_mapping_parameters!$J$16),Onglet_mapping_parameters!$J$20,AND(F93>=Onglet_mapping_parameters!$J$16,G93<Onglet_mapping_parameters!$J$16),Onglet_mapping_parameters!$J$21,AND(F93>=Onglet_mapping_parameters!$J$16,G93>=Onglet_mapping_parameters!$J$16),Onglet_mapping_parameters!$J$22),\"\")","v":""},null,{"$f":"IFERROR(_xlfn.IFS(Tableau1[[#This Row],[Category]]=Onglet_mapping_parameters!$C$27,Onglet_mapping_parameters!$B$27,Tableau1[[#This Row],[Category]]=Onglet_mapping_parameters!$C$28,Onglet_mapping_parameters!$B$28,Tableau1[[#This Row],[Category]]=Onglet_mapping_parameters!$C$29,Onglet_mapping_parameters!$B$29,Tableau1[[#This Row],[Category]]=Onglet_mapping_parameters!$C$30,Onglet_mapping_parameters!$B$30),\"\")","v":""},null,null,"Delete"]
[null,null,null,null,null,null,null,null,null,{"$f":"IFERROR(_xlfn.IFS(OR(F94=\"\",G94=\"\"),\"\",AND(F94<Onglet_mapping_parameters!$J$16,G94<Onglet_mapping_parameters!$J$16),Onglet_mapping_parameters!$J$18,AND(F94<Onglet_mapping_parameters!$J$16,G94>=Onglet_mapping_parameters!$J$16),Onglet_mapping_parameters!$J$20,AND(F94>=Onglet_mapping_parameters!$J$16,G94<Onglet_mapping_parameters!$J$16),Onglet_mapping_parameters!$J$21,AND(F94>=Onglet_mapping_parameters!$J$16,G94>=Onglet_mapping_parameters!$J$16),Onglet_mapping_parameters!$J$22),\"\")","v":""},null,{"$f":"IFERROR(_xlfn.IFS(Tableau1[[#This Row],[Category]]=Onglet_mapping_parameters!$C$27,Onglet_mapping_parameters!$B$27,Tableau1[[#This Row],[Category]]=Onglet_mapping_parameters!$C$28,Onglet_mapping_parameters!$B$28,Tableau1[[#This Row],[Category]]=Onglet_mapping_parameters!$C$29,Onglet_mapping_parameters!$B$29,Tableau1[[#This Row],[Category]]=Onglet_mapping_parameters!$C$30,Onglet_mapping_parameters!$B$30),\"\")","v":""},null,null,"Delete"]
[null,null,null,null,null,null,null,null,null,{"$f":"IFERROR(_xlfn.IFS(OR(F95=\"\",G95=\"\"),\"\",AND(F95<Onglet_mapping_parameters!$J$16,G95<Onglet_mapping_parameters!$J$16),Onglet_mapping_parameters!$J$18,AND(F95<Onglet_mapping_parameters!$J$16,G95>=Onglet_mapping_parameters!$J$16),Onglet_mapping_parameters!$J$20,AND(F95>=Onglet_mapping_parameters!$J$16,G95<Onglet_mapping_parameters!$J$16),Onglet_mapping_parameters!$J$21,AND(F95>=Onglet_mapping_parameters!$J$16,G95>=Onglet_mapping_parameters!$J$16),Onglet_mapping_parameters!$J$22),\"\")","v":""},null,{"$f":"IFERROR(_xlfn.IFS(Tableau1[[#This Row],[Category]]=Onglet_mapping_parameters!$C$27,Onglet_mapping_parameters!$B$27,Tableau1[[#This Row],[Category]]=Onglet_mapping_parameters!$C$28,Onglet_mapping_parameters!$B$28,Tableau1[[#This Row],[Category]]=Onglet_mapping_parameters!$C$29,Onglet_mapping_parameters!$B$29,Tableau1[[#This Row],[Category]]=Onglet_mapping_parameters!$C$30,Onglet_mapping_parameters!$B$30),\"\")","v":""},null,null,"Delete"]
[null,null,null,null,null,null,null,null,null,{"$f":"IFERROR(_xlfn.IFS(OR(F96=\"\",G96=\"\"),\"\",AND(F96<Onglet_mapping_parameters!$J$16,G96<Onglet_mapping_parameters!$J$16),Onglet_mapping_parameters!$J$18,AND(F96<Onglet_mapping_parameters!$J$16,G96>=Onglet_mapping_parameters!$J$16),Onglet_mapping_parameters!$J$20,AND(F96>=Onglet_mapping_parameters!$J$16,G96<Onglet_mapping_parameters!$J$16),Onglet_mapping_parameters!$J$21,AND(F96>=Onglet_mapping_parameters!$J$16,G96>=Onglet_mapping_parameters!$J$16),Onglet_mapping_parameters!$J$22),\"\")","v":""},null,{"$f":"IFERROR(_xlfn.IFS(Tableau1[[#This Row],[Category]]=Onglet_mapping_parameters!$C$27,Onglet_mapping_parameters!$B$27,Tableau1[[#This Row],[Category]]=Onglet_mapping_parameters!$C$28,Onglet_mapping_parameters!$B$28,Tableau1[[#This Row],[Category]]=Onglet_mapping_parameters!$C$29,Onglet_mapping_parameters!$B$29,Tableau1[[#This Row],[Category]]=Onglet_mapping_parameters!$C$30,Onglet_mapping_parameters!$B$30),\"\")","v":""},null,null,"Delete"]
[null,null,null,null,null,null,null,null,null,{"$f":"IFERROR(_xlfn.IFS(OR(F97=\"\",G97=\"\"),\"\",AND(F97<Onglet_mapping_parameters!$J$16,G97<Onglet_mapping_parameters!$J$16),Onglet_mapping_parameters!$J$18,AND(F97<Onglet_mapping_parameters!$J$16,G97>=Onglet_mapping_parameters!$J$16),Onglet_mapping_parameters!$J$20,AND(F97>=Onglet_mapping_parameters!$J$16,G97<Onglet_mapping_parameters!$J$16),Onglet_mapping_parameters!$J$21,AND(F97>=Onglet_mapping_parameters!$J$16,G97>=Onglet_mapping_parameters!$J$16),Onglet_mapping_parameters!$J$22),\"\")","v":""},null,{"$f":"IFERROR(_xlfn.IFS(Tableau1[[#This Row],[Category]]=Onglet_mapping_parameters!$C$27,Onglet_mapping_parameters!$B$27,Tableau1[[#This Row],[Category]]=Onglet_mapping_parameters!$C$28,Onglet_mapping_parameters!$B$28,Tableau1[[#This Row],[Category]]=Onglet_mapping_parameters!$C$29,Onglet_mapping_parameters!$B$29,Tableau1[[#This Row],[Category]]=Onglet_mapping_parameters!$C$30,Onglet_mapping_parameters!$B$30),\"\")","v":""},null,null,"Delete"]
[null,null,null,null,null,null,null,null,null,{"$f":"IFERROR(_xlfn.IFS(OR(F98=\"\",G98=\"\"),\"\",AND(F98<Onglet_mapping_parameters!$J$16,G98<Onglet_mapping_parameters!$J$16),Onglet_mapping_parameters!$J$18,AND(F98<Onglet_mapping_parameters!$J$16,G98>=Onglet_mapping_parameters!$J$16),Onglet_mapping_parameters!$J$20,AND(F98>=Onglet_mapping_parameters!$J$16,G98<Onglet_mapping_parameters!$J$16),Onglet_mapping_parameters!$J$21,AND(F98>=Onglet_mapping_parameters!$J$16,G98>=Onglet_mapping_parameters!$J$16),Onglet_mapping_parameters!$J$22),\"\")","v":""},null,{"$f":"IFERROR(_xlfn.IFS(Tableau1[[#This Row],[Category]]=Onglet_mapping_parameters!$C$27,Onglet_mapping_parameters!$B$27,Tableau1[[#This Row],[Category]]=Onglet_mapping_parameters!$C$28,Onglet_mapping_parameters!$B$28,Tableau1[[#This Row],[Category]]=Onglet_mapping_parameters!$C$29,Onglet_mapping_parameters!$B$29,Tableau1[[#This Row],[Category]]=Onglet_mapping_parameters!$C$30,Onglet_mapping_parameters!$B$30),\"\")","v":""},null,null,"Delete"]
[null,null,null,null,null,null,null,null,null,{"$f":"IFERROR(_xlfn.IFS(OR(F99=\"\",G99=\"\"),\"\",AND(F99<Onglet_mapping_parameters!$J$16,G99<Onglet_mapping_parameters!$J$16),Onglet_mapping_parameters!$J$18,AND(F99<Onglet_mapping_parameters!$J$16,G99>=Onglet_mapping_parameters!$J$16),Onglet_mapping_parameters!$J$20,AND(F99>=Onglet_mapping_parameters!$J$16,G99<Onglet_mapping_parameters!$J$16),Onglet_mapping_parameters!$J$21,AND(F99>=Onglet_mapping_parameters!$J$16,G99>=Onglet_mapping_parameters!$J$16),Onglet_mapping_parameters!$J$22),\"\")","v":""},null,{"$f":"IFERROR(_xlfn.IFS(Tableau1[[#This Row],[Category]]=Onglet_mapping_parameters!$C$27,Onglet_mapping_parameters!$B$27,Tableau1[[#This Row],[Category]]=Onglet_mapping_parameters!$C$28,Onglet_mapping_parameters!$B$28,Tableau1[[#This Row],[Category]]=Onglet_mapping_parameters!$C$29,Onglet_mapping_parameters!$B$29,Tableau1[[#This Row],[Category]]=Onglet_mapping_parameters!$C$30,Onglet_mapping_parameters!$B$30),\"\")","v":""},null,null,"Delete"]
[null,null,null,null,null,null,null,null,null,{"$f":"IFERROR(_xlfn.IFS(OR(F100=\"\",G100=\"\"),\"\",AND(F100<Onglet_mapping_parameters!$J$16,G100<Onglet_mapping_parameters!$J$16),Onglet_mapping_parameters!$J$18,AND(F100<Onglet_mapping_parameters!$J$16,G100>=Onglet_mapping_parameters!$J$16),Onglet_mapping_parameters!$J$20,AND(F100>=Onglet_mapping_parameters!$J$16,G100<Onglet_mapping_parameters!$J$16),Onglet_mapping_parameters!$J$21,AND(F100>=Onglet_mapping_parameters!$J$16,G100>=Onglet_mapping_parameters!$J$16),Onglet_mapping_parameters!$J$22),\"\")","v":""},null,{"$f":"IFERROR(_xlfn.IFS(Tableau1[[#This Row],[Category]]=Onglet_mapping_parameters!$C$27,Onglet_mapping_parameters!$B$27,Tableau1[[#This Row],[Category]]=Onglet_mapping_parameters!$C$28,Onglet_mapping_parameters!$B$28,Tableau1[[#This Row],[Category]]=Onglet_mapping_parameters!$C$29,Onglet_mapping_parameters!$B$29,Tableau1[[#This Row],[Category]]=Onglet_mapping_parameters!$C$30,Onglet_mapping_parameters!$B$30),\"\")","v":""},null,null,"Delete"]
[null,null,null,null,null,null,null,null,null,{"$f":"IFERROR(_xlfn.IFS(OR(F101=\"\",G101=\"\"),\"\",AND(F101<Onglet_mapping_parameters!$J$16,G101<Onglet_mapping_parameters!$J$16),Onglet_mapping_parameters!$J$18,AND(F101<Onglet_mapping_parameters!$J$16,G101>=Onglet_mapping_parameters!$J$16),Onglet_mapping_parameters!$J$20,AND(F101>=Onglet_mapping_parameters!$J$16,G101<Onglet_mapping_parameters!$J$16),Onglet_mapping_parameters!$J$21,AND(F101>=Onglet_mapping_parameters!$J$16,G101>=Onglet_mapping_parameters!$J$16),Onglet_mapping_parameters!$J$22),\"\")","v":""},null,{"$f":"IFERROR(_xlfn.IFS(Tableau1[[#This Row],[Category]]=Onglet_mapping_parameters!$C$27,Onglet_mapping_parameters!$B$27,Tableau1[[#This Row],[Category]]=Onglet_mapping_parameters!$C$28,Onglet_mapping_parameters!$B$28,Tableau1[[#This Row],[Category]]=Onglet_mapping_parameters!$C$29,Onglet_mapping_parameters!$B$29,Tableau1[[#This Row],[Category]]=Onglet_mapping_parameters!$C$30,Onglet_mapping_parameters!$B$30),\"\")","v":""},null,null,"Delete"]
[null,null,null,null,null,null,null,null,null,{"$f":"IFERROR(_xlfn.IFS(OR(F102=\"\",G102=\"\"),\"\",AND(F102<Onglet_mapping_parameters!$J$16,G102<Onglet_mapping_parameters!$J$16),Onglet_mapping_parameters!$J$18,AND(F102<Onglet_mapping_parameters!$J$16,G102>=Onglet_mapping_parameters!$J$16),Onglet_mapping_parameters!$J$20,AND(F102>=Onglet_mapping_parameters!$J$16,G102<Onglet_mapping_parameters!$J$16),Onglet_mapping_parameters!$J$21,AND(F102>=Onglet_mapping_parameters!$J$16,G102>=Onglet_mapping_parameters!$J$16),Onglet_mapping_parameters!$J$22),\"\")","v":""},null,{"$f":"IFERROR(_xlfn.IFS(Tableau1[[#This Row],[Category]]=Onglet_mapping_parameters!$C$27,Onglet_mapping_parameters!$B$27,Tableau1[[#This Row],[Category]]=Onglet_mapping_parameters!$C$28,Onglet_mapping_parameters!$B$28,Tableau1[[#This Row],[Category]]=Onglet_mapping_parameters!$C$29,Onglet_mapping_parameters!$B$29,Tableau1[[#This Row],[Category]]=Onglet_mapping_parameters!$C$30,Onglet_mapping_parameters!$B$30),\"\")","v":""},null,null,"Delete"]
[null,null,null,null,null,null,null,null,null,{"$f":"IFERROR(_xlfn.IFS(OR(F103=\"\",G103=\"\"),\"\",AND(F103<Onglet_mapping_parameters!$J$16,G103<Onglet_mapping_parameters!$J$16),Onglet_mapping_parameters!$J$18,AND(F103<Onglet_mapping_parameters!$J$16,G103>=Onglet_mapping_parameters!$J$16),Onglet_mapping_parameters!$J$20,AND(F103>=Onglet_mapping_parameters!$J$16,G103<Onglet_mapping_parameters!$J$16),Onglet_mapping_parameters!$J$21,AND(F103>=Onglet_mapping_parameters!$J$16,G103>=Onglet_mapping_parameters!$J$16),Onglet_mapping_parameters!$J$22),\"\")","v":""},null,{"$f":"IFERROR(_xlfn.IFS(Tableau1[[#This Row],[Category]]=Onglet_mapping_parameters!$C$27,Onglet_mapping_parameters!$B$27,Tableau1[[#This Row],[Category]]=Onglet_mapping_parameters!$C$28,Onglet_mapping_parameters!$B$28,Tableau1[[#This Row],[Category]]=Onglet_mapping_parameters!$C$29,Onglet_mapping_parameters!$B$29,Tableau1[[#This Row],[Category]]=Onglet_mapping_parameters!$C$30,Onglet_mapping_parameters!$B$30),\"\")","v":""},null,null,"Delete"]
[null,null,null,null,null,null,null,null,null,{"$f":"IFERROR(_xlfn.IFS(OR(F104=\"\",G104=\"\"),\"\",AND(F104<Onglet_mapping_parameters!$J$16,G104<Onglet_mapping_parameters!$J$16),Onglet_mapping_parameters!$J$18,AND(F104<Onglet_mapping_parameters!$J$16,G104>=Onglet_mapping_parameters!$J$16),Onglet_mapping_parameters!$J$20,AND(F104>=Onglet_mapping_parameters!$J$16,G104<Onglet_mapping_parameters!$J$16),Onglet_mapping_parameters!$J$21,AND(F104>=Onglet_mapping_parameters!$J$16,G104>=Onglet_mapping_parameters!$J$16),Onglet_mapping_parameters!$J$22),\"\")","v":""},null,{"$f":"IFERROR(_xlfn.IFS(Tableau1[[#This Row],[Category]]=Onglet_mapping_parameters!$C$27,Onglet_mapping_parameters!$B$27,Tableau1[[#This Row],[Category]]=Onglet_mapping_parameters!$C$28,Onglet_mapping_parameters!$B$28,Tableau1[[#This Row],[Category]]=Onglet_mapping_parameters!$C$29,Onglet_mapping_parameters!$B$29,Tableau1[[#This Row],[Category]]=Onglet_mapping_parameters!$C$30,Onglet_mapping_parameters!$B$30),\"\")","v":""},null,null,"Delete"]
[null,null,null,null,null,null,null,null,null,{"$f":"IFERROR(_xlfn.IFS(OR(F105=\"\",G105=\"\"),\"\",AND(F105<Onglet_mapping_parameters!$J$16,G105<Onglet_mapping_parameters!$J$16),Onglet_mapping_parameters!$J$18,AND(F105<Onglet_mapping_parameters!$J$16,G105>=Onglet_mapping_parameters!$J$16),Onglet_mapping_parameters!$J$20,AND(F105>=Onglet_mapping_parameters!$J$16,G105<Onglet_mapping_parameters!$J$16),Onglet_mapping_parameters!$J$21,AND(F105>=Onglet_mapping_parameters!$J$16,G105>=Onglet_mapping_parameters!$J$16),Onglet_mapping_parameters!$J$22),\"\")","v":""},null,{"$f":"IFERROR(_xlfn.IFS(Tableau1[[#This Row],[Category]]=Onglet_mapping_parameters!$C$27,Onglet_mapping_parameters!$B$27,Tableau1[[#This Row],[Category]]=Onglet_mapping_parameters!$C$28,Onglet_mapping_parameters!$B$28,Tableau1[[#This Row],[Category]]=Onglet_mapping_parameters!$C$29,Onglet_mapping_parameters!$B$29,Tableau1[[#This Row],[Category]]=Onglet_mapping_parameters!$C$30,Onglet_mapping_parameters!$B$30),\"\")","v":""},null,null,"Delete"]
[null,null,null,null,null,null,null,null,null,{"$f":"IFERROR(_xlfn.IFS(OR(F106=\"\",G106=\"\"),\"\",AND(F106<Onglet_mapping_parameters!$J$16,G106<Onglet_mapping_parameters!$J$16),Onglet_mapping_parameters!$J$18,AND(F106<Onglet_mapping_parameters!$J$16,G106>=Onglet_mapping_parameters!$J$16),Onglet_mapping_parameters!$J$20,AND(F106>=Onglet_mapping_parameters!$J$16,G106<Onglet_mapping_parameters!$J$16),Onglet_mapping_parameters!$J$21,AND(F106>=Onglet_mapping_parameters!$J$16,G106>=Onglet_mapping_parameters!$J$16),Onglet_mapping_parameters!$J$22),\"\")","v":""},null,{"$f":"IFERROR(_xlfn.IFS(Tableau1[[#This Row],[Category]]=Onglet_mapping_parameters!$C$27,Onglet_mapping_parameters!$B$27,Tableau1[[#This Row],[Category]]=Onglet_mapping_parameters!$C$28,Onglet_mapping_parameters!$B$28,Tableau1[[#This Row],[Category]]=Onglet_mapping_parameters!$C$29,Onglet_mapping_parameters!$B$29,Tableau1[[#This Row],[Category]]=Onglet_mapping_parameters!$C$30,Onglet_mapping_parameters!$B$30),\"\")","v":""},null,null,"Delete"]
[null,null,null,null,null,null,null,null,null,{"$f":"IFERROR(_xlfn.IFS(OR(F107=\"\",G107=\"\"),\"\",AND(F107<Onglet_mapping_parameters!$J$16,G107<Onglet_mapping_parameters!$J$16),Onglet_mapping_parameters!$J$18,AND(F107<Onglet_mapping_parameters!$J$16,G107>=Onglet_mapping_parameters!$J$16),Onglet_mapping_parameters!$J$20,AND(F107>=Onglet_mapping_parameters!$J$16,G107<Onglet_mapping_parameters!$J$16),Onglet_mapping_parameters!$J$21,AND(F107>=Onglet_mapping_parameters!$J$16,G107>=Onglet_mapping_parameters!$J$16),Onglet_mapping_parameters!$J$22),\"\")","v":""},null,{"$f":"IFERROR(_xlfn.IFS(Tableau1[[#This Row],[Category]]=Onglet_mapping_parameters!$C$27,Onglet_mapping_parameters!$B$27,Tableau1[[#This Row],[Category]]=Onglet_mapping_parameters!$C$28,Onglet_mapping_parameters!$B$28,Tableau1[[#This Row],[Category]]=Onglet_mapping_parameters!$C$29,Onglet_mapping_parameters!$B$29,Tableau1[[#This Row],[Category]]=Onglet_mapping_parameters!$C$30,Onglet_mapping_parameters!$B$30),\"\")","v":""},null,null,"Delete"]
[null,null,null,null,null,null,null,null,null,{"$f":"IFERROR(_xlfn.IFS(OR(F108=\"\",G108=\"\"),\"\",AND(F108<Onglet_mapping_parameters!$J$16,G108<Onglet_mapping_parameters!$J$16),Onglet_mapping_parameters!$J$18,AND(F108<Onglet_mapping_parameters!$J$16,G108>=Onglet_mapping_parameters!$J$16),Onglet_mapping_parameters!$J$20,AND(F108>=Onglet_mapping_parameters!$J$16,G108<Onglet_mapping_parameters!$J$16),Onglet_mapping_parameters!$J$21,AND(F108>=Onglet_mapping_parameters!$J$16,G108>=Onglet_mapping_parameters!$J$16),Onglet_mapping_parameters!$J$22),\"\")","v":""},null,{"$f":"IFERROR(_xlfn.IFS(Tableau1[[#This Row],[Category]]=Onglet_mapping_parameters!$C$27,Onglet_mapping_parameters!$B$27,Tableau1[[#This Row],[Category]]=Onglet_mapping_parameters!$C$28,Onglet_mapping_parameters!$B$28,Tableau1[[#This Row],[Category]]=Onglet_mapping_parameters!$C$29,Onglet_mapping_parameters!$B$29,Tableau1[[#This Row],[Category]]=Onglet_mapping_parameters!$C$30,Onglet_mapping_parameters!$B$30),\"\")","v":""},null,null,"Delete"]
[null,null,null,null,null,null,null,null,null,{"$f":"IFERROR(_xlfn.IFS(OR(F109=\"\",G109=\"\"),\"\",AND(F109<Onglet_mapping_parameters!$J$16,G109<Onglet_mapping_parameters!$J$16),Onglet_mapping_parameters!$J$18,AND(F109<Onglet_mapping_parameters!$J$16,G109>=Onglet_mapping_parameters!$J$16),Onglet_mapping_parameters!$J$20,AND(F109>=Onglet_mapping_parameters!$J$16,G109<Onglet_mapping_parameters!$J$16),Onglet_mapping_parameters!$J$21,AND(F109>=Onglet_mapping_parameters!$J$16,G109>=Onglet_mapping_parameters!$J$16),Onglet_mapping_parameters!$J$22),\"\")","v":""},null,{"$f":"IFERROR(_xlfn.IFS(Tableau1[[#This Row],[Category]]=Onglet_mapping_parameters!$C$27,Onglet_mapping_parameters!$B$27,Tableau1[[#This Row],[Category]]=Onglet_mapping_parameters!$C$28,Onglet_mapping_parameters!$B$28,Tableau1[[#This Row],[Category]]=Onglet_mapping_parameters!$C$29,Onglet_mapping_parameters!$B$29,Tableau1[[#This Row],[Category]]=Onglet_mapping_parameters!$C$30,Onglet_mapping_parameters!$B$30),\"\")","v":""},null,null,"Delete"]
[null,null,null,null,null,null,null,null,null,{"$f":"IFERROR(_xlfn.IFS(OR(F110=\"\",G110=\"\"),\"\",AND(F110<Onglet_mapping_parameters!$J$16,G110<Onglet_mapping_parameters!$J$16),Onglet_mapping_parameters!$J$18,AND(F110<Onglet_mapping_parameters!$J$16,G110>=Onglet_mapping_parameters!$J$16),Onglet_mapping_parameters!$J$20,AND(F110>=Onglet_mapping_parameters!$J$16,G110<Onglet_mapping_parameters!$J$16),Onglet_mapping_parameters!$J$21,AND(F110>=Onglet_mapping_parameters!$J$16,G110>=Onglet_mapping_parameters!$J$16),Onglet_mapping_parameters!$J$22),\"\")","v":""},null,{"$f":"IFERROR(_xlfn.IFS(Tableau1[[#This Row],[Category]]=Onglet_mapping_parameters!$C$27,Onglet_mapping_parameters!$B$27,Tableau1[[#This Row],[Category]]=Onglet_mapping_parameters!$C$28,Onglet_mapping_parameters!$B$28,Tableau1[[#This Row],[Category]]=Onglet_mapping_parameters!$C$29,Onglet_mapping_parameters!$B$29,Tableau1[[#This Row],[Category]]=Onglet_mapping_parameters!$C$30,Onglet_mapping_parameters!$B$30),\"\")","v":""},null,null,"Delete"]
[null,null,null,null,null,null,null,null,null,{"$f":"IFERROR(_xlfn.IFS(OR(F111=\"\",G111=\"\"),\"\",AND(F111<Onglet_mapping_parameters!$J$16,G111<Onglet_mapping_parameters!$J$16),Onglet_mapping_parameters!$J$18,AND(F111<Onglet_mapping_parameters!$J$16,G111>=Onglet_mapping_parameters!$J$16),Onglet_mapping_parameters!$J$20,AND(F111>=Onglet_mapping_parameters!$J$16,G111<Onglet_mapping_parameters!$J$16),Onglet_mapping_parameters!$J$21,AND(F111>=Onglet_mapping_parameters!$J$16,G111>=Onglet_mapping_parameters!$J$16),Onglet_mapping_parameters!$J$22),\"\")","v":""},null,{"$f":"IFERROR(_xlfn.IFS(Tableau1[[#This Row],[Category]]=Onglet_mapping_parameters!$C$27,Onglet_mapping_parameters!$B$27,Tableau1[[#This Row],[Category]]=Onglet_mapping_parameters!$C$28,Onglet_mapping_parameters!$B$28,Tableau1[[#This Row],[Category]]=Onglet_mapping_parameters!$C$29,Onglet_mapping_parameters!$B$29,Tableau1[[#This Row],[Category]]=Onglet_mapping_parameters!$C$30,Onglet_mapping_parameters!$B$30),\"\")","v":""},null,null,"Delete"]
[null,null,null,null,null,null,null,null,null,{"$f":"IFERROR(_xlfn.IFS(OR(F112=\"\",G112=\"\"),\"\",AND(F112<Onglet_mapping_parameters!$J$16,G112<Onglet_mapping_parameters!$J$16),Onglet_mapping_parameters!$J$18,AND(F112<Onglet_mapping_parameters!$J$16,G112>=Onglet_mapping_parameters!$J$16),Onglet_mapping_parameters!$J$20,AND(F112>=Onglet_mapping_parameters!$J$16,G112<Onglet_mapping_parameters!$J$16),Onglet_mapping_parameters!$J$21,AND(F112>=Onglet_mapping_parameters!$J$16,G112>=Onglet_mapping_parameters!$J$16),Onglet_mapping_parameters!$J$22),\"\")","v":""},null,{"$f":"IFERROR(_xlfn.IFS(Tableau1[[#This Row],[Category]]=Onglet_mapping_parameters!$C$27,Onglet_mapping_parameters!$B$27,Tableau1[[#This Row],[Category]]=Onglet_mapping_parameters!$C$28,Onglet_mapping_parameters!$B$28,Tableau1[[#This Row],[Category]]=Onglet_mapping_parameters!$C$29,Onglet_mapping_parameters!$B$29,Tableau1[[#This Row],[Category]]=Onglet_mapping_parameters!$C$30,Onglet_mapping_parameters!$B$30),\"\")","v":""},null,null,"Delete"]
[null,null,null,null,null,null,null,null,null,{"$f":"IFERROR(_xlfn.IFS(OR(F113=\"\",G113=\"\"),\"\",AND(F113<Onglet_mapping_parameters!$J$16,G113<Onglet_mapping_parameters!$J$16),Onglet_mapping_parameters!$J$18,AND(F113<Onglet_mapping_parameters!$J$16,G113>=Onglet_mapping_parameters!$J$16),Onglet_mapping_parameters!$J$20,AND(F113>=Onglet_mapping_parameters!$J$16,G113<Onglet_mapping_parameters!$J$16),Onglet_mapping_parameters!$J$21,AND(F113>=Onglet_mapping_parameters!$J$16,G113>=Onglet_mapping_parameters!$J$16),Onglet_mapping_parameters!$J$22),\"\")","v":""},null,{"$f":"IFERROR(_xlfn.IFS(Tableau1[[#This Row],[Category]]=Onglet_mapping_parameters!$C$27,Onglet_mapping_parameters!$B$27,Tableau1[[#This Row],[Category]]=Onglet_mapping_parameters!$C$28,Onglet_mapping_parameters!$B$28,Tableau1[[#This Row],[Category]]=Onglet_mapping_parameters!$C$29,Onglet_mapping_parameters!$B$29,Tableau1[[#This Row],[Category]]=Onglet_mapping_parameters!$C$30,Onglet_mapping_parameters!$B$30),\"\")","v":""},null,null,"Delete"]
[null,null,null,null,null,null,null,null,null,{"$f":"IFERROR(_xlfn.IFS(OR(F114=\"\",G114=\"\"),\"\",AND(F114<Onglet_mapping_parameters!$J$16,G114<Onglet_mapping_parameters!$J$16),Onglet_mapping_parameters!$J$18,AND(F114<Onglet_mapping_parameters!$J$16,G114>=Onglet_mapping_parameters!$J$16),Onglet_mapping_parameters!$J$20,AND(F114>=Onglet_mapping_parameters!$J$16,G114<Onglet_mapping_parameters!$J$16),Onglet_mapping_parameters!$J$21,AND(F114>=Onglet_mapping_parameters!$J$16,G114>=Onglet_mapping_parameters!$J$16),Onglet_mapping_parameters!$J$22),\"\")","v":""},null,{"$f":"IFERROR(_xlfn.IFS(Tableau1[[#This Row],[Category]]=Onglet_mapping_parameters!$C$27,Onglet_mapping_parameters!$B$27,Tableau1[[#This Row],[Category]]=Onglet_mapping_parameters!$C$28,Onglet_mapping_parameters!$B$28,Tableau1[[#This Row],[Category]]=Onglet_mapping_parameters!$C$29,Onglet_mapping_parameters!$B$29,Tableau1[[#This Row],[Category]]=Onglet_mapping_parameters!$C$30,Onglet_mapping_parameters!$B$30),\"\")","v":""},null,null,"Delete"]
[null,null,null,null,null,null,null,null,null,{"$f":"IFERROR(_xlfn.IFS(OR(F115=\"\",G115=\"\"),\"\",AND(F115<Onglet_mapping_parameters!$J$16,G115<Onglet_mapping_parameters!$J$16),Onglet_mapping_parameters!$J$18,AND(F115<Onglet_mapping_parameters!$J$16,G115>=Onglet_mapping_parameters!$J$16),Onglet_mapping_parameters!$J$20,AND(F115>=Onglet_mapping_parameters!$J$16,G115<Onglet_mapping_parameters!$J$16),Onglet_mapping_parameters!$J$21,AND(F115>=Onglet_mapping_parameters!$J$16,G115>=Onglet_mapping_parameters!$J$16),Onglet_mapping_parameters!$J$22),\"\")","v":""},null,{"$f":"IFERROR(_xlfn.IFS(Tableau1[[#This Row],[Category]]=Onglet_mapping_parameters!$C$27,Onglet_mapping_parameters!$B$27,Tableau1[[#This Row],[Category]]=Onglet_mapping_parameters!$C$28,Onglet_mapping_parameters!$B$28,Tableau1[[#This Row],[Category]]=Onglet_mapping_parameters!$C$29,Onglet_mapping_parameters!$B$29,Tableau1[[#This Row],[Category]]=Onglet_mapping_parameters!$C$30,Onglet_mapping_parameters!$B$30),\"\")","v":""},null,null,"Delete"]
[null,null,null,null,null,null,null,null,null,{"$f":"IFERROR(_xlfn.IFS(OR(F116=\"\",G116=\"\"),\"\",AND(F116<Onglet_mapping_parameters!$J$16,G116<Onglet_mapping_parameters!$J$16),Onglet_mapping_parameters!$J$18,AND(F116<Onglet_mapping_parameters!$J$16,G116>=Onglet_mapping_parameters!$J$16),Onglet_mapping_parameters!$J$20,AND(F116>=Onglet_mapping_parameters!$J$16,G116<Onglet_mapping_parameters!$J$16),Onglet_mapping_parameters!$J$21,AND(F116>=Onglet_mapping_parameters!$J$16,G116>=Onglet_mapping_parameters!$J$16),Onglet_mapping_parameters!$J$22),\"\")","v":""},null,{"$f":"IFERROR(_xlfn.IFS(Tableau1[[#This Row],[Category]]=Onglet_mapping_parameters!$C$27,Onglet_mapping_parameters!$B$27,Tableau1[[#This Row],[Category]]=Onglet_mapping_parameters!$C$28,Onglet_mapping_parameters!$B$28,Tableau1[[#This Row],[Category]]=Onglet_mapping_parameters!$C$29,Onglet_mapping_parameters!$B$29,Tableau1[[#This Row],[Category]]=Onglet_mapping_parameters!$C$30,Onglet_mapping_parameters!$B$30),\"\")","v":""},null,null,"Delete"]
[null,null,null,null,null,null,null,null,null,{"$f":"IFERROR(_xlfn.IFS(OR(F117=\"\",G117=\"\"),\"\",AND(F117<Onglet_mapping_parameters!$J$16,G117<Onglet_mapping_parameters!$J$16),Onglet_mapping_parameters!$J$18,AND(F117<Onglet_mapping_parameters!$J$16,G117>=Onglet_mapping_parameters!$J$16),Onglet_mapping_parameters!$J$20,AND(F117>=Onglet_mapping_parameters!$J$16,G117<Onglet_mapping_parameters!$J$16),Onglet_mapping_parameters!$J$21,AND(F117>=Onglet_mapping_parameters!$J$16,G117>=Onglet_mapping_parameters!$J$16),Onglet_mapping_parameters!$J$22),\"\")","v":""},null,{"$f":"IFERROR(_xlfn.IFS(Tableau1[[#This Row],[Category]]=Onglet_mapping_parameters!$C$27,Onglet_mapping_parameters!$B$27,Tableau1[[#This Row],[Category]]=Onglet_mapping_parameters!$C$28,Onglet_mapping_parameters!$B$28,Tableau1[[#This Row],[Category]]=Onglet_mapping_parameters!$C$29,Onglet_mapping_parameters!$B$29,Tableau1[[#This Row],[Category]]=Onglet_mapping_parameters!$C$30,Onglet_mapping_parameters!$B$30),\"\")","v":""},null,null,"Delete"]
[null,null,null,null,null,null,null,null,null,{"$f":"IFERROR(_xlfn.IFS(OR(F118=\"\",G118=\"\"),\"\",AND(F118<Onglet_mapping_parameters!$J$16,G118<Onglet_mapping_parameters!$J$16),Onglet_mapping_parameters!$J$18,AND(F118<Onglet_mapping_parameters!$J$16,G118>=Onglet_mapping_parameters!$J$16),Onglet_mapping_parameters!$J$20,AND(F118>=Onglet_mapping_parameters!$J$16,G118<Onglet_mapping_parameters!$J$16),Onglet_mapping_parameters!$J$21,AND(F118>=Onglet_mapping_parameters!$J$16,G118>=Onglet_mapping_parameters!$J$16),Onglet_mapping_parameters!$J$22),\"\")","v":""},null,{"$f":"IFERROR(_xlfn.IFS(Tableau1[[#This Row],[Category]]=Onglet_mapping_parameters!$C$27,Onglet_mapping_parameters!$B$27,Tableau1[[#This Row],[Category]]=Onglet_mapping_parameters!$C$28,Onglet_mapping_parameters!$B$28,Tableau1[[#This Row],[Category]]=Onglet_mapping_parameters!$C$29,Onglet_mapping_parameters!$B$29,Tableau1[[#This Row],[Category]]=Onglet_mapping_parameters!$C$30,Onglet_mapping_parameters!$B$30),\"\")","v":""},null,null,"Delete"]
[null,null,null,null,null,null,null,null,null,{"$f":"IFERROR(_xlfn.IFS(OR(F119=\"\",G119=\"\"),\"\",AND(F119<Onglet_mapping_parameters!$J$16,G119<Onglet_mapping_parameters!$J$16),Onglet_mapping_parameters!$J$18,AND(F119<Onglet_mapping_parameters!$J$16,G119>=Onglet_mapping_parameters!$J$16),Onglet_mapping_parameters!$J$20,AND(F119>=Onglet_mapping_parameters!$J$16,G119<Onglet_mapping_parameters!$J$16),Onglet_mapping_parameters!$J$21,AND(F119>=Onglet_mapping_parameters!$J$16,G119>=Onglet_mapping_parameters!$J$16),Onglet_mapping_parameters!$J$22),\"\")","v":""},null,{"$f":"IFERROR(_xlfn.IFS(Tableau1[[#This Row],[Category]]=Onglet_mapping_parameters!$C$27,Onglet_mapping_parameters!$B$27,Tableau1[[#This Row],[Category]]=Onglet_mapping_parameters!$C$28,Onglet_mapping_parameters!$B$28,Tableau1[[#This Row],[Category]]=Onglet_mapping_parameters!$C$29,Onglet_mapping_parameters!$B$29,Tableau1[[#This Row],[Category]]=Onglet_mapping_parameters!$C$30,Onglet_mapping_parameters!$B$30),\"\")","v":""},null,null,"Delete"]
[null,null,null,null,null,null,null,null,null,{"$f":"IFERROR(_xlfn.IFS(OR(F120=\"\",G120=\"\"),\"\",AND(F120<Onglet_mapping_parameters!$J$16,G120<Onglet_mapping_parameters!$J$16),Onglet_mapping_parameters!$J$18,AND(F120<Onglet_mapping_parameters!$J$16,G120>=Onglet_mapping_parameters!$J$16),Onglet_mapping_parameters!$J$20,AND(F120>=Onglet_mapping_parameters!$J$16,G120<Onglet_mapping_parameters!$J$16),Onglet_mapping_parameters!$J$21,AND(F120>=Onglet_mapping_parameters!$J$16,G120>=Onglet_mapping_parameters!$J$16),Onglet_mapping_parameters!$J$22),\"\")","v":""},null,{"$f":"IFERROR(_xlfn.IFS(Tableau1[[#This Row],[Category]]=Onglet_mapping_parameters!$C$27,Onglet_mapping_parameters!$B$27,Tableau1[[#This Row],[Category]]=Onglet_mapping_parameters!$C$28,Onglet_mapping_parameters!$B$28,Tableau1[[#This Row],[Category]]=Onglet_mapping_parameters!$C$29,Onglet_mapping_parameters!$B$29,Tableau1[[#This Row],[Category]]=Onglet_mapping_parameters!$C$30,Onglet_mapping_parameters!$B$30),\"\")","v":""},null,null,"Delete"]
[null,null,null,null,null,null,null,null,null,{"$f":"IFERROR(_xlfn.IFS(OR(F121=\"\",G121=\"\"),\"\",AND(F121<Onglet_mapping_parameters!$J$16,G121<Onglet_mapping_parameters!$J$16),Onglet_mapping_parameters!$J$18,AND(F121<Onglet_mapping_parameters!$J$16,G121>=Onglet_mapping_parameters!$J$16),Onglet_mapping_parameters!$J$20,AND(F121>=Onglet_mapping_parameters!$J$16,G121<Onglet_mapping_parameters!$J$16),Onglet_mapping_parameters!$J$21,AND(F121>=Onglet_mapping_parameters!$J$16,G121>=Onglet_mapping_parameters!$J$16),Onglet_mapping_parameters!$J$22),\"\")","v":""},null,{"$f":"IFERROR(_xlfn.IFS(Tableau1[[#This Row],[Category]]=Onglet_mapping_parameters!$C$27,Onglet_mapping_parameters!$B$27,Tableau1[[#This Row],[Category]]=Onglet_mapping_parameters!$C$28,Onglet_mapping_parameters!$B$28,Tableau1[[#This Row],[Category]]=Onglet_mapping_parameters!$C$29,Onglet_mapping_parameters!$B$29,Tableau1[[#This Row],[Category]]=Onglet_mapping_parameters!$C$30,Onglet_mapping_parameters!$B$30),\"\")","v":""},null,null,"Delete"]
[null,null,null,null,null,null,null,null,null,{"$f":"IFERROR(_xlfn.IFS(OR(F122=\"\",G122=\"\"),\"\",AND(F122<Onglet_mapping_parameters!$J$16,G122<Onglet_mapping_parameters!$J$16),Onglet_mapping_parameters!$J$18,AND(F122<Onglet_mapping_parameters!$J$16,G122>=Onglet_mapping_parameters!$J$16),Onglet_mapping_parameters!$J$20,AND(F122>=Onglet_mapping_parameters!$J$16,G122<Onglet_mapping_parameters!$J$16),Onglet_mapping_parameters!$J$21,AND(F122>=Onglet_mapping_parameters!$J$16,G122>=Onglet_mapping_parameters!$J$16),Onglet_mapping_parameters!$J$22),\"\")","v":""},null,{"$f":"IFERROR(_xlfn.IFS(Tableau1[[#This Row],[Category]]=Onglet_mapping_parameters!$C$27,Onglet_mapping_parameters!$B$27,Tableau1[[#This Row],[Category]]=Onglet_mapping_parameters!$C$28,Onglet_mapping_parameters!$B$28,Tableau1[[#This Row],[Category]]=Onglet_mapping_parameters!$C$29,Onglet_mapping_parameters!$B$29,Tableau1[[#This Row],[Category]]=Onglet_mapping_parameters!$C$30,Onglet_mapping_parameters!$B$30),\"\")","v":""},null,null,"Delete"]
[null,null,null,null,null,null,null,null,null,{"$f":"IFERROR(_xlfn.IFS(OR(F123=\"\",G123=\"\"),\"\",AND(F123<Onglet_mapping_parameters!$J$16,G123<Onglet_mapping_parameters!$J$16),Onglet_mapping_parameters!$J$18,AND(F123<Onglet_mapping_parameters!$J$16,G123>=Onglet_mapping_parameters!$J$16),Onglet_mapping_parameters!$J$20,AND(F123>=Onglet_mapping_parameters!$J$16,G123<Onglet_mapping_parameters!$J$16),Onglet_mapping_parameters!$J$21,AND(F123>=Onglet_mapping_parameters!$J$16,G123>=Onglet_mapping_parameters!$J$16),Onglet_mapping_parameters!$J$22),\"\")","v":""},null,{"$f":"IFERROR(_xlfn.IFS(Tableau1[[#This Row],[Category]]=Onglet_mapping_parameters!$C$27,Onglet_mapping_parameters!$B$27,Tableau1[[#This Row],[Category]]=Onglet_mapping_parameters!$C$28,Onglet_mapping_parameters!$B$28,Tableau1[[#This Row],[Category]]=Onglet_mapping_parameters!$C$29,Onglet_mapping_parameters!$B$29,Tableau1[[#This Row],[Category]]=Onglet_mapping_parameters!$C$30,Onglet_mapping_parameters!$B$30),\"\")","v":""},null,null,"Delete"]
[null,null,null,null,null,null,null,null,null,{"$f":"IFERROR(_xlfn.IFS(OR(F124=\"\",G124=\"\"),\"\",AND(F124<Onglet_mapping_parameters!$J$16,G124<Onglet_mapping_parameters!$J$16),Onglet_mapping_parameters!$J$18,AND(F124<Onglet_mapping_parameters!$J$16,G124>=Onglet_mapping_parameters!$J$16),Onglet_mapping_parameters!$J$20,AND(F124>=Onglet_mapping_parameters!$J$16,G124<Onglet_mapping_parameters!$J$16),Onglet_mapping_parameters!$J$21,AND(F124>=Onglet_mapping_parameters!$J$16,G124>=Onglet_mapping_parameters!$J$16),Onglet_mapping_parameters!$J$22),\"\")","v":""},null,{"$f":"IFERROR(_xlfn.IFS(Tableau1[[#This Row],[Category]]=Onglet_mapping_parameters!$C$27,Onglet_mapping_parameters!$B$27,Tableau1[[#This Row],[Category]]=Onglet_mapping_parameters!$C$28,Onglet_mapping_parameters!$B$28,Tableau1[[#This Row],[Category]]=Onglet_mapping_parameters!$C$29,Onglet_mapping_parameters!$B$29,Tableau1[[#This Row],[Category]]=Onglet_mapping_parameters!$C$30,Onglet_mapping_parameters!$B$30),\"\")","v":""},null,null,"Delete"]
[null,null,null,null,null,null,null,null,null,{"$f":"IFERROR(_xlfn.IFS(OR(F125=\"\",G125=\"\"),\"\",AND(F125<Onglet_mapping_parameters!$J$16,G125<Onglet_mapping_parameters!$J$16),Onglet_mapping_parameters!$J$18,AND(F125<Onglet_mapping_parameters!$J$16,G125>=Onglet_mapping_parameters!$J$16),Onglet_mapping_parameters!$J$20,AND(F125>=Onglet_mapping_parameters!$J$16,G125<Onglet_mapping_parameters!$J$16),Onglet_mapping_parameters!$J$21,AND(F125>=Onglet_mapping_parameters!$J$16,G125>=Onglet_mapping_parameters!$J$16),Onglet_mapping_parameters!$J$22),\"\")","v":""},null,{"$f":"IFERROR(_xlfn.IFS(Tableau1[[#This Row],[Category]]=Onglet_mapping_parameters!$C$27,Onglet_mapping_parameters!$B$27,Tableau1[[#This Row],[Category]]=Onglet_mapping_parameters!$C$28,Onglet_mapping_parameters!$B$28,Tableau1[[#This Row],[Category]]=Onglet_mapping_parameters!$C$29,Onglet_mapping_parameters!$B$29,Tableau1[[#This Row],[Category]]=Onglet_mapping_parameters!$C$30,Onglet_mapping_parameters!$B$30),\"\")","v":""},null,null,"Delete"]
[null,null,null,null,null,null,null,null,null,{"$f":"IFERROR(_xlfn.IFS(OR(F126=\"\",G126=\"\"),\"\",AND(F126<Onglet_mapping_parameters!$J$16,G126<Onglet_mapping_parameters!$J$16),Onglet_mapping_parameters!$J$18,AND(F126<Onglet_mapping_parameters!$J$16,G126>=Onglet_mapping_parameters!$J$16),Onglet_mapping_parameters!$J$20,AND(F126>=Onglet_mapping_parameters!$J$16,G126<Onglet_mapping_parameters!$J$16),Onglet_mapping_parameters!$J$21,AND(F126>=Onglet_mapping_parameters!$J$16,G126>=Onglet_mapping_parameters!$J$16),Onglet_mapping_parameters!$J$22),\"\")","v":""},null,{"$f":"IFERROR(_xlfn.IFS(Tableau1[[#This Row],[Category]]=Onglet_mapping_parameters!$C$27,Onglet_mapping_parameters!$B$27,Tableau1[[#This Row],[Category]]=Onglet_mapping_parameters!$C$28,Onglet_mapping_parameters!$B$28,Tableau1[[#This Row],[Category]]=Onglet_mapping_parameters!$C$29,Onglet_mapping_parameters!$B$29,Tableau1[[#This Row],[Category]]=Onglet_mapping_parameters!$C$30,Onglet_mapping_parameters!$B$30),\"\")","v":""},null,null,"Delete"]
[null,null,null,null,null,null,null,null,null,{"$f":"IFERROR(_xlfn.IFS(OR(F127=\"\",G127=\"\"),\"\",AND(F127<Onglet_mapping_parameters!$J$16,G127<Onglet_mapping_parameters!$J$16),Onglet_mapping_parameters!$J$18,AND(F127<Onglet_mapping_parameters!$J$16,G127>=Onglet_mapping_parameters!$J$16),Onglet_mapping_parameters!$J$20,AND(F127>=Onglet_mapping_parameters!$J$16,G127<Onglet_mapping_parameters!$J$16),Onglet_mapping_parameters!$J$21,AND(F127>=Onglet_mapping_parameters!$J$16,G127>=Onglet_mapping_parameters!$J$16),Onglet_mapping_parameters!$J$22),\"\")","v":""},null,{"$f":"IFERROR(_xlfn.IFS(Tableau1[[#This Row],[Category]]=Onglet_mapping_parameters!$C$27,Onglet_mapping_parameters!$B$27,Tableau1[[#This Row],[Category]]=Onglet_mapping_parameters!$C$28,Onglet_mapping_parameters!$B$28,Tableau1[[#This Row],[Category]]=Onglet_mapping_parameters!$C$29,Onglet_mapping_parameters!$B$29,Tableau1[[#This Row],[Category]]=Onglet_mapping_parameters!$C$30,Onglet_mapping_parameters!$B$30),\"\")","v":""},null,null,"Delete"]
[null,null,null,null,null,null,null,null,null,{"$f":"IFERROR(_xlfn.IFS(OR(F128=\"\",G128=\"\"),\"\",AND(F128<Onglet_mapping_parameters!$J$16,G128<Onglet_mapping_parameters!$J$16),Onglet_mapping_parameters!$J$18,AND(F128<Onglet_mapping_parameters!$J$16,G128>=Onglet_mapping_parameters!$J$16),Onglet_mapping_parameters!$J$20,AND(F128>=Onglet_mapping_parameters!$J$16,G128<Onglet_mapping_parameters!$J$16),Onglet_mapping_parameters!$J$21,AND(F128>=Onglet_mapping_parameters!$J$16,G128>=Onglet_mapping_parameters!$J$16),Onglet_mapping_parameters!$J$22),\"\")","v":""},null,{"$f":"IFERROR(_xlfn.IFS(Tableau1[[#This Row],[Category]]=Onglet_mapping_parameters!$C$27,Onglet_mapping_parameters!$B$27,Tableau1[[#This Row],[Category]]=Onglet_mapping_parameters!$C$28,Onglet_mapping_parameters!$B$28,Tableau1[[#This Row],[Category]]=Onglet_mapping_parameters!$C$29,Onglet_mapping_parameters!$B$29,Tableau1[[#This Row],[Category]]=Onglet_mapping_parameters!$C$30,Onglet_mapping_parameters!$B$30),\"\")","v":""},null,null,"Delete"]
[null,null,null,null,null,null,null,null,null,{"$f":"IFERROR(_xlfn.IFS(OR(F129=\"\",G129=\"\"),\"\",AND(F129<Onglet_mapping_parameters!$J$16,G129<Onglet_mapping_parameters!$J$16),Onglet_mapping_parameters!$J$18,AND(F129<Onglet_mapping_parameters!$J$16,G129>=Onglet_mapping_parameters!$J$16),Onglet_mapping_parameters!$J$20,AND(F129>=Onglet_mapping_parameters!$J$16,G129<Onglet_mapping_parameters!$J$16),Onglet_mapping_parameters!$J$21,AND(F129>=Onglet_mapping_parameters!$J$16,G129>=Onglet_mapping_parameters!$J$16),Onglet_mapping_parameters!$J$22),\"\")","v":""},null,{"$f":"IFERROR(_xlfn.IFS(Tableau1[[#This Row],[Category]]=Onglet_mapping_parameters!$C$27,Onglet_mapping_parameters!$B$27,Tableau1[[#This Row],[Category]]=Onglet_mapping_parameters!$C$28,Onglet_mapping_parameters!$B$28,Tableau1[[#This Row],[Category]]=Onglet_mapping_parameters!$C$29,Onglet_mapping_parameters!$B$29,Tableau1[[#This Row],[Category]]=Onglet_mapping_parameters!$C$30,Onglet_mapping_parameters!$B$30),\"\")","v":""},null,null,"Delete"]
[null,null,null,null,null,null,null,null,null,{"$f":"IFERROR(_xlfn.IFS(OR(F130=\"\",G130=\"\"),\"\",AND(F130<Onglet_mapping_parameters!$J$16,G130<Onglet_mapping_parameters!$J$16),Onglet_mapping_parameters!$J$18,AND(F130<Onglet_mapping_parameters!$J$16,G130>=Onglet_mapping_parameters!$J$16),Onglet_mapping_parameters!$J$20,AND(F130>=Onglet_mapping_parameters!$J$16,G130<Onglet_mapping_parameters!$J$16),Onglet_mapping_parameters!$J$21,AND(F130>=Onglet_mapping_parameters!$J$16,G130>=Onglet_mapping_parameters!$J$16),Onglet_mapping_parameters!$J$22),\"\")","v":""},null,{"$f":"IFERROR(_xlfn.IFS(Tableau1[[#This Row],[Category]]=Onglet_mapping_parameters!$C$27,Onglet_mapping_parameters!$B$27,Tableau1[[#This Row],[Category]]=Onglet_mapping_parameters!$C$28,Onglet_mapping_parameters!$B$28,Tableau1[[#This Row],[Category]]=Onglet_mapping_parameters!$C$29,Onglet_mapping_parameters!$B$29,Tableau1[[#This Row],[Category]]=Onglet_mapping_parameters!$C$30,Onglet_mapping_parameters!$B$30),\"\")","v":""},null,null,"Delete"]
[null,null,null,null,null,null,null,null,null,{"$f":"IFERROR(_xlfn.IFS(OR(F131=\"\",G131=\"\"),\"\",AND(F131<Onglet_mapping_parameters!$J$16,G131<Onglet_mapping_parameters!$J$16),Onglet_mapping_parameters!$J$18,AND(F131<Onglet_mapping_parameters!$J$16,G131>=Onglet_mapping_parameters!$J$16),Onglet_mapping_parameters!$J$20,AND(F131>=Onglet_mapping_parameters!$J$16,G131<Onglet_mapping_parameters!$J$16),Onglet_mapping_parameters!$J$21,AND(F131>=Onglet_mapping_parameters!$J$16,G131>=Onglet_mapping_parameters!$J$16),Onglet_mapping_parameters!$J$22),\"\")","v":""},null,{"$f":"IFERROR(_xlfn.IFS(Tableau1[[#This Row],[Category]]=Onglet_mapping_parameters!$C$27,Onglet_mapping_parameters!$B$27,Tableau1[[#This Row],[Category]]=Onglet_mapping_parameters!$C$28,Onglet_mapping_parameters!$B$28,Tableau1[[#This Row],[Category]]=Onglet_mapping_parameters!$C$29,Onglet_mapping_parameters!$B$29,Tableau1[[#This Row],[Category]]=Onglet_mapping_parameters!$C$30,Onglet_mapping_parameters!$B$30),\"\")","v":""},null,null,"Delete"]
[null,null,null,null,null,null,null,null,null,{"$f":"IFERROR(_xlfn.IFS(OR(F132=\"\",G132=\"\"),\"\",AND(F132<Onglet_mapping_parameters!$J$16,G132<Onglet_mapping_parameters!$J$16),Onglet_mapping_parameters!$J$18,AND(F132<Onglet_mapping_parameters!$J$16,G132>=Onglet_mapping_parameters!$J$16),Onglet_mapping_parameters!$J$20,AND(F132>=Onglet_mapping_parameters!$J$16,G132<Onglet_mapping_parameters!$J$16),Onglet_mapping_parameters!$J$21,AND(F132>=Onglet_mapping_parameters!$J$16,G132>=Onglet_mapping_parameters!$J$16),Onglet_mapping_parameters!$J$22),\"\")","v":""},null,{"$f":"IFERROR(_xlfn.IFS(Tableau1[[#This Row],[Category]]=Onglet_mapping_parameters!$C$27,Onglet_mapping_parameters!$B$27,Tableau1[[#This Row],[Category]]=Onglet_mapping_parameters!$C$28,Onglet_mapping_parameters!$B$28,Tableau1[[#This Row],[Category]]=Onglet_mapping_parameters!$C$29,Onglet_mapping_parameters!$B$29,Tableau1[[#This Row],[Category]]=Onglet_mapping_parameters!$C$30,Onglet_mapping_parameters!$B$30),\"\")","v":""},null,null,"Delete"]
[null,null,null,null,null,null,null,null,null,{"$f":"IFERROR(_xlfn.IFS(OR(F133=\"\",G133=\"\"),\"\",AND(F133<Onglet_mapping_parameters!$J$16,G133<Onglet_mapping_parameters!$J$16),Onglet_mapping_parameters!$J$18,AND(F133<Onglet_mapping_parameters!$J$16,G133>=Onglet_mapping_parameters!$J$16),Onglet_mapping_parameters!$J$20,AND(F133>=Onglet_mapping_parameters!$J$16,G133<Onglet_mapping_parameters!$J$16),Onglet_mapping_parameters!$J$21,AND(F133>=Onglet_mapping_parameters!$J$16,G133>=Onglet_mapping_parameters!$J$16),Onglet_mapping_parameters!$J$22),\"\")","v":""},null,{"$f":"IFERROR(_xlfn.IFS(Tableau1[[#This Row],[Category]]=Onglet_mapping_parameters!$C$27,Onglet_mapping_parameters!$B$27,Tableau1[[#This Row],[Category]]=Onglet_mapping_parameters!$C$28,Onglet_mapping_parameters!$B$28,Tableau1[[#This Row],[Category]]=Onglet_mapping_parameters!$C$29,Onglet_mapping_parameters!$B$29,Tableau1[[#This Row],[Category]]=Onglet_mapping_parameters!$C$30,Onglet_mapping_parameters!$B$30),\"\")","v":""},null,null,"Delete"]
[null,null,null,null,null,null,null,null,null,{"$f":"IFERROR(_xlfn.IFS(OR(F134=\"\",G134=\"\"),\"\",AND(F134<Onglet_mapping_parameters!$J$16,G134<Onglet_mapping_parameters!$J$16),Onglet_mapping_parameters!$J$18,AND(F134<Onglet_mapping_parameters!$J$16,G134>=Onglet_mapping_parameters!$J$16),Onglet_mapping_parameters!$J$20,AND(F134>=Onglet_mapping_parameters!$J$16,G134<Onglet_mapping_parameters!$J$16),Onglet_mapping_parameters!$J$21,AND(F134>=Onglet_mapping_parameters!$J$16,G134>=Onglet_mapping_parameters!$J$16),Onglet_mapping_parameters!$J$22),\"\")","v":""},null,{"$f":"IFERROR(_xlfn.IFS(Tableau1[[#This Row],[Category]]=Onglet_mapping_parameters!$C$27,Onglet_mapping_parameters!$B$27,Tableau1[[#This Row],[Category]]=Onglet_mapping_parameters!$C$28,Onglet_mapping_parameters!$B$28,Tableau1[[#This Row],[Category]]=Onglet_mapping_parameters!$C$29,Onglet_mapping_parameters!$B$29,Tableau1[[#This Row],[Category]]=Onglet_mapping_parameters!$C$30,Onglet_mapping_parameters!$B$30),\"\")","v":""},null,null,"Delete"]
[null,null,null,null,null,null,null,null,null,{"$f":"IFERROR(_xlfn.IFS(OR(F135=\"\",G135=\"\"),\"\",AND(F135<Onglet_mapping_parameters!$J$16,G135<Onglet_mapping_parameters!$J$16),Onglet_mapping_parameters!$J$18,AND(F135<Onglet_mapping_parameters!$J$16,G135>=Onglet_mapping_parameters!$J$16),Onglet_mapping_parameters!$J$20,AND(F135>=Onglet_mapping_parameters!$J$16,G135<Onglet_mapping_parameters!$J$16),Onglet_mapping_parameters!$J$21,AND(F135>=Onglet_mapping_parameters!$J$16,G135>=Onglet_mapping_parameters!$J$16),Onglet_mapping_parameters!$J$22),\"\")","v":""},null,{"$f":"IFERROR(_xlfn.IFS(Tableau1[[#This Row],[Category]]=Onglet_mapping_parameters!$C$27,Onglet_mapping_parameters!$B$27,Tableau1[[#This Row],[Category]]=Onglet_mapping_parameters!$C$28,Onglet_mapping_parameters!$B$28,Tableau1[[#This Row],[Category]]=Onglet_mapping_parameters!$C$29,Onglet_mapping_parameters!$B$29,Tableau1[[#This Row],[Category]]=Onglet_mapping_parameters!$C$30,Onglet_mapping_parameters!$B$30),\"\")","v":""},null,null,"Delete"]
[null,null,null,null,null,null,null,null,null,{"$f":"IFERROR(_xlfn.IFS(OR(F136=\"\",G136=\"\"),\"\",AND(F136<Onglet_mapping_parameters!$J$16,G136<Onglet_mapping_parameters!$J$16),Onglet_mapping_parameters!$J$18,AND(F136<Onglet_mapping_parameters!$J$16,G136>=Onglet_mapping_parameters!$J$16),Onglet_mapping_parameters!$J$20,AND(F136>=Onglet_mapping_parameters!$J$16,G136<Onglet_mapping_parameters!$J$16),Onglet_mapping_parameters!$J$21,AND(F136>=Onglet_mapping_parameters!$J$16,G136>=Onglet_mapping_parameters!$J$16),Onglet_mapping_parameters!$J$22),\"\")","v":""},null,{"$f":"IFERROR(_xlfn.IFS(Tableau1[[#This Row],[Category]]=Onglet_mapping_parameters!$C$27,Onglet_mapping_parameters!$B$27,Tableau1[[#This Row],[Category]]=Onglet_mapping_parameters!$C$28,Onglet_mapping_parameters!$B$28,Tableau1[[#This Row],[Category]]=Onglet_mapping_parameters!$C$29,Onglet_mapping_parameters!$B$29,Tableau1[[#This Row],[Category]]=Onglet_mapping_parameters!$C$30,Onglet_mapping_parameters!$B$30),\"\")","v":""},null,null,"Delete"]
[null,null,null,null,null,null,null,null,null,{"$f":"IFERROR(_xlfn.IFS(OR(F137=\"\",G137=\"\"),\"\",AND(F137<Onglet_mapping_parameters!$J$16,G137<Onglet_mapping_parameters!$J$16),Onglet_mapping_parameters!$J$18,AND(F137<Onglet_mapping_parameters!$J$16,G137>=Onglet_mapping_parameters!$J$16),Onglet_mapping_parameters!$J$20,AND(F137>=Onglet_mapping_parameters!$J$16,G137<Onglet_mapping_parameters!$J$16),Onglet_mapping_parameters!$J$21,AND(F137>=Onglet_mapping_parameters!$J$16,G137>=Onglet_mapping_parameters!$J$16),Onglet_mapping_parameters!$J$22),\"\")","v":""},null,{"$f":"IFERROR(_xlfn.IFS(Tableau1[[#This Row],[Category]]=Onglet_mapping_parameters!$C$27,Onglet_mapping_parameters!$B$27,Tableau1[[#This Row],[Category]]=Onglet_mapping_parameters!$C$28,Onglet_mapping_parameters!$B$28,Tableau1[[#This Row],[Category]]=Onglet_mapping_parameters!$C$29,Onglet_mapping_parameters!$B$29,Tableau1[[#This Row],[Category]]=Onglet_mapping_parameters!$C$30,Onglet_mapping_parameters!$B$30),\"\")","v":""},null,null,"Delete"]
[null,null,null,null,null,null,null,null,null,{"$f":"IFERROR(_xlfn.IFS(OR(F138=\"\",G138=\"\"),\"\",AND(F138<Onglet_mapping_parameters!$J$16,G138<Onglet_mapping_parameters!$J$16),Onglet_mapping_parameters!$J$18,AND(F138<Onglet_mapping_parameters!$J$16,G138>=Onglet_mapping_parameters!$J$16),Onglet_mapping_parameters!$J$20,AND(F138>=Onglet_mapping_parameters!$J$16,G138<Onglet_mapping_parameters!$J$16),Onglet_mapping_parameters!$J$21,AND(F138>=Onglet_mapping_parameters!$J$16,G138>=Onglet_mapping_parameters!$J$16),Onglet_mapping_parameters!$J$22),\"\")","v":""},null,{"$f":"IFERROR(_xlfn.IFS(Tableau1[[#This Row],[Category]]=Onglet_mapping_parameters!$C$27,Onglet_mapping_parameters!$B$27,Tableau1[[#This Row],[Category]]=Onglet_mapping_parameters!$C$28,Onglet_mapping_parameters!$B$28,Tableau1[[#This Row],[Category]]=Onglet_mapping_parameters!$C$29,Onglet_mapping_parameters!$B$29,Tableau1[[#This Row],[Category]]=Onglet_mapping_parameters!$C$30,Onglet_mapping_parameters!$B$30),\"\")","v":""},null,null,"Delete"]
[null,null,null,null,null,null,null,null,null,{"$f":"IFERROR(_xlfn.IFS(OR(F139=\"\",G139=\"\"),\"\",AND(F139<Onglet_mapping_parameters!$J$16,G139<Onglet_mapping_parameters!$J$16),Onglet_mapping_parameters!$J$18,AND(F139<Onglet_mapping_parameters!$J$16,G139>=Onglet_mapping_parameters!$J$16),Onglet_mapping_parameters!$J$20,AND(F139>=Onglet_mapping_parameters!$J$16,G139<Onglet_mapping_parameters!$J$16),Onglet_mapping_parameters!$J$21,AND(F139>=Onglet_mapping_parameters!$J$16,G139>=Onglet_mapping_parameters!$J$16),Onglet_mapping_parameters!$J$22),\"\")","v":""},null,{"$f":"IFERROR(_xlfn.IFS(Tableau1[[#This Row],[Category]]=Onglet_mapping_parameters!$C$27,Onglet_mapping_parameters!$B$27,Tableau1[[#This Row],[Category]]=Onglet_mapping_parameters!$C$28,Onglet_mapping_parameters!$B$28,Tableau1[[#This Row],[Category]]=Onglet_mapping_parameters!$C$29,Onglet_mapping_parameters!$B$29,Tableau1[[#This Row],[Category]]=Onglet_mapping_parameters!$C$30,Onglet_mapping_parameters!$B$30),\"\")","v":""},null,null,"Delete"]
[null,null,null,null,null,null,null,null,null,{"$f":"IFERROR(_xlfn.IFS(OR(F140=\"\",G140=\"\"),\"\",AND(F140<Onglet_mapping_parameters!$J$16,G140<Onglet_mapping_parameters!$J$16),Onglet_mapping_parameters!$J$18,AND(F140<Onglet_mapping_parameters!$J$16,G140>=Onglet_mapping_parameters!$J$16),Onglet_mapping_parameters!$J$20,AND(F140>=Onglet_mapping_parameters!$J$16,G140<Onglet_mapping_parameters!$J$16),Onglet_mapping_parameters!$J$21,AND(F140>=Onglet_mapping_parameters!$J$16,G140>=Onglet_mapping_parameters!$J$16),Onglet_mapping_parameters!$J$22),\"\")","v":""},null,{"$f":"IFERROR(_xlfn.IFS(Tableau1[[#This Row],[Category]]=Onglet_mapping_parameters!$C$27,Onglet_mapping_parameters!$B$27,Tableau1[[#This Row],[Category]]=Onglet_mapping_parameters!$C$28,Onglet_mapping_parameters!$B$28,Tableau1[[#This Row],[Category]]=Onglet_mapping_parameters!$C$29,Onglet_mapping_parameters!$B$29,Tableau1[[#This Row],[Category]]=Onglet_mapping_parameters!$C$30,Onglet_mapping_parameters!$B$30),\"\")","v":""},null,null,"Delete"]
[null,null,null,null,null,null,null,null,null,{"$f":"IFERROR(_xlfn.IFS(OR(F141=\"\",G141=\"\"),\"\",AND(F141<Onglet_mapping_parameters!$J$16,G141<Onglet_mapping_parameters!$J$16),Onglet_mapping_parameters!$J$18,AND(F141<Onglet_mapping_parameters!$J$16,G141>=Onglet_mapping_parameters!$J$16),Onglet_mapping_parameters!$J$20,AND(F141>=Onglet_mapping_parameters!$J$16,G141<Onglet_mapping_parameters!$J$16),Onglet_mapping_parameters!$J$21,AND(F141>=Onglet_mapping_parameters!$J$16,G141>=Onglet_mapping_parameters!$J$16),Onglet_mapping_parameters!$J$22),\"\")","v":""},null,{"$f":"IFERROR(_xlfn.IFS(Tableau1[[#This Row],[Category]]=Onglet_mapping_parameters!$C$27,Onglet_mapping_parameters!$B$27,Tableau1[[#This Row],[Category]]=Onglet_mapping_parameters!$C$28,Onglet_mapping_parameters!$B$28,Tableau1[[#This Row],[Category]]=Onglet_mapping_parameters!$C$29,Onglet_mapping_parameters!$B$29,Tableau1[[#This Row],[Category]]=Onglet_mapping_parameters!$C$30,Onglet_mapping_parameters!$B$30),\"\")","v":""},null,null,"Delete"]
[null,null,null,null,null,null,null,null,null,{"$f":"IFERROR(_xlfn.IFS(OR(F142=\"\",G142=\"\"),\"\",AND(F142<Onglet_mapping_parameters!$J$16,G142<Onglet_mapping_parameters!$J$16),Onglet_mapping_parameters!$J$18,AND(F142<Onglet_mapping_parameters!$J$16,G142>=Onglet_mapping_parameters!$J$16),Onglet_mapping_parameters!$J$20,AND(F142>=Onglet_mapping_parameters!$J$16,G142<Onglet_mapping_parameters!$J$16),Onglet_mapping_parameters!$J$21,AND(F142>=Onglet_mapping_parameters!$J$16,G142>=Onglet_mapping_parameters!$J$16),Onglet_mapping_parameters!$J$22),\"\")","v":""},null,{"$f":"IFERROR(_xlfn.IFS(Tableau1[[#This Row],[Category]]=Onglet_mapping_parameters!$C$27,Onglet_mapping_parameters!$B$27,Tableau1[[#This Row],[Category]]=Onglet_mapping_parameters!$C$28,Onglet_mapping_parameters!$B$28,Tableau1[[#This Row],[Category]]=Onglet_mapping_parameters!$C$29,Onglet_mapping_parameters!$B$29,Tableau1[[#This Row],[Category]]=Onglet_mapping_parameters!$C$30,Onglet_mapping_parameters!$B$30),\"\")","v":""},null,null,"Delete"]
[null,null,null,null,null,null,null,null,null,{"$f":"IFERROR(_xlfn.IFS(OR(F143=\"\",G143=\"\"),\"\",AND(F143<Onglet_mapping_parameters!$J$16,G143<Onglet_mapping_parameters!$J$16),Onglet_mapping_parameters!$J$18,AND(F143<Onglet_mapping_parameters!$J$16,G143>=Onglet_mapping_parameters!$J$16),Onglet_mapping_parameters!$J$20,AND(F143>=Onglet_mapping_parameters!$J$16,G143<Onglet_mapping_parameters!$J$16),Onglet_mapping_parameters!$J$21,AND(F143>=Onglet_mapping_parameters!$J$16,G143>=Onglet_mapping_parameters!$J$16),Onglet_mapping_parameters!$J$22),\"\")","v":""},null,{"$f":"IFERROR(_xlfn.IFS(Tableau1[[#This Row],[Category]]=Onglet_mapping_parameters!$C$27,Onglet_mapping_parameters!$B$27,Tableau1[[#This Row],[Category]]=Onglet_mapping_parameters!$C$28,Onglet_mapping_parameters!$B$28,Tableau1[[#This Row],[Category]]=Onglet_mapping_parameters!$C$29,Onglet_mapping_parameters!$B$29,Tableau1[[#This Row],[Category]]=Onglet_mapping_parameters!$C$30,Onglet_mapping_parameters!$B$30),\"\")","v":""},null,null,"Delete"]
[null,null,null,null,null,null,null,null,null,{"$f":"IFERROR(_xlfn.IFS(OR(F144=\"\",G144=\"\"),\"\",AND(F144<Onglet_mapping_parameters!$J$16,G144<Onglet_mapping_parameters!$J$16),Onglet_mapping_parameters!$J$18,AND(F144<Onglet_mapping_parameters!$J$16,G144>=Onglet_mapping_parameters!$J$16),Onglet_mapping_parameters!$J$20,AND(F144>=Onglet_mapping_parameters!$J$16,G144<Onglet_mapping_parameters!$J$16),Onglet_mapping_parameters!$J$21,AND(F144>=Onglet_mapping_parameters!$J$16,G144>=Onglet_mapping_parameters!$J$16),Onglet_mapping_parameters!$J$22),\"\")","v":""},null,{"$f":"IFERROR(_xlfn.IFS(Tableau1[[#This Row],[Category]]=Onglet_mapping_parameters!$C$27,Onglet_mapping_parameters!$B$27,Tableau1[[#This Row],[Category]]=Onglet_mapping_parameters!$C$28,Onglet_mapping_parameters!$B$28,Tableau1[[#This Row],[Category]]=Onglet_mapping_parameters!$C$29,Onglet_mapping_parameters!$B$29,Tableau1[[#This Row],[Category]]=Onglet_mapping_parameters!$C$30,Onglet_mapping_parameters!$B$30),\"\")","v":""},null,null,"Delete"]
[null,null,null,null,null,null,null,null,null,{"$f":"IFERROR(_xlfn.IFS(OR(F145=\"\",G145=\"\"),\"\",AND(F145<Onglet_mapping_parameters!$J$16,G145<Onglet_mapping_parameters!$J$16),Onglet_mapping_parameters!$J$18,AND(F145<Onglet_mapping_parameters!$J$16,G145>=Onglet_mapping_parameters!$J$16),Onglet_mapping_parameters!$J$20,AND(F145>=Onglet_mapping_parameters!$J$16,G145<Onglet_mapping_parameters!$J$16),Onglet_mapping_parameters!$J$21,AND(F145>=Onglet_mapping_parameters!$J$16,G145>=Onglet_mapping_parameters!$J$16),Onglet_mapping_parameters!$J$22),\"\")","v":""},null,{"$f":"IFERROR(_xlfn.IFS(Tableau1[[#This Row],[Category]]=Onglet_mapping_parameters!$C$27,Onglet_mapping_parameters!$B$27,Tableau1[[#This Row],[Category]]=Onglet_mapping_parameters!$C$28,Onglet_mapping_parameters!$B$28,Tableau1[[#This Row],[Category]]=Onglet_mapping_parameters!$C$29,Onglet_mapping_parameters!$B$29,Tableau1[[#This Row],[Category]]=Onglet_mapping_parameters!$C$30,Onglet_mapping_parameters!$B$30),\"\")","v":""},null,null,"Delete"]
[null,null,null,null,null,null,null,null,null,{"$f":"IFERROR(_xlfn.IFS(OR(F146=\"\",G146=\"\"),\"\",AND(F146<Onglet_mapping_parameters!$J$16,G146<Onglet_mapping_parameters!$J$16),Onglet_mapping_parameters!$J$18,AND(F146<Onglet_mapping_parameters!$J$16,G146>=Onglet_mapping_parameters!$J$16),Onglet_mapping_parameters!$J$20,AND(F146>=Onglet_mapping_parameters!$J$16,G146<Onglet_mapping_parameters!$J$16),Onglet_mapping_parameters!$J$21,AND(F146>=Onglet_mapping_parameters!$J$16,G146>=Onglet_mapping_parameters!$J$16),Onglet_mapping_parameters!$J$22),\"\")","v":""},null,{"$f":"IFERROR(_xlfn.IFS(Tableau1[[#This Row],[Category]]=Onglet_mapping_parameters!$C$27,Onglet_mapping_parameters!$B$27,Tableau1[[#This Row],[Category]]=Onglet_mapping_parameters!$C$28,Onglet_mapping_parameters!$B$28,Tableau1[[#This Row],[Category]]=Onglet_mapping_parameters!$C$29,Onglet_mapping_parameters!$B$29,Tableau1[[#This Row],[Category]]=Onglet_mapping_parameters!$C$30,Onglet_mapping_parameters!$B$30),\"\")","v":""},null,null,"Delete"]
[null,null,null,null,null,null,null,null,null,{"$f":"IFERROR(_xlfn.IFS(OR(F147=\"\",G147=\"\"),\"\",AND(F147<Onglet_mapping_parameters!$J$16,G147<Onglet_mapping_parameters!$J$16),Onglet_mapping_parameters!$J$18,AND(F147<Onglet_mapping_parameters!$J$16,G147>=Onglet_mapping_parameters!$J$16),Onglet_mapping_parameters!$J$20,AND(F147>=Onglet_mapping_parameters!$J$16,G147<Onglet_mapping_parameters!$J$16),Onglet_mapping_parameters!$J$21,AND(F147>=Onglet_mapping_parameters!$J$16,G147>=Onglet_mapping_parameters!$J$16),Onglet_mapping_parameters!$J$22),\"\")","v":""},null,{"$f":"IFERROR(_xlfn.IFS(Tableau1[[#This Row],[Category]]=Onglet_mapping_parameters!$C$27,Onglet_mapping_parameters!$B$27,Tableau1[[#This Row],[Category]]=Onglet_mapping_parameters!$C$28,Onglet_mapping_parameters!$B$28,Tableau1[[#This Row],[Category]]=Onglet_mapping_parameters!$C$29,Onglet_mapping_parameters!$B$29,Tableau1[[#This Row],[Category]]=Onglet_mapping_parameters!$C$30,Onglet_mapping_parameters!$B$30),\"\")","v":""},null,null,"Delete"]
[null,null,null,null,null,null,null,null,null,{"$f":"IFERROR(_xlfn.IFS(OR(F148=\"\",G148=\"\"),\"\",AND(F148<Onglet_mapping_parameters!$J$16,G148<Onglet_mapping_parameters!$J$16),Onglet_mapping_parameters!$J$18,AND(F148<Onglet_mapping_parameters!$J$16,G148>=Onglet_mapping_parameters!$J$16),Onglet_mapping_parameters!$J$20,AND(F148>=Onglet_mapping_parameters!$J$16,G148<Onglet_mapping_parameters!$J$16),Onglet_mapping_parameters!$J$21,AND(F148>=Onglet_mapping_parameters!$J$16,G148>=Onglet_mapping_parameters!$J$16),Onglet_mapping_parameters!$J$22),\"\")","v":""},null,{"$f":"IFERROR(_xlfn.IFS(Tableau1[[#This Row],[Category]]=Onglet_mapping_parameters!$C$27,Onglet_mapping_parameters!$B$27,Tableau1[[#This Row],[Category]]=Onglet_mapping_parameters!$C$28,Onglet_mapping_parameters!$B$28,Tableau1[[#This Row],[Category]]=Onglet_mapping_parameters!$C$29,Onglet_mapping_parameters!$B$29,Tableau1[[#This Row],[Category]]=Onglet_mapping_parameters!$C$30,Onglet_mapping_parameters!$B$30),\"\")","v":""},null,null,"Delete"]
[null,null,null,null,null,null,null,null,null,{"$f":"IFERROR(_xlfn.IFS(OR(F149=\"\",G149=\"\"),\"\",AND(F149<Onglet_mapping_parameters!$J$16,G149<Onglet_mapping_parameters!$J$16),Onglet_mapping_parameters!$J$18,AND(F149<Onglet_mapping_parameters!$J$16,G149>=Onglet_mapping_parameters!$J$16),Onglet_mapping_parameters!$J$20,AND(F149>=Onglet_mapping_parameters!$J$16,G149<Onglet_mapping_parameters!$J$16),Onglet_mapping_parameters!$J$21,AND(F149>=Onglet_mapping_parameters!$J$16,G149>=Onglet_mapping_parameters!$J$16),Onglet_mapping_parameters!$J$22),\"\")","v":""},null,{"$f":"IFERROR(_xlfn.IFS(Tableau1[[#This Row],[Category]]=Onglet_mapping_parameters!$C$27,Onglet_mapping_parameters!$B$27,Tableau1[[#This Row],[Category]]=Onglet_mapping_parameters!$C$28,Onglet_mapping_parameters!$B$28,Tableau1[[#This Row],[Category]]=Onglet_mapping_parameters!$C$29,Onglet_mapping_parameters!$B$29,Tableau1[[#This Row],[Category]]=Onglet_mapping_parameters!$C$30,Onglet_mapping_parameters!$B$30),\"\")","v":""},null,null,"Delete"]
[null,null,null,null,null,null,null,null,null,{"$f":"IFERROR(_xlfn.IFS(OR(F150=\"\",G150=\"\"),\"\",AND(F150<Onglet_mapping_parameters!$J$16,G150<Onglet_mapping_parameters!$J$16),Onglet_mapping_parameters!$J$18,AND(F150<Onglet_mapping_parameters!$J$16,G150>=Onglet_mapping_parameters!$J$16),Onglet_mapping_parameters!$J$20,AND(F150>=Onglet_mapping_parameters!$J$16,G150<Onglet_mapping_parameters!$J$16),Onglet_mapping_parameters!$J$21,AND(F150>=Onglet_mapping_parameters!$J$16,G150>=Onglet_mapping_parameters!$J$16),Onglet_mapping_parameters!$J$22),\"\")","v":""},null,{"$f":"IFERROR(_xlfn.IFS(Tableau1[[#This Row],[Category]]=Onglet_mapping_parameters!$C$27,Onglet_mapping_parameters!$B$27,Tableau1[[#This Row],[Category]]=Onglet_mapping_parameters!$C$28,Onglet_mapping_parameters!$B$28,Tableau1[[#This Row],[Category]]=Onglet_mapping_parameters!$C$29,Onglet_mapping_parameters!$B$29,Tableau1[[#This Row],[Category]]=Onglet_mapping_parameters!$C$30,Onglet_mapping_parameters!$B$30),\"\")","v":""},null,null,"Delete"]
[null,null,null,null,null,null,null,null,null,{"$f":"IFERROR(_xlfn.IFS(OR(F151=\"\",G151=\"\"),\"\",AND(F151<Onglet_mapping_parameters!$J$16,G151<Onglet_mapping_parameters!$J$16),Onglet_mapping_parameters!$J$18,AND(F151<Onglet_mapping_parameters!$J$16,G151>=Onglet_mapping_parameters!$J$16),Onglet_mapping_parameters!$J$20,AND(F151>=Onglet_mapping_parameters!$J$16,G151<Onglet_mapping_parameters!$J$16),Onglet_mapping_parameters!$J$21,AND(F151>=Onglet_mapping_parameters!$J$16,G151>=Onglet_mapping_parameters!$J$16),Onglet_mapping_parameters!$J$22),\"\")","v":""},null,{"$f":"IFERROR(_xlfn.IFS(Tableau1[[#This Row],[Category]]=Onglet_mapping_parameters!$C$27,Onglet_mapping_parameters!$B$27,Tableau1[[#This Row],[Category]]=Onglet_mapping_parameters!$C$28,Onglet_mapping_parameters!$B$28,Tableau1[[#This Row],[Category]]=Onglet_mapping_parameters!$C$29,Onglet_mapping_parameters!$B$29,Tableau1[[#This Row],[Category]]=Onglet_mapping_parameters!$C$30,Onglet_mapping_parameters!$B$30),\"\")","v":""},null,null,"Delete"]
[null,null,null,null,null,null,null,null,null,{"$f":"IFERROR(_xlfn.IFS(OR(F152=\"\",G152=\"\"),\"\",AND(F152<Onglet_mapping_parameters!$J$16,G152<Onglet_mapping_parameters!$J$16),Onglet_mapping_parameters!$J$18,AND(F152<Onglet_mapping_parameters!$J$16,G152>=Onglet_mapping_parameters!$J$16),Onglet_mapping_parameters!$J$20,AND(F152>=Onglet_mapping_parameters!$J$16,G152<Onglet_mapping_parameters!$J$16),Onglet_mapping_parameters!$J$21,AND(F152>=Onglet_mapping_parameters!$J$16,G152>=Onglet_mapping_parameters!$J$16),Onglet_mapping_parameters!$J$22),\"\")","v":""},null,{"$f":"IFERROR(_xlfn.IFS(Tableau1[[#This Row],[Category]]=Onglet_mapping_parameters!$C$27,Onglet_mapping_parameters!$B$27,Tableau1[[#This Row],[Category]]=Onglet_mapping_parameters!$C$28,Onglet_mapping_parameters!$B$28,Tableau1[[#This Row],[Category]]=Onglet_mapping_parameters!$C$29,Onglet_mapping_parameters!$B$29,Tableau1[[#This Row],[Category]]=Onglet_mapping_parameters!$C$30,Onglet_mapping_parameters!$B$30),\"\")","v":""},null,null,"Delete"]
[null,null,null,null,null,null,null,null,null,{"$f":"IFERROR(_xlfn.IFS(OR(F153=\"\",G153=\"\"),\"\",AND(F153<Onglet_mapping_parameters!$J$16,G153<Onglet_mapping_parameters!$J$16),Onglet_mapping_parameters!$J$18,AND(F153<Onglet_mapping_parameters!$J$16,G153>=Onglet_mapping_parameters!$J$16),Onglet_mapping_parameters!$J$20,AND(F153>=Onglet_mapping_parameters!$J$16,G153<Onglet_mapping_parameters!$J$16),Onglet_mapping_parameters!$J$21,AND(F153>=Onglet_mapping_parameters!$J$16,G153>=Onglet_mapping_parameters!$J$16),Onglet_mapping_parameters!$J$22),\"\")","v":""},null,{"$f":"IFERROR(_xlfn.IFS(Tableau1[[#This Row],[Category]]=Onglet_mapping_parameters!$C$27,Onglet_mapping_parameters!$B$27,Tableau1[[#This Row],[Category]]=Onglet_mapping_parameters!$C$28,Onglet_mapping_parameters!$B$28,Tableau1[[#This Row],[Category]]=Onglet_mapping_parameters!$C$29,Onglet_mapping_parameters!$B$29,Tableau1[[#This Row],[Category]]=Onglet_mapping_parameters!$C$30,Onglet_mapping_parameters!$B$30),\"\")","v":""},null,null,"Delete"]
[null,null,null,null,null,null,null,null,null,{"$f":"IFERROR(_xlfn.IFS(OR(F154=\"\",G154=\"\"),\"\",AND(F154<Onglet_mapping_parameters!$J$16,G154<Onglet_mapping_parameters!$J$16),Onglet_mapping_parameters!$J$18,AND(F154<Onglet_mapping_parameters!$J$16,G154>=Onglet_mapping_parameters!$J$16),Onglet_mapping_parameters!$J$20,AND(F154>=Onglet_mapping_parameters!$J$16,G154<Onglet_mapping_parameters!$J$16),Onglet_mapping_parameters!$J$21,AND(F154>=Onglet_mapping_parameters!$J$16,G154>=Onglet_mapping_parameters!$J$16),Onglet_mapping_parameters!$J$22),\"\")","v":""},null,{"$f":"IFERROR(_xlfn.IFS(Tableau1[[#This Row],[Category]]=Onglet_mapping_parameters!$C$27,Onglet_mapping_parameters!$B$27,Tableau1[[#This Row],[Category]]=Onglet_mapping_parameters!$C$28,Onglet_mapping_parameters!$B$28,Tableau1[[#This Row],[Category]]=Onglet_mapping_parameters!$C$29,Onglet_mapping_parameters!$B$29,Tableau1[[#This Row],[Category]]=Onglet_mapping_parameters!$C$30,Onglet_mapping_parameters!$B$30),\"\")","v":""},null,null,"Delete"]
[null,null,null,null,null,null,null,null,null,{"$f":"IFERROR(_xlfn.IFS(OR(F155=\"\",G155=\"\"),\"\",AND(F155<Onglet_mapping_parameters!$J$16,G155<Onglet_mapping_parameters!$J$16),Onglet_mapping_parameters!$J$18,AND(F155<Onglet_mapping_parameters!$J$16,G155>=Onglet_mapping_parameters!$J$16),Onglet_mapping_parameters!$J$20,AND(F155>=Onglet_mapping_parameters!$J$16,G155<Onglet_mapping_parameters!$J$16),Onglet_mapping_parameters!$J$21,AND(F155>=Onglet_mapping_parameters!$J$16,G155>=Onglet_mapping_parameters!$J$16),Onglet_mapping_parameters!$J$22),\"\")","v":""},null,{"$f":"IFERROR(_xlfn.IFS(Tableau1[[#This Row],[Category]]=Onglet_mapping_parameters!$C$27,Onglet_mapping_parameters!$B$27,Tableau1[[#This Row],[Category]]=Onglet_mapping_parameters!$C$28,Onglet_mapping_parameters!$B$28,Tableau1[[#This Row],[Category]]=Onglet_mapping_parameters!$C$29,Onglet_mapping_parameters!$B$29,Tableau1[[#This Row],[Category]]=Onglet_mapping_parameters!$C$30,Onglet_mapping_parameters!$B$30),\"\")","v":""},null,null,"Delete"]
[null,null,null,null,null,null,null,null,null,{"$f":"IFERROR(_xlfn.IFS(OR(F156=\"\",G156=\"\"),\"\",AND(F156<Onglet_mapping_parameters!$J$16,G156<Onglet_mapping_parameters!$J$16),Onglet_mapping_parameters!$J$18,AND(F156<Onglet_mapping_parameters!$J$16,G156>=Onglet_mapping_parameters!$J$16),Onglet_mapping_parameters!$J$20,AND(F156>=Onglet_mapping_parameters!$J$16,G156<Onglet_mapping_parameters!$J$16),Onglet_mapping_parameters!$J$21,AND(F156>=Onglet_mapping_parameters!$J$16,G156>=Onglet_mapping_parameters!$J$16),Onglet_mapping_parameters!$J$22),\"\")","v":""},null,{"$f":"IFERROR(_xlfn.IFS(Tableau1[[#This Row],[Category]]=Onglet_mapping_parameters!$C$27,Onglet_mapping_parameters!$B$27,Tableau1[[#This Row],[Category]]=Onglet_mapping_parameters!$C$28,Onglet_mapping_parameters!$B$28,Tableau1[[#This Row],[Category]]=Onglet_mapping_parameters!$C$29,Onglet_mapping_parameters!$B$29,Tableau1[[#This Row],[Category]]=Onglet_mapping_parameters!$C$30,Onglet_mapping_parameters!$B$30),\"\")","v":""},null,null,"Delete"]
[null,null,null,null,null,null,null,null,null,{"$f":"IFERROR(_xlfn.IFS(OR(F157=\"\",G157=\"\"),\"\",AND(F157<Onglet_mapping_parameters!$J$16,G157<Onglet_mapping_parameters!$J$16),Onglet_mapping_parameters!$J$18,AND(F157<Onglet_mapping_parameters!$J$16,G157>=Onglet_mapping_parameters!$J$16),Onglet_mapping_parameters!$J$20,AND(F157>=Onglet_mapping_parameters!$J$16,G157<Onglet_mapping_parameters!$J$16),Onglet_mapping_parameters!$J$21,AND(F157>=Onglet_mapping_parameters!$J$16,G157>=Onglet_mapping_parameters!$J$16),Onglet_mapping_parameters!$J$22),\"\")","v":""},null,{"$f":"IFERROR(_xlfn.IFS(Tableau1[[#This Row],[Category]]=Onglet_mapping_parameters!$C$27,Onglet_mapping_parameters!$B$27,Tableau1[[#This Row],[Category]]=Onglet_mapping_parameters!$C$28,Onglet_mapping_parameters!$B$28,Tableau1[[#This Row],[Category]]=Onglet_mapping_parameters!$C$29,Onglet_mapping_parameters!$B$29,Tableau1[[#This Row],[Category]]=Onglet_mapping_parameters!$C$30,Onglet_mapping_parameters!$B$30),\"\")","v":""},null,null,"Delete"]
[null,null,null,null,null,null,null,null,null,{"$f":"IFERROR(_xlfn.IFS(OR(F158=\"\",G158=\"\"),\"\",AND(F158<Onglet_mapping_parameters!$J$16,G158<Onglet_mapping_parameters!$J$16),Onglet_mapping_parameters!$J$18,AND(F158<Onglet_mapping_parameters!$J$16,G158>=Onglet_mapping_parameters!$J$16),Onglet_mapping_parameters!$J$20,AND(F158>=Onglet_mapping_parameters!$J$16,G158<Onglet_mapping_parameters!$J$16),Onglet_mapping_parameters!$J$21,AND(F158>=Onglet_mapping_parameters!$J$16,G158>=Onglet_mapping_parameters!$J$16),Onglet_mapping_parameters!$J$22),\"\")","v":""},null,{"$f":"IFERROR(_xlfn.IFS(Tableau1[[#This Row],[Category]]=Onglet_mapping_parameters!$C$27,Onglet_mapping_parameters!$B$27,Tableau1[[#This Row],[Category]]=Onglet_mapping_parameters!$C$28,Onglet_mapping_parameters!$B$28,Tableau1[[#This Row],[Category]]=Onglet_mapping_parameters!$C$29,Onglet_mapping_parameters!$B$29,Tableau1[[#This Row],[Category]]=Onglet_mapping_parameters!$C$30,Onglet_mapping_parameters!$B$30),\"\")","v":""},null,null,"Delete"]
[null,null,null,null,null,null,null,null,null,{"$f":"IFERROR(_xlfn.IFS(OR(F159=\"\",G159=\"\"),\"\",AND(F159<Onglet_mapping_parameters!$J$16,G159<Onglet_mapping_parameters!$J$16),Onglet_mapping_parameters!$J$18,AND(F159<Onglet_mapping_parameters!$J$16,G159>=Onglet_mapping_parameters!$J$16),Onglet_mapping_parameters!$J$20,AND(F159>=Onglet_mapping_parameters!$J$16,G159<Onglet_mapping_parameters!$J$16),Onglet_mapping_parameters!$J$21,AND(F159>=Onglet_mapping_parameters!$J$16,G159>=Onglet_mapping_parameters!$J$16),Onglet_mapping_parameters!$J$22),\"\")","v":""},null,{"$f":"IFERROR(_xlfn.IFS(Tableau1[[#This Row],[Category]]=Onglet_mapping_parameters!$C$27,Onglet_mapping_parameters!$B$27,Tableau1[[#This Row],[Category]]=Onglet_mapping_parameters!$C$28,Onglet_mapping_parameters!$B$28,Tableau1[[#This Row],[Category]]=Onglet_mapping_parameters!$C$29,Onglet_mapping_parameters!$B$29,Tableau1[[#This Row],[Category]]=Onglet_mapping_parameters!$C$30,Onglet_mapping_parameters!$B$30),\"\")","v":""},null,null,"Delete"]
[null,null,null,null,null,null,null,null,null,{"$f":"IFERROR(_xlfn.IFS(OR(F160=\"\",G160=\"\"),\"\",AND(F160<Onglet_mapping_parameters!$J$16,G160<Onglet_mapping_parameters!$J$16),Onglet_mapping_parameters!$J$18,AND(F160<Onglet_mapping_parameters!$J$16,G160>=Onglet_mapping_parameters!$J$16),Onglet_mapping_parameters!$J$20,AND(F160>=Onglet_mapping_parameters!$J$16,G160<Onglet_mapping_parameters!$J$16),Onglet_mapping_parameters!$J$21,AND(F160>=Onglet_mapping_parameters!$J$16,G160>=Onglet_mapping_parameters!$J$16),Onglet_mapping_parameters!$J$22),\"\")","v":""},null,{"$f":"IFERROR(_xlfn.IFS(Tableau1[[#This Row],[Category]]=Onglet_mapping_parameters!$C$27,Onglet_mapping_parameters!$B$27,Tableau1[[#This Row],[Category]]=Onglet_mapping_parameters!$C$28,Onglet_mapping_parameters!$B$28,Tableau1[[#This Row],[Category]]=Onglet_mapping_parameters!$C$29,Onglet_mapping_parameters!$B$29,Tableau1[[#This Row],[Category]]=Onglet_mapping_parameters!$C$30,Onglet_mapping_parameters!$B$30),\"\")","v":""},null,null,"Delete"]
[null,null,null,null,null,null,null,null,null,{"$f":"IFERROR(_xlfn.IFS(OR(F161=\"\",G161=\"\"),\"\",AND(F161<Onglet_mapping_parameters!$J$16,G161<Onglet_mapping_parameters!$J$16),Onglet_mapping_parameters!$J$18,AND(F161<Onglet_mapping_parameters!$J$16,G161>=Onglet_mapping_parameters!$J$16),Onglet_mapping_parameters!$J$20,AND(F161>=Onglet_mapping_parameters!$J$16,G161<Onglet_mapping_parameters!$J$16),Onglet_mapping_parameters!$J$21,AND(F161>=Onglet_mapping_parameters!$J$16,G161>=Onglet_mapping_parameters!$J$16),Onglet_mapping_parameters!$J$22),\"\")","v":""},null,{"$f":"IFERROR(_xlfn.IFS(Tableau1[[#This Row],[Category]]=Onglet_mapping_parameters!$C$27,Onglet_mapping_parameters!$B$27,Tableau1[[#This Row],[Category]]=Onglet_mapping_parameters!$C$28,Onglet_mapping_parameters!$B$28,Tableau1[[#This Row],[Category]]=Onglet_mapping_parameters!$C$29,Onglet_mapping_parameters!$B$29,Tableau1[[#This Row],[Category]]=Onglet_mapping_parameters!$C$30,Onglet_mapping_parameters!$B$30),\"\")","v":""},null,null,"Delete"]
[null,null,null,null,null,null,null,null,null,{"$f":"IFERROR(_xlfn.IFS(OR(F162=\"\",G162=\"\"),\"\",AND(F162<Onglet_mapping_parameters!$J$16,G162<Onglet_mapping_parameters!$J$16),Onglet_mapping_parameters!$J$18,AND(F162<Onglet_mapping_parameters!$J$16,G162>=Onglet_mapping_parameters!$J$16),Onglet_mapping_parameters!$J$20,AND(F162>=Onglet_mapping_parameters!$J$16,G162<Onglet_mapping_parameters!$J$16),Onglet_mapping_parameters!$J$21,AND(F162>=Onglet_mapping_parameters!$J$16,G162>=Onglet_mapping_parameters!$J$16),Onglet_mapping_parameters!$J$22),\"\")","v":""},null,{"$f":"IFERROR(_xlfn.IFS(Tableau1[[#This Row],[Category]]=Onglet_mapping_parameters!$C$27,Onglet_mapping_parameters!$B$27,Tableau1[[#This Row],[Category]]=Onglet_mapping_parameters!$C$28,Onglet_mapping_parameters!$B$28,Tableau1[[#This Row],[Category]]=Onglet_mapping_parameters!$C$29,Onglet_mapping_parameters!$B$29,Tableau1[[#This Row],[Category]]=Onglet_mapping_parameters!$C$30,Onglet_mapping_parameters!$B$30),\"\")","v":""},null,null,"Delete"]
[null,null,null,null,null,null,null,null,null,{"$f":"IFERROR(_xlfn.IFS(OR(F163=\"\",G163=\"\"),\"\",AND(F163<Onglet_mapping_parameters!$J$16,G163<Onglet_mapping_parameters!$J$16),Onglet_mapping_parameters!$J$18,AND(F163<Onglet_mapping_parameters!$J$16,G163>=Onglet_mapping_parameters!$J$16),Onglet_mapping_parameters!$J$20,AND(F163>=Onglet_mapping_parameters!$J$16,G163<Onglet_mapping_parameters!$J$16),Onglet_mapping_parameters!$J$21,AND(F163>=Onglet_mapping_parameters!$J$16,G163>=Onglet_mapping_parameters!$J$16),Onglet_mapping_parameters!$J$22),\"\")","v":""},null,{"$f":"IFERROR(_xlfn.IFS(Tableau1[[#This Row],[Category]]=Onglet_mapping_parameters!$C$27,Onglet_mapping_parameters!$B$27,Tableau1[[#This Row],[Category]]=Onglet_mapping_parameters!$C$28,Onglet_mapping_parameters!$B$28,Tableau1[[#This Row],[Category]]=Onglet_mapping_parameters!$C$29,Onglet_mapping_parameters!$B$29,Tableau1[[#This Row],[Category]]=Onglet_mapping_parameters!$C$30,Onglet_mapping_parameters!$B$30),\"\")","v":""},null,null,"Delete"]
[null,null,null,null,null,null,null,null,null,{"$f":"IFERROR(_xlfn.IFS(OR(F164=\"\",G164=\"\"),\"\",AND(F164<Onglet_mapping_parameters!$J$16,G164<Onglet_mapping_parameters!$J$16),Onglet_mapping_parameters!$J$18,AND(F164<Onglet_mapping_parameters!$J$16,G164>=Onglet_mapping_parameters!$J$16),Onglet_mapping_parameters!$J$20,AND(F164>=Onglet_mapping_parameters!$J$16,G164<Onglet_mapping_parameters!$J$16),Onglet_mapping_parameters!$J$21,AND(F164>=Onglet_mapping_parameters!$J$16,G164>=Onglet_mapping_parameters!$J$16),Onglet_mapping_parameters!$J$22),\"\")","v":""},null,{"$f":"IFERROR(_xlfn.IFS(Tableau1[[#This Row],[Category]]=Onglet_mapping_parameters!$C$27,Onglet_mapping_parameters!$B$27,Tableau1[[#This Row],[Category]]=Onglet_mapping_parameters!$C$28,Onglet_mapping_parameters!$B$28,Tableau1[[#This Row],[Category]]=Onglet_mapping_parameters!$C$29,Onglet_mapping_parameters!$B$29,Tableau1[[#This Row],[Category]]=Onglet_mapping_parameters!$C$30,Onglet_mapping_parameters!$B$30),\"\")","v":""},null,null,"Delete"]
[null,null,null,null,null,null,null,null,null,{"$f":"IFERROR(_xlfn.IFS(OR(F165=\"\",G165=\"\"),\"\",AND(F165<Onglet_mapping_parameters!$J$16,G165<Onglet_mapping_parameters!$J$16),Onglet_mapping_parameters!$J$18,AND(F165<Onglet_mapping_parameters!$J$16,G165>=Onglet_mapping_parameters!$J$16),Onglet_mapping_parameters!$J$20,AND(F165>=Onglet_mapping_parameters!$J$16,G165<Onglet_mapping_parameters!$J$16),Onglet_mapping_parameters!$J$21,AND(F165>=Onglet_mapping_parameters!$J$16,G165>=Onglet_mapping_parameters!$J$16),Onglet_mapping_parameters!$J$22),\"\")","v":""},null,{"$f":"IFERROR(_xlfn.IFS(Tableau1[[#This Row],[Category]]=Onglet_mapping_parameters!$C$27,Onglet_mapping_parameters!$B$27,Tableau1[[#This Row],[Category]]=Onglet_mapping_parameters!$C$28,Onglet_mapping_parameters!$B$28,Tableau1[[#This Row],[Category]]=Onglet_mapping_parameters!$C$29,Onglet_mapping_parameters!$B$29,Tableau1[[#This Row],[Category]]=Onglet_mapping_parameters!$C$30,Onglet_mapping_parameters!$B$30),\"\")","v":""},null,null,"Delete"]
[null,null,null,null,null,null,null,null,null,{"$f":"IFERROR(_xlfn.IFS(OR(F166=\"\",G166=\"\"),\"\",AND(F166<Onglet_mapping_parameters!$J$16,G166<Onglet_mapping_parameters!$J$16),Onglet_mapping_parameters!$J$18,AND(F166<Onglet_mapping_parameters!$J$16,G166>=Onglet_mapping_parameters!$J$16),Onglet_mapping_parameters!$J$20,AND(F166>=Onglet_mapping_parameters!$J$16,G166<Onglet_mapping_parameters!$J$16),Onglet_mapping_parameters!$J$21,AND(F166>=Onglet_mapping_parameters!$J$16,G166>=Onglet_mapping_parameters!$J$16),Onglet_mapping_parameters!$J$22),\"\")","v":""},null,{"$f":"IFERROR(_xlfn.IFS(Tableau1[[#This Row],[Category]]=Onglet_mapping_parameters!$C$27,Onglet_mapping_parameters!$B$27,Tableau1[[#This Row],[Category]]=Onglet_mapping_parameters!$C$28,Onglet_mapping_parameters!$B$28,Tableau1[[#This Row],[Category]]=Onglet_mapping_parameters!$C$29,Onglet_mapping_parameters!$B$29,Tableau1[[#This Row],[Category]]=Onglet_mapping_parameters!$C$30,Onglet_mapping_parameters!$B$30),\"\")","v":""},null,null,"Delete"]
[null,null,null,null,null,null,null,null,null,{"$f":"IFERROR(_xlfn.IFS(OR(F167=\"\",G167=\"\"),\"\",AND(F167<Onglet_mapping_parameters!$J$16,G167<Onglet_mapping_parameters!$J$16),Onglet_mapping_parameters!$J$18,AND(F167<Onglet_mapping_parameters!$J$16,G167>=Onglet_mapping_parameters!$J$16),Onglet_mapping_parameters!$J$20,AND(F167>=Onglet_mapping_parameters!$J$16,G167<Onglet_mapping_parameters!$J$16),Onglet_mapping_parameters!$J$21,AND(F167>=Onglet_mapping_parameters!$J$16,G167>=Onglet_mapping_parameters!$J$16),Onglet_mapping_parameters!$J$22),\"\")","v":""},null,{"$f":"IFERROR(_xlfn.IFS(Tableau1[[#This Row],[Category]]=Onglet_mapping_parameters!$C$27,Onglet_mapping_parameters!$B$27,Tableau1[[#This Row],[Category]]=Onglet_mapping_parameters!$C$28,Onglet_mapping_parameters!$B$28,Tableau1[[#This Row],[Category]]=Onglet_mapping_parameters!$C$29,Onglet_mapping_parameters!$B$29,Tableau1[[#This Row],[Category]]=Onglet_mapping_parameters!$C$30,Onglet_mapping_parameters!$B$30),\"\")","v":""},null,null,"Delete"]
[null,null,null,null,null,null,null,null,null,{"$f":"IFERROR(_xlfn.IFS(OR(F168=\"\",G168=\"\"),\"\",AND(F168<Onglet_mapping_parameters!$J$16,G168<Onglet_mapping_parameters!$J$16),Onglet_mapping_parameters!$J$18,AND(F168<Onglet_mapping_parameters!$J$16,G168>=Onglet_mapping_parameters!$J$16),Onglet_mapping_parameters!$J$20,AND(F168>=Onglet_mapping_parameters!$J$16,G168<Onglet_mapping_parameters!$J$16),Onglet_mapping_parameters!$J$21,AND(F168>=Onglet_mapping_parameters!$J$16,G168>=Onglet_mapping_parameters!$J$16),Onglet_mapping_parameters!$J$22),\"\")","v":""},null,{"$f":"IFERROR(_xlfn.IFS(Tableau1[[#This Row],[Category]]=Onglet_mapping_parameters!$C$27,Onglet_mapping_parameters!$B$27,Tableau1[[#This Row],[Category]]=Onglet_mapping_parameters!$C$28,Onglet_mapping_parameters!$B$28,Tableau1[[#This Row],[Category]]=Onglet_mapping_parameters!$C$29,Onglet_mapping_parameters!$B$29,Tableau1[[#This Row],[Category]]=Onglet_mapping_parameters!$C$30,Onglet_mapping_parameters!$B$30),\"\")","v":""},null,null,"Delete"]
[null,null,null,null,null,null,null,null,null,{"$f":"IFERROR(_xlfn.IFS(OR(F169=\"\",G169=\"\"),\"\",AND(F169<Onglet_mapping_parameters!$J$16,G169<Onglet_mapping_parameters!$J$16),Onglet_mapping_parameters!$J$18,AND(F169<Onglet_mapping_parameters!$J$16,G169>=Onglet_mapping_parameters!$J$16),Onglet_mapping_parameters!$J$20,AND(F169>=Onglet_mapping_parameters!$J$16,G169<Onglet_mapping_parameters!$J$16),Onglet_mapping_parameters!$J$21,AND(F169>=Onglet_mapping_parameters!$J$16,G169>=Onglet_mapping_parameters!$J$16),Onglet_mapping_parameters!$J$22),\"\")","v":""},null,{"$f":"IFERROR(_xlfn.IFS(Tableau1[[#This Row],[Category]]=Onglet_mapping_parameters!$C$27,Onglet_mapping_parameters!$B$27,Tableau1[[#This Row],[Category]]=Onglet_mapping_parameters!$C$28,Onglet_mapping_parameters!$B$28,Tableau1[[#This Row],[Category]]=Onglet_mapping_parameters!$C$29,Onglet_mapping_parameters!$B$29,Tableau1[[#This Row],[Category]]=Onglet_mapping_parameters!$C$30,Onglet_mapping_parameters!$B$30),\"\")","v":""},null,null,"Delete"]
[null,null,null,null,null,null,null,null,null,{"$f":"IFERROR(_xlfn.IFS(OR(F170=\"\",G170=\"\"),\"\",AND(F170<Onglet_mapping_parameters!$J$16,G170<Onglet_mapping_parameters!$J$16),Onglet_mapping_parameters!$J$18,AND(F170<Onglet_mapping_parameters!$J$16,G170>=Onglet_mapping_parameters!$J$16),Onglet_mapping_parameters!$J$20,AND(F170>=Onglet_mapping_parameters!$J$16,G170<Onglet_mapping_parameters!$J$16),Onglet_mapping_parameters!$J$21,AND(F170>=Onglet_mapping_parameters!$J$16,G170>=Onglet_mapping_parameters!$J$16),Onglet_mapping_parameters!$J$22),\"\")","v":""},null,{"$f":"IFERROR(_xlfn.IFS(Tableau1[[#This Row],[Category]]=Onglet_mapping_parameters!$C$27,Onglet_mapping_parameters!$B$27,Tableau1[[#This Row],[Category]]=Onglet_mapping_parameters!$C$28,Onglet_mapping_parameters!$B$28,Tableau1[[#This Row],[Category]]=Onglet_mapping_parameters!$C$29,Onglet_mapping_parameters!$B$29,Tableau1[[#This Row],[Category]]=Onglet_mapping_parameters!$C$30,Onglet_mapping_parameters!$B$30),\"\")","v":""},null,null,"Delete"]
[null,null,null,null,null,null,null,null,null,{"$f":"IFERROR(_xlfn.IFS(OR(F171=\"\",G171=\"\"),\"\",AND(F171<Onglet_mapping_parameters!$J$16,G171<Onglet_mapping_parameters!$J$16),Onglet_mapping_parameters!$J$18,AND(F171<Onglet_mapping_parameters!$J$16,G171>=Onglet_mapping_parameters!$J$16),Onglet_mapping_parameters!$J$20,AND(F171>=Onglet_mapping_parameters!$J$16,G171<Onglet_mapping_parameters!$J$16),Onglet_mapping_parameters!$J$21,AND(F171>=Onglet_mapping_parameters!$J$16,G171>=Onglet_mapping_parameters!$J$16),Onglet_mapping_parameters!$J$22),\"\")","v":""},null,{"$f":"IFERROR(_xlfn.IFS(Tableau1[[#This Row],[Category]]=Onglet_mapping_parameters!$C$27,Onglet_mapping_parameters!$B$27,Tableau1[[#This Row],[Category]]=Onglet_mapping_parameters!$C$28,Onglet_mapping_parameters!$B$28,Tableau1[[#This Row],[Category]]=Onglet_mapping_parameters!$C$29,Onglet_mapping_parameters!$B$29,Tableau1[[#This Row],[Category]]=Onglet_mapping_parameters!$C$30,Onglet_mapping_parameters!$B$30),\"\")","v":""},null,null,"Delete"]
[null,null,null,null,null,null,null,null,null,{"$f":"IFERROR(_xlfn.IFS(OR(F172=\"\",G172=\"\"),\"\",AND(F172<Onglet_mapping_parameters!$J$16,G172<Onglet_mapping_parameters!$J$16),Onglet_mapping_parameters!$J$18,AND(F172<Onglet_mapping_parameters!$J$16,G172>=Onglet_mapping_parameters!$J$16),Onglet_mapping_parameters!$J$20,AND(F172>=Onglet_mapping_parameters!$J$16,G172<Onglet_mapping_parameters!$J$16),Onglet_mapping_parameters!$J$21,AND(F172>=Onglet_mapping_parameters!$J$16,G172>=Onglet_mapping_parameters!$J$16),Onglet_mapping_parameters!$J$22),\"\")","v":""},null,{"$f":"IFERROR(_xlfn.IFS(Tableau1[[#This Row],[Category]]=Onglet_mapping_parameters!$C$27,Onglet_mapping_parameters!$B$27,Tableau1[[#This Row],[Category]]=Onglet_mapping_parameters!$C$28,Onglet_mapping_parameters!$B$28,Tableau1[[#This Row],[Category]]=Onglet_mapping_parameters!$C$29,Onglet_mapping_parameters!$B$29,Tableau1[[#This Row],[Category]]=Onglet_mapping_parameters!$C$30,Onglet_mapping_parameters!$B$30),\"\")","v":""},null,null,"Delete"]
[null,null,null,null,null,null,null,null,null,{"$f":"IFERROR(_xlfn.IFS(OR(F173=\"\",G173=\"\"),\"\",AND(F173<Onglet_mapping_parameters!$J$16,G173<Onglet_mapping_parameters!$J$16),Onglet_mapping_parameters!$J$18,AND(F173<Onglet_mapping_parameters!$J$16,G173>=Onglet_mapping_parameters!$J$16),Onglet_mapping_parameters!$J$20,AND(F173>=Onglet_mapping_parameters!$J$16,G173<Onglet_mapping_parameters!$J$16),Onglet_mapping_parameters!$J$21,AND(F173>=Onglet_mapping_parameters!$J$16,G173>=Onglet_mapping_parameters!$J$16),Onglet_mapping_parameters!$J$22),\"\")","v":""},null,{"$f":"IFERROR(_xlfn.IFS(Tableau1[[#This Row],[Category]]=Onglet_mapping_parameters!$C$27,Onglet_mapping_parameters!$B$27,Tableau1[[#This Row],[Category]]=Onglet_mapping_parameters!$C$28,Onglet_mapping_parameters!$B$28,Tableau1[[#This Row],[Category]]=Onglet_mapping_parameters!$C$29,Onglet_mapping_parameters!$B$29,Tableau1[[#This Row],[Category]]=Onglet_mapping_parameters!$C$30,Onglet_mapping_parameters!$B$30),\"\")","v":""},null,null,"Delete"]
[null,null,null,null,null,null,null,null,null,{"$f":"IFERROR(_xlfn.IFS(OR(F174=\"\",G174=\"\"),\"\",AND(F174<Onglet_mapping_parameters!$J$16,G174<Onglet_mapping_parameters!$J$16),Onglet_mapping_parameters!$J$18,AND(F174<Onglet_mapping_parameters!$J$16,G174>=Onglet_mapping_parameters!$J$16),Onglet_mapping_parameters!$J$20,AND(F174>=Onglet_mapping_parameters!$J$16,G174<Onglet_mapping_parameters!$J$16),Onglet_mapping_parameters!$J$21,AND(F174>=Onglet_mapping_parameters!$J$16,G174>=Onglet_mapping_parameters!$J$16),Onglet_mapping_parameters!$J$22),\"\")","v":""},null,{"$f":"IFERROR(_xlfn.IFS(Tableau1[[#This Row],[Category]]=Onglet_mapping_parameters!$C$27,Onglet_mapping_parameters!$B$27,Tableau1[[#This Row],[Category]]=Onglet_mapping_parameters!$C$28,Onglet_mapping_parameters!$B$28,Tableau1[[#This Row],[Category]]=Onglet_mapping_parameters!$C$29,Onglet_mapping_parameters!$B$29,Tableau1[[#This Row],[Category]]=Onglet_mapping_parameters!$C$30,Onglet_mapping_parameters!$B$30),\"\")","v":""},null,null,"Delete"]
[null,null,null,null,null,null,null,null,null,{"$f":"IFERROR(_xlfn.IFS(OR(F175=\"\",G175=\"\"),\"\",AND(F175<Onglet_mapping_parameters!$J$16,G175<Onglet_mapping_parameters!$J$16),Onglet_mapping_parameters!$J$18,AND(F175<Onglet_mapping_parameters!$J$16,G175>=Onglet_mapping_parameters!$J$16),Onglet_mapping_parameters!$J$20,AND(F175>=Onglet_mapping_parameters!$J$16,G175<Onglet_mapping_parameters!$J$16),Onglet_mapping_parameters!$J$21,AND(F175>=Onglet_mapping_parameters!$J$16,G175>=Onglet_mapping_parameters!$J$16),Onglet_mapping_parameters!$J$22),\"\")","v":""},null,{"$f":"IFERROR(_xlfn.IFS(Tableau1[[#This Row],[Category]]=Onglet_mapping_parameters!$C$27,Onglet_mapping_parameters!$B$27,Tableau1[[#This Row],[Category]]=Onglet_mapping_parameters!$C$28,Onglet_mapping_parameters!$B$28,Tableau1[[#This Row],[Category]]=Onglet_mapping_parameters!$C$29,Onglet_mapping_parameters!$B$29,Tableau1[[#This Row],[Category]]=Onglet_mapping_parameters!$C$30,Onglet_mapping_parameters!$B$30),\"\")","v":""},null,null,"Delete"]
[null,null,null,null,null,null,null,null,null,{"$f":"IFERROR(_xlfn.IFS(OR(F176=\"\",G176=\"\"),\"\",AND(F176<Onglet_mapping_parameters!$J$16,G176<Onglet_mapping_parameters!$J$16),Onglet_mapping_parameters!$J$18,AND(F176<Onglet_mapping_parameters!$J$16,G176>=Onglet_mapping_parameters!$J$16),Onglet_mapping_parameters!$J$20,AND(F176>=Onglet_mapping_parameters!$J$16,G176<Onglet_mapping_parameters!$J$16),Onglet_mapping_parameters!$J$21,AND(F176>=Onglet_mapping_parameters!$J$16,G176>=Onglet_mapping_parameters!$J$16),Onglet_mapping_parameters!$J$22),\"\")","v":""},null,{"$f":"IFERROR(_xlfn.IFS(Tableau1[[#This Row],[Category]]=Onglet_mapping_parameters!$C$27,Onglet_mapping_parameters!$B$27,Tableau1[[#This Row],[Category]]=Onglet_mapping_parameters!$C$28,Onglet_mapping_parameters!$B$28,Tableau1[[#This Row],[Category]]=Onglet_mapping_parameters!$C$29,Onglet_mapping_parameters!$B$29,Tableau1[[#This Row],[Category]]=Onglet_mapping_parameters!$C$30,Onglet_mapping_parameters!$B$30),\"\")","v":""},null,null,"Delete"]
[null,null,null,null,null,null,null,null,null,{"$f":"IFERROR(_xlfn.IFS(OR(F177=\"\",G177=\"\"),\"\",AND(F177<Onglet_mapping_parameters!$J$16,G177<Onglet_mapping_parameters!$J$16),Onglet_mapping_parameters!$J$18,AND(F177<Onglet_mapping_parameters!$J$16,G177>=Onglet_mapping_parameters!$J$16),Onglet_mapping_parameters!$J$20,AND(F177>=Onglet_mapping_parameters!$J$16,G177<Onglet_mapping_parameters!$J$16),Onglet_mapping_parameters!$J$21,AND(F177>=Onglet_mapping_parameters!$J$16,G177>=Onglet_mapping_parameters!$J$16),Onglet_mapping_parameters!$J$22),\"\")","v":""},null,{"$f":"IFERROR(_xlfn.IFS(Tableau1[[#This Row],[Category]]=Onglet_mapping_parameters!$C$27,Onglet_mapping_parameters!$B$27,Tableau1[[#This Row],[Category]]=Onglet_mapping_parameters!$C$28,Onglet_mapping_parameters!$B$28,Tableau1[[#This Row],[Category]]=Onglet_mapping_parameters!$C$29,Onglet_mapping_parameters!$B$29,Tableau1[[#This Row],[Category]]=Onglet_mapping_parameters!$C$30,Onglet_mapping_parameters!$B$30),\"\")","v":""},null,null,"Delete"]
[null,null,null,null,null,null,null,null,null,{"$f":"IFERROR(_xlfn.IFS(OR(F178=\"\",G178=\"\"),\"\",AND(F178<Onglet_mapping_parameters!$J$16,G178<Onglet_mapping_parameters!$J$16),Onglet_mapping_parameters!$J$18,AND(F178<Onglet_mapping_parameters!$J$16,G178>=Onglet_mapping_parameters!$J$16),Onglet_mapping_parameters!$J$20,AND(F178>=Onglet_mapping_parameters!$J$16,G178<Onglet_mapping_parameters!$J$16),Onglet_mapping_parameters!$J$21,AND(F178>=Onglet_mapping_parameters!$J$16,G178>=Onglet_mapping_parameters!$J$16),Onglet_mapping_parameters!$J$22),\"\")","v":""},null,{"$f":"IFERROR(_xlfn.IFS(Tableau1[[#This Row],[Category]]=Onglet_mapping_parameters!$C$27,Onglet_mapping_parameters!$B$27,Tableau1[[#This Row],[Category]]=Onglet_mapping_parameters!$C$28,Onglet_mapping_parameters!$B$28,Tableau1[[#This Row],[Category]]=Onglet_mapping_parameters!$C$29,Onglet_mapping_parameters!$B$29,Tableau1[[#This Row],[Category]]=Onglet_mapping_parameters!$C$30,Onglet_mapping_parameters!$B$30),\"\")","v":""},null,null,"Delete"]
[null,null,null,null,null,null,null,null,null,{"$f":"IFERROR(_xlfn.IFS(OR(F179=\"\",G179=\"\"),\"\",AND(F179<Onglet_mapping_parameters!$J$16,G179<Onglet_mapping_parameters!$J$16),Onglet_mapping_parameters!$J$18,AND(F179<Onglet_mapping_parameters!$J$16,G179>=Onglet_mapping_parameters!$J$16),Onglet_mapping_parameters!$J$20,AND(F179>=Onglet_mapping_parameters!$J$16,G179<Onglet_mapping_parameters!$J$16),Onglet_mapping_parameters!$J$21,AND(F179>=Onglet_mapping_parameters!$J$16,G179>=Onglet_mapping_parameters!$J$16),Onglet_mapping_parameters!$J$22),\"\")","v":""},null,{"$f":"IFERROR(_xlfn.IFS(Tableau1[[#This Row],[Category]]=Onglet_mapping_parameters!$C$27,Onglet_mapping_parameters!$B$27,Tableau1[[#This Row],[Category]]=Onglet_mapping_parameters!$C$28,Onglet_mapping_parameters!$B$28,Tableau1[[#This Row],[Category]]=Onglet_mapping_parameters!$C$29,Onglet_mapping_parameters!$B$29,Tableau1[[#This Row],[Category]]=Onglet_mapping_parameters!$C$30,Onglet_mapping_parameters!$B$30),\"\")","v":""},null,null,"Delete"]
[null,null,null,null,null,null,null,null,null,{"$f":"IFERROR(_xlfn.IFS(OR(F180=\"\",G180=\"\"),\"\",AND(F180<Onglet_mapping_parameters!$J$16,G180<Onglet_mapping_parameters!$J$16),Onglet_mapping_parameters!$J$18,AND(F180<Onglet_mapping_parameters!$J$16,G180>=Onglet_mapping_parameters!$J$16),Onglet_mapping_parameters!$J$20,AND(F180>=Onglet_mapping_parameters!$J$16,G180<Onglet_mapping_parameters!$J$16),Onglet_mapping_parameters!$J$21,AND(F180>=Onglet_mapping_parameters!$J$16,G180>=Onglet_mapping_parameters!$J$16),Onglet_mapping_parameters!$J$22),\"\")","v":""},null,{"$f":"IFERROR(_xlfn.IFS(Tableau1[[#This Row],[Category]]=Onglet_mapping_parameters!$C$27,Onglet_mapping_parameters!$B$27,Tableau1[[#This Row],[Category]]=Onglet_mapping_parameters!$C$28,Onglet_mapping_parameters!$B$28,Tableau1[[#This Row],[Category]]=Onglet_mapping_parameters!$C$29,Onglet_mapping_parameters!$B$29,Tableau1[[#This Row],[Category]]=Onglet_mapping_parameters!$C$30,Onglet_mapping_parameters!$B$30),\"\")","v":""},null,null,"Delete"]
[null,null,null,null,null,null,null,null,null,{"$f":"IFERROR(_xlfn.IFS(OR(F181=\"\",G181=\"\"),\"\",AND(F181<Onglet_mapping_parameters!$J$16,G181<Onglet_mapping_parameters!$J$16),Onglet_mapping_parameters!$J$18,AND(F181<Onglet_mapping_parameters!$J$16,G181>=Onglet_mapping_parameters!$J$16),Onglet_mapping_parameters!$J$20,AND(F181>=Onglet_mapping_parameters!$J$16,G181<Onglet_mapping_parameters!$J$16),Onglet_mapping_parameters!$J$21,AND(F181>=Onglet_mapping_parameters!$J$16,G181>=Onglet_mapping_parameters!$J$16),Onglet_mapping_parameters!$J$22),\"\")","v":""},null,{"$f":"IFERROR(_xlfn.IFS(Tableau1[[#This Row],[Category]]=Onglet_mapping_parameters!$C$27,Onglet_mapping_parameters!$B$27,Tableau1[[#This Row],[Category]]=Onglet_mapping_parameters!$C$28,Onglet_mapping_parameters!$B$28,Tableau1[[#This Row],[Category]]=Onglet_mapping_parameters!$C$29,Onglet_mapping_parameters!$B$29,Tableau1[[#This Row],[Category]]=Onglet_mapping_parameters!$C$30,Onglet_mapping_parameters!$B$30),\"\")","v":""},null,null,"Delete"]
[null,null,null,null,null,null,null,null,null,{"$f":"IFERROR(_xlfn.IFS(OR(F182=\"\",G182=\"\"),\"\",AND(F182<Onglet_mapping_parameters!$J$16,G182<Onglet_mapping_parameters!$J$16),Onglet_mapping_parameters!$J$18,AND(F182<Onglet_mapping_parameters!$J$16,G182>=Onglet_mapping_parameters!$J$16),Onglet_mapping_parameters!$J$20,AND(F182>=Onglet_mapping_parameters!$J$16,G182<Onglet_mapping_parameters!$J$16),Onglet_mapping_parameters!$J$21,AND(F182>=Onglet_mapping_parameters!$J$16,G182>=Onglet_mapping_parameters!$J$16),Onglet_mapping_parameters!$J$22),\"\")","v":""},null,{"$f":"IFERROR(_xlfn.IFS(Tableau1[[#This Row],[Category]]=Onglet_mapping_parameters!$C$27,Onglet_mapping_parameters!$B$27,Tableau1[[#This Row],[Category]]=Onglet_mapping_parameters!$C$28,Onglet_mapping_parameters!$B$28,Tableau1[[#This Row],[Category]]=Onglet_mapping_parameters!$C$29,Onglet_mapping_parameters!$B$29,Tableau1[[#This Row],[Category]]=Onglet_mapping_parameters!$C$30,Onglet_mapping_parameters!$B$30),\"\")","v":""},null,null,"Delete"]
[null,null,null,null,null,null,null,null,null,{"$f":"IFERROR(_xlfn.IFS(OR(F183=\"\",G183=\"\"),\"\",AND(F183<Onglet_mapping_parameters!$J$16,G183<Onglet_mapping_parameters!$J$16),Onglet_mapping_parameters!$J$18,AND(F183<Onglet_mapping_parameters!$J$16,G183>=Onglet_mapping_parameters!$J$16),Onglet_mapping_parameters!$J$20,AND(F183>=Onglet_mapping_parameters!$J$16,G183<Onglet_mapping_parameters!$J$16),Onglet_mapping_parameters!$J$21,AND(F183>=Onglet_mapping_parameters!$J$16,G183>=Onglet_mapping_parameters!$J$16),Onglet_mapping_parameters!$J$22),\"\")","v":""},null,{"$f":"IFERROR(_xlfn.IFS(Tableau1[[#This Row],[Category]]=Onglet_mapping_parameters!$C$27,Onglet_mapping_parameters!$B$27,Tableau1[[#This Row],[Category]]=Onglet_mapping_parameters!$C$28,Onglet_mapping_parameters!$B$28,Tableau1[[#This Row],[Category]]=Onglet_mapping_parameters!$C$29,Onglet_mapping_parameters!$B$29,Tableau1[[#This Row],[Category]]=Onglet_mapping_parameters!$C$30,Onglet_mapping_parameters!$B$30),\"\")","v":""},null,null,"Delete"]
[null,null,null,null,null,null,null,null,null,{"$f":"IFERROR(_xlfn.IFS(OR(F184=\"\",G184=\"\"),\"\",AND(F184<Onglet_mapping_parameters!$J$16,G184<Onglet_mapping_parameters!$J$16),Onglet_mapping_parameters!$J$18,AND(F184<Onglet_mapping_parameters!$J$16,G184>=Onglet_mapping_parameters!$J$16),Onglet_mapping_parameters!$J$20,AND(F184>=Onglet_mapping_parameters!$J$16,G184<Onglet_mapping_parameters!$J$16),Onglet_mapping_parameters!$J$21,AND(F184>=Onglet_mapping_parameters!$J$16,G184>=Onglet_mapping_parameters!$J$16),Onglet_mapping_parameters!$J$22),\"\")","v":""},null,{"$f":"IFERROR(_xlfn.IFS(Tableau1[[#This Row],[Category]]=Onglet_mapping_parameters!$C$27,Onglet_mapping_parameters!$B$27,Tableau1[[#This Row],[Category]]=Onglet_mapping_parameters!$C$28,Onglet_mapping_parameters!$B$28,Tableau1[[#This Row],[Category]]=Onglet_mapping_parameters!$C$29,Onglet_mapping_parameters!$B$29,Tableau1[[#This Row],[Category]]=Onglet_mapping_parameters!$C$30,Onglet_mapping_parameters!$B$30),\"\")","v":""},null,null,"Delete"]
[null,null,null,null,null,null,null,null,null,{"$f":"IFERROR(_xlfn.IFS(OR(F185=\"\",G185=\"\"),\"\",AND(F185<Onglet_mapping_parameters!$J$16,G185<Onglet_mapping_parameters!$J$16),Onglet_mapping_parameters!$J$18,AND(F185<Onglet_mapping_parameters!$J$16,G185>=Onglet_mapping_parameters!$J$16),Onglet_mapping_parameters!$J$20,AND(F185>=Onglet_mapping_parameters!$J$16,G185<Onglet_mapping_parameters!$J$16),Onglet_mapping_parameters!$J$21,AND(F185>=Onglet_mapping_parameters!$J$16,G185>=Onglet_mapping_parameters!$J$16),Onglet_mapping_parameters!$J$22),\"\")","v":""},null,{"$f":"IFERROR(_xlfn.IFS(Tableau1[[#This Row],[Category]]=Onglet_mapping_parameters!$C$27,Onglet_mapping_parameters!$B$27,Tableau1[[#This Row],[Category]]=Onglet_mapping_parameters!$C$28,Onglet_mapping_parameters!$B$28,Tableau1[[#This Row],[Category]]=Onglet_mapping_parameters!$C$29,Onglet_mapping_parameters!$B$29,Tableau1[[#This Row],[Category]]=Onglet_mapping_parameters!$C$30,Onglet_mapping_parameters!$B$30),\"\")","v":""},null,null,"Delete"]
[null,null,null,null,null,null,null,null,null,{"$f":"IFERROR(_xlfn.IFS(OR(F186=\"\",G186=\"\"),\"\",AND(F186<Onglet_mapping_parameters!$J$16,G186<Onglet_mapping_parameters!$J$16),Onglet_mapping_parameters!$J$18,AND(F186<Onglet_mapping_parameters!$J$16,G186>=Onglet_mapping_parameters!$J$16),Onglet_mapping_parameters!$J$20,AND(F186>=Onglet_mapping_parameters!$J$16,G186<Onglet_mapping_parameters!$J$16),Onglet_mapping_parameters!$J$21,AND(F186>=Onglet_mapping_parameters!$J$16,G186>=Onglet_mapping_parameters!$J$16),Onglet_mapping_parameters!$J$22),\"\")","v":""},null,{"$f":"IFERROR(_xlfn.IFS(Tableau1[[#This Row],[Category]]=Onglet_mapping_parameters!$C$27,Onglet_mapping_parameters!$B$27,Tableau1[[#This Row],[Category]]=Onglet_mapping_parameters!$C$28,Onglet_mapping_parameters!$B$28,Tableau1[[#This Row],[Category]]=Onglet_mapping_parameters!$C$29,Onglet_mapping_parameters!$B$29,Tableau1[[#This Row],[Category]]=Onglet_mapping_parameters!$C$30,Onglet_mapping_parameters!$B$30),\"\")","v":""},null,null,"Delete"]
[null,null,null,null,null,null,null,null,null,{"$f":"IFERROR(_xlfn.IFS(OR(F187=\"\",G187=\"\"),\"\",AND(F187<Onglet_mapping_parameters!$J$16,G187<Onglet_mapping_parameters!$J$16),Onglet_mapping_parameters!$J$18,AND(F187<Onglet_mapping_parameters!$J$16,G187>=Onglet_mapping_parameters!$J$16),Onglet_mapping_parameters!$J$20,AND(F187>=Onglet_mapping_parameters!$J$16,G187<Onglet_mapping_parameters!$J$16),Onglet_mapping_parameters!$J$21,AND(F187>=Onglet_mapping_parameters!$J$16,G187>=Onglet_mapping_parameters!$J$16),Onglet_mapping_parameters!$J$22),\"\")","v":""},null,{"$f":"IFERROR(_xlfn.IFS(Tableau1[[#This Row],[Category]]=Onglet_mapping_parameters!$C$27,Onglet_mapping_parameters!$B$27,Tableau1[[#This Row],[Category]]=Onglet_mapping_parameters!$C$28,Onglet_mapping_parameters!$B$28,Tableau1[[#This Row],[Category]]=Onglet_mapping_parameters!$C$29,Onglet_mapping_parameters!$B$29,Tableau1[[#This Row],[Category]]=Onglet_mapping_parameters!$C$30,Onglet_mapping_parameters!$B$30),\"\")","v":""},null,null,"Delete"]
[null,null,null,null,null,null,null,null,null,{"$f":"IFERROR(_xlfn.IFS(OR(F188=\"\",G188=\"\"),\"\",AND(F188<Onglet_mapping_parameters!$J$16,G188<Onglet_mapping_parameters!$J$16),Onglet_mapping_parameters!$J$18,AND(F188<Onglet_mapping_parameters!$J$16,G188>=Onglet_mapping_parameters!$J$16),Onglet_mapping_parameters!$J$20,AND(F188>=Onglet_mapping_parameters!$J$16,G188<Onglet_mapping_parameters!$J$16),Onglet_mapping_parameters!$J$21,AND(F188>=Onglet_mapping_parameters!$J$16,G188>=Onglet_mapping_parameters!$J$16),Onglet_mapping_parameters!$J$22),\"\")","v":""},null,{"$f":"IFERROR(_xlfn.IFS(Tableau1[[#This Row],[Category]]=Onglet_mapping_parameters!$C$27,Onglet_mapping_parameters!$B$27,Tableau1[[#This Row],[Category]]=Onglet_mapping_parameters!$C$28,Onglet_mapping_parameters!$B$28,Tableau1[[#This Row],[Category]]=Onglet_mapping_parameters!$C$29,Onglet_mapping_parameters!$B$29,Tableau1[[#This Row],[Category]]=Onglet_mapping_parameters!$C$30,Onglet_mapping_parameters!$B$30),\"\")","v":""},null,null,"Delete"]
[null,null,null,null,null,null,null,null,null,{"$f":"IFERROR(_xlfn.IFS(OR(F189=\"\",G189=\"\"),\"\",AND(F189<Onglet_mapping_parameters!$J$16,G189<Onglet_mapping_parameters!$J$16),Onglet_mapping_parameters!$J$18,AND(F189<Onglet_mapping_parameters!$J$16,G189>=Onglet_mapping_parameters!$J$16),Onglet_mapping_parameters!$J$20,AND(F189>=Onglet_mapping_parameters!$J$16,G189<Onglet_mapping_parameters!$J$16),Onglet_mapping_parameters!$J$21,AND(F189>=Onglet_mapping_parameters!$J$16,G189>=Onglet_mapping_parameters!$J$16),Onglet_mapping_parameters!$J$22),\"\")","v":""},null,{"$f":"IFERROR(_xlfn.IFS(Tableau1[[#This Row],[Category]]=Onglet_mapping_parameters!$C$27,Onglet_mapping_parameters!$B$27,Tableau1[[#This Row],[Category]]=Onglet_mapping_parameters!$C$28,Onglet_mapping_parameters!$B$28,Tableau1[[#This Row],[Category]]=Onglet_mapping_parameters!$C$29,Onglet_mapping_parameters!$B$29,Tableau1[[#This Row],[Category]]=Onglet_mapping_parameters!$C$30,Onglet_mapping_parameters!$B$30),\"\")","v":""},null,null,"Delete"]
[null,null,null,null,null,null,null,null,null,{"$f":"IFERROR(_xlfn.IFS(OR(F190=\"\",G190=\"\"),\"\",AND(F190<Onglet_mapping_parameters!$J$16,G190<Onglet_mapping_parameters!$J$16),Onglet_mapping_parameters!$J$18,AND(F190<Onglet_mapping_parameters!$J$16,G190>=Onglet_mapping_parameters!$J$16),Onglet_mapping_parameters!$J$20,AND(F190>=Onglet_mapping_parameters!$J$16,G190<Onglet_mapping_parameters!$J$16),Onglet_mapping_parameters!$J$21,AND(F190>=Onglet_mapping_parameters!$J$16,G190>=Onglet_mapping_parameters!$J$16),Onglet_mapping_parameters!$J$22),\"\")","v":""},null,{"$f":"IFERROR(_xlfn.IFS(Tableau1[[#This Row],[Category]]=Onglet_mapping_parameters!$C$27,Onglet_mapping_parameters!$B$27,Tableau1[[#This Row],[Category]]=Onglet_mapping_parameters!$C$28,Onglet_mapping_parameters!$B$28,Tableau1[[#This Row],[Category]]=Onglet_mapping_parameters!$C$29,Onglet_mapping_parameters!$B$29,Tableau1[[#This Row],[Category]]=Onglet_mapping_parameters!$C$30,Onglet_mapping_parameters!$B$30),\"\")","v":""},null,null,"Delete"]
[null,null,null,null,null,null,null,null,null,{"$f":"IFERROR(_xlfn.IFS(OR(F191=\"\",G191=\"\"),\"\",AND(F191<Onglet_mapping_parameters!$J$16,G191<Onglet_mapping_parameters!$J$16),Onglet_mapping_parameters!$J$18,AND(F191<Onglet_mapping_parameters!$J$16,G191>=Onglet_mapping_parameters!$J$16),Onglet_mapping_parameters!$J$20,AND(F191>=Onglet_mapping_parameters!$J$16,G191<Onglet_mapping_parameters!$J$16),Onglet_mapping_parameters!$J$21,AND(F191>=Onglet_mapping_parameters!$J$16,G191>=Onglet_mapping_parameters!$J$16),Onglet_mapping_parameters!$J$22),\"\")","v":""},null,{"$f":"IFERROR(_xlfn.IFS(Tableau1[[#This Row],[Category]]=Onglet_mapping_parameters!$C$27,Onglet_mapping_parameters!$B$27,Tableau1[[#This Row],[Category]]=Onglet_mapping_parameters!$C$28,Onglet_mapping_parameters!$B$28,Tableau1[[#This Row],[Category]]=Onglet_mapping_parameters!$C$29,Onglet_mapping_parameters!$B$29,Tableau1[[#This Row],[Category]]=Onglet_mapping_parameters!$C$30,Onglet_mapping_parameters!$B$30),\"\")","v":""},null,null,"Delete"]
[null,null,null,null,null,null,null,null,null,{"$f":"IFERROR(_xlfn.IFS(OR(F192=\"\",G192=\"\"),\"\",AND(F192<Onglet_mapping_parameters!$J$16,G192<Onglet_mapping_parameters!$J$16),Onglet_mapping_parameters!$J$18,AND(F192<Onglet_mapping_parameters!$J$16,G192>=Onglet_mapping_parameters!$J$16),Onglet_mapping_parameters!$J$20,AND(F192>=Onglet_mapping_parameters!$J$16,G192<Onglet_mapping_parameters!$J$16),Onglet_mapping_parameters!$J$21,AND(F192>=Onglet_mapping_parameters!$J$16,G192>=Onglet_mapping_parameters!$J$16),Onglet_mapping_parameters!$J$22),\"\")","v":""},null,{"$f":"IFERROR(_xlfn.IFS(Tableau1[[#This Row],[Category]]=Onglet_mapping_parameters!$C$27,Onglet_mapping_parameters!$B$27,Tableau1[[#This Row],[Category]]=Onglet_mapping_parameters!$C$28,Onglet_mapping_parameters!$B$28,Tableau1[[#This Row],[Category]]=Onglet_mapping_parameters!$C$29,Onglet_mapping_parameters!$B$29,Tableau1[[#This Row],[Category]]=Onglet_mapping_parameters!$C$30,Onglet_mapping_parameters!$B$30),\"\")","v":""},null,null,"Delete"]
[null,null,null,null,null,null,null,null,null,{"$f":"IFERROR(_xlfn.IFS(OR(F193=\"\",G193=\"\"),\"\",AND(F193<Onglet_mapping_parameters!$J$16,G193<Onglet_mapping_parameters!$J$16),Onglet_mapping_parameters!$J$18,AND(F193<Onglet_mapping_parameters!$J$16,G193>=Onglet_mapping_parameters!$J$16),Onglet_mapping_parameters!$J$20,AND(F193>=Onglet_mapping_parameters!$J$16,G193<Onglet_mapping_parameters!$J$16),Onglet_mapping_parameters!$J$21,AND(F193>=Onglet_mapping_parameters!$J$16,G193>=Onglet_mapping_parameters!$J$16),Onglet_mapping_parameters!$J$22),\"\")","v":""},null,{"$f":"IFERROR(_xlfn.IFS(Tableau1[[#This Row],[Category]]=Onglet_mapping_parameters!$C$27,Onglet_mapping_parameters!$B$27,Tableau1[[#This Row],[Category]]=Onglet_mapping_parameters!$C$28,Onglet_mapping_parameters!$B$28,Tableau1[[#This Row],[Category]]=Onglet_mapping_parameters!$C$29,Onglet_mapping_parameters!$B$29,Tableau1[[#This Row],[Category]]=Onglet_mapping_parameters!$C$30,Onglet_mapping_parameters!$B$30),\"\")","v":""},null,null,"Delete"]
[null,null,null,null,null,null,null,null,null,{"$f":"IFERROR(_xlfn.IFS(OR(F194=\"\",G194=\"\"),\"\",AND(F194<Onglet_mapping_parameters!$J$16,G194<Onglet_mapping_parameters!$J$16),Onglet_mapping_parameters!$J$18,AND(F194<Onglet_mapping_parameters!$J$16,G194>=Onglet_mapping_parameters!$J$16),Onglet_mapping_parameters!$J$20,AND(F194>=Onglet_mapping_parameters!$J$16,G194<Onglet_mapping_parameters!$J$16),Onglet_mapping_parameters!$J$21,AND(F194>=Onglet_mapping_parameters!$J$16,G194>=Onglet_mapping_parameters!$J$16),Onglet_mapping_parameters!$J$22),\"\")","v":""},null,{"$f":"IFERROR(_xlfn.IFS(Tableau1[[#This Row],[Category]]=Onglet_mapping_parameters!$C$27,Onglet_mapping_parameters!$B$27,Tableau1[[#This Row],[Category]]=Onglet_mapping_parameters!$C$28,Onglet_mapping_parameters!$B$28,Tableau1[[#This Row],[Category]]=Onglet_mapping_parameters!$C$29,Onglet_mapping_parameters!$B$29,Tableau1[[#This Row],[Category]]=Onglet_mapping_parameters!$C$30,Onglet_mapping_parameters!$B$30),\"\")","v":""},null,null,"Delete"]
[null,null,null,null,null,null,null,null,null,{"$f":"IFERROR(_xlfn.IFS(OR(F195=\"\",G195=\"\"),\"\",AND(F195<Onglet_mapping_parameters!$J$16,G195<Onglet_mapping_parameters!$J$16),Onglet_mapping_parameters!$J$18,AND(F195<Onglet_mapping_parameters!$J$16,G195>=Onglet_mapping_parameters!$J$16),Onglet_mapping_parameters!$J$20,AND(F195>=Onglet_mapping_parameters!$J$16,G195<Onglet_mapping_parameters!$J$16),Onglet_mapping_parameters!$J$21,AND(F195>=Onglet_mapping_parameters!$J$16,G195>=Onglet_mapping_parameters!$J$16),Onglet_mapping_parameters!$J$22),\"\")","v":""},null,{"$f":"IFERROR(_xlfn.IFS(Tableau1[[#This Row],[Category]]=Onglet_mapping_parameters!$C$27,Onglet_mapping_parameters!$B$27,Tableau1[[#This Row],[Category]]=Onglet_mapping_parameters!$C$28,Onglet_mapping_parameters!$B$28,Tableau1[[#This Row],[Category]]=Onglet_mapping_parameters!$C$29,Onglet_mapping_parameters!$B$29,Tableau1[[#This Row],[Category]]=Onglet_mapping_parameters!$C$30,Onglet_mapping_parameters!$B$30),\"\")","v":""},null,null,"Delete"]
[null,null,null,null,null,null,null,null,null,{"$f":"IFERROR(_xlfn.IFS(OR(F196=\"\",G196=\"\"),\"\",AND(F196<Onglet_mapping_parameters!$J$16,G196<Onglet_mapping_parameters!$J$16),Onglet_mapping_parameters!$J$18,AND(F196<Onglet_mapping_parameters!$J$16,G196>=Onglet_mapping_parameters!$J$16),Onglet_mapping_parameters!$J$20,AND(F196>=Onglet_mapping_parameters!$J$16,G196<Onglet_mapping_parameters!$J$16),Onglet_mapping_parameters!$J$21,AND(F196>=Onglet_mapping_parameters!$J$16,G196>=Onglet_mapping_parameters!$J$16),Onglet_mapping_parameters!$J$22),\"\")","v":""},null,{"$f":"IFERROR(_xlfn.IFS(Tableau1[[#This Row],[Category]]=Onglet_mapping_parameters!$C$27,Onglet_mapping_parameters!$B$27,Tableau1[[#This Row],[Category]]=Onglet_mapping_parameters!$C$28,Onglet_mapping_parameters!$B$28,Tableau1[[#This Row],[Category]]=Onglet_mapping_parameters!$C$29,Onglet_mapping_parameters!$B$29,Tableau1[[#This Row],[Category]]=Onglet_mapping_parameters!$C$30,Onglet_mapping_parameters!$B$30),\"\")","v":""},null,null,"Delete"]
[null,null,null,null,null,null,null,null,null,{"$f":"IFERROR(_xlfn.IFS(OR(F197=\"\",G197=\"\"),\"\",AND(F197<Onglet_mapping_parameters!$J$16,G197<Onglet_mapping_parameters!$J$16),Onglet_mapping_parameters!$J$18,AND(F197<Onglet_mapping_parameters!$J$16,G197>=Onglet_mapping_parameters!$J$16),Onglet_mapping_parameters!$J$20,AND(F197>=Onglet_mapping_parameters!$J$16,G197<Onglet_mapping_parameters!$J$16),Onglet_mapping_parameters!$J$21,AND(F197>=Onglet_mapping_parameters!$J$16,G197>=Onglet_mapping_parameters!$J$16),Onglet_mapping_parameters!$J$22),\"\")","v":""},null,{"$f":"IFERROR(_xlfn.IFS(Tableau1[[#This Row],[Category]]=Onglet_mapping_parameters!$C$27,Onglet_mapping_parameters!$B$27,Tableau1[[#This Row],[Category]]=Onglet_mapping_parameters!$C$28,Onglet_mapping_parameters!$B$28,Tableau1[[#This Row],[Category]]=Onglet_mapping_parameters!$C$29,Onglet_mapping_parameters!$B$29,Tableau1[[#This Row],[Category]]=Onglet_mapping_parameters!$C$30,Onglet_mapping_parameters!$B$30),\"\")","v":""},null,null,"Delete"]
[null,null,null,null,null,null,null,null,null,{"$f":"IFERROR(_xlfn.IFS(OR(F198=\"\",G198=\"\"),\"\",AND(F198<Onglet_mapping_parameters!$J$16,G198<Onglet_mapping_parameters!$J$16),Onglet_mapping_parameters!$J$18,AND(F198<Onglet_mapping_parameters!$J$16,G198>=Onglet_mapping_parameters!$J$16),Onglet_mapping_parameters!$J$20,AND(F198>=Onglet_mapping_parameters!$J$16,G198<Onglet_mapping_parameters!$J$16),Onglet_mapping_parameters!$J$21,AND(F198>=Onglet_mapping_parameters!$J$16,G198>=Onglet_mapping_parameters!$J$16),Onglet_mapping_parameters!$J$22),\"\")","v":""},null,{"$f":"IFERROR(_xlfn.IFS(Tableau1[[#This Row],[Category]]=Onglet_mapping_parameters!$C$27,Onglet_mapping_parameters!$B$27,Tableau1[[#This Row],[Category]]=Onglet_mapping_parameters!$C$28,Onglet_mapping_parameters!$B$28,Tableau1[[#This Row],[Category]]=Onglet_mapping_parameters!$C$29,Onglet_mapping_parameters!$B$29,Tableau1[[#This Row],[Category]]=Onglet_mapping_parameters!$C$30,Onglet_mapping_parameters!$B$30),\"\")","v":""},null,null,"Delete"]
[null,null,null,null,null,null,null,null,null,{"$f":"IFERROR(_xlfn.IFS(OR(F199=\"\",G199=\"\"),\"\",AND(F199<Onglet_mapping_parameters!$J$16,G199<Onglet_mapping_parameters!$J$16),Onglet_mapping_parameters!$J$18,AND(F199<Onglet_mapping_parameters!$J$16,G199>=Onglet_mapping_parameters!$J$16),Onglet_mapping_parameters!$J$20,AND(F199>=Onglet_mapping_parameters!$J$16,G199<Onglet_mapping_parameters!$J$16),Onglet_mapping_parameters!$J$21,AND(F199>=Onglet_mapping_parameters!$J$16,G199>=Onglet_mapping_parameters!$J$16),Onglet_mapping_parameters!$J$22),\"\")","v":""},null,{"$f":"IFERROR(_xlfn.IFS(Tableau1[[#This Row],[Category]]=Onglet_mapping_parameters!$C$27,Onglet_mapping_parameters!$B$27,Tableau1[[#This Row],[Category]]=Onglet_mapping_parameters!$C$28,Onglet_mapping_parameters!$B$28,Tableau1[[#This Row],[Category]]=Onglet_mapping_parameters!$C$29,Onglet_mapping_parameters!$B$29,Tableau1[[#This Row],[Category]]=Onglet_mapping_parameters!$C$30,Onglet_mapping_parameters!$B$30),\"\")","v":""},null,null,"Delete"]
[null,null,null,null,null,null,null,null,null,{"$f":"IFERROR(_xlfn.IFS(OR(F200=\"\",G200=\"\"),\"\",AND(F200<Onglet_mapping_parameters!$J$16,G200<Onglet_mapping_parameters!$J$16),Onglet_mapping_parameters!$J$18,AND(F200<Onglet_mapping_parameters!$J$16,G200>=Onglet_mapping_parameters!$J$16),Onglet_mapping_parameters!$J$20,AND(F200>=Onglet_mapping_parameters!$J$16,G200<Onglet_mapping_parameters!$J$16),Onglet_mapping_parameters!$J$21,AND(F200>=Onglet_mapping_parameters!$J$16,G200>=Onglet_mapping_parameters!$J$16),Onglet_mapping_parameters!$J$22),\"\")","v":""},null,{"$f":"IFERROR(_xlfn.IFS(Tableau1[[#This Row],[Category]]=Onglet_mapping_parameters!$C$27,Onglet_mapping_parameters!$B$27,Tableau1[[#This Row],[Category]]=Onglet_mapping_parameters!$C$28,Onglet_mapping_parameters!$B$28,Tableau1[[#This Row],[Category]]=Onglet_mapping_parameters!$C$29,Onglet_mapping_parameters!$B$29,Tableau1[[#This Row],[Category]]=Onglet_mapping_parameters!$C$30,Onglet_mapping_parameters!$B$30),\"\")","v":""},null,null,"Delete"]
[null,null,null,null,null,null,null,null,null,{"$f":"IFERROR(_xlfn.IFS(OR(F201=\"\",G201=\"\"),\"\",AND(F201<Onglet_mapping_parameters!$J$16,G201<Onglet_mapping_parameters!$J$16),Onglet_mapping_parameters!$J$18,AND(F201<Onglet_mapping_parameters!$J$16,G201>=Onglet_mapping_parameters!$J$16),Onglet_mapping_parameters!$J$20,AND(F201>=Onglet_mapping_parameters!$J$16,G201<Onglet_mapping_parameters!$J$16),Onglet_mapping_parameters!$J$21,AND(F201>=Onglet_mapping_parameters!$J$16,G201>=Onglet_mapping_parameters!$J$16),Onglet_mapping_parameters!$J$22),\"\")","v":""},null,{"$f":"IFERROR(_xlfn.IFS(Tableau1[[#This Row],[Category]]=Onglet_mapping_parameters!$C$27,Onglet_mapping_parameters!$B$27,Tableau1[[#This Row],[Category]]=Onglet_mapping_parameters!$C$28,Onglet_mapping_parameters!$B$28,Tableau1[[#This Row],[Category]]=Onglet_mapping_parameters!$C$29,Onglet_mapping_parameters!$B$29,Tableau1[[#This Row],[Category]]=Onglet_mapping_parameters!$C$30,Onglet_mapping_parameters!$B$30),\"\")","v":""},null,null,"Delete"]
[null,null,null,null,null,null,null,null,null,{"$f":"IFERROR(_xlfn.IFS(OR(F202=\"\",G202=\"\"),\"\",AND(F202<Onglet_mapping_parameters!$J$16,G202<Onglet_mapping_parameters!$J$16),Onglet_mapping_parameters!$J$18,AND(F202<Onglet_mapping_parameters!$J$16,G202>=Onglet_mapping_parameters!$J$16),Onglet_mapping_parameters!$J$20,AND(F202>=Onglet_mapping_parameters!$J$16,G202<Onglet_mapping_parameters!$J$16),Onglet_mapping_parameters!$J$21,AND(F202>=Onglet_mapping_parameters!$J$16,G202>=Onglet_mapping_parameters!$J$16),Onglet_mapping_parameters!$J$22),\"\")","v":""},null,{"$f":"IFERROR(_xlfn.IFS(Tableau1[[#This Row],[Category]]=Onglet_mapping_parameters!$C$27,Onglet_mapping_parameters!$B$27,Tableau1[[#This Row],[Category]]=Onglet_mapping_parameters!$C$28,Onglet_mapping_parameters!$B$28,Tableau1[[#This Row],[Category]]=Onglet_mapping_parameters!$C$29,Onglet_mapping_parameters!$B$29,Tableau1[[#This Row],[Category]]=Onglet_mapping_parameters!$C$30,Onglet_mapping_parameters!$B$30),\"\")","v":""},null,null,"Delete"]
[null,null,null,null,null,null,null,null,null,{"$f":"IFERROR(_xlfn.IFS(OR(F203=\"\",G203=\"\"),\"\",AND(F203<Onglet_mapping_parameters!$J$16,G203<Onglet_mapping_parameters!$J$16),Onglet_mapping_parameters!$J$18,AND(F203<Onglet_mapping_parameters!$J$16,G203>=Onglet_mapping_parameters!$J$16),Onglet_mapping_parameters!$J$20,AND(F203>=Onglet_mapping_parameters!$J$16,G203<Onglet_mapping_parameters!$J$16),Onglet_mapping_parameters!$J$21,AND(F203>=Onglet_mapping_parameters!$J$16,G203>=Onglet_mapping_parameters!$J$16),Onglet_mapping_parameters!$J$22),\"\")","v":""},null,{"$f":"IFERROR(_xlfn.IFS(Tableau1[[#This Row],[Category]]=Onglet_mapping_parameters!$C$27,Onglet_mapping_parameters!$B$27,Tableau1[[#This Row],[Category]]=Onglet_mapping_parameters!$C$28,Onglet_mapping_parameters!$B$28,Tableau1[[#This Row],[Category]]=Onglet_mapping_parameters!$C$29,Onglet_mapping_parameters!$B$29,Tableau1[[#This Row],[Category]]=Onglet_mapping_parameters!$C$30,Onglet_mapping_parameters!$B$30),\"\")","v":""},null,null,"Delete"]
[null,null,null,null,null,null,null,null,null,{"$f":"IFERROR(_xlfn.IFS(OR(F204=\"\",G204=\"\"),\"\",AND(F204<Onglet_mapping_parameters!$J$16,G204<Onglet_mapping_parameters!$J$16),Onglet_mapping_parameters!$J$18,AND(F204<Onglet_mapping_parameters!$J$16,G204>=Onglet_mapping_parameters!$J$16),Onglet_mapping_parameters!$J$20,AND(F204>=Onglet_mapping_parameters!$J$16,G204<Onglet_mapping_parameters!$J$16),Onglet_mapping_parameters!$J$21,AND(F204>=Onglet_mapping_parameters!$J$16,G204>=Onglet_mapping_parameters!$J$16),Onglet_mapping_parameters!$J$22),\"\")","v":""},null,{"$f":"IFERROR(_xlfn.IFS(Tableau1[[#This Row],[Category]]=Onglet_mapping_parameters!$C$27,Onglet_mapping_parameters!$B$27,Tableau1[[#This Row],[Category]]=Onglet_mapping_parameters!$C$28,Onglet_mapping_parameters!$B$28,Tableau1[[#This Row],[Category]]=Onglet_mapping_parameters!$C$29,Onglet_mapping_parameters!$B$29,Tableau1[[#This Row],[Category]]=Onglet_mapping_parameters!$C$30,Onglet_mapping_parameters!$B$30),\"\")","v":""},null,null,"Delete"]
[null,null,null,null,null,null,null,null,null,{"$f":"IFERROR(_xlfn.IFS(OR(F205=\"\",G205=\"\"),\"\",AND(F205<Onglet_mapping_parameters!$J$16,G205<Onglet_mapping_parameters!$J$16),Onglet_mapping_parameters!$J$18,AND(F205<Onglet_mapping_parameters!$J$16,G205>=Onglet_mapping_parameters!$J$16),Onglet_mapping_parameters!$J$20,AND(F205>=Onglet_mapping_parameters!$J$16,G205<Onglet_mapping_parameters!$J$16),Onglet_mapping_parameters!$J$21,AND(F205>=Onglet_mapping_parameters!$J$16,G205>=Onglet_mapping_parameters!$J$16),Onglet_mapping_parameters!$J$22),\"\")","v":""},null,{"$f":"IFERROR(_xlfn.IFS(Tableau1[[#This Row],[Category]]=Onglet_mapping_parameters!$C$27,Onglet_mapping_parameters!$B$27,Tableau1[[#This Row],[Category]]=Onglet_mapping_parameters!$C$28,Onglet_mapping_parameters!$B$28,Tableau1[[#This Row],[Category]]=Onglet_mapping_parameters!$C$29,Onglet_mapping_parameters!$B$29,Tableau1[[#This Row],[Category]]=Onglet_mapping_parameters!$C$30,Onglet_mapping_parameters!$B$30),\"\")","v":""},null,null,"Delete"]
[null,null,null,null,null,null,null,null,null,{"$f":"IFERROR(_xlfn.IFS(OR(F206=\"\",G206=\"\"),\"\",AND(F206<Onglet_mapping_parameters!$J$16,G206<Onglet_mapping_parameters!$J$16),Onglet_mapping_parameters!$J$18,AND(F206<Onglet_mapping_parameters!$J$16,G206>=Onglet_mapping_parameters!$J$16),Onglet_mapping_parameters!$J$20,AND(F206>=Onglet_mapping_parameters!$J$16,G206<Onglet_mapping_parameters!$J$16),Onglet_mapping_parameters!$J$21,AND(F206>=Onglet_mapping_parameters!$J$16,G206>=Onglet_mapping_parameters!$J$16),Onglet_mapping_parameters!$J$22),\"\")","v":""},null,{"$f":"IFERROR(_xlfn.IFS(Tableau1[[#This Row],[Category]]=Onglet_mapping_parameters!$C$27,Onglet_mapping_parameters!$B$27,Tableau1[[#This Row],[Category]]=Onglet_mapping_parameters!$C$28,Onglet_mapping_parameters!$B$28,Tableau1[[#This Row],[Category]]=Onglet_mapping_parameters!$C$29,Onglet_mapping_parameters!$B$29,Tableau1[[#This Row],[Category]]=Onglet_mapping_parameters!$C$30,Onglet_mapping_parameters!$B$30),\"\")","v":""},null,null,"Delete"]
[null,null,null,null,null,null,null,null,null,{"$f":"IFERROR(_xlfn.IFS(OR(F207=\"\",G207=\"\"),\"\",AND(F207<Onglet_mapping_parameters!$J$16,G207<Onglet_mapping_parameters!$J$16),Onglet_mapping_parameters!$J$18,AND(F207<Onglet_mapping_parameters!$J$16,G207>=Onglet_mapping_parameters!$J$16),Onglet_mapping_parameters!$J$20,AND(F207>=Onglet_mapping_parameters!$J$16,G207<Onglet_mapping_parameters!$J$16),Onglet_mapping_parameters!$J$21,AND(F207>=Onglet_mapping_parameters!$J$16,G207>=Onglet_mapping_parameters!$J$16),Onglet_mapping_parameters!$J$22),\"\")","v":""},null,{"$f":"IFERROR(_xlfn.IFS(Tableau1[[#This Row],[Category]]=Onglet_mapping_parameters!$C$27,Onglet_mapping_parameters!$B$27,Tableau1[[#This Row],[Category]]=Onglet_mapping_parameters!$C$28,Onglet_mapping_parameters!$B$28,Tableau1[[#This Row],[Category]]=Onglet_mapping_parameters!$C$29,Onglet_mapping_parameters!$B$29,Tableau1[[#This Row],[Category]]=Onglet_mapping_parameters!$C$30,Onglet_mapping_parameters!$B$30),\"\")","v":""},null,null,"Delete"]
[null,null,null,null,null,null,null,null,null,{"$f":"IFERROR(_xlfn.IFS(OR(F208=\"\",G208=\"\"),\"\",AND(F208<Onglet_mapping_parameters!$J$16,G208<Onglet_mapping_parameters!$J$16),Onglet_mapping_parameters!$J$18,AND(F208<Onglet_mapping_parameters!$J$16,G208>=Onglet_mapping_parameters!$J$16),Onglet_mapping_parameters!$J$20,AND(F208>=Onglet_mapping_parameters!$J$16,G208<Onglet_mapping_parameters!$J$16),Onglet_mapping_parameters!$J$21,AND(F208>=Onglet_mapping_parameters!$J$16,G208>=Onglet_mapping_parameters!$J$16),Onglet_mapping_parameters!$J$22),\"\")","v":""},null,{"$f":"IFERROR(_xlfn.IFS(Tableau1[[#This Row],[Category]]=Onglet_mapping_parameters!$C$27,Onglet_mapping_parameters!$B$27,Tableau1[[#This Row],[Category]]=Onglet_mapping_parameters!$C$28,Onglet_mapping_parameters!$B$28,Tableau1[[#This Row],[Category]]=Onglet_mapping_parameters!$C$29,Onglet_mapping_parameters!$B$29,Tableau1[[#This Row],[Category]]=Onglet_mapping_parameters!$C$30,Onglet_mapping_parameters!$B$30),\"\")","v":""},null,null,"Delete"]
[null,null,null,null,null,null,null,null,null,{"$f":"IFERROR(_xlfn.IFS(OR(F209=\"\",G209=\"\"),\"\",AND(F209<Onglet_mapping_parameters!$J$16,G209<Onglet_mapping_parameters!$J$16),Onglet_mapping_parameters!$J$18,AND(F209<Onglet_mapping_parameters!$J$16,G209>=Onglet_mapping_parameters!$J$16),Onglet_mapping_parameters!$J$20,AND(F209>=Onglet_mapping_parameters!$J$16,G209<Onglet_mapping_parameters!$J$16),Onglet_mapping_parameters!$J$21,AND(F209>=Onglet_mapping_parameters!$J$16,G209>=Onglet_mapping_parameters!$J$16),Onglet_mapping_parameters!$J$22),\"\")","v":""},null,{"$f":"IFERROR(_xlfn.IFS(Tableau1[[#This Row],[Category]]=Onglet_mapping_parameters!$C$27,Onglet_mapping_parameters!$B$27,Tableau1[[#This Row],[Category]]=Onglet_mapping_parameters!$C$28,Onglet_mapping_parameters!$B$28,Tableau1[[#This Row],[Category]]=Onglet_mapping_parameters!$C$29,Onglet_mapping_parameters!$B$29,Tableau1[[#This Row],[Category]]=Onglet_mapping_parameters!$C$30,Onglet_mapping_parameters!$B$30),\"\")","v":""},null,null,"Delete"]
[null,null,null,null,null,null,null,null,null,{"$f":"IFERROR(_xlfn.IFS(OR(F210=\"\",G210=\"\"),\"\",AND(F210<Onglet_mapping_parameters!$J$16,G210<Onglet_mapping_parameters!$J$16),Onglet_mapping_parameters!$J$18,AND(F210<Onglet_mapping_parameters!$J$16,G210>=Onglet_mapping_parameters!$J$16),Onglet_mapping_parameters!$J$20,AND(F210>=Onglet_mapping_parameters!$J$16,G210<Onglet_mapping_parameters!$J$16),Onglet_mapping_parameters!$J$21,AND(F210>=Onglet_mapping_parameters!$J$16,G210>=Onglet_mapping_parameters!$J$16),Onglet_mapping_parameters!$J$22),\"\")","v":""},null,{"$f":"IFERROR(_xlfn.IFS(Tableau1[[#This Row],[Category]]=Onglet_mapping_parameters!$C$27,Onglet_mapping_parameters!$B$27,Tableau1[[#This Row],[Category]]=Onglet_mapping_parameters!$C$28,Onglet_mapping_parameters!$B$28,Tableau1[[#This Row],[Category]]=Onglet_mapping_parameters!$C$29,Onglet_mapping_parameters!$B$29,Tableau1[[#This Row],[Category]]=Onglet_mapping_parameters!$C$30,Onglet_mapping_parameters!$B$30),\"\")","v":""},null,null,"Delete"]
[null,null,null,null,null,null,null,null,null,{"$f":"IFERROR(_xlfn.IFS(OR(F211=\"\",G211=\"\"),\"\",AND(F211<Onglet_mapping_parameters!$J$16,G211<Onglet_mapping_parameters!$J$16),Onglet_mapping_parameters!$J$18,AND(F211<Onglet_mapping_parameters!$J$16,G211>=Onglet_mapping_parameters!$J$16),Onglet_mapping_parameters!$J$20,AND(F211>=Onglet_mapping_parameters!$J$16,G211<Onglet_mapping_parameters!$J$16),Onglet_mapping_parameters!$J$21,AND(F211>=Onglet_mapping_parameters!$J$16,G211>=Onglet_mapping_parameters!$J$16),Onglet_mapping_parameters!$J$22),\"\")","v":""},null,{"$f":"IFERROR(_xlfn.IFS(Tableau1[[#This Row],[Category]]=Onglet_mapping_parameters!$C$27,Onglet_mapping_parameters!$B$27,Tableau1[[#This Row],[Category]]=Onglet_mapping_parameters!$C$28,Onglet_mapping_parameters!$B$28,Tableau1[[#This Row],[Category]]=Onglet_mapping_parameters!$C$29,Onglet_mapping_parameters!$B$29,Tableau1[[#This Row],[Category]]=Onglet_mapping_parameters!$C$30,Onglet_mapping_parameters!$B$30),\"\")","v":""},null,null,"Delete"]
[null,null,null,null,null,null,null,null,null,{"$f":"IFERROR(_xlfn.IFS(OR(F212=\"\",G212=\"\"),\"\",AND(F212<Onglet_mapping_parameters!$J$16,G212<Onglet_mapping_parameters!$J$16),Onglet_mapping_parameters!$J$18,AND(F212<Onglet_mapping_parameters!$J$16,G212>=Onglet_mapping_parameters!$J$16),Onglet_mapping_parameters!$J$20,AND(F212>=Onglet_mapping_parameters!$J$16,G212<Onglet_mapping_parameters!$J$16),Onglet_mapping_parameters!$J$21,AND(F212>=Onglet_mapping_parameters!$J$16,G212>=Onglet_mapping_parameters!$J$16),Onglet_mapping_parameters!$J$22),\"\")","v":""},null,{"$f":"IFERROR(_xlfn.IFS(Tableau1[[#This Row],[Category]]=Onglet_mapping_parameters!$C$27,Onglet_mapping_parameters!$B$27,Tableau1[[#This Row],[Category]]=Onglet_mapping_parameters!$C$28,Onglet_mapping_parameters!$B$28,Tableau1[[#This Row],[Category]]=Onglet_mapping_parameters!$C$29,Onglet_mapping_parameters!$B$29,Tableau1[[#This Row],[Category]]=Onglet_mapping_parameters!$C$30,Onglet_mapping_parameters!$B$30),\"\")","v":""},null,null,"Delete"]
[null,null,null,null,null,null,null,null,null,{"$f":"IFERROR(_xlfn.IFS(OR(F213=\"\",G213=\"\"),\"\",AND(F213<Onglet_mapping_parameters!$J$16,G213<Onglet_mapping_parameters!$J$16),Onglet_mapping_parameters!$J$18,AND(F213<Onglet_mapping_parameters!$J$16,G213>=Onglet_mapping_parameters!$J$16),Onglet_mapping_parameters!$J$20,AND(F213>=Onglet_mapping_parameters!$J$16,G213<Onglet_mapping_parameters!$J$16),Onglet_mapping_parameters!$J$21,AND(F213>=Onglet_mapping_parameters!$J$16,G213>=Onglet_mapping_parameters!$J$16),Onglet_mapping_parameters!$J$22),\"\")","v":""},null,{"$f":"IFERROR(_xlfn.IFS(Tableau1[[#This Row],[Category]]=Onglet_mapping_parameters!$C$27,Onglet_mapping_parameters!$B$27,Tableau1[[#This Row],[Category]]=Onglet_mapping_parameters!$C$28,Onglet_mapping_parameters!$B$28,Tableau1[[#This Row],[Category]]=Onglet_mapping_parameters!$C$29,Onglet_mapping_parameters!$B$29,Tableau1[[#This Row],[Category]]=Onglet_mapping_parameters!$C$30,Onglet_mapping_parameters!$B$30),\"\")","v":""},null,null,"Delete"]
[null,null,null,null,null,null,null,null,null,{"$f":"IFERROR(_xlfn.IFS(OR(F214=\"\",G214=\"\"),\"\",AND(F214<Onglet_mapping_parameters!$J$16,G214<Onglet_mapping_parameters!$J$16),Onglet_mapping_parameters!$J$18,AND(F214<Onglet_mapping_parameters!$J$16,G214>=Onglet_mapping_parameters!$J$16),Onglet_mapping_parameters!$J$20,AND(F214>=Onglet_mapping_parameters!$J$16,G214<Onglet_mapping_parameters!$J$16),Onglet_mapping_parameters!$J$21,AND(F214>=Onglet_mapping_parameters!$J$16,G214>=Onglet_mapping_parameters!$J$16),Onglet_mapping_parameters!$J$22),\"\")","v":""},null,{"$f":"IFERROR(_xlfn.IFS(Tableau1[[#This Row],[Category]]=Onglet_mapping_parameters!$C$27,Onglet_mapping_parameters!$B$27,Tableau1[[#This Row],[Category]]=Onglet_mapping_parameters!$C$28,Onglet_mapping_parameters!$B$28,Tableau1[[#This Row],[Category]]=Onglet_mapping_parameters!$C$29,Onglet_mapping_parameters!$B$29,Tableau1[[#This Row],[Category]]=Onglet_mapping_parameters!$C$30,Onglet_mapping_parameters!$B$30),\"\")","v":""},null,null,"Delete"]
[null,null,null,null,null,null,null,null,null,{"$f":"IFERROR(_xlfn.IFS(OR(F215=\"\",G215=\"\"),\"\",AND(F215<Onglet_mapping_parameters!$J$16,G215<Onglet_mapping_parameters!$J$16),Onglet_mapping_parameters!$J$18,AND(F215<Onglet_mapping_parameters!$J$16,G215>=Onglet_mapping_parameters!$J$16),Onglet_mapping_parameters!$J$20,AND(F215>=Onglet_mapping_parameters!$J$16,G215<Onglet_mapping_parameters!$J$16),Onglet_mapping_parameters!$J$21,AND(F215>=Onglet_mapping_parameters!$J$16,G215>=Onglet_mapping_parameters!$J$16),Onglet_mapping_parameters!$J$22),\"\")","v":""},null,{"$f":"IFERROR(_xlfn.IFS(Tableau1[[#This Row],[Category]]=Onglet_mapping_parameters!$C$27,Onglet_mapping_parameters!$B$27,Tableau1[[#This Row],[Category]]=Onglet_mapping_parameters!$C$28,Onglet_mapping_parameters!$B$28,Tableau1[[#This Row],[Category]]=Onglet_mapping_parameters!$C$29,Onglet_mapping_parameters!$B$29,Tableau1[[#This Row],[Category]]=Onglet_mapping_parameters!$C$30,Onglet_mapping_parameters!$B$30),\"\")","v":""},null,null,"Delete"]
[null,null,null,null,null,null,null,null,null,{"$f":"IFERROR(_xlfn.IFS(OR(F216=\"\",G216=\"\"),\"\",AND(F216<Onglet_mapping_parameters!$J$16,G216<Onglet_mapping_parameters!$J$16),Onglet_mapping_parameters!$J$18,AND(F216<Onglet_mapping_parameters!$J$16,G216>=Onglet_mapping_parameters!$J$16),Onglet_mapping_parameters!$J$20,AND(F216>=Onglet_mapping_parameters!$J$16,G216<Onglet_mapping_parameters!$J$16),Onglet_mapping_parameters!$J$21,AND(F216>=Onglet_mapping_parameters!$J$16,G216>=Onglet_mapping_parameters!$J$16),Onglet_mapping_parameters!$J$22),\"\")","v":""},null,{"$f":"IFERROR(_xlfn.IFS(Tableau1[[#This Row],[Category]]=Onglet_mapping_parameters!$C$27,Onglet_mapping_parameters!$B$27,Tableau1[[#This Row],[Category]]=Onglet_mapping_parameters!$C$28,Onglet_mapping_parameters!$B$28,Tableau1[[#This Row],[Category]]=Onglet_mapping_parameters!$C$29,Onglet_mapping_parameters!$B$29,Tableau1[[#This Row],[Category]]=Onglet_mapping_parameters!$C$30,Onglet_mapping_parameters!$B$30),\"\")","v":""},null,null,"Delete"]
[null,null,null,null,null,null,null,null,null,{"$f":"IFERROR(_xlfn.IFS(OR(F217=\"\",G217=\"\"),\"\",AND(F217<Onglet_mapping_parameters!$J$16,G217<Onglet_mapping_parameters!$J$16),Onglet_mapping_parameters!$J$18,AND(F217<Onglet_mapping_parameters!$J$16,G217>=Onglet_mapping_parameters!$J$16),Onglet_mapping_parameters!$J$20,AND(F217>=Onglet_mapping_parameters!$J$16,G217<Onglet_mapping_parameters!$J$16),Onglet_mapping_parameters!$J$21,AND(F217>=Onglet_mapping_parameters!$J$16,G217>=Onglet_mapping_parameters!$J$16),Onglet_mapping_parameters!$J$22),\"\")","v":""},null,{"$f":"IFERROR(_xlfn.IFS(Tableau1[[#This Row],[Category]]=Onglet_mapping_parameters!$C$27,Onglet_mapping_parameters!$B$27,Tableau1[[#This Row],[Category]]=Onglet_mapping_parameters!$C$28,Onglet_mapping_parameters!$B$28,Tableau1[[#This Row],[Category]]=Onglet_mapping_parameters!$C$29,Onglet_mapping_parameters!$B$29,Tableau1[[#This Row],[Category]]=Onglet_mapping_parameters!$C$30,Onglet_mapping_parameters!$B$30),\"\")","v":""},null,null,"Delete"]
[null,null,null,null,null,null,null,null,null,{"$f":"IFERROR(_xlfn.IFS(OR(F218=\"\",G218=\"\"),\"\",AND(F218<Onglet_mapping_parameters!$J$16,G218<Onglet_mapping_parameters!$J$16),Onglet_mapping_parameters!$J$18,AND(F218<Onglet_mapping_parameters!$J$16,G218>=Onglet_mapping_parameters!$J$16),Onglet_mapping_parameters!$J$20,AND(F218>=Onglet_mapping_parameters!$J$16,G218<Onglet_mapping_parameters!$J$16),Onglet_mapping_parameters!$J$21,AND(F218>=Onglet_mapping_parameters!$J$16,G218>=Onglet_mapping_parameters!$J$16),Onglet_mapping_parameters!$J$22),\"\")","v":""},null,{"$f":"IFERROR(_xlfn.IFS(Tableau1[[#This Row],[Category]]=Onglet_mapping_parameters!$C$27,Onglet_mapping_parameters!$B$27,Tableau1[[#This Row],[Category]]=Onglet_mapping_parameters!$C$28,Onglet_mapping_parameters!$B$28,Tableau1[[#This Row],[Category]]=Onglet_mapping_parameters!$C$29,Onglet_mapping_parameters!$B$29,Tableau1[[#This Row],[Category]]=Onglet_mapping_parameters!$C$30,Onglet_mapping_parameters!$B$30),\"\")","v":""},null,null,"Delete"]
[null,null,null,null,null,null,null,null,null,{"$f":"IFERROR(_xlfn.IFS(OR(F219=\"\",G219=\"\"),\"\",AND(F219<Onglet_mapping_parameters!$J$16,G219<Onglet_mapping_parameters!$J$16),Onglet_mapping_parameters!$J$18,AND(F219<Onglet_mapping_parameters!$J$16,G219>=Onglet_mapping_parameters!$J$16),Onglet_mapping_parameters!$J$20,AND(F219>=Onglet_mapping_parameters!$J$16,G219<Onglet_mapping_parameters!$J$16),Onglet_mapping_parameters!$J$21,AND(F219>=Onglet_mapping_parameters!$J$16,G219>=Onglet_mapping_parameters!$J$16),Onglet_mapping_parameters!$J$22),\"\")","v":""},null,{"$f":"IFERROR(_xlfn.IFS(Tableau1[[#This Row],[Category]]=Onglet_mapping_parameters!$C$27,Onglet_mapping_parameters!$B$27,Tableau1[[#This Row],[Category]]=Onglet_mapping_parameters!$C$28,Onglet_mapping_parameters!$B$28,Tableau1[[#This Row],[Category]]=Onglet_mapping_parameters!$C$29,Onglet_mapping_parameters!$B$29,Tableau1[[#This Row],[Category]]=Onglet_mapping_parameters!$C$30,Onglet_mapping_parameters!$B$30),\"\")","v":""},null,null,"Delete"]
[null,null,null,null,null,null,null,null,null,{"$f":"IFERROR(_xlfn.IFS(OR(F220=\"\",G220=\"\"),\"\",AND(F220<Onglet_mapping_parameters!$J$16,G220<Onglet_mapping_parameters!$J$16),Onglet_mapping_parameters!$J$18,AND(F220<Onglet_mapping_parameters!$J$16,G220>=Onglet_mapping_parameters!$J$16),Onglet_mapping_parameters!$J$20,AND(F220>=Onglet_mapping_parameters!$J$16,G220<Onglet_mapping_parameters!$J$16),Onglet_mapping_parameters!$J$21,AND(F220>=Onglet_mapping_parameters!$J$16,G220>=Onglet_mapping_parameters!$J$16),Onglet_mapping_parameters!$J$22),\"\")","v":""},null,{"$f":"IFERROR(_xlfn.IFS(Tableau1[[#This Row],[Category]]=Onglet_mapping_parameters!$C$27,Onglet_mapping_parameters!$B$27,Tableau1[[#This Row],[Category]]=Onglet_mapping_parameters!$C$28,Onglet_mapping_parameters!$B$28,Tableau1[[#This Row],[Category]]=Onglet_mapping_parameters!$C$29,Onglet_mapping_parameters!$B$29,Tableau1[[#This Row],[Category]]=Onglet_mapping_parameters!$C$30,Onglet_mapping_parameters!$B$30),\"\")","v":""},null,null,"Delete"]
[null,null,null,null,null,null,null,null,null,{"$f":"IFERROR(_xlfn.IFS(OR(F221=\"\",G221=\"\"),\"\",AND(F221<Onglet_mapping_parameters!$J$16,G221<Onglet_mapping_parameters!$J$16),Onglet_mapping_parameters!$J$18,AND(F221<Onglet_mapping_parameters!$J$16,G221>=Onglet_mapping_parameters!$J$16),Onglet_mapping_parameters!$J$20,AND(F221>=Onglet_mapping_parameters!$J$16,G221<Onglet_mapping_parameters!$J$16),Onglet_mapping_parameters!$J$21,AND(F221>=Onglet_mapping_parameters!$J$16,G221>=Onglet_mapping_parameters!$J$16),Onglet_mapping_parameters!$J$22),\"\")","v":""},null,{"$f":"IFERROR(_xlfn.IFS(Tableau1[[#This Row],[Category]]=Onglet_mapping_parameters!$C$27,Onglet_mapping_parameters!$B$27,Tableau1[[#This Row],[Category]]=Onglet_mapping_parameters!$C$28,Onglet_mapping_parameters!$B$28,Tableau1[[#This Row],[Category]]=Onglet_mapping_parameters!$C$29,Onglet_mapping_parameters!$B$29,Tableau1[[#This Row],[Category]]=Onglet_mapping_parameters!$C$30,Onglet_mapping_parameters!$B$30),\"\")","v":""},null,null,"Delete"]
[null,null,null,null,null,null,null,null,null,{"$f":"IFERROR(_xlfn.IFS(OR(F222=\"\",G222=\"\"),\"\",AND(F222<Onglet_mapping_parameters!$J$16,G222<Onglet_mapping_parameters!$J$16),Onglet_mapping_parameters!$J$18,AND(F222<Onglet_mapping_parameters!$J$16,G222>=Onglet_mapping_parameters!$J$16),Onglet_mapping_parameters!$J$20,AND(F222>=Onglet_mapping_parameters!$J$16,G222<Onglet_mapping_parameters!$J$16),Onglet_mapping_parameters!$J$21,AND(F222>=Onglet_mapping_parameters!$J$16,G222>=Onglet_mapping_parameters!$J$16),Onglet_mapping_parameters!$J$22),\"\")","v":""},null,{"$f":"IFERROR(_xlfn.IFS(Tableau1[[#This Row],[Category]]=Onglet_mapping_parameters!$C$27,Onglet_mapping_parameters!$B$27,Tableau1[[#This Row],[Category]]=Onglet_mapping_parameters!$C$28,Onglet_mapping_parameters!$B$28,Tableau1[[#This Row],[Category]]=Onglet_mapping_parameters!$C$29,Onglet_mapping_parameters!$B$29,Tableau1[[#This Row],[Category]]=Onglet_mapping_parameters!$C$30,Onglet_mapping_parameters!$B$30),\"\")","v":""},null,null,"Delete"]
[null,null,null,null,null,null,null,null,null,{"$f":"IFERROR(_xlfn.IFS(OR(F223=\"\",G223=\"\"),\"\",AND(F223<Onglet_mapping_parameters!$J$16,G223<Onglet_mapping_parameters!$J$16),Onglet_mapping_parameters!$J$18,AND(F223<Onglet_mapping_parameters!$J$16,G223>=Onglet_mapping_parameters!$J$16),Onglet_mapping_parameters!$J$20,AND(F223>=Onglet_mapping_parameters!$J$16,G223<Onglet_mapping_parameters!$J$16),Onglet_mapping_parameters!$J$21,AND(F223>=Onglet_mapping_parameters!$J$16,G223>=Onglet_mapping_parameters!$J$16),Onglet_mapping_parameters!$J$22),\"\")","v":""},null,{"$f":"IFERROR(_xlfn.IFS(Tableau1[[#This Row],[Category]]=Onglet_mapping_parameters!$C$27,Onglet_mapping_parameters!$B$27,Tableau1[[#This Row],[Category]]=Onglet_mapping_parameters!$C$28,Onglet_mapping_parameters!$B$28,Tableau1[[#This Row],[Category]]=Onglet_mapping_parameters!$C$29,Onglet_mapping_parameters!$B$29,Tableau1[[#This Row],[Category]]=Onglet_mapping_parameters!$C$30,Onglet_mapping_parameters!$B$30),\"\")","v":""},null,null,"Delete"]
[null,null,null,null,null,null,null,null,null,{"$f":"IFERROR(_xlfn.IFS(OR(F224=\"\",G224=\"\"),\"\",AND(F224<Onglet_mapping_parameters!$J$16,G224<Onglet_mapping_parameters!$J$16),Onglet_mapping_parameters!$J$18,AND(F224<Onglet_mapping_parameters!$J$16,G224>=Onglet_mapping_parameters!$J$16),Onglet_mapping_parameters!$J$20,AND(F224>=Onglet_mapping_parameters!$J$16,G224<Onglet_mapping_parameters!$J$16),Onglet_mapping_parameters!$J$21,AND(F224>=Onglet_mapping_parameters!$J$16,G224>=Onglet_mapping_parameters!$J$16),Onglet_mapping_parameters!$J$22),\"\")","v":""},null,{"$f":"IFERROR(_xlfn.IFS(Tableau1[[#This Row],[Category]]=Onglet_mapping_parameters!$C$27,Onglet_mapping_parameters!$B$27,Tableau1[[#This Row],[Category]]=Onglet_mapping_parameters!$C$28,Onglet_mapping_parameters!$B$28,Tableau1[[#This Row],[Category]]=Onglet_mapping_parameters!$C$29,Onglet_mapping_parameters!$B$29,Tableau1[[#This Row],[Category]]=Onglet_mapping_parameters!$C$30,Onglet_mapping_parameters!$B$30),\"\")","v":""},null,null,"Delete"]
[null,null,null,null,null,null,null,null,null,{"$f":"IFERROR(_xlfn.IFS(OR(F225=\"\",G225=\"\"),\"\",AND(F225<Onglet_mapping_parameters!$J$16,G225<Onglet_mapping_parameters!$J$16),Onglet_mapping_parameters!$J$18,AND(F225<Onglet_mapping_parameters!$J$16,G225>=Onglet_mapping_parameters!$J$16),Onglet_mapping_parameters!$J$20,AND(F225>=Onglet_mapping_parameters!$J$16,G225<Onglet_mapping_parameters!$J$16),Onglet_mapping_parameters!$J$21,AND(F225>=Onglet_mapping_parameters!$J$16,G225>=Onglet_mapping_parameters!$J$16),Onglet_mapping_parameters!$J$22),\"\")","v":""},null,{"$f":"IFERROR(_xlfn.IFS(Tableau1[[#This Row],[Category]]=Onglet_mapping_parameters!$C$27,Onglet_mapping_parameters!$B$27,Tableau1[[#This Row],[Category]]=Onglet_mapping_parameters!$C$28,Onglet_mapping_parameters!$B$28,Tableau1[[#This Row],[Category]]=Onglet_mapping_parameters!$C$29,Onglet_mapping_parameters!$B$29,Tableau1[[#This Row],[Category]]=Onglet_mapping_parameters!$C$30,Onglet_mapping_parameters!$B$30),\"\")","v":""},null,null,"Delete"]
[null,null,null,null,null,null,null,null,null,{"$f":"IFERROR(_xlfn.IFS(OR(F226=\"\",G226=\"\"),\"\",AND(F226<Onglet_mapping_parameters!$J$16,G226<Onglet_mapping_parameters!$J$16),Onglet_mapping_parameters!$J$18,AND(F226<Onglet_mapping_parameters!$J$16,G226>=Onglet_mapping_parameters!$J$16),Onglet_mapping_parameters!$J$20,AND(F226>=Onglet_mapping_parameters!$J$16,G226<Onglet_mapping_parameters!$J$16),Onglet_mapping_parameters!$J$21,AND(F226>=Onglet_mapping_parameters!$J$16,G226>=Onglet_mapping_parameters!$J$16),Onglet_mapping_parameters!$J$22),\"\")","v":""},null,{"$f":"IFERROR(_xlfn.IFS(Tableau1[[#This Row],[Category]]=Onglet_mapping_parameters!$C$27,Onglet_mapping_parameters!$B$27,Tableau1[[#This Row],[Category]]=Onglet_mapping_parameters!$C$28,Onglet_mapping_parameters!$B$28,Tableau1[[#This Row],[Category]]=Onglet_mapping_parameters!$C$29,Onglet_mapping_parameters!$B$29,Tableau1[[#This Row],[Category]]=Onglet_mapping_parameters!$C$30,Onglet_mapping_parameters!$B$30),\"\")","v":""},null,null,"Delete"]
[null,null,null,null,null,null,null,null,null,{"$f":"IFERROR(_xlfn.IFS(OR(F227=\"\",G227=\"\"),\"\",AND(F227<Onglet_mapping_parameters!$J$16,G227<Onglet_mapping_parameters!$J$16),Onglet_mapping_parameters!$J$18,AND(F227<Onglet_mapping_parameters!$J$16,G227>=Onglet_mapping_parameters!$J$16),Onglet_mapping_parameters!$J$20,AND(F227>=Onglet_mapping_parameters!$J$16,G227<Onglet_mapping_parameters!$J$16),Onglet_mapping_parameters!$J$21,AND(F227>=Onglet_mapping_parameters!$J$16,G227>=Onglet_mapping_parameters!$J$16),Onglet_mapping_parameters!$J$22),\"\")","v":""},null,{"$f":"IFERROR(_xlfn.IFS(Tableau1[[#This Row],[Category]]=Onglet_mapping_parameters!$C$27,Onglet_mapping_parameters!$B$27,Tableau1[[#This Row],[Category]]=Onglet_mapping_parameters!$C$28,Onglet_mapping_parameters!$B$28,Tableau1[[#This Row],[Category]]=Onglet_mapping_parameters!$C$29,Onglet_mapping_parameters!$B$29,Tableau1[[#This Row],[Category]]=Onglet_mapping_parameters!$C$30,Onglet_mapping_parameters!$B$30),\"\")","v":""},null,null,"Delete"]
[null,null,null,null,null,null,null,null,null,{"$f":"IFERROR(_xlfn.IFS(OR(F228=\"\",G228=\"\"),\"\",AND(F228<Onglet_mapping_parameters!$J$16,G228<Onglet_mapping_parameters!$J$16),Onglet_mapping_parameters!$J$18,AND(F228<Onglet_mapping_parameters!$J$16,G228>=Onglet_mapping_parameters!$J$16),Onglet_mapping_parameters!$J$20,AND(F228>=Onglet_mapping_parameters!$J$16,G228<Onglet_mapping_parameters!$J$16),Onglet_mapping_parameters!$J$21,AND(F228>=Onglet_mapping_parameters!$J$16,G228>=Onglet_mapping_parameters!$J$16),Onglet_mapping_parameters!$J$22),\"\")","v":""},null,{"$f":"IFERROR(_xlfn.IFS(Tableau1[[#This Row],[Category]]=Onglet_mapping_parameters!$C$27,Onglet_mapping_parameters!$B$27,Tableau1[[#This Row],[Category]]=Onglet_mapping_parameters!$C$28,Onglet_mapping_parameters!$B$28,Tableau1[[#This Row],[Category]]=Onglet_mapping_parameters!$C$29,Onglet_mapping_parameters!$B$29,Tableau1[[#This Row],[Category]]=Onglet_mapping_parameters!$C$30,Onglet_mapping_parameters!$B$30),\"\")","v":""},null,null,"Delete"]
[null,null,null,null,null,null,null,null,null,{"$f":"IFERROR(_xlfn.IFS(OR(F229=\"\",G229=\"\"),\"\",AND(F229<Onglet_mapping_parameters!$J$16,G229<Onglet_mapping_parameters!$J$16),Onglet_mapping_parameters!$J$18,AND(F229<Onglet_mapping_parameters!$J$16,G229>=Onglet_mapping_parameters!$J$16),Onglet_mapping_parameters!$J$20,AND(F229>=Onglet_mapping_parameters!$J$16,G229<Onglet_mapping_parameters!$J$16),Onglet_mapping_parameters!$J$21,AND(F229>=Onglet_mapping_parameters!$J$16,G229>=Onglet_mapping_parameters!$J$16),Onglet_mapping_parameters!$J$22),\"\")","v":""},null,{"$f":"IFERROR(_xlfn.IFS(Tableau1[[#This Row],[Category]]=Onglet_mapping_parameters!$C$27,Onglet_mapping_parameters!$B$27,Tableau1[[#This Row],[Category]]=Onglet_mapping_parameters!$C$28,Onglet_mapping_parameters!$B$28,Tableau1[[#This Row],[Category]]=Onglet_mapping_parameters!$C$29,Onglet_mapping_parameters!$B$29,Tableau1[[#This Row],[Category]]=Onglet_mapping_parameters!$C$30,Onglet_mapping_parameters!$B$30),\"\")","v":""},null,null,"Delete"]
[null,null,null,null,null,null,null,null,null,{"$f":"IFERROR(_xlfn.IFS(OR(F230=\"\",G230=\"\"),\"\",AND(F230<Onglet_mapping_parameters!$J$16,G230<Onglet_mapping_parameters!$J$16),Onglet_mapping_parameters!$J$18,AND(F230<Onglet_mapping_parameters!$J$16,G230>=Onglet_mapping_parameters!$J$16),Onglet_mapping_parameters!$J$20,AND(F230>=Onglet_mapping_parameters!$J$16,G230<Onglet_mapping_parameters!$J$16),Onglet_mapping_parameters!$J$21,AND(F230>=Onglet_mapping_parameters!$J$16,G230>=Onglet_mapping_parameters!$J$16),Onglet_mapping_parameters!$J$22),\"\")","v":""},null,{"$f":"IFERROR(_xlfn.IFS(Tableau1[[#This Row],[Category]]=Onglet_mapping_parameters!$C$27,Onglet_mapping_parameters!$B$27,Tableau1[[#This Row],[Category]]=Onglet_mapping_parameters!$C$28,Onglet_mapping_parameters!$B$28,Tableau1[[#This Row],[Category]]=Onglet_mapping_parameters!$C$29,Onglet_mapping_parameters!$B$29,Tableau1[[#This Row],[Category]]=Onglet_mapping_parameters!$C$30,Onglet_mapping_parameters!$B$30),\"\")","v":""},null,null,"Delete"]
[null,null,null,null,null,null,null,null,null,{"$f":"IFERROR(_xlfn.IFS(OR(F231=\"\",G231=\"\"),\"\",AND(F231<Onglet_mapping_parameters!$J$16,G231<Onglet_mapping_parameters!$J$16),Onglet_mapping_parameters!$J$18,AND(F231<Onglet_mapping_parameters!$J$16,G231>=Onglet_mapping_parameters!$J$16),Onglet_mapping_parameters!$J$20,AND(F231>=Onglet_mapping_parameters!$J$16,G231<Onglet_mapping_parameters!$J$16),Onglet_mapping_parameters!$J$21,AND(F231>=Onglet_mapping_parameters!$J$16,G231>=Onglet_mapping_parameters!$J$16),Onglet_mapping_parameters!$J$22),\"\")","v":""},null,{"$f":"IFERROR(_xlfn.IFS(Tableau1[[#This Row],[Category]]=Onglet_mapping_parameters!$C$27,Onglet_mapping_parameters!$B$27,Tableau1[[#This Row],[Category]]=Onglet_mapping_parameters!$C$28,Onglet_mapping_parameters!$B$28,Tableau1[[#This Row],[Category]]=Onglet_mapping_parameters!$C$29,Onglet_mapping_parameters!$B$29,Tableau1[[#This Row],[Category]]=Onglet_mapping_parameters!$C$30,Onglet_mapping_parameters!$B$30),\"\")","v":""},null,null,"Delete"]
[null,null,null,null,null,null,null,null,null,{"$f":"IFERROR(_xlfn.IFS(OR(F232=\"\",G232=\"\"),\"\",AND(F232<Onglet_mapping_parameters!$J$16,G232<Onglet_mapping_parameters!$J$16),Onglet_mapping_parameters!$J$18,AND(F232<Onglet_mapping_parameters!$J$16,G232>=Onglet_mapping_parameters!$J$16),Onglet_mapping_parameters!$J$20,AND(F232>=Onglet_mapping_parameters!$J$16,G232<Onglet_mapping_parameters!$J$16),Onglet_mapping_parameters!$J$21,AND(F232>=Onglet_mapping_parameters!$J$16,G232>=Onglet_mapping_parameters!$J$16),Onglet_mapping_parameters!$J$22),\"\")","v":""},null,{"$f":"IFERROR(_xlfn.IFS(Tableau1[[#This Row],[Category]]=Onglet_mapping_parameters!$C$27,Onglet_mapping_parameters!$B$27,Tableau1[[#This Row],[Category]]=Onglet_mapping_parameters!$C$28,Onglet_mapping_parameters!$B$28,Tableau1[[#This Row],[Category]]=Onglet_mapping_parameters!$C$29,Onglet_mapping_parameters!$B$29,Tableau1[[#This Row],[Category]]=Onglet_mapping_parameters!$C$30,Onglet_mapping_parameters!$B$30),\"\")","v":""},null,null,"Delete"]
[null,null,null,null,null,null,null,null,null,{"$f":"IFERROR(_xlfn.IFS(OR(F233=\"\",G233=\"\"),\"\",AND(F233<Onglet_mapping_parameters!$J$16,G233<Onglet_mapping_parameters!$J$16),Onglet_mapping_parameters!$J$18,AND(F233<Onglet_mapping_parameters!$J$16,G233>=Onglet_mapping_parameters!$J$16),Onglet_mapping_parameters!$J$20,AND(F233>=Onglet_mapping_parameters!$J$16,G233<Onglet_mapping_parameters!$J$16),Onglet_mapping_parameters!$J$21,AND(F233>=Onglet_mapping_parameters!$J$16,G233>=Onglet_mapping_parameters!$J$16),Onglet_mapping_parameters!$J$22),\"\")","v":""},null,{"$f":"IFERROR(_xlfn.IFS(Tableau1[[#This Row],[Category]]=Onglet_mapping_parameters!$C$27,Onglet_mapping_parameters!$B$27,Tableau1[[#This Row],[Category]]=Onglet_mapping_parameters!$C$28,Onglet_mapping_parameters!$B$28,Tableau1[[#This Row],[Category]]=Onglet_mapping_parameters!$C$29,Onglet_mapping_parameters!$B$29,Tableau1[[#This Row],[Category]]=Onglet_mapping_parameters!$C$30,Onglet_mapping_parameters!$B$30),\"\")","v":""},null,null,"Delete"]
[null,null,null,null,null,null,null,null,null,{"$f":"IFERROR(_xlfn.IFS(OR(F234=\"\",G234=\"\"),\"\",AND(F234<Onglet_mapping_parameters!$J$16,G234<Onglet_mapping_parameters!$J$16),Onglet_mapping_parameters!$J$18,AND(F234<Onglet_mapping_parameters!$J$16,G234>=Onglet_mapping_parameters!$J$16),Onglet_mapping_parameters!$J$20,AND(F234>=Onglet_mapping_parameters!$J$16,G234<Onglet_mapping_parameters!$J$16),Onglet_mapping_parameters!$J$21,AND(F234>=Onglet_mapping_parameters!$J$16,G234>=Onglet_mapping_parameters!$J$16),Onglet_mapping_parameters!$J$22),\"\")","v":""},null,{"$f":"IFERROR(_xlfn.IFS(Tableau1[[#This Row],[Category]]=Onglet_mapping_parameters!$C$27,Onglet_mapping_parameters!$B$27,Tableau1[[#This Row],[Category]]=Onglet_mapping_parameters!$C$28,Onglet_mapping_parameters!$B$28,Tableau1[[#This Row],[Category]]=Onglet_mapping_parameters!$C$29,Onglet_mapping_parameters!$B$29,Tableau1[[#This Row],[Category]]=Onglet_mapping_parameters!$C$30,Onglet_mapping_parameters!$B$30),\"\")","v":""},null,null,"Delete"]
[null,null,null,null,null,null,null,null,null,{"$f":"IFERROR(_xlfn.IFS(OR(F235=\"\",G235=\"\"),\"\",AND(F235<Onglet_mapping_parameters!$J$16,G235<Onglet_mapping_parameters!$J$16),Onglet_mapping_parameters!$J$18,AND(F235<Onglet_mapping_parameters!$J$16,G235>=Onglet_mapping_parameters!$J$16),Onglet_mapping_parameters!$J$20,AND(F235>=Onglet_mapping_parameters!$J$16,G235<Onglet_mapping_parameters!$J$16),Onglet_mapping_parameters!$J$21,AND(F235>=Onglet_mapping_parameters!$J$16,G235>=Onglet_mapping_parameters!$J$16),Onglet_mapping_parameters!$J$22),\"\")","v":""},null,{"$f":"IFERROR(_xlfn.IFS(Tableau1[[#This Row],[Category]]=Onglet_mapping_parameters!$C$27,Onglet_mapping_parameters!$B$27,Tableau1[[#This Row],[Category]]=Onglet_mapping_parameters!$C$28,Onglet_mapping_parameters!$B$28,Tableau1[[#This Row],[Category]]=Onglet_mapping_parameters!$C$29,Onglet_mapping_parameters!$B$29,Tableau1[[#This Row],[Category]]=Onglet_mapping_parameters!$C$30,Onglet_mapping_parameters!$B$30),\"\")","v":""},null,null,"Delete"]
[null,null,null,null,null,null,null,null,null,{"$f":"IFERROR(_xlfn.IFS(OR(F236=\"\",G236=\"\"),\"\",AND(F236<Onglet_mapping_parameters!$J$16,G236<Onglet_mapping_parameters!$J$16),Onglet_mapping_parameters!$J$18,AND(F236<Onglet_mapping_parameters!$J$16,G236>=Onglet_mapping_parameters!$J$16),Onglet_mapping_parameters!$J$20,AND(F236>=Onglet_mapping_parameters!$J$16,G236<Onglet_mapping_parameters!$J$16),Onglet_mapping_parameters!$J$21,AND(F236>=Onglet_mapping_parameters!$J$16,G236>=Onglet_mapping_parameters!$J$16),Onglet_mapping_parameters!$J$22),\"\")","v":""},null,{"$f":"IFERROR(_xlfn.IFS(Tableau1[[#This Row],[Category]]=Onglet_mapping_parameters!$C$27,Onglet_mapping_parameters!$B$27,Tableau1[[#This Row],[Category]]=Onglet_mapping_parameters!$C$28,Onglet_mapping_parameters!$B$28,Tableau1[[#This Row],[Category]]=Onglet_mapping_parameters!$C$29,Onglet_mapping_parameters!$B$29,Tableau1[[#This Row],[Category]]=Onglet_mapping_parameters!$C$30,Onglet_mapping_parameters!$B$30),\"\")","v":""},null,null,"Delete"]
[null,null,null,null,null,null,null,null,null,{"$f":"IFERROR(_xlfn.IFS(OR(F237=\"\",G237=\"\"),\"\",AND(F237<Onglet_mapping_parameters!$J$16,G237<Onglet_mapping_parameters!$J$16),Onglet_mapping_parameters!$J$18,AND(F237<Onglet_mapping_parameters!$J$16,G237>=Onglet_mapping_parameters!$J$16),Onglet_mapping_parameters!$J$20,AND(F237>=Onglet_mapping_parameters!$J$16,G237<Onglet_mapping_parameters!$J$16),Onglet_mapping_parameters!$J$21,AND(F237>=Onglet_mapping_parameters!$J$16,G237>=Onglet_mapping_parameters!$J$16),Onglet_mapping_parameters!$J$22),\"\")","v":""},null,{"$f":"IFERROR(_xlfn.IFS(Tableau1[[#This Row],[Category]]=Onglet_mapping_parameters!$C$27,Onglet_mapping_parameters!$B$27,Tableau1[[#This Row],[Category]]=Onglet_mapping_parameters!$C$28,Onglet_mapping_parameters!$B$28,Tableau1[[#This Row],[Category]]=Onglet_mapping_parameters!$C$29,Onglet_mapping_parameters!$B$29,Tableau1[[#This Row],[Category]]=Onglet_mapping_parameters!$C$30,Onglet_mapping_parameters!$B$30),\"\")","v":""},null,null,"Delete"]
[null,null,null,null,null,null,null,null,null,{"$f":"IFERROR(_xlfn.IFS(OR(F238=\"\",G238=\"\"),\"\",AND(F238<Onglet_mapping_parameters!$J$16,G238<Onglet_mapping_parameters!$J$16),Onglet_mapping_parameters!$J$18,AND(F238<Onglet_mapping_parameters!$J$16,G238>=Onglet_mapping_parameters!$J$16),Onglet_mapping_parameters!$J$20,AND(F238>=Onglet_mapping_parameters!$J$16,G238<Onglet_mapping_parameters!$J$16),Onglet_mapping_parameters!$J$21,AND(F238>=Onglet_mapping_parameters!$J$16,G238>=Onglet_mapping_parameters!$J$16),Onglet_mapping_parameters!$J$22),\"\")","v":""},null,{"$f":"IFERROR(_xlfn.IFS(Tableau1[[#This Row],[Category]]=Onglet_mapping_parameters!$C$27,Onglet_mapping_parameters!$B$27,Tableau1[[#This Row],[Category]]=Onglet_mapping_parameters!$C$28,Onglet_mapping_parameters!$B$28,Tableau1[[#This Row],[Category]]=Onglet_mapping_parameters!$C$29,Onglet_mapping_parameters!$B$29,Tableau1[[#This Row],[Category]]=Onglet_mapping_parameters!$C$30,Onglet_mapping_parameters!$B$30),\"\")","v":""},null,null,"Delete"]
[null,null,null,null,null,null,null,null,null,{"$f":"IFERROR(_xlfn.IFS(OR(F239=\"\",G239=\"\"),\"\",AND(F239<Onglet_mapping_parameters!$J$16,G239<Onglet_mapping_parameters!$J$16),Onglet_mapping_parameters!$J$18,AND(F239<Onglet_mapping_parameters!$J$16,G239>=Onglet_mapping_parameters!$J$16),Onglet_mapping_parameters!$J$20,AND(F239>=Onglet_mapping_parameters!$J$16,G239<Onglet_mapping_parameters!$J$16),Onglet_mapping_parameters!$J$21,AND(F239>=Onglet_mapping_parameters!$J$16,G239>=Onglet_mapping_parameters!$J$16),Onglet_mapping_parameters!$J$22),\"\")","v":""},null,{"$f":"IFERROR(_xlfn.IFS(Tableau1[[#This Row],[Category]]=Onglet_mapping_parameters!$C$27,Onglet_mapping_parameters!$B$27,Tableau1[[#This Row],[Category]]=Onglet_mapping_parameters!$C$28,Onglet_mapping_parameters!$B$28,Tableau1[[#This Row],[Category]]=Onglet_mapping_parameters!$C$29,Onglet_mapping_parameters!$B$29,Tableau1[[#This Row],[Category]]=Onglet_mapping_parameters!$C$30,Onglet_mapping_parameters!$B$30),\"\")","v":""},null,null,"Delete"]
[null,null,null,null,null,null,null,null,null,{"$f":"IFERROR(_xlfn.IFS(OR(F240=\"\",G240=\"\"),\"\",AND(F240<Onglet_mapping_parameters!$J$16,G240<Onglet_mapping_parameters!$J$16),Onglet_mapping_parameters!$J$18,AND(F240<Onglet_mapping_parameters!$J$16,G240>=Onglet_mapping_parameters!$J$16),Onglet_mapping_parameters!$J$20,AND(F240>=Onglet_mapping_parameters!$J$16,G240<Onglet_mapping_parameters!$J$16),Onglet_mapping_parameters!$J$21,AND(F240>=Onglet_mapping_parameters!$J$16,G240>=Onglet_mapping_parameters!$J$16),Onglet_mapping_parameters!$J$22),\"\")","v":""},null,{"$f":"IFERROR(_xlfn.IFS(Tableau1[[#This Row],[Category]]=Onglet_mapping_parameters!$C$27,Onglet_mapping_parameters!$B$27,Tableau1[[#This Row],[Category]]=Onglet_mapping_parameters!$C$28,Onglet_mapping_parameters!$B$28,Tableau1[[#This Row],[Category]]=Onglet_mapping_parameters!$C$29,Onglet_mapping_parameters!$B$29,Tableau1[[#This Row],[Category]]=Onglet_mapping_parameters!$C$30,Onglet_mapping_parameters!$B$30),\"\")","v":""},null,null,"Delete"]
[null,null,null,null,null,null,null,null,null,{"$f":"IFERROR(_xlfn.IFS(OR(F241=\"\",G241=\"\"),\"\",AND(F241<Onglet_mapping_parameters!$J$16,G241<Onglet_mapping_parameters!$J$16),Onglet_mapping_parameters!$J$18,AND(F241<Onglet_mapping_parameters!$J$16,G241>=Onglet_mapping_parameters!$J$16),Onglet_mapping_parameters!$J$20,AND(F241>=Onglet_mapping_parameters!$J$16,G241<Onglet_mapping_parameters!$J$16),Onglet_mapping_parameters!$J$21,AND(F241>=Onglet_mapping_parameters!$J$16,G241>=Onglet_mapping_parameters!$J$16),Onglet_mapping_parameters!$J$22),\"\")","v":""},null,{"$f":"IFERROR(_xlfn.IFS(Tableau1[[#This Row],[Category]]=Onglet_mapping_parameters!$C$27,Onglet_mapping_parameters!$B$27,Tableau1[[#This Row],[Category]]=Onglet_mapping_parameters!$C$28,Onglet_mapping_parameters!$B$28,Tableau1[[#This Row],[Category]]=Onglet_mapping_parameters!$C$29,Onglet_mapping_parameters!$B$29,Tableau1[[#This Row],[Category]]=Onglet_mapping_parameters!$C$30,Onglet_mapping_parameters!$B$30),\"\")","v":""},null,null,"Delete"]
[null,null,null,null,null,null,null,null,null,{"$f":"IFERROR(_xlfn.IFS(OR(F242=\"\",G242=\"\"),\"\",AND(F242<Onglet_mapping_parameters!$J$16,G242<Onglet_mapping_parameters!$J$16),Onglet_mapping_parameters!$J$18,AND(F242<Onglet_mapping_parameters!$J$16,G242>=Onglet_mapping_parameters!$J$16),Onglet_mapping_parameters!$J$20,AND(F242>=Onglet_mapping_parameters!$J$16,G242<Onglet_mapping_parameters!$J$16),Onglet_mapping_parameters!$J$21,AND(F242>=Onglet_mapping_parameters!$J$16,G242>=Onglet_mapping_parameters!$J$16),Onglet_mapping_parameters!$J$22),\"\")","v":""},null,{"$f":"IFERROR(_xlfn.IFS(Tableau1[[#This Row],[Category]]=Onglet_mapping_parameters!$C$27,Onglet_mapping_parameters!$B$27,Tableau1[[#This Row],[Category]]=Onglet_mapping_parameters!$C$28,Onglet_mapping_parameters!$B$28,Tableau1[[#This Row],[Category]]=Onglet_mapping_parameters!$C$29,Onglet_mapping_parameters!$B$29,Tableau1[[#This Row],[Category]]=Onglet_mapping_parameters!$C$30,Onglet_mapping_parameters!$B$30),\"\")","v":""},null,null,"Delete"]
[null,null,null,null,null,null,null,null,null,{"$f":"IFERROR(_xlfn.IFS(OR(F243=\"\",G243=\"\"),\"\",AND(F243<Onglet_mapping_parameters!$J$16,G243<Onglet_mapping_parameters!$J$16),Onglet_mapping_parameters!$J$18,AND(F243<Onglet_mapping_parameters!$J$16,G243>=Onglet_mapping_parameters!$J$16),Onglet_mapping_parameters!$J$20,AND(F243>=Onglet_mapping_parameters!$J$16,G243<Onglet_mapping_parameters!$J$16),Onglet_mapping_parameters!$J$21,AND(F243>=Onglet_mapping_parameters!$J$16,G243>=Onglet_mapping_parameters!$J$16),Onglet_mapping_parameters!$J$22),\"\")","v":""},null,{"$f":"IFERROR(_xlfn.IFS(Tableau1[[#This Row],[Category]]=Onglet_mapping_parameters!$C$27,Onglet_mapping_parameters!$B$27,Tableau1[[#This Row],[Category]]=Onglet_mapping_parameters!$C$28,Onglet_mapping_parameters!$B$28,Tableau1[[#This Row],[Category]]=Onglet_mapping_parameters!$C$29,Onglet_mapping_parameters!$B$29,Tableau1[[#This Row],[Category]]=Onglet_mapping_parameters!$C$30,Onglet_mapping_parameters!$B$30),\"\")","v":""},null,null,"Delete"]
[null,null,null,null,null,null,null,null,null,{"$f":"IFERROR(_xlfn.IFS(OR(F244=\"\",G244=\"\"),\"\",AND(F244<Onglet_mapping_parameters!$J$16,G244<Onglet_mapping_parameters!$J$16),Onglet_mapping_parameters!$J$18,AND(F244<Onglet_mapping_parameters!$J$16,G244>=Onglet_mapping_parameters!$J$16),Onglet_mapping_parameters!$J$20,AND(F244>=Onglet_mapping_parameters!$J$16,G244<Onglet_mapping_parameters!$J$16),Onglet_mapping_parameters!$J$21,AND(F244>=Onglet_mapping_parameters!$J$16,G244>=Onglet_mapping_parameters!$J$16),Onglet_mapping_parameters!$J$22),\"\")","v":""},null,{"$f":"IFERROR(_xlfn.IFS(Tableau1[[#This Row],[Category]]=Onglet_mapping_parameters!$C$27,Onglet_mapping_parameters!$B$27,Tableau1[[#This Row],[Category]]=Onglet_mapping_parameters!$C$28,Onglet_mapping_parameters!$B$28,Tableau1[[#This Row],[Category]]=Onglet_mapping_parameters!$C$29,Onglet_mapping_parameters!$B$29,Tableau1[[#This Row],[Category]]=Onglet_mapping_parameters!$C$30,Onglet_mapping_parameters!$B$30),\"\")","v":""},null,null,"Delete"]
[null,null,null,null,null,null,null,null,null,{"$f":"IFERROR(_xlfn.IFS(OR(F245=\"\",G245=\"\"),\"\",AND(F245<Onglet_mapping_parameters!$J$16,G245<Onglet_mapping_parameters!$J$16),Onglet_mapping_parameters!$J$18,AND(F245<Onglet_mapping_parameters!$J$16,G245>=Onglet_mapping_parameters!$J$16),Onglet_mapping_parameters!$J$20,AND(F245>=Onglet_mapping_parameters!$J$16,G245<Onglet_mapping_parameters!$J$16),Onglet_mapping_parameters!$J$21,AND(F245>=Onglet_mapping_parameters!$J$16,G245>=Onglet_mapping_parameters!$J$16),Onglet_mapping_parameters!$J$22),\"\")","v":""},null,{"$f":"IFERROR(_xlfn.IFS(Tableau1[[#This Row],[Category]]=Onglet_mapping_parameters!$C$27,Onglet_mapping_parameters!$B$27,Tableau1[[#This Row],[Category]]=Onglet_mapping_parameters!$C$28,Onglet_mapping_parameters!$B$28,Tableau1[[#This Row],[Category]]=Onglet_mapping_parameters!$C$29,Onglet_mapping_parameters!$B$29,Tableau1[[#This Row],[Category]]=Onglet_mapping_parameters!$C$30,Onglet_mapping_parameters!$B$30),\"\")","v":""},null,null,"Delete"]
[null,null,null,null,null,null,null,null,null,{"$f":"IFERROR(_xlfn.IFS(OR(F246=\"\",G246=\"\"),\"\",AND(F246<Onglet_mapping_parameters!$J$16,G246<Onglet_mapping_parameters!$J$16),Onglet_mapping_parameters!$J$18,AND(F246<Onglet_mapping_parameters!$J$16,G246>=Onglet_mapping_parameters!$J$16),Onglet_mapping_parameters!$J$20,AND(F246>=Onglet_mapping_parameters!$J$16,G246<Onglet_mapping_parameters!$J$16),Onglet_mapping_parameters!$J$21,AND(F246>=Onglet_mapping_parameters!$J$16,G246>=Onglet_mapping_parameters!$J$16),Onglet_mapping_parameters!$J$22),\"\")","v":""},null,{"$f":"IFERROR(_xlfn.IFS(Tableau1[[#This Row],[Category]]=Onglet_mapping_parameters!$C$27,Onglet_mapping_parameters!$B$27,Tableau1[[#This Row],[Category]]=Onglet_mapping_parameters!$C$28,Onglet_mapping_parameters!$B$28,Tableau1[[#This Row],[Category]]=Onglet_mapping_parameters!$C$29,Onglet_mapping_parameters!$B$29,Tableau1[[#This Row],[Category]]=Onglet_mapping_parameters!$C$30,Onglet_mapping_parameters!$B$30),\"\")","v":""},null,null,"Delete"]
[null,null,null,null,null,null,null,null,null,{"$f":"IFERROR(_xlfn.IFS(OR(F247=\"\",G247=\"\"),\"\",AND(F247<Onglet_mapping_parameters!$J$16,G247<Onglet_mapping_parameters!$J$16),Onglet_mapping_parameters!$J$18,AND(F247<Onglet_mapping_parameters!$J$16,G247>=Onglet_mapping_parameters!$J$16),Onglet_mapping_parameters!$J$20,AND(F247>=Onglet_mapping_parameters!$J$16,G247<Onglet_mapping_parameters!$J$16),Onglet_mapping_parameters!$J$21,AND(F247>=Onglet_mapping_parameters!$J$16,G247>=Onglet_mapping_parameters!$J$16),Onglet_mapping_parameters!$J$22),\"\")","v":""},null,{"$f":"IFERROR(_xlfn.IFS(Tableau1[[#This Row],[Category]]=Onglet_mapping_parameters!$C$27,Onglet_mapping_parameters!$B$27,Tableau1[[#This Row],[Category]]=Onglet_mapping_parameters!$C$28,Onglet_mapping_parameters!$B$28,Tableau1[[#This Row],[Category]]=Onglet_mapping_parameters!$C$29,Onglet_mapping_parameters!$B$29,Tableau1[[#This Row],[Category]]=Onglet_mapping_parameters!$C$30,Onglet_mapping_parameters!$B$30),\"\")","v":""},null,null,"Delete"]
[null,null,null,null,null,null,null,null,null,{"$f":"IFERROR(_xlfn.IFS(OR(F248=\"\",G248=\"\"),\"\",AND(F248<Onglet_mapping_parameters!$J$16,G248<Onglet_mapping_parameters!$J$16),Onglet_mapping_parameters!$J$18,AND(F248<Onglet_mapping_parameters!$J$16,G248>=Onglet_mapping_parameters!$J$16),Onglet_mapping_parameters!$J$20,AND(F248>=Onglet_mapping_parameters!$J$16,G248<Onglet_mapping_parameters!$J$16),Onglet_mapping_parameters!$J$21,AND(F248>=Onglet_mapping_parameters!$J$16,G248>=Onglet_mapping_parameters!$J$16),Onglet_mapping_parameters!$J$22),\"\")","v":""},null,{"$f":"IFERROR(_xlfn.IFS(Tableau1[[#This Row],[Category]]=Onglet_mapping_parameters!$C$27,Onglet_mapping_parameters!$B$27,Tableau1[[#This Row],[Category]]=Onglet_mapping_parameters!$C$28,Onglet_mapping_parameters!$B$28,Tableau1[[#This Row],[Category]]=Onglet_mapping_parameters!$C$29,Onglet_mapping_parameters!$B$29,Tableau1[[#This Row],[Category]]=Onglet_mapping_parameters!$C$30,Onglet_mapping_parameters!$B$30),\"\")","v":""},null,null,"Delete"]
[null,null,null,null,null,null,null,null,null,{"$f":"IFERROR(_xlfn.IFS(OR(F249=\"\",G249=\"\"),\"\",AND(F249<Onglet_mapping_parameters!$J$16,G249<Onglet_mapping_parameters!$J$16),Onglet_mapping_parameters!$J$18,AND(F249<Onglet_mapping_parameters!$J$16,G249>=Onglet_mapping_parameters!$J$16),Onglet_mapping_parameters!$J$20,AND(F249>=Onglet_mapping_parameters!$J$16,G249<Onglet_mapping_parameters!$J$16),Onglet_mapping_parameters!$J$21,AND(F249>=Onglet_mapping_parameters!$J$16,G249>=Onglet_mapping_parameters!$J$16),Onglet_mapping_parameters!$J$22),\"\")","v":""},null,{"$f":"IFERROR(_xlfn.IFS(Tableau1[[#This Row],[Category]]=Onglet_mapping_parameters!$C$27,Onglet_mapping_parameters!$B$27,Tableau1[[#This Row],[Category]]=Onglet_mapping_parameters!$C$28,Onglet_mapping_parameters!$B$28,Tableau1[[#This Row],[Category]]=Onglet_mapping_parameters!$C$29,Onglet_mapping_parameters!$B$29,Tableau1[[#This Row],[Category]]=Onglet_mapping_parameters!$C$30,Onglet_mapping_parameters!$B$30),\"\")","v":""},null,null,"Delete"]
[null,null,null,null,null,null,null,null,null,{"$f":"IFERROR(_xlfn.IFS(OR(F250=\"\",G250=\"\"),\"\",AND(F250<Onglet_mapping_parameters!$J$16,G250<Onglet_mapping_parameters!$J$16),Onglet_mapping_parameters!$J$18,AND(F250<Onglet_mapping_parameters!$J$16,G250>=Onglet_mapping_parameters!$J$16),Onglet_mapping_parameters!$J$20,AND(F250>=Onglet_mapping_parameters!$J$16,G250<Onglet_mapping_parameters!$J$16),Onglet_mapping_parameters!$J$21,AND(F250>=Onglet_mapping_parameters!$J$16,G250>=Onglet_mapping_parameters!$J$16),Onglet_mapping_parameters!$J$22),\"\")","v":""},null,{"$f":"IFERROR(_xlfn.IFS(Tableau1[[#This Row],[Category]]=Onglet_mapping_parameters!$C$27,Onglet_mapping_parameters!$B$27,Tableau1[[#This Row],[Category]]=Onglet_mapping_parameters!$C$28,Onglet_mapping_parameters!$B$28,Tableau1[[#This Row],[Category]]=Onglet_mapping_parameters!$C$29,Onglet_mapping_parameters!$B$29,Tableau1[[#This Row],[Category]]=Onglet_mapping_parameters!$C$30,Onglet_mapping_parameters!$B$30),\"\")","v":""},null,null,"Delete"]
[null,null,null,null,null,null,null,null,null,{"$f":"IFERROR(_xlfn.IFS(OR(F251=\"\",G251=\"\"),\"\",AND(F251<Onglet_mapping_parameters!$J$16,G251<Onglet_mapping_parameters!$J$16),Onglet_mapping_parameters!$J$18,AND(F251<Onglet_mapping_parameters!$J$16,G251>=Onglet_mapping_parameters!$J$16),Onglet_mapping_parameters!$J$20,AND(F251>=Onglet_mapping_parameters!$J$16,G251<Onglet_mapping_parameters!$J$16),Onglet_mapping_parameters!$J$21,AND(F251>=Onglet_mapping_parameters!$J$16,G251>=Onglet_mapping_parameters!$J$16),Onglet_mapping_parameters!$J$22),\"\")","v":""},null,{"$f":"IFERROR(_xlfn.IFS(Tableau1[[#This Row],[Category]]=Onglet_mapping_parameters!$C$27,Onglet_mapping_parameters!$B$27,Tableau1[[#This Row],[Category]]=Onglet_mapping_parameters!$C$28,Onglet_mapping_parameters!$B$28,Tableau1[[#This Row],[Category]]=Onglet_mapping_parameters!$C$29,Onglet_mapping_parameters!$B$29,Tableau1[[#This Row],[Category]]=Onglet_mapping_parameters!$C$30,Onglet_mapping_parameters!$B$30),\"\")","v":""},null,null,"Delete"]
[null,null,null,null,null,null,null,null,null,{"$f":"IFERROR(_xlfn.IFS(OR(F252=\"\",G252=\"\"),\"\",AND(F252<Onglet_mapping_parameters!$J$16,G252<Onglet_mapping_parameters!$J$16),Onglet_mapping_parameters!$J$18,AND(F252<Onglet_mapping_parameters!$J$16,G252>=Onglet_mapping_parameters!$J$16),Onglet_mapping_parameters!$J$20,AND(F252>=Onglet_mapping_parameters!$J$16,G252<Onglet_mapping_parameters!$J$16),Onglet_mapping_parameters!$J$21,AND(F252>=Onglet_mapping_parameters!$J$16,G252>=Onglet_mapping_parameters!$J$16),Onglet_mapping_parameters!$J$22),\"\")","v":""},null,{"$f":"IFERROR(_xlfn.IFS(Tableau1[[#This Row],[Category]]=Onglet_mapping_parameters!$C$27,Onglet_mapping_parameters!$B$27,Tableau1[[#This Row],[Category]]=Onglet_mapping_parameters!$C$28,Onglet_mapping_parameters!$B$28,Tableau1[[#This Row],[Category]]=Onglet_mapping_parameters!$C$29,Onglet_mapping_parameters!$B$29,Tableau1[[#This Row],[Category]]=Onglet_mapping_parameters!$C$30,Onglet_mapping_parameters!$B$30),\"\")","v":""},null,null,"Delete"]
[null,null,null,null,null,null,null,null,null,{"$f":"IFERROR(_xlfn.IFS(OR(F253=\"\",G253=\"\"),\"\",AND(F253<Onglet_mapping_parameters!$J$16,G253<Onglet_mapping_parameters!$J$16),Onglet_mapping_parameters!$J$18,AND(F253<Onglet_mapping_parameters!$J$16,G253>=Onglet_mapping_parameters!$J$16),Onglet_mapping_parameters!$J$20,AND(F253>=Onglet_mapping_parameters!$J$16,G253<Onglet_mapping_parameters!$J$16),Onglet_mapping_parameters!$J$21,AND(F253>=Onglet_mapping_parameters!$J$16,G253>=Onglet_mapping_parameters!$J$16),Onglet_mapping_parameters!$J$22),\"\")","v":""},null,{"$f":"IFERROR(_xlfn.IFS(Tableau1[[#This Row],[Category]]=Onglet_mapping_parameters!$C$27,Onglet_mapping_parameters!$B$27,Tableau1[[#This Row],[Category]]=Onglet_mapping_parameters!$C$28,Onglet_mapping_parameters!$B$28,Tableau1[[#This Row],[Category]]=Onglet_mapping_parameters!$C$29,Onglet_mapping_parameters!$B$29,Tableau1[[#This Row],[Category]]=Onglet_mapping_parameters!$C$30,Onglet_mapping_parameters!$B$30),\"\")","v":""},null,null,"Delete"]
[null,null,null,null,null,null,null,null,null,{"$f":"IFERROR(_xlfn.IFS(OR(F254=\"\",G254=\"\"),\"\",AND(F254<Onglet_mapping_parameters!$J$16,G254<Onglet_mapping_parameters!$J$16),Onglet_mapping_parameters!$J$18,AND(F254<Onglet_mapping_parameters!$J$16,G254>=Onglet_mapping_parameters!$J$16),Onglet_mapping_parameters!$J$20,AND(F254>=Onglet_mapping_parameters!$J$16,G254<Onglet_mapping_parameters!$J$16),Onglet_mapping_parameters!$J$21,AND(F254>=Onglet_mapping_parameters!$J$16,G254>=Onglet_mapping_parameters!$J$16),Onglet_mapping_parameters!$J$22),\"\")","v":""},null,{"$f":"IFERROR(_xlfn.IFS(Tableau1[[#This Row],[Category]]=Onglet_mapping_parameters!$C$27,Onglet_mapping_parameters!$B$27,Tableau1[[#This Row],[Category]]=Onglet_mapping_parameters!$C$28,Onglet_mapping_parameters!$B$28,Tableau1[[#This Row],[Category]]=Onglet_mapping_parameters!$C$29,Onglet_mapping_parameters!$B$29,Tableau1[[#This Row],[Category]]=Onglet_mapping_parameters!$C$30,Onglet_mapping_parameters!$B$30),\"\")","v":""},null,null,"Delete"]
[null,null,null,null,null,null,null,null,null,{"$f":"IFERROR(_xlfn.IFS(OR(F255=\"\",G255=\"\"),\"\",AND(F255<Onglet_mapping_parameters!$J$16,G255<Onglet_mapping_parameters!$J$16),Onglet_mapping_parameters!$J$18,AND(F255<Onglet_mapping_parameters!$J$16,G255>=Onglet_mapping_parameters!$J$16),Onglet_mapping_parameters!$J$20,AND(F255>=Onglet_mapping_parameters!$J$16,G255<Onglet_mapping_parameters!$J$16),Onglet_mapping_parameters!$J$21,AND(F255>=Onglet_mapping_parameters!$J$16,G255>=Onglet_mapping_parameters!$J$16),Onglet_mapping_parameters!$J$22),\"\")","v":""},null,{"$f":"IFERROR(_xlfn.IFS(Tableau1[[#This Row],[Category]]=Onglet_mapping_parameters!$C$27,Onglet_mapping_parameters!$B$27,Tableau1[[#This Row],[Category]]=Onglet_mapping_parameters!$C$28,Onglet_mapping_parameters!$B$28,Tableau1[[#This Row],[Category]]=Onglet_mapping_parameters!$C$29,Onglet_mapping_parameters!$B$29,Tableau1[[#This Row],[Category]]=Onglet_mapping_parameters!$C$30,Onglet_mapping_parameters!$B$30),\"\")","v":""},null,null,"Delete"]
[null,null,null,null,null,null,null,null,null,{"$f":"IFERROR(_xlfn.IFS(OR(F256=\"\",G256=\"\"),\"\",AND(F256<Onglet_mapping_parameters!$J$16,G256<Onglet_mapping_parameters!$J$16),Onglet_mapping_parameters!$J$18,AND(F256<Onglet_mapping_parameters!$J$16,G256>=Onglet_mapping_parameters!$J$16),Onglet_mapping_parameters!$J$20,AND(F256>=Onglet_mapping_parameters!$J$16,G256<Onglet_mapping_parameters!$J$16),Onglet_mapping_parameters!$J$21,AND(F256>=Onglet_mapping_parameters!$J$16,G256>=Onglet_mapping_parameters!$J$16),Onglet_mapping_parameters!$J$22),\"\")","v":""},null,{"$f":"IFERROR(_xlfn.IFS(Tableau1[[#This Row],[Category]]=Onglet_mapping_parameters!$C$27,Onglet_mapping_parameters!$B$27,Tableau1[[#This Row],[Category]]=Onglet_mapping_parameters!$C$28,Onglet_mapping_parameters!$B$28,Tableau1[[#This Row],[Category]]=Onglet_mapping_parameters!$C$29,Onglet_mapping_parameters!$B$29,Tableau1[[#This Row],[Category]]=Onglet_mapping_parameters!$C$30,Onglet_mapping_parameters!$B$30),\"\")","v":""},null,null,"Delete"]
[null,null,null,null,null,null,null,null,null,{"$f":"IFERROR(_xlfn.IFS(OR(F257=\"\",G257=\"\"),\"\",AND(F257<Onglet_mapping_parameters!$J$16,G257<Onglet_mapping_parameters!$J$16),Onglet_mapping_parameters!$J$18,AND(F257<Onglet_mapping_parameters!$J$16,G257>=Onglet_mapping_parameters!$J$16),Onglet_mapping_parameters!$J$20,AND(F257>=Onglet_mapping_parameters!$J$16,G257<Onglet_mapping_parameters!$J$16),Onglet_mapping_parameters!$J$21,AND(F257>=Onglet_mapping_parameters!$J$16,G257>=Onglet_mapping_parameters!$J$16),Onglet_mapping_parameters!$J$22),\"\")","v":""},null,{"$f":"IFERROR(_xlfn.IFS(Tableau1[[#This Row],[Category]]=Onglet_mapping_parameters!$C$27,Onglet_mapping_parameters!$B$27,Tableau1[[#This Row],[Category]]=Onglet_mapping_parameters!$C$28,Onglet_mapping_parameters!$B$28,Tableau1[[#This Row],[Category]]=Onglet_mapping_parameters!$C$29,Onglet_mapping_parameters!$B$29,Tableau1[[#This Row],[Category]]=Onglet_mapping_parameters!$C$30,Onglet_mapping_parameters!$B$30),\"\")","v":""},null,null,"Delete"]
[null,null,null,null,null,null,null,null,null,{"$f":"IFERROR(_xlfn.IFS(OR(F258=\"\",G258=\"\"),\"\",AND(F258<Onglet_mapping_parameters!$J$16,G258<Onglet_mapping_parameters!$J$16),Onglet_mapping_parameters!$J$18,AND(F258<Onglet_mapping_parameters!$J$16,G258>=Onglet_mapping_parameters!$J$16),Onglet_mapping_parameters!$J$20,AND(F258>=Onglet_mapping_parameters!$J$16,G258<Onglet_mapping_parameters!$J$16),Onglet_mapping_parameters!$J$21,AND(F258>=Onglet_mapping_parameters!$J$16,G258>=Onglet_mapping_parameters!$J$16),Onglet_mapping_parameters!$J$22),\"\")","v":""},null,{"$f":"IFERROR(_xlfn.IFS(Tableau1[[#This Row],[Category]]=Onglet_mapping_parameters!$C$27,Onglet_mapping_parameters!$B$27,Tableau1[[#This Row],[Category]]=Onglet_mapping_parameters!$C$28,Onglet_mapping_parameters!$B$28,Tableau1[[#This Row],[Category]]=Onglet_mapping_parameters!$C$29,Onglet_mapping_parameters!$B$29,Tableau1[[#This Row],[Category]]=Onglet_mapping_parameters!$C$30,Onglet_mapping_parameters!$B$30),\"\")","v":""},null,null,"Delete"]
[null,null,null,null,null,null,null,null,null,{"$f":"IFERROR(_xlfn.IFS(OR(F259=\"\",G259=\"\"),\"\",AND(F259<Onglet_mapping_parameters!$J$16,G259<Onglet_mapping_parameters!$J$16),Onglet_mapping_parameters!$J$18,AND(F259<Onglet_mapping_parameters!$J$16,G259>=Onglet_mapping_parameters!$J$16),Onglet_mapping_parameters!$J$20,AND(F259>=Onglet_mapping_parameters!$J$16,G259<Onglet_mapping_parameters!$J$16),Onglet_mapping_parameters!$J$21,AND(F259>=Onglet_mapping_parameters!$J$16,G259>=Onglet_mapping_parameters!$J$16),Onglet_mapping_parameters!$J$22),\"\")","v":""},null,{"$f":"IFERROR(_xlfn.IFS(Tableau1[[#This Row],[Category]]=Onglet_mapping_parameters!$C$27,Onglet_mapping_parameters!$B$27,Tableau1[[#This Row],[Category]]=Onglet_mapping_parameters!$C$28,Onglet_mapping_parameters!$B$28,Tableau1[[#This Row],[Category]]=Onglet_mapping_parameters!$C$29,Onglet_mapping_parameters!$B$29,Tableau1[[#This Row],[Category]]=Onglet_mapping_parameters!$C$30,Onglet_mapping_parameters!$B$30),\"\")","v":""},null,null,"Delete"]
[null,null,null,null,null,null,null,null,null,{"$f":"IFERROR(_xlfn.IFS(OR(F260=\"\",G260=\"\"),\"\",AND(F260<Onglet_mapping_parameters!$J$16,G260<Onglet_mapping_parameters!$J$16),Onglet_mapping_parameters!$J$18,AND(F260<Onglet_mapping_parameters!$J$16,G260>=Onglet_mapping_parameters!$J$16),Onglet_mapping_parameters!$J$20,AND(F260>=Onglet_mapping_parameters!$J$16,G260<Onglet_mapping_parameters!$J$16),Onglet_mapping_parameters!$J$21,AND(F260>=Onglet_mapping_parameters!$J$16,G260>=Onglet_mapping_parameters!$J$16),Onglet_mapping_parameters!$J$22),\"\")","v":""},null,{"$f":"IFERROR(_xlfn.IFS(Tableau1[[#This Row],[Category]]=Onglet_mapping_parameters!$C$27,Onglet_mapping_parameters!$B$27,Tableau1[[#This Row],[Category]]=Onglet_mapping_parameters!$C$28,Onglet_mapping_parameters!$B$28,Tableau1[[#This Row],[Category]]=Onglet_mapping_parameters!$C$29,Onglet_mapping_parameters!$B$29,Tableau1[[#This Row],[Category]]=Onglet_mapping_parameters!$C$30,Onglet_mapping_parameters!$B$30),\"\")","v":""},null,null,"Delete"]
[null,null,null,null,null,null,null,null,null,{"$f":"IFERROR(_xlfn.IFS(OR(F261=\"\",G261=\"\"),\"\",AND(F261<Onglet_mapping_parameters!$J$16,G261<Onglet_mapping_parameters!$J$16),Onglet_mapping_parameters!$J$18,AND(F261<Onglet_mapping_parameters!$J$16,G261>=Onglet_mapping_parameters!$J$16),Onglet_mapping_parameters!$J$20,AND(F261>=Onglet_mapping_parameters!$J$16,G261<Onglet_mapping_parameters!$J$16),Onglet_mapping_parameters!$J$21,AND(F261>=Onglet_mapping_parameters!$J$16,G261>=Onglet_mapping_parameters!$J$16),Onglet_mapping_parameters!$J$22),\"\")","v":""},null,{"$f":"IFERROR(_xlfn.IFS(Tableau1[[#This Row],[Category]]=Onglet_mapping_parameters!$C$27,Onglet_mapping_parameters!$B$27,Tableau1[[#This Row],[Category]]=Onglet_mapping_parameters!$C$28,Onglet_mapping_parameters!$B$28,Tableau1[[#This Row],[Category]]=Onglet_mapping_parameters!$C$29,Onglet_mapping_parameters!$B$29,Tableau1[[#This Row],[Category]]=Onglet_mapping_parameters!$C$30,Onglet_mapping_parameters!$B$30),\"\")","v":""},null,null,"Delete"]
[null,null,null,null,null,null,null,null,null,{"$f":"IFERROR(_xlfn.IFS(OR(F262=\"\",G262=\"\"),\"\",AND(F262<Onglet_mapping_parameters!$J$16,G262<Onglet_mapping_parameters!$J$16),Onglet_mapping_parameters!$J$18,AND(F262<Onglet_mapping_parameters!$J$16,G262>=Onglet_mapping_parameters!$J$16),Onglet_mapping_parameters!$J$20,AND(F262>=Onglet_mapping_parameters!$J$16,G262<Onglet_mapping_parameters!$J$16),Onglet_mapping_parameters!$J$21,AND(F262>=Onglet_mapping_parameters!$J$16,G262>=Onglet_mapping_parameters!$J$16),Onglet_mapping_parameters!$J$22),\"\")","v":""},null,{"$f":"IFERROR(_xlfn.IFS(Tableau1[[#This Row],[Category]]=Onglet_mapping_parameters!$C$27,Onglet_mapping_parameters!$B$27,Tableau1[[#This Row],[Category]]=Onglet_mapping_parameters!$C$28,Onglet_mapping_parameters!$B$28,Tableau1[[#This Row],[Category]]=Onglet_mapping_parameters!$C$29,Onglet_mapping_parameters!$B$29,Tableau1[[#This Row],[Category]]=Onglet_mapping_parameters!$C$30,Onglet_mapping_parameters!$B$30),\"\")","v":""},null,null,"Delete"]
[null,null,null,null,null,null,null,null,null,{"$f":"IFERROR(_xlfn.IFS(OR(F263=\"\",G263=\"\"),\"\",AND(F263<Onglet_mapping_parameters!$J$16,G263<Onglet_mapping_parameters!$J$16),Onglet_mapping_parameters!$J$18,AND(F263<Onglet_mapping_parameters!$J$16,G263>=Onglet_mapping_parameters!$J$16),Onglet_mapping_parameters!$J$20,AND(F263>=Onglet_mapping_parameters!$J$16,G263<Onglet_mapping_parameters!$J$16),Onglet_mapping_parameters!$J$21,AND(F263>=Onglet_mapping_parameters!$J$16,G263>=Onglet_mapping_parameters!$J$16),Onglet_mapping_parameters!$J$22),\"\")","v":""},null,{"$f":"IFERROR(_xlfn.IFS(Tableau1[[#This Row],[Category]]=Onglet_mapping_parameters!$C$27,Onglet_mapping_parameters!$B$27,Tableau1[[#This Row],[Category]]=Onglet_mapping_parameters!$C$28,Onglet_mapping_parameters!$B$28,Tableau1[[#This Row],[Category]]=Onglet_mapping_parameters!$C$29,Onglet_mapping_parameters!$B$29,Tableau1[[#This Row],[Category]]=Onglet_mapping_parameters!$C$30,Onglet_mapping_parameters!$B$30),\"\")","v":""},null,null,"Delete"]
[null,null,null,null,null,null,null,null,null,{"$f":"IFERROR(_xlfn.IFS(OR(F264=\"\",G264=\"\"),\"\",AND(F264<Onglet_mapping_parameters!$J$16,G264<Onglet_mapping_parameters!$J$16),Onglet_mapping_parameters!$J$18,AND(F264<Onglet_mapping_parameters!$J$16,G264>=Onglet_mapping_parameters!$J$16),Onglet_mapping_parameters!$J$20,AND(F264>=Onglet_mapping_parameters!$J$16,G264<Onglet_mapping_parameters!$J$16),Onglet_mapping_parameters!$J$21,AND(F264>=Onglet_mapping_parameters!$J$16,G264>=Onglet_mapping_parameters!$J$16),Onglet_mapping_parameters!$J$22),\"\")","v":""},null,{"$f":"IFERROR(_xlfn.IFS(Tableau1[[#This Row],[Category]]=Onglet_mapping_parameters!$C$27,Onglet_mapping_parameters!$B$27,Tableau1[[#This Row],[Category]]=Onglet_mapping_parameters!$C$28,Onglet_mapping_parameters!$B$28,Tableau1[[#This Row],[Category]]=Onglet_mapping_parameters!$C$29,Onglet_mapping_parameters!$B$29,Tableau1[[#This Row],[Category]]=Onglet_mapping_parameters!$C$30,Onglet_mapping_parameters!$B$30),\"\")","v":""},null,null,"Delete"]
[null,null,null,null,null,null,null,null,null,{"$f":"IFERROR(_xlfn.IFS(OR(F265=\"\",G265=\"\"),\"\",AND(F265<Onglet_mapping_parameters!$J$16,G265<Onglet_mapping_parameters!$J$16),Onglet_mapping_parameters!$J$18,AND(F265<Onglet_mapping_parameters!$J$16,G265>=Onglet_mapping_parameters!$J$16),Onglet_mapping_parameters!$J$20,AND(F265>=Onglet_mapping_parameters!$J$16,G265<Onglet_mapping_parameters!$J$16),Onglet_mapping_parameters!$J$21,AND(F265>=Onglet_mapping_parameters!$J$16,G265>=Onglet_mapping_parameters!$J$16),Onglet_mapping_parameters!$J$22),\"\")","v":""},null,{"$f":"IFERROR(_xlfn.IFS(Tableau1[[#This Row],[Category]]=Onglet_mapping_parameters!$C$27,Onglet_mapping_parameters!$B$27,Tableau1[[#This Row],[Category]]=Onglet_mapping_parameters!$C$28,Onglet_mapping_parameters!$B$28,Tableau1[[#This Row],[Category]]=Onglet_mapping_parameters!$C$29,Onglet_mapping_parameters!$B$29,Tableau1[[#This Row],[Category]]=Onglet_mapping_parameters!$C$30,Onglet_mapping_parameters!$B$30),\"\")","v":""},null,null,"Delete"]
[null,null,null,null,null,null,null,null,null,{"$f":"IFERROR(_xlfn.IFS(OR(F266=\"\",G266=\"\"),\"\",AND(F266<Onglet_mapping_parameters!$J$16,G266<Onglet_mapping_parameters!$J$16),Onglet_mapping_parameters!$J$18,AND(F266<Onglet_mapping_parameters!$J$16,G266>=Onglet_mapping_parameters!$J$16),Onglet_mapping_parameters!$J$20,AND(F266>=Onglet_mapping_parameters!$J$16,G266<Onglet_mapping_parameters!$J$16),Onglet_mapping_parameters!$J$21,AND(F266>=Onglet_mapping_parameters!$J$16,G266>=Onglet_mapping_parameters!$J$16),Onglet_mapping_parameters!$J$22),\"\")","v":""},null,{"$f":"IFERROR(_xlfn.IFS(Tableau1[[#This Row],[Category]]=Onglet_mapping_parameters!$C$27,Onglet_mapping_parameters!$B$27,Tableau1[[#This Row],[Category]]=Onglet_mapping_parameters!$C$28,Onglet_mapping_parameters!$B$28,Tableau1[[#This Row],[Category]]=Onglet_mapping_parameters!$C$29,Onglet_mapping_parameters!$B$29,Tableau1[[#This Row],[Category]]=Onglet_mapping_parameters!$C$30,Onglet_mapping_parameters!$B$30),\"\")","v":""},null,null,"Delete"]
[null,null,null,null,null,null,null,null,null,{"$f":"IFERROR(_xlfn.IFS(OR(F267=\"\",G267=\"\"),\"\",AND(F267<Onglet_mapping_parameters!$J$16,G267<Onglet_mapping_parameters!$J$16),Onglet_mapping_parameters!$J$18,AND(F267<Onglet_mapping_parameters!$J$16,G267>=Onglet_mapping_parameters!$J$16),Onglet_mapping_parameters!$J$20,AND(F267>=Onglet_mapping_parameters!$J$16,G267<Onglet_mapping_parameters!$J$16),Onglet_mapping_parameters!$J$21,AND(F267>=Onglet_mapping_parameters!$J$16,G267>=Onglet_mapping_parameters!$J$16),Onglet_mapping_parameters!$J$22),\"\")","v":""},null,{"$f":"IFERROR(_xlfn.IFS(Tableau1[[#This Row],[Category]]=Onglet_mapping_parameters!$C$27,Onglet_mapping_parameters!$B$27,Tableau1[[#This Row],[Category]]=Onglet_mapping_parameters!$C$28,Onglet_mapping_parameters!$B$28,Tableau1[[#This Row],[Category]]=Onglet_mapping_parameters!$C$29,Onglet_mapping_parameters!$B$29,Tableau1[[#This Row],[Category]]=Onglet_mapping_parameters!$C$30,Onglet_mapping_parameters!$B$30),\"\")","v":""},null,null,"Delete"]
[null,null,null,null,null,null,null,null,null,{"$f":"IFERROR(_xlfn.IFS(OR(F268=\"\",G268=\"\"),\"\",AND(F268<Onglet_mapping_parameters!$J$16,G268<Onglet_mapping_parameters!$J$16),Onglet_mapping_parameters!$J$18,AND(F268<Onglet_mapping_parameters!$J$16,G268>=Onglet_mapping_parameters!$J$16),Onglet_mapping_parameters!$J$20,AND(F268>=Onglet_mapping_parameters!$J$16,G268<Onglet_mapping_parameters!$J$16),Onglet_mapping_parameters!$J$21,AND(F268>=Onglet_mapping_parameters!$J$16,G268>=Onglet_mapping_parameters!$J$16),Onglet_mapping_parameters!$J$22),\"\")","v":""},null,{"$f":"IFERROR(_xlfn.IFS(Tableau1[[#This Row],[Category]]=Onglet_mapping_parameters!$C$27,Onglet_mapping_parameters!$B$27,Tableau1[[#This Row],[Category]]=Onglet_mapping_parameters!$C$28,Onglet_mapping_parameters!$B$28,Tableau1[[#This Row],[Category]]=Onglet_mapping_parameters!$C$29,Onglet_mapping_parameters!$B$29,Tableau1[[#This Row],[Category]]=Onglet_mapping_parameters!$C$30,Onglet_mapping_parameters!$B$30),\"\")","v":""},null,null,"Delete"]
[null,null,null,null,null,null,null,null,null,{"$f":"IFERROR(_xlfn.IFS(OR(F269=\"\",G269=\"\"),\"\",AND(F269<Onglet_mapping_parameters!$J$16,G269<Onglet_mapping_parameters!$J$16),Onglet_mapping_parameters!$J$18,AND(F269<Onglet_mapping_parameters!$J$16,G269>=Onglet_mapping_parameters!$J$16),Onglet_mapping_parameters!$J$20,AND(F269>=Onglet_mapping_parameters!$J$16,G269<Onglet_mapping_parameters!$J$16),Onglet_mapping_parameters!$J$21,AND(F269>=Onglet_mapping_parameters!$J$16,G269>=Onglet_mapping_parameters!$J$16),Onglet_mapping_parameters!$J$22),\"\")","v":""},null,{"$f":"IFERROR(_xlfn.IFS(Tableau1[[#This Row],[Category]]=Onglet_mapping_parameters!$C$27,Onglet_mapping_parameters!$B$27,Tableau1[[#This Row],[Category]]=Onglet_mapping_parameters!$C$28,Onglet_mapping_parameters!$B$28,Tableau1[[#This Row],[Category]]=Onglet_mapping_parameters!$C$29,Onglet_mapping_parameters!$B$29,Tableau1[[#This Row],[Category]]=Onglet_mapping_parameters!$C$30,Onglet_mapping_parameters!$B$30),\"\")","v":""},null,null,"Delete"]
[null,null,null,null,null,null,null,null,null,{"$f":"IFERROR(_xlfn.IFS(OR(F270=\"\",G270=\"\"),\"\",AND(F270<Onglet_mapping_parameters!$J$16,G270<Onglet_mapping_parameters!$J$16),Onglet_mapping_parameters!$J$18,AND(F270<Onglet_mapping_parameters!$J$16,G270>=Onglet_mapping_parameters!$J$16),Onglet_mapping_parameters!$J$20,AND(F270>=Onglet_mapping_parameters!$J$16,G270<Onglet_mapping_parameters!$J$16),Onglet_mapping_parameters!$J$21,AND(F270>=Onglet_mapping_parameters!$J$16,G270>=Onglet_mapping_parameters!$J$16),Onglet_mapping_parameters!$J$22),\"\")","v":""},null,{"$f":"IFERROR(_xlfn.IFS(Tableau1[[#This Row],[Category]]=Onglet_mapping_parameters!$C$27,Onglet_mapping_parameters!$B$27,Tableau1[[#This Row],[Category]]=Onglet_mapping_parameters!$C$28,Onglet_mapping_parameters!$B$28,Tableau1[[#This Row],[Category]]=Onglet_mapping_parameters!$C$29,Onglet_mapping_parameters!$B$29,Tableau1[[#This Row],[Category]]=Onglet_mapping_parameters!$C$30,Onglet_mapping_parameters!$B$30),\"\")","v":""},null,null,"Delete"]
[null,null,null,null,null,null,null,null,null,{"$f":"IFERROR(_xlfn.IFS(OR(F271=\"\",G271=\"\"),\"\",AND(F271<Onglet_mapping_parameters!$J$16,G271<Onglet_mapping_parameters!$J$16),Onglet_mapping_parameters!$J$18,AND(F271<Onglet_mapping_parameters!$J$16,G271>=Onglet_mapping_parameters!$J$16),Onglet_mapping_parameters!$J$20,AND(F271>=Onglet_mapping_parameters!$J$16,G271<Onglet_mapping_parameters!$J$16),Onglet_mapping_parameters!$J$21,AND(F271>=Onglet_mapping_parameters!$J$16,G271>=Onglet_mapping_parameters!$J$16),Onglet_mapping_parameters!$J$22),\"\")","v":""},null,{"$f":"IFERROR(_xlfn.IFS(Tableau1[[#This Row],[Category]]=Onglet_mapping_parameters!$C$27,Onglet_mapping_parameters!$B$27,Tableau1[[#This Row],[Category]]=Onglet_mapping_parameters!$C$28,Onglet_mapping_parameters!$B$28,Tableau1[[#This Row],[Category]]=Onglet_mapping_parameters!$C$29,Onglet_mapping_parameters!$B$29,Tableau1[[#This Row],[Category]]=Onglet_mapping_parameters!$C$30,Onglet_mapping_parameters!$B$30),\"\")","v":""},null,null,"Delete"]
[null,null,null,null,null,null,null,null,null,{"$f":"IFERROR(_xlfn.IFS(OR(F272=\"\",G272=\"\"),\"\",AND(F272<Onglet_mapping_parameters!$J$16,G272<Onglet_mapping_parameters!$J$16),Onglet_mapping_parameters!$J$18,AND(F272<Onglet_mapping_parameters!$J$16,G272>=Onglet_mapping_parameters!$J$16),Onglet_mapping_parameters!$J$20,AND(F272>=Onglet_mapping_parameters!$J$16,G272<Onglet_mapping_parameters!$J$16),Onglet_mapping_parameters!$J$21,AND(F272>=Onglet_mapping_parameters!$J$16,G272>=Onglet_mapping_parameters!$J$16),Onglet_mapping_parameters!$J$22),\"\")","v":""},null,{"$f":"IFERROR(_xlfn.IFS(Tableau1[[#This Row],[Category]]=Onglet_mapping_parameters!$C$27,Onglet_mapping_parameters!$B$27,Tableau1[[#This Row],[Category]]=Onglet_mapping_parameters!$C$28,Onglet_mapping_parameters!$B$28,Tableau1[[#This Row],[Category]]=Onglet_mapping_parameters!$C$29,Onglet_mapping_parameters!$B$29,Tableau1[[#This Row],[Category]]=Onglet_mapping_parameters!$C$30,Onglet_mapping_parameters!$B$30),\"\")","v":""},null,null,"Delete"]
[null,null,null,null,null,null,null,null,null,{"$f":"IFERROR(_xlfn.IFS(OR(F273=\"\",G273=\"\"),\"\",AND(F273<Onglet_mapping_parameters!$J$16,G273<Onglet_mapping_parameters!$J$16),Onglet_mapping_parameters!$J$18,AND(F273<Onglet_mapping_parameters!$J$16,G273>=Onglet_mapping_parameters!$J$16),Onglet_mapping_parameters!$J$20,AND(F273>=Onglet_mapping_parameters!$J$16,G273<Onglet_mapping_parameters!$J$16),Onglet_mapping_parameters!$J$21,AND(F273>=Onglet_mapping_parameters!$J$16,G273>=Onglet_mapping_parameters!$J$16),Onglet_mapping_parameters!$J$22),\"\")","v":""},null,{"$f":"IFERROR(_xlfn.IFS(Tableau1[[#This Row],[Category]]=Onglet_mapping_parameters!$C$27,Onglet_mapping_parameters!$B$27,Tableau1[[#This Row],[Category]]=Onglet_mapping_parameters!$C$28,Onglet_mapping_parameters!$B$28,Tableau1[[#This Row],[Category]]=Onglet_mapping_parameters!$C$29,Onglet_mapping_parameters!$B$29,Tableau1[[#This Row],[Category]]=Onglet_mapping_parameters!$C$30,Onglet_mapping_parameters!$B$30),\"\")","v":""},null,null,"Delete"]
[null,null,null,null,null,null,null,null,null,{"$f":"IFERROR(_xlfn.IFS(OR(F274=\"\",G274=\"\"),\"\",AND(F274<Onglet_mapping_parameters!$J$16,G274<Onglet_mapping_parameters!$J$16),Onglet_mapping_parameters!$J$18,AND(F274<Onglet_mapping_parameters!$J$16,G274>=Onglet_mapping_parameters!$J$16),Onglet_mapping_parameters!$J$20,AND(F274>=Onglet_mapping_parameters!$J$16,G274<Onglet_mapping_parameters!$J$16),Onglet_mapping_parameters!$J$21,AND(F274>=Onglet_mapping_parameters!$J$16,G274>=Onglet_mapping_parameters!$J$16),Onglet_mapping_parameters!$J$22),\"\")","v":""},null,{"$f":"IFERROR(_xlfn.IFS(Tableau1[[#This Row],[Category]]=Onglet_mapping_parameters!$C$27,Onglet_mapping_parameters!$B$27,Tableau1[[#This Row],[Category]]=Onglet_mapping_parameters!$C$28,Onglet_mapping_parameters!$B$28,Tableau1[[#This Row],[Category]]=Onglet_mapping_parameters!$C$29,Onglet_mapping_parameters!$B$29,Tableau1[[#This Row],[Category]]=Onglet_mapping_parameters!$C$30,Onglet_mapping_parameters!$B$30),\"\")","v":""},null,null,"Delete"]
[null,null,null,null,null,null,null,null,null,{"$f":"IFERROR(_xlfn.IFS(OR(F275=\"\",G275=\"\"),\"\",AND(F275<Onglet_mapping_parameters!$J$16,G275<Onglet_mapping_parameters!$J$16),Onglet_mapping_parameters!$J$18,AND(F275<Onglet_mapping_parameters!$J$16,G275>=Onglet_mapping_parameters!$J$16),Onglet_mapping_parameters!$J$20,AND(F275>=Onglet_mapping_parameters!$J$16,G275<Onglet_mapping_parameters!$J$16),Onglet_mapping_parameters!$J$21,AND(F275>=Onglet_mapping_parameters!$J$16,G275>=Onglet_mapping_parameters!$J$16),Onglet_mapping_parameters!$J$22),\"\")","v":""},null,{"$f":"IFERROR(_xlfn.IFS(Tableau1[[#This Row],[Category]]=Onglet_mapping_parameters!$C$27,Onglet_mapping_parameters!$B$27,Tableau1[[#This Row],[Category]]=Onglet_mapping_parameters!$C$28,Onglet_mapping_parameters!$B$28,Tableau1[[#This Row],[Category]]=Onglet_mapping_parameters!$C$29,Onglet_mapping_parameters!$B$29,Tableau1[[#This Row],[Category]]=Onglet_mapping_parameters!$C$30,Onglet_mapping_parameters!$B$30),\"\")","v":""},null,null,"Delete"]
[null,null,null,null,null,null,null,null,null,{"$f":"IFERROR(_xlfn.IFS(OR(F276=\"\",G276=\"\"),\"\",AND(F276<Onglet_mapping_parameters!$J$16,G276<Onglet_mapping_parameters!$J$16),Onglet_mapping_parameters!$J$18,AND(F276<Onglet_mapping_parameters!$J$16,G276>=Onglet_mapping_parameters!$J$16),Onglet_mapping_parameters!$J$20,AND(F276>=Onglet_mapping_parameters!$J$16,G276<Onglet_mapping_parameters!$J$16),Onglet_mapping_parameters!$J$21,AND(F276>=Onglet_mapping_parameters!$J$16,G276>=Onglet_mapping_parameters!$J$16),Onglet_mapping_parameters!$J$22),\"\")","v":""},null,{"$f":"IFERROR(_xlfn.IFS(Tableau1[[#This Row],[Category]]=Onglet_mapping_parameters!$C$27,Onglet_mapping_parameters!$B$27,Tableau1[[#This Row],[Category]]=Onglet_mapping_parameters!$C$28,Onglet_mapping_parameters!$B$28,Tableau1[[#This Row],[Category]]=Onglet_mapping_parameters!$C$29,Onglet_mapping_parameters!$B$29,Tableau1[[#This Row],[Category]]=Onglet_mapping_parameters!$C$30,Onglet_mapping_parameters!$B$30),\"\")","v":""},null,null,"Delete"]
[null,null,null,null,null,null,null,null,null,{"$f":"IFERROR(_xlfn.IFS(OR(F277=\"\",G277=\"\"),\"\",AND(F277<Onglet_mapping_parameters!$J$16,G277<Onglet_mapping_parameters!$J$16),Onglet_mapping_parameters!$J$18,AND(F277<Onglet_mapping_parameters!$J$16,G277>=Onglet_mapping_parameters!$J$16),Onglet_mapping_parameters!$J$20,AND(F277>=Onglet_mapping_parameters!$J$16,G277<Onglet_mapping_parameters!$J$16),Onglet_mapping_parameters!$J$21,AND(F277>=Onglet_mapping_parameters!$J$16,G277>=Onglet_mapping_parameters!$J$16),Onglet_mapping_parameters!$J$22),\"\")","v":""},null,{"$f":"IFERROR(_xlfn.IFS(Tableau1[[#This Row],[Category]]=Onglet_mapping_parameters!$C$27,Onglet_mapping_parameters!$B$27,Tableau1[[#This Row],[Category]]=Onglet_mapping_parameters!$C$28,Onglet_mapping_parameters!$B$28,Tableau1[[#This Row],[Category]]=Onglet_mapping_parameters!$C$29,Onglet_mapping_parameters!$B$29,Tableau1[[#This Row],[Category]]=Onglet_mapping_parameters!$C$30,Onglet_mapping_parameters!$B$30),\"\")","v":""},null,null,"Delete"]
[null,null,null,null,null,null,null,null,null,{"$f":"IFERROR(_xlfn.IFS(OR(F278=\"\",G278=\"\"),\"\",AND(F278<Onglet_mapping_parameters!$J$16,G278<Onglet_mapping_parameters!$J$16),Onglet_mapping_parameters!$J$18,AND(F278<Onglet_mapping_parameters!$J$16,G278>=Onglet_mapping_parameters!$J$16),Onglet_mapping_parameters!$J$20,AND(F278>=Onglet_mapping_parameters!$J$16,G278<Onglet_mapping_parameters!$J$16),Onglet_mapping_parameters!$J$21,AND(F278>=Onglet_mapping_parameters!$J$16,G278>=Onglet_mapping_parameters!$J$16),Onglet_mapping_parameters!$J$22),\"\")","v":""},null,{"$f":"IFERROR(_xlfn.IFS(Tableau1[[#This Row],[Category]]=Onglet_mapping_parameters!$C$27,Onglet_mapping_parameters!$B$27,Tableau1[[#This Row],[Category]]=Onglet_mapping_parameters!$C$28,Onglet_mapping_parameters!$B$28,Tableau1[[#This Row],[Category]]=Onglet_mapping_parameters!$C$29,Onglet_mapping_parameters!$B$29,Tableau1[[#This Row],[Category]]=Onglet_mapping_parameters!$C$30,Onglet_mapping_parameters!$B$30),\"\")","v":""},null,null,"Delete"]
[null,null,null,null,null,null,null,null,null,{"$f":"IFERROR(_xlfn.IFS(OR(F279=\"\",G279=\"\"),\"\",AND(F279<Onglet_mapping_parameters!$J$16,G279<Onglet_mapping_parameters!$J$16),Onglet_mapping_parameters!$J$18,AND(F279<Onglet_mapping_parameters!$J$16,G279>=Onglet_mapping_parameters!$J$16),Onglet_mapping_parameters!$J$20,AND(F279>=Onglet_mapping_parameters!$J$16,G279<Onglet_mapping_parameters!$J$16),Onglet_mapping_parameters!$J$21,AND(F279>=Onglet_mapping_parameters!$J$16,G279>=Onglet_mapping_parameters!$J$16),Onglet_mapping_parameters!$J$22),\"\")","v":""},null,{"$f":"IFERROR(_xlfn.IFS(Tableau1[[#This Row],[Category]]=Onglet_mapping_parameters!$C$27,Onglet_mapping_parameters!$B$27,Tableau1[[#This Row],[Category]]=Onglet_mapping_parameters!$C$28,Onglet_mapping_parameters!$B$28,Tableau1[[#This Row],[Category]]=Onglet_mapping_parameters!$C$29,Onglet_mapping_parameters!$B$29,Tableau1[[#This Row],[Category]]=Onglet_mapping_parameters!$C$30,Onglet_mapping_parameters!$B$30),\"\")","v":""},null,null,"Delete"]
[null,null,null,null,null,null,null,null,null,{"$f":"IFERROR(_xlfn.IFS(OR(F280=\"\",G280=\"\"),\"\",AND(F280<Onglet_mapping_parameters!$J$16,G280<Onglet_mapping_parameters!$J$16),Onglet_mapping_parameters!$J$18,AND(F280<Onglet_mapping_parameters!$J$16,G280>=Onglet_mapping_parameters!$J$16),Onglet_mapping_parameters!$J$20,AND(F280>=Onglet_mapping_parameters!$J$16,G280<Onglet_mapping_parameters!$J$16),Onglet_mapping_parameters!$J$21,AND(F280>=Onglet_mapping_parameters!$J$16,G280>=Onglet_mapping_parameters!$J$16),Onglet_mapping_parameters!$J$22),\"\")","v":""},null,{"$f":"IFERROR(_xlfn.IFS(Tableau1[[#This Row],[Category]]=Onglet_mapping_parameters!$C$27,Onglet_mapping_parameters!$B$27,Tableau1[[#This Row],[Category]]=Onglet_mapping_parameters!$C$28,Onglet_mapping_parameters!$B$28,Tableau1[[#This Row],[Category]]=Onglet_mapping_parameters!$C$29,Onglet_mapping_parameters!$B$29,Tableau1[[#This Row],[Category]]=Onglet_mapping_parameters!$C$30,Onglet_mapping_parameters!$B$30),\"\")","v":""},null,null,"Delete"]
[null,null,null,null,null,null,null,null,null,{"$f":"IFERROR(_xlfn.IFS(OR(F281=\"\",G281=\"\"),\"\",AND(F281<Onglet_mapping_parameters!$J$16,G281<Onglet_mapping_parameters!$J$16),Onglet_mapping_parameters!$J$18,AND(F281<Onglet_mapping_parameters!$J$16,G281>=Onglet_mapping_parameters!$J$16),Onglet_mapping_parameters!$J$20,AND(F281>=Onglet_mapping_parameters!$J$16,G281<Onglet_mapping_parameters!$J$16),Onglet_mapping_parameters!$J$21,AND(F281>=Onglet_mapping_parameters!$J$16,G281>=Onglet_mapping_parameters!$J$16),Onglet_mapping_parameters!$J$22),\"\")","v":""},null,{"$f":"IFERROR(_xlfn.IFS(Tableau1[[#This Row],[Category]]=Onglet_mapping_parameters!$C$27,Onglet_mapping_parameters!$B$27,Tableau1[[#This Row],[Category]]=Onglet_mapping_parameters!$C$28,Onglet_mapping_parameters!$B$28,Tableau1[[#This Row],[Category]]=Onglet_mapping_parameters!$C$29,Onglet_mapping_parameters!$B$29,Tableau1[[#This Row],[Category]]=Onglet_mapping_parameters!$C$30,Onglet_mapping_parameters!$B$30),\"\")","v":""},null,null,"Delete"]
[null,null,null,null,null,null,null,null,null,{"$f":"IFERROR(_xlfn.IFS(OR(F282=\"\",G282=\"\"),\"\",AND(F282<Onglet_mapping_parameters!$J$16,G282<Onglet_mapping_parameters!$J$16),Onglet_mapping_parameters!$J$18,AND(F282<Onglet_mapping_parameters!$J$16,G282>=Onglet_mapping_parameters!$J$16),Onglet_mapping_parameters!$J$20,AND(F282>=Onglet_mapping_parameters!$J$16,G282<Onglet_mapping_parameters!$J$16),Onglet_mapping_parameters!$J$21,AND(F282>=Onglet_mapping_parameters!$J$16,G282>=Onglet_mapping_parameters!$J$16),Onglet_mapping_parameters!$J$22),\"\")","v":""},null,{"$f":"IFERROR(_xlfn.IFS(Tableau1[[#This Row],[Category]]=Onglet_mapping_parameters!$C$27,Onglet_mapping_parameters!$B$27,Tableau1[[#This Row],[Category]]=Onglet_mapping_parameters!$C$28,Onglet_mapping_parameters!$B$28,Tableau1[[#This Row],[Category]]=Onglet_mapping_parameters!$C$29,Onglet_mapping_parameters!$B$29,Tableau1[[#This Row],[Category]]=Onglet_mapping_parameters!$C$30,Onglet_mapping_parameters!$B$30),\"\")","v":""},null,null,"Delete"]
[null,null,null,null,null,null,null,null,null,{"$f":"IFERROR(_xlfn.IFS(OR(F283=\"\",G283=\"\"),\"\",AND(F283<Onglet_mapping_parameters!$J$16,G283<Onglet_mapping_parameters!$J$16),Onglet_mapping_parameters!$J$18,AND(F283<Onglet_mapping_parameters!$J$16,G283>=Onglet_mapping_parameters!$J$16),Onglet_mapping_parameters!$J$20,AND(F283>=Onglet_mapping_parameters!$J$16,G283<Onglet_mapping_parameters!$J$16),Onglet_mapping_parameters!$J$21,AND(F283>=Onglet_mapping_parameters!$J$16,G283>=Onglet_mapping_parameters!$J$16),Onglet_mapping_parameters!$J$22),\"\")","v":""},null,{"$f":"IFERROR(_xlfn.IFS(Tableau1[[#This Row],[Category]]=Onglet_mapping_parameters!$C$27,Onglet_mapping_parameters!$B$27,Tableau1[[#This Row],[Category]]=Onglet_mapping_parameters!$C$28,Onglet_mapping_parameters!$B$28,Tableau1[[#This Row],[Category]]=Onglet_mapping_parameters!$C$29,Onglet_mapping_parameters!$B$29,Tableau1[[#This Row],[Category]]=Onglet_mapping_parameters!$C$30,Onglet_mapping_parameters!$B$30),\"\")","v":""},null,null,"Delete"]
[null,null,null,null,null,null,null,null,null,{"$f":"IFERROR(_xlfn.IFS(OR(F284=\"\",G284=\"\"),\"\",AND(F284<Onglet_mapping_parameters!$J$16,G284<Onglet_mapping_parameters!$J$16),Onglet_mapping_parameters!$J$18,AND(F284<Onglet_mapping_parameters!$J$16,G284>=Onglet_mapping_parameters!$J$16),Onglet_mapping_parameters!$J$20,AND(F284>=Onglet_mapping_parameters!$J$16,G284<Onglet_mapping_parameters!$J$16),Onglet_mapping_parameters!$J$21,AND(F284>=Onglet_mapping_parameters!$J$16,G284>=Onglet_mapping_parameters!$J$16),Onglet_mapping_parameters!$J$22),\"\")","v":""},null,{"$f":"IFERROR(_xlfn.IFS(Tableau1[[#This Row],[Category]]=Onglet_mapping_parameters!$C$27,Onglet_mapping_parameters!$B$27,Tableau1[[#This Row],[Category]]=Onglet_mapping_parameters!$C$28,Onglet_mapping_parameters!$B$28,Tableau1[[#This Row],[Category]]=Onglet_mapping_parameters!$C$29,Onglet_mapping_parameters!$B$29,Tableau1[[#This Row],[Category]]=Onglet_mapping_parameters!$C$30,Onglet_mapping_parameters!$B$30),\"\")","v":""},null,null,"Delete"]
[null,null,null,null,null,null,null,null,null,{"$f":"IFERROR(_xlfn.IFS(OR(F285=\"\",G285=\"\"),\"\",AND(F285<Onglet_mapping_parameters!$J$16,G285<Onglet_mapping_parameters!$J$16),Onglet_mapping_parameters!$J$18,AND(F285<Onglet_mapping_parameters!$J$16,G285>=Onglet_mapping_parameters!$J$16),Onglet_mapping_parameters!$J$20,AND(F285>=Onglet_mapping_parameters!$J$16,G285<Onglet_mapping_parameters!$J$16),Onglet_mapping_parameters!$J$21,AND(F285>=Onglet_mapping_parameters!$J$16,G285>=Onglet_mapping_parameters!$J$16),Onglet_mapping_parameters!$J$22),\"\")","v":""},null,{"$f":"IFERROR(_xlfn.IFS(Tableau1[[#This Row],[Category]]=Onglet_mapping_parameters!$C$27,Onglet_mapping_parameters!$B$27,Tableau1[[#This Row],[Category]]=Onglet_mapping_parameters!$C$28,Onglet_mapping_parameters!$B$28,Tableau1[[#This Row],[Category]]=Onglet_mapping_parameters!$C$29,Onglet_mapping_parameters!$B$29,Tableau1[[#This Row],[Category]]=Onglet_mapping_parameters!$C$30,Onglet_mapping_parameters!$B$30),\"\")","v":""},null,null,"Delete"]
[null,null,null,null,null,null,null,null,null,{"$f":"IFERROR(_xlfn.IFS(OR(F286=\"\",G286=\"\"),\"\",AND(F286<Onglet_mapping_parameters!$J$16,G286<Onglet_mapping_parameters!$J$16),Onglet_mapping_parameters!$J$18,AND(F286<Onglet_mapping_parameters!$J$16,G286>=Onglet_mapping_parameters!$J$16),Onglet_mapping_parameters!$J$20,AND(F286>=Onglet_mapping_parameters!$J$16,G286<Onglet_mapping_parameters!$J$16),Onglet_mapping_parameters!$J$21,AND(F286>=Onglet_mapping_parameters!$J$16,G286>=Onglet_mapping_parameters!$J$16),Onglet_mapping_parameters!$J$22),\"\")","v":""},null,{"$f":"IFERROR(_xlfn.IFS(Tableau1[[#This Row],[Category]]=Onglet_mapping_parameters!$C$27,Onglet_mapping_parameters!$B$27,Tableau1[[#This Row],[Category]]=Onglet_mapping_parameters!$C$28,Onglet_mapping_parameters!$B$28,Tableau1[[#This Row],[Category]]=Onglet_mapping_parameters!$C$29,Onglet_mapping_parameters!$B$29,Tableau1[[#This Row],[Category]]=Onglet_mapping_parameters!$C$30,Onglet_mapping_parameters!$B$30),\"\")","v":""},null,null,"Delete"]
[null,null,null,null,null,null,null,null,null,{"$f":"IFERROR(_xlfn.IFS(OR(F287=\"\",G287=\"\"),\"\",AND(F287<Onglet_mapping_parameters!$J$16,G287<Onglet_mapping_parameters!$J$16),Onglet_mapping_parameters!$J$18,AND(F287<Onglet_mapping_parameters!$J$16,G287>=Onglet_mapping_parameters!$J$16),Onglet_mapping_parameters!$J$20,AND(F287>=Onglet_mapping_parameters!$J$16,G287<Onglet_mapping_parameters!$J$16),Onglet_mapping_parameters!$J$21,AND(F287>=Onglet_mapping_parameters!$J$16,G287>=Onglet_mapping_parameters!$J$16),Onglet_mapping_parameters!$J$22),\"\")","v":""},null,{"$f":"IFERROR(_xlfn.IFS(Tableau1[[#This Row],[Category]]=Onglet_mapping_parameters!$C$27,Onglet_mapping_parameters!$B$27,Tableau1[[#This Row],[Category]]=Onglet_mapping_parameters!$C$28,Onglet_mapping_parameters!$B$28,Tableau1[[#This Row],[Category]]=Onglet_mapping_parameters!$C$29,Onglet_mapping_parameters!$B$29,Tableau1[[#This Row],[Category]]=Onglet_mapping_parameters!$C$30,Onglet_mapping_parameters!$B$30),\"\")","v":""},null,null,"Delete"]
[null,null,null,null,null,null,null,null,null,{"$f":"IFERROR(_xlfn.IFS(OR(F288=\"\",G288=\"\"),\"\",AND(F288<Onglet_mapping_parameters!$J$16,G288<Onglet_mapping_parameters!$J$16),Onglet_mapping_parameters!$J$18,AND(F288<Onglet_mapping_parameters!$J$16,G288>=Onglet_mapping_parameters!$J$16),Onglet_mapping_parameters!$J$20,AND(F288>=Onglet_mapping_parameters!$J$16,G288<Onglet_mapping_parameters!$J$16),Onglet_mapping_parameters!$J$21,AND(F288>=Onglet_mapping_parameters!$J$16,G288>=Onglet_mapping_parameters!$J$16),Onglet_mapping_parameters!$J$22),\"\")","v":""},null,{"$f":"IFERROR(_xlfn.IFS(Tableau1[[#This Row],[Category]]=Onglet_mapping_parameters!$C$27,Onglet_mapping_parameters!$B$27,Tableau1[[#This Row],[Category]]=Onglet_mapping_parameters!$C$28,Onglet_mapping_parameters!$B$28,Tableau1[[#This Row],[Category]]=Onglet_mapping_parameters!$C$29,Onglet_mapping_parameters!$B$29,Tableau1[[#This Row],[Category]]=Onglet_mapping_parameters!$C$30,Onglet_mapping_parameters!$B$30),\"\")","v":""},null,null,"Delete"]
[null,null,null,null,null,null,null,null,null,{"$f":"IFERROR(_xlfn.IFS(OR(F289=\"\",G289=\"\"),\"\",AND(F289<Onglet_mapping_parameters!$J$16,G289<Onglet_mapping_parameters!$J$16),Onglet_mapping_parameters!$J$18,AND(F289<Onglet_mapping_parameters!$J$16,G289>=Onglet_mapping_parameters!$J$16),Onglet_mapping_parameters!$J$20,AND(F289>=Onglet_mapping_parameters!$J$16,G289<Onglet_mapping_parameters!$J$16),Onglet_mapping_parameters!$J$21,AND(F289>=Onglet_mapping_parameters!$J$16,G289>=Onglet_mapping_parameters!$J$16),Onglet_mapping_parameters!$J$22),\"\")","v":""},null,{"$f":"IFERROR(_xlfn.IFS(Tableau1[[#This Row],[Category]]=Onglet_mapping_parameters!$C$27,Onglet_mapping_parameters!$B$27,Tableau1[[#This Row],[Category]]=Onglet_mapping_parameters!$C$28,Onglet_mapping_parameters!$B$28,Tableau1[[#This Row],[Category]]=Onglet_mapping_parameters!$C$29,Onglet_mapping_parameters!$B$29,Tableau1[[#This Row],[Category]]=Onglet_mapping_parameters!$C$30,Onglet_mapping_parameters!$B$30),\"\")","v":""},null,null,"Delete"]
[null,null,null,null,null,null,null,null,null,{"$f":"IFERROR(_xlfn.IFS(OR(F290=\"\",G290=\"\"),\"\",AND(F290<Onglet_mapping_parameters!$J$16,G290<Onglet_mapping_parameters!$J$16),Onglet_mapping_parameters!$J$18,AND(F290<Onglet_mapping_parameters!$J$16,G290>=Onglet_mapping_parameters!$J$16),Onglet_mapping_parameters!$J$20,AND(F290>=Onglet_mapping_parameters!$J$16,G290<Onglet_mapping_parameters!$J$16),Onglet_mapping_parameters!$J$21,AND(F290>=Onglet_mapping_parameters!$J$16,G290>=Onglet_mapping_parameters!$J$16),Onglet_mapping_parameters!$J$22),\"\")","v":""},null,{"$f":"IFERROR(_xlfn.IFS(Tableau1[[#This Row],[Category]]=Onglet_mapping_parameters!$C$27,Onglet_mapping_parameters!$B$27,Tableau1[[#This Row],[Category]]=Onglet_mapping_parameters!$C$28,Onglet_mapping_parameters!$B$28,Tableau1[[#This Row],[Category]]=Onglet_mapping_parameters!$C$29,Onglet_mapping_parameters!$B$29,Tableau1[[#This Row],[Category]]=Onglet_mapping_parameters!$C$30,Onglet_mapping_parameters!$B$30),\"\")","v":""},null,null,"Delete"]
[null,null,null,null,null,null,null,null,null,{"$f":"IFERROR(_xlfn.IFS(OR(F291=\"\",G291=\"\"),\"\",AND(F291<Onglet_mapping_parameters!$J$16,G291<Onglet_mapping_parameters!$J$16),Onglet_mapping_parameters!$J$18,AND(F291<Onglet_mapping_parameters!$J$16,G291>=Onglet_mapping_parameters!$J$16),Onglet_mapping_parameters!$J$20,AND(F291>=Onglet_mapping_parameters!$J$16,G291<Onglet_mapping_parameters!$J$16),Onglet_mapping_parameters!$J$21,AND(F291>=Onglet_mapping_parameters!$J$16,G291>=Onglet_mapping_parameters!$J$16),Onglet_mapping_parameters!$J$22),\"\")","v":""},null,{"$f":"IFERROR(_xlfn.IFS(Tableau1[[#This Row],[Category]]=Onglet_mapping_parameters!$C$27,Onglet_mapping_parameters!$B$27,Tableau1[[#This Row],[Category]]=Onglet_mapping_parameters!$C$28,Onglet_mapping_parameters!$B$28,Tableau1[[#This Row],[Category]]=Onglet_mapping_parameters!$C$29,Onglet_mapping_parameters!$B$29,Tableau1[[#This Row],[Category]]=Onglet_mapping_parameters!$C$30,Onglet_mapping_parameters!$B$30),\"\")","v":""},null,null,"Delete"]
[null,null,null,null,null,null,null,null,null,{"$f":"IFERROR(_xlfn.IFS(OR(F292=\"\",G292=\"\"),\"\",AND(F292<Onglet_mapping_parameters!$J$16,G292<Onglet_mapping_parameters!$J$16),Onglet_mapping_parameters!$J$18,AND(F292<Onglet_mapping_parameters!$J$16,G292>=Onglet_mapping_parameters!$J$16),Onglet_mapping_parameters!$J$20,AND(F292>=Onglet_mapping_parameters!$J$16,G292<Onglet_mapping_parameters!$J$16),Onglet_mapping_parameters!$J$21,AND(F292>=Onglet_mapping_parameters!$J$16,G292>=Onglet_mapping_parameters!$J$16),Onglet_mapping_parameters!$J$22),\"\")","v":""},null,{"$f":"IFERROR(_xlfn.IFS(Tableau1[[#This Row],[Category]]=Onglet_mapping_parameters!$C$27,Onglet_mapping_parameters!$B$27,Tableau1[[#This Row],[Category]]=Onglet_mapping_parameters!$C$28,Onglet_mapping_parameters!$B$28,Tableau1[[#This Row],[Category]]=Onglet_mapping_parameters!$C$29,Onglet_mapping_parameters!$B$29,Tableau1[[#This Row],[Category]]=Onglet_mapping_parameters!$C$30,Onglet_mapping_parameters!$B$30),\"\")","v":""},null,null,"Delete"]
[null,null,null,null,null,null,null,null,null,{"$f":"IFERROR(_xlfn.IFS(OR(F293=\"\",G293=\"\"),\"\",AND(F293<Onglet_mapping_parameters!$J$16,G293<Onglet_mapping_parameters!$J$16),Onglet_mapping_parameters!$J$18,AND(F293<Onglet_mapping_parameters!$J$16,G293>=Onglet_mapping_parameters!$J$16),Onglet_mapping_parameters!$J$20,AND(F293>=Onglet_mapping_parameters!$J$16,G293<Onglet_mapping_parameters!$J$16),Onglet_mapping_parameters!$J$21,AND(F293>=Onglet_mapping_parameters!$J$16,G293>=Onglet_mapping_parameters!$J$16),Onglet_mapping_parameters!$J$22),\"\")","v":""},null,{"$f":"IFERROR(_xlfn.IFS(Tableau1[[#This Row],[Category]]=Onglet_mapping_parameters!$C$27,Onglet_mapping_parameters!$B$27,Tableau1[[#This Row],[Category]]=Onglet_mapping_parameters!$C$28,Onglet_mapping_parameters!$B$28,Tableau1[[#This Row],[Category]]=Onglet_mapping_parameters!$C$29,Onglet_mapping_parameters!$B$29,Tableau1[[#This Row],[Category]]=Onglet_mapping_parameters!$C$30,Onglet_mapping_parameters!$B$30),\"\")","v":""},null,null,"Delete"]
[null,null,null,null,null,null,null,null,null,{"$f":"IFERROR(_xlfn.IFS(OR(F294=\"\",G294=\"\"),\"\",AND(F294<Onglet_mapping_parameters!$J$16,G294<Onglet_mapping_parameters!$J$16),Onglet_mapping_parameters!$J$18,AND(F294<Onglet_mapping_parameters!$J$16,G294>=Onglet_mapping_parameters!$J$16),Onglet_mapping_parameters!$J$20,AND(F294>=Onglet_mapping_parameters!$J$16,G294<Onglet_mapping_parameters!$J$16),Onglet_mapping_parameters!$J$21,AND(F294>=Onglet_mapping_parameters!$J$16,G294>=Onglet_mapping_parameters!$J$16),Onglet_mapping_parameters!$J$22),\"\")","v":""},null,{"$f":"IFERROR(_xlfn.IFS(Tableau1[[#This Row],[Category]]=Onglet_mapping_parameters!$C$27,Onglet_mapping_parameters!$B$27,Tableau1[[#This Row],[Category]]=Onglet_mapping_parameters!$C$28,Onglet_mapping_parameters!$B$28,Tableau1[[#This Row],[Category]]=Onglet_mapping_parameters!$C$29,Onglet_mapping_parameters!$B$29,Tableau1[[#This Row],[Category]]=Onglet_mapping_parameters!$C$30,Onglet_mapping_parameters!$B$30),\"\")","v":""},null,null,"Delete"]
[null,null,null,null,null,null,null,null,null,{"$f":"IFERROR(_xlfn.IFS(OR(F295=\"\",G295=\"\"),\"\",AND(F295<Onglet_mapping_parameters!$J$16,G295<Onglet_mapping_parameters!$J$16),Onglet_mapping_parameters!$J$18,AND(F295<Onglet_mapping_parameters!$J$16,G295>=Onglet_mapping_parameters!$J$16),Onglet_mapping_parameters!$J$20,AND(F295>=Onglet_mapping_parameters!$J$16,G295<Onglet_mapping_parameters!$J$16),Onglet_mapping_parameters!$J$21,AND(F295>=Onglet_mapping_parameters!$J$16,G295>=Onglet_mapping_parameters!$J$16),Onglet_mapping_parameters!$J$22),\"\")","v":""},null,{"$f":"IFERROR(_xlfn.IFS(Tableau1[[#This Row],[Category]]=Onglet_mapping_parameters!$C$27,Onglet_mapping_parameters!$B$27,Tableau1[[#This Row],[Category]]=Onglet_mapping_parameters!$C$28,Onglet_mapping_parameters!$B$28,Tableau1[[#This Row],[Category]]=Onglet_mapping_parameters!$C$29,Onglet_mapping_parameters!$B$29,Tableau1[[#This Row],[Category]]=Onglet_mapping_parameters!$C$30,Onglet_mapping_parameters!$B$30),\"\")","v":""},null,null,"Delete"]
[null,null,null,null,null,null,null,null,null,{"$f":"IFERROR(_xlfn.IFS(OR(F296=\"\",G296=\"\"),\"\",AND(F296<Onglet_mapping_parameters!$J$16,G296<Onglet_mapping_parameters!$J$16),Onglet_mapping_parameters!$J$18,AND(F296<Onglet_mapping_parameters!$J$16,G296>=Onglet_mapping_parameters!$J$16),Onglet_mapping_parameters!$J$20,AND(F296>=Onglet_mapping_parameters!$J$16,G296<Onglet_mapping_parameters!$J$16),Onglet_mapping_parameters!$J$21,AND(F296>=Onglet_mapping_parameters!$J$16,G296>=Onglet_mapping_parameters!$J$16),Onglet_mapping_parameters!$J$22),\"\")","v":""},null,{"$f":"IFERROR(_xlfn.IFS(Tableau1[[#This Row],[Category]]=Onglet_mapping_parameters!$C$27,Onglet_mapping_parameters!$B$27,Tableau1[[#This Row],[Category]]=Onglet_mapping_parameters!$C$28,Onglet_mapping_parameters!$B$28,Tableau1[[#This Row],[Category]]=Onglet_mapping_parameters!$C$29,Onglet_mapping_parameters!$B$29,Tableau1[[#This Row],[Category]]=Onglet_mapping_parameters!$C$30,Onglet_mapping_parameters!$B$30),\"\")","v":""},null,null,"Delete"]
[null,null,null,null,null,null,null,null,null,{"$f":"IFERROR(_xlfn.IFS(OR(F297=\"\",G297=\"\"),\"\",AND(F297<Onglet_mapping_parameters!$J$16,G297<Onglet_mapping_parameters!$J$16),Onglet_mapping_parameters!$J$18,AND(F297<Onglet_mapping_parameters!$J$16,G297>=Onglet_mapping_parameters!$J$16),Onglet_mapping_parameters!$J$20,AND(F297>=Onglet_mapping_parameters!$J$16,G297<Onglet_mapping_parameters!$J$16),Onglet_mapping_parameters!$J$21,AND(F297>=Onglet_mapping_parameters!$J$16,G297>=Onglet_mapping_parameters!$J$16),Onglet_mapping_parameters!$J$22),\"\")","v":""},null,{"$f":"IFERROR(_xlfn.IFS(Tableau1[[#This Row],[Category]]=Onglet_mapping_parameters!$C$27,Onglet_mapping_parameters!$B$27,Tableau1[[#This Row],[Category]]=Onglet_mapping_parameters!$C$28,Onglet_mapping_parameters!$B$28,Tableau1[[#This Row],[Category]]=Onglet_mapping_parameters!$C$29,Onglet_mapping_parameters!$B$29,Tableau1[[#This Row],[Category]]=Onglet_mapping_parameters!$C$30,Onglet_mapping_parameters!$B$30),\"\")","v":""},null,null,"Delete"]
[null,null,null,null,null,null,null,null,null,{"$f":"IFERROR(_xlfn.IFS(OR(F298=\"\",G298=\"\"),\"\",AND(F298<Onglet_mapping_parameters!$J$16,G298<Onglet_mapping_parameters!$J$16),Onglet_mapping_parameters!$J$18,AND(F298<Onglet_mapping_parameters!$J$16,G298>=Onglet_mapping_parameters!$J$16),Onglet_mapping_parameters!$J$20,AND(F298>=Onglet_mapping_parameters!$J$16,G298<Onglet_mapping_parameters!$J$16),Onglet_mapping_parameters!$J$21,AND(F298>=Onglet_mapping_parameters!$J$16,G298>=Onglet_mapping_parameters!$J$16),Onglet_mapping_parameters!$J$22),\"\")","v":""},null,{"$f":"IFERROR(_xlfn.IFS(Tableau1[[#This Row],[Category]]=Onglet_mapping_parameters!$C$27,Onglet_mapping_parameters!$B$27,Tableau1[[#This Row],[Category]]=Onglet_mapping_parameters!$C$28,Onglet_mapping_parameters!$B$28,Tableau1[[#This Row],[Category]]=Onglet_mapping_parameters!$C$29,Onglet_mapping_parameters!$B$29,Tableau1[[#This Row],[Category]]=Onglet_mapping_parameters!$C$30,Onglet_mapping_parameters!$B$30),\"\")","v":""},null,null,"Delete"]
[null,null,null,null,null,null,null,null,null,{"$f":"IFERROR(_xlfn.IFS(OR(F299=\"\",G299=\"\"),\"\",AND(F299<Onglet_mapping_parameters!$J$16,G299<Onglet_mapping_parameters!$J$16),Onglet_mapping_parameters!$J$18,AND(F299<Onglet_mapping_parameters!$J$16,G299>=Onglet_mapping_parameters!$J$16),Onglet_mapping_parameters!$J$20,AND(F299>=Onglet_mapping_parameters!$J$16,G299<Onglet_mapping_parameters!$J$16),Onglet_mapping_parameters!$J$21,AND(F299>=Onglet_mapping_parameters!$J$16,G299>=Onglet_mapping_parameters!$J$16),Onglet_mapping_parameters!$J$22),\"\")","v":""},null,{"$f":"IFERROR(_xlfn.IFS(Tableau1[[#This Row],[Category]]=Onglet_mapping_parameters!$C$27,Onglet_mapping_parameters!$B$27,Tableau1[[#This Row],[Category]]=Onglet_mapping_parameters!$C$28,Onglet_mapping_parameters!$B$28,Tableau1[[#This Row],[Category]]=Onglet_mapping_parameters!$C$29,Onglet_mapping_parameters!$B$29,Tableau1[[#This Row],[Category]]=Onglet_mapping_parameters!$C$30,Onglet_mapping_parameters!$B$30),\"\")","v":""},null,null,"Delete"]
[null,null,null,null,null,null,null,null,null,{"$f":"IFERROR(_xlfn.IFS(OR(F300=\"\",G300=\"\"),\"\",AND(F300<Onglet_mapping_parameters!$J$16,G300<Onglet_mapping_parameters!$J$16),Onglet_mapping_parameters!$J$18,AND(F300<Onglet_mapping_parameters!$J$16,G300>=Onglet_mapping_parameters!$J$16),Onglet_mapping_parameters!$J$20,AND(F300>=Onglet_mapping_parameters!$J$16,G300<Onglet_mapping_parameters!$J$16),Onglet_mapping_parameters!$J$21,AND(F300>=Onglet_mapping_parameters!$J$16,G300>=Onglet_mapping_parameters!$J$16),Onglet_mapping_parameters!$J$22),\"\")","v":""},null,{"$f":"IFERROR(_xlfn.IFS(Tableau1[[#This Row],[Category]]=Onglet_mapping_parameters!$C$27,Onglet_mapping_parameters!$B$27,Tableau1[[#This Row],[Category]]=Onglet_mapping_parameters!$C$28,Onglet_mapping_parameters!$B$28,Tableau1[[#This Row],[Category]]=Onglet_mapping_parameters!$C$29,Onglet_mapping_parameters!$B$29,Tableau1[[#This Row],[Category]]=Onglet_mapping_parameters!$C$30,Onglet_mapping_parameters!$B$30),\"\")","v":""},null,null,"Delete"]
[null,null,null,null,null,null,null,null,null,{"$f":"IFERROR(_xlfn.IFS(OR(F301=\"\",G301=\"\"),\"\",AND(F301<Onglet_mapping_parameters!$J$16,G301<Onglet_mapping_parameters!$J$16),Onglet_mapping_parameters!$J$18,AND(F301<Onglet_mapping_parameters!$J$16,G301>=Onglet_mapping_parameters!$J$16),Onglet_mapping_parameters!$J$20,AND(F301>=Onglet_mapping_parameters!$J$16,G301<Onglet_mapping_parameters!$J$16),Onglet_mapping_parameters!$J$21,AND(F301>=Onglet_mapping_parameters!$J$16,G301>=Onglet_mapping_parameters!$J$16),Onglet_mapping_parameters!$J$22),\"\")","v":""},null,{"$f":"IFERROR(_xlfn.IFS(Tableau1[[#This Row],[Category]]=Onglet_mapping_parameters!$C$27,Onglet_mapping_parameters!$B$27,Tableau1[[#This Row],[Category]]=Onglet_mapping_parameters!$C$28,Onglet_mapping_parameters!$B$28,Tableau1[[#This Row],[Category]]=Onglet_mapping_parameters!$C$29,Onglet_mapping_parameters!$B$29,Tableau1[[#This Row],[Category]]=Onglet_mapping_parameters!$C$30,Onglet_mapping_parameters!$B$30),\"\")","v":""},null,null,"Delete"]
[null,null,null,null,null,null,null,null,null,{"$f":"IFERROR(_xlfn.IFS(OR(F302=\"\",G302=\"\"),\"\",AND(F302<Onglet_mapping_parameters!$J$16,G302<Onglet_mapping_parameters!$J$16),Onglet_mapping_parameters!$J$18,AND(F302<Onglet_mapping_parameters!$J$16,G302>=Onglet_mapping_parameters!$J$16),Onglet_mapping_parameters!$J$20,AND(F302>=Onglet_mapping_parameters!$J$16,G302<Onglet_mapping_parameters!$J$16),Onglet_mapping_parameters!$J$21,AND(F302>=Onglet_mapping_parameters!$J$16,G302>=Onglet_mapping_parameters!$J$16),Onglet_mapping_parameters!$J$22),\"\")","v":""},null,{"$f":"IFERROR(_xlfn.IFS(Tableau1[[#This Row],[Category]]=Onglet_mapping_parameters!$C$27,Onglet_mapping_parameters!$B$27,Tableau1[[#This Row],[Category]]=Onglet_mapping_parameters!$C$28,Onglet_mapping_parameters!$B$28,Tableau1[[#This Row],[Category]]=Onglet_mapping_parameters!$C$29,Onglet_mapping_parameters!$B$29,Tableau1[[#This Row],[Category]]=Onglet_mapping_parameters!$C$30,Onglet_mapping_parameters!$B$30),\"\")","v":""},null,null,"Delete"]
[null,null,null,null,null,null,null,null,null,{"$f":"IFERROR(_xlfn.IFS(OR(F303=\"\",G303=\"\"),\"\",AND(F303<Onglet_mapping_parameters!$J$16,G303<Onglet_mapping_parameters!$J$16),Onglet_mapping_parameters!$J$18,AND(F303<Onglet_mapping_parameters!$J$16,G303>=Onglet_mapping_parameters!$J$16),Onglet_mapping_parameters!$J$20,AND(F303>=Onglet_mapping_parameters!$J$16,G303<Onglet_mapping_parameters!$J$16),Onglet_mapping_parameters!$J$21,AND(F303>=Onglet_mapping_parameters!$J$16,G303>=Onglet_mapping_parameters!$J$16),Onglet_mapping_parameters!$J$22),\"\")","v":""},null,{"$f":"IFERROR(_xlfn.IFS(Tableau1[[#This Row],[Category]]=Onglet_mapping_parameters!$C$27,Onglet_mapping_parameters!$B$27,Tableau1[[#This Row],[Category]]=Onglet_mapping_parameters!$C$28,Onglet_mapping_parameters!$B$28,Tableau1[[#This Row],[Category]]=Onglet_mapping_parameters!$C$29,Onglet_mapping_parameters!$B$29,Tableau1[[#This Row],[Category]]=Onglet_mapping_parameters!$C$30,Onglet_mapping_parameters!$B$30),\"\")","v":""},null,null,"Delete"]
[null,null,null,null,null,null,null,null,null,{"$f":"IFERROR(_xlfn.IFS(OR(F304=\"\",G304=\"\"),\"\",AND(F304<Onglet_mapping_parameters!$J$16,G304<Onglet_mapping_parameters!$J$16),Onglet_mapping_parameters!$J$18,AND(F304<Onglet_mapping_parameters!$J$16,G304>=Onglet_mapping_parameters!$J$16),Onglet_mapping_parameters!$J$20,AND(F304>=Onglet_mapping_parameters!$J$16,G304<Onglet_mapping_parameters!$J$16),Onglet_mapping_parameters!$J$21,AND(F304>=Onglet_mapping_parameters!$J$16,G304>=Onglet_mapping_parameters!$J$16),Onglet_mapping_parameters!$J$22),\"\")","v":""},null,{"$f":"IFERROR(_xlfn.IFS(Tableau1[[#This Row],[Category]]=Onglet_mapping_parameters!$C$27,Onglet_mapping_parameters!$B$27,Tableau1[[#This Row],[Category]]=Onglet_mapping_parameters!$C$28,Onglet_mapping_parameters!$B$28,Tableau1[[#This Row],[Category]]=Onglet_mapping_parameters!$C$29,Onglet_mapping_parameters!$B$29,Tableau1[[#This Row],[Category]]=Onglet_mapping_parameters!$C$30,Onglet_mapping_parameters!$B$30),\"\")","v":""},null,null,"Delete"]
[null,null,null,null,null,null,null,null,null,{"$f":"IFERROR(_xlfn.IFS(OR(F305=\"\",G305=\"\"),\"\",AND(F305<Onglet_mapping_parameters!$J$16,G305<Onglet_mapping_parameters!$J$16),Onglet_mapping_parameters!$J$18,AND(F305<Onglet_mapping_parameters!$J$16,G305>=Onglet_mapping_parameters!$J$16),Onglet_mapping_parameters!$J$20,AND(F305>=Onglet_mapping_parameters!$J$16,G305<Onglet_mapping_parameters!$J$16),Onglet_mapping_parameters!$J$21,AND(F305>=Onglet_mapping_parameters!$J$16,G305>=Onglet_mapping_parameters!$J$16),Onglet_mapping_parameters!$J$22),\"\")","v":""},null,{"$f":"IFERROR(_xlfn.IFS(Tableau1[[#This Row],[Category]]=Onglet_mapping_parameters!$C$27,Onglet_mapping_parameters!$B$27,Tableau1[[#This Row],[Category]]=Onglet_mapping_parameters!$C$28,Onglet_mapping_parameters!$B$28,Tableau1[[#This Row],[Category]]=Onglet_mapping_parameters!$C$29,Onglet_mapping_parameters!$B$29,Tableau1[[#This Row],[Category]]=Onglet_mapping_parameters!$C$30,Onglet_mapping_parameters!$B$30),\"\")","v":""},null,null,"Delete"]
[null,null,null,null,null,null,null,null,null,{"$f":"IFERROR(_xlfn.IFS(OR(F306=\"\",G306=\"\"),\"\",AND(F306<Onglet_mapping_parameters!$J$16,G306<Onglet_mapping_parameters!$J$16),Onglet_mapping_parameters!$J$18,AND(F306<Onglet_mapping_parameters!$J$16,G306>=Onglet_mapping_parameters!$J$16),Onglet_mapping_parameters!$J$20,AND(F306>=Onglet_mapping_parameters!$J$16,G306<Onglet_mapping_parameters!$J$16),Onglet_mapping_parameters!$J$21,AND(F306>=Onglet_mapping_parameters!$J$16,G306>=Onglet_mapping_parameters!$J$16),Onglet_mapping_parameters!$J$22),\"\")","v":""},null,{"$f":"IFERROR(_xlfn.IFS(Tableau1[[#This Row],[Category]]=Onglet_mapping_parameters!$C$27,Onglet_mapping_parameters!$B$27,Tableau1[[#This Row],[Category]]=Onglet_mapping_parameters!$C$28,Onglet_mapping_parameters!$B$28,Tableau1[[#This Row],[Category]]=Onglet_mapping_parameters!$C$29,Onglet_mapping_parameters!$B$29,Tableau1[[#This Row],[Category]]=Onglet_mapping_parameters!$C$30,Onglet_mapping_parameters!$B$30),\"\")","v":""},null,null,"Delete"]
[null,null,null,null,null,null,null,null,null,{"$f":"IFERROR(_xlfn.IFS(OR(F307=\"\",G307=\"\"),\"\",AND(F307<Onglet_mapping_parameters!$J$16,G307<Onglet_mapping_parameters!$J$16),Onglet_mapping_parameters!$J$18,AND(F307<Onglet_mapping_parameters!$J$16,G307>=Onglet_mapping_parameters!$J$16),Onglet_mapping_parameters!$J$20,AND(F307>=Onglet_mapping_parameters!$J$16,G307<Onglet_mapping_parameters!$J$16),Onglet_mapping_parameters!$J$21,AND(F307>=Onglet_mapping_parameters!$J$16,G307>=Onglet_mapping_parameters!$J$16),Onglet_mapping_parameters!$J$22),\"\")","v":""},null,{"$f":"IFERROR(_xlfn.IFS(Tableau1[[#This Row],[Category]]=Onglet_mapping_parameters!$C$27,Onglet_mapping_parameters!$B$27,Tableau1[[#This Row],[Category]]=Onglet_mapping_parameters!$C$28,Onglet_mapping_parameters!$B$28,Tableau1[[#This Row],[Category]]=Onglet_mapping_parameters!$C$29,Onglet_mapping_parameters!$B$29,Tableau1[[#This Row],[Category]]=Onglet_mapping_parameters!$C$30,Onglet_mapping_parameters!$B$30),\"\")","v":""},null,null,"Delete"]
[null,null,null,null,null,null,null,null,null,{"$f":"IFERROR(_xlfn.IFS(OR(F308=\"\",G308=\"\"),\"\",AND(F308<Onglet_mapping_parameters!$J$16,G308<Onglet_mapping_parameters!$J$16),Onglet_mapping_parameters!$J$18,AND(F308<Onglet_mapping_parameters!$J$16,G308>=Onglet_mapping_parameters!$J$16),Onglet_mapping_parameters!$J$20,AND(F308>=Onglet_mapping_parameters!$J$16,G308<Onglet_mapping_parameters!$J$16),Onglet_mapping_parameters!$J$21,AND(F308>=Onglet_mapping_parameters!$J$16,G308>=Onglet_mapping_parameters!$J$16),Onglet_mapping_parameters!$J$22),\"\")","v":""},null,{"$f":"IFERROR(_xlfn.IFS(Tableau1[[#This Row],[Category]]=Onglet_mapping_parameters!$C$27,Onglet_mapping_parameters!$B$27,Tableau1[[#This Row],[Category]]=Onglet_mapping_parameters!$C$28,Onglet_mapping_parameters!$B$28,Tableau1[[#This Row],[Category]]=Onglet_mapping_parameters!$C$29,Onglet_mapping_parameters!$B$29,Tableau1[[#This Row],[Category]]=Onglet_mapping_parameters!$C$30,Onglet_mapping_parameters!$B$30),\"\")","v":""},null,null,"Delete"]
[null,null,null,null,null,null,null,null,null,{"$f":"IFERROR(_xlfn.IFS(OR(F309=\"\",G309=\"\"),\"\",AND(F309<Onglet_mapping_parameters!$J$16,G309<Onglet_mapping_parameters!$J$16),Onglet_mapping_parameters!$J$18,AND(F309<Onglet_mapping_parameters!$J$16,G309>=Onglet_mapping_parameters!$J$16),Onglet_mapping_parameters!$J$20,AND(F309>=Onglet_mapping_parameters!$J$16,G309<Onglet_mapping_parameters!$J$16),Onglet_mapping_parameters!$J$21,AND(F309>=Onglet_mapping_parameters!$J$16,G309>=Onglet_mapping_parameters!$J$16),Onglet_mapping_parameters!$J$22),\"\")","v":""},null,{"$f":"IFERROR(_xlfn.IFS(Tableau1[[#This Row],[Category]]=Onglet_mapping_parameters!$C$27,Onglet_mapping_parameters!$B$27,Tableau1[[#This Row],[Category]]=Onglet_mapping_parameters!$C$28,Onglet_mapping_parameters!$B$28,Tableau1[[#This Row],[Category]]=Onglet_mapping_parameters!$C$29,Onglet_mapping_parameters!$B$29,Tableau1[[#This Row],[Category]]=Onglet_mapping_parameters!$C$30,Onglet_mapping_parameters!$B$30),\"\")","v":""},null,null,"Delete"]
[null,null,null,null,null,null,null,null,null,{"$f":"IFERROR(_xlfn.IFS(OR(F310=\"\",G310=\"\"),\"\",AND(F310<Onglet_mapping_parameters!$J$16,G310<Onglet_mapping_parameters!$J$16),Onglet_mapping_parameters!$J$18,AND(F310<Onglet_mapping_parameters!$J$16,G310>=Onglet_mapping_parameters!$J$16),Onglet_mapping_parameters!$J$20,AND(F310>=Onglet_mapping_parameters!$J$16,G310<Onglet_mapping_parameters!$J$16),Onglet_mapping_parameters!$J$21,AND(F310>=Onglet_mapping_parameters!$J$16,G310>=Onglet_mapping_parameters!$J$16),Onglet_mapping_parameters!$J$22),\"\")","v":""},null,{"$f":"IFERROR(_xlfn.IFS(Tableau1[[#This Row],[Category]]=Onglet_mapping_parameters!$C$27,Onglet_mapping_parameters!$B$27,Tableau1[[#This Row],[Category]]=Onglet_mapping_parameters!$C$28,Onglet_mapping_parameters!$B$28,Tableau1[[#This Row],[Category]]=Onglet_mapping_parameters!$C$29,Onglet_mapping_parameters!$B$29,Tableau1[[#This Row],[Category]]=Onglet_mapping_parameters!$C$30,Onglet_mapping_parameters!$B$30),\"\")","v":""},null,null,"Delete"]
[null,null,null,null,null,null,null,null,null,{"$f":"IFERROR(_xlfn.IFS(OR(F311=\"\",G311=\"\"),\"\",AND(F311<Onglet_mapping_parameters!$J$16,G311<Onglet_mapping_parameters!$J$16),Onglet_mapping_parameters!$J$18,AND(F311<Onglet_mapping_parameters!$J$16,G311>=Onglet_mapping_parameters!$J$16),Onglet_mapping_parameters!$J$20,AND(F311>=Onglet_mapping_parameters!$J$16,G311<Onglet_mapping_parameters!$J$16),Onglet_mapping_parameters!$J$21,AND(F311>=Onglet_mapping_parameters!$J$16,G311>=Onglet_mapping_parameters!$J$16),Onglet_mapping_parameters!$J$22),\"\")","v":""},null,{"$f":"IFERROR(_xlfn.IFS(Tableau1[[#This Row],[Category]]=Onglet_mapping_parameters!$C$27,Onglet_mapping_parameters!$B$27,Tableau1[[#This Row],[Category]]=Onglet_mapping_parameters!$C$28,Onglet_mapping_parameters!$B$28,Tableau1[[#This Row],[Category]]=Onglet_mapping_parameters!$C$29,Onglet_mapping_parameters!$B$29,Tableau1[[#This Row],[Category]]=Onglet_mapping_parameters!$C$30,Onglet_mapping_parameters!$B$30),\"\")","v":""},null,null,"Delete"]
[null,null,null,null,null,null,null,null,null,{"$f":"IFERROR(_xlfn.IFS(OR(F312=\"\",G312=\"\"),\"\",AND(F312<Onglet_mapping_parameters!$J$16,G312<Onglet_mapping_parameters!$J$16),Onglet_mapping_parameters!$J$18,AND(F312<Onglet_mapping_parameters!$J$16,G312>=Onglet_mapping_parameters!$J$16),Onglet_mapping_parameters!$J$20,AND(F312>=Onglet_mapping_parameters!$J$16,G312<Onglet_mapping_parameters!$J$16),Onglet_mapping_parameters!$J$21,AND(F312>=Onglet_mapping_parameters!$J$16,G312>=Onglet_mapping_parameters!$J$16),Onglet_mapping_parameters!$J$22),\"\")","v":""},null,{"$f":"IFERROR(_xlfn.IFS(Tableau1[[#This Row],[Category]]=Onglet_mapping_parameters!$C$27,Onglet_mapping_parameters!$B$27,Tableau1[[#This Row],[Category]]=Onglet_mapping_parameters!$C$28,Onglet_mapping_parameters!$B$28,Tableau1[[#This Row],[Category]]=Onglet_mapping_parameters!$C$29,Onglet_mapping_parameters!$B$29,Tableau1[[#This Row],[Category]]=Onglet_mapping_parameters!$C$30,Onglet_mapping_parameters!$B$30),\"\")","v":""},null,null,"Delete"]
[null,null,null,null,null,null,null,null,null,{"$f":"IFERROR(_xlfn.IFS(OR(F313=\"\",G313=\"\"),\"\",AND(F313<Onglet_mapping_parameters!$J$16,G313<Onglet_mapping_parameters!$J$16),Onglet_mapping_parameters!$J$18,AND(F313<Onglet_mapping_parameters!$J$16,G313>=Onglet_mapping_parameters!$J$16),Onglet_mapping_parameters!$J$20,AND(F313>=Onglet_mapping_parameters!$J$16,G313<Onglet_mapping_parameters!$J$16),Onglet_mapping_parameters!$J$21,AND(F313>=Onglet_mapping_parameters!$J$16,G313>=Onglet_mapping_parameters!$J$16),Onglet_mapping_parameters!$J$22),\"\")","v":""},null,{"$f":"IFERROR(_xlfn.IFS(Tableau1[[#This Row],[Category]]=Onglet_mapping_parameters!$C$27,Onglet_mapping_parameters!$B$27,Tableau1[[#This Row],[Category]]=Onglet_mapping_parameters!$C$28,Onglet_mapping_parameters!$B$28,Tableau1[[#This Row],[Category]]=Onglet_mapping_parameters!$C$29,Onglet_mapping_parameters!$B$29,Tableau1[[#This Row],[Category]]=Onglet_mapping_parameters!$C$30,Onglet_mapping_parameters!$B$30),\"\")","v":""},null,null,"Delete"]
[null,null,null,null,null,null,null,null,null,{"$f":"IFERROR(_xlfn.IFS(OR(F314=\"\",G314=\"\"),\"\",AND(F314<Onglet_mapping_parameters!$J$16,G314<Onglet_mapping_parameters!$J$16),Onglet_mapping_parameters!$J$18,AND(F314<Onglet_mapping_parameters!$J$16,G314>=Onglet_mapping_parameters!$J$16),Onglet_mapping_parameters!$J$20,AND(F314>=Onglet_mapping_parameters!$J$16,G314<Onglet_mapping_parameters!$J$16),Onglet_mapping_parameters!$J$21,AND(F314>=Onglet_mapping_parameters!$J$16,G314>=Onglet_mapping_parameters!$J$16),Onglet_mapping_parameters!$J$22),\"\")","v":""},null,{"$f":"IFERROR(_xlfn.IFS(Tableau1[[#This Row],[Category]]=Onglet_mapping_parameters!$C$27,Onglet_mapping_parameters!$B$27,Tableau1[[#This Row],[Category]]=Onglet_mapping_parameters!$C$28,Onglet_mapping_parameters!$B$28,Tableau1[[#This Row],[Category]]=Onglet_mapping_parameters!$C$29,Onglet_mapping_parameters!$B$29,Tableau1[[#This Row],[Category]]=Onglet_mapping_parameters!$C$30,Onglet_mapping_parameters!$B$30),\"\")","v":""},null,null,"Delete"]
[null,null,null,null,null,null,null,null,null,{"$f":"IFERROR(_xlfn.IFS(OR(F315=\"\",G315=\"\"),\"\",AND(F315<Onglet_mapping_parameters!$J$16,G315<Onglet_mapping_parameters!$J$16),Onglet_mapping_parameters!$J$18,AND(F315<Onglet_mapping_parameters!$J$16,G315>=Onglet_mapping_parameters!$J$16),Onglet_mapping_parameters!$J$20,AND(F315>=Onglet_mapping_parameters!$J$16,G315<Onglet_mapping_parameters!$J$16),Onglet_mapping_parameters!$J$21,AND(F315>=Onglet_mapping_parameters!$J$16,G315>=Onglet_mapping_parameters!$J$16),Onglet_mapping_parameters!$J$22),\"\")","v":""},null,{"$f":"IFERROR(_xlfn.IFS(Tableau1[[#This Row],[Category]]=Onglet_mapping_parameters!$C$27,Onglet_mapping_parameters!$B$27,Tableau1[[#This Row],[Category]]=Onglet_mapping_parameters!$C$28,Onglet_mapping_parameters!$B$28,Tableau1[[#This Row],[Category]]=Onglet_mapping_parameters!$C$29,Onglet_mapping_parameters!$B$29,Tableau1[[#This Row],[Category]]=Onglet_mapping_parameters!$C$30,Onglet_mapping_parameters!$B$30),\"\")","v":""},null,null,"Delete"]
[null,null,null,null,null,null,null,null,null,{"$f":"IFERROR(_xlfn.IFS(OR(F316=\"\",G316=\"\"),\"\",AND(F316<Onglet_mapping_parameters!$J$16,G316<Onglet_mapping_parameters!$J$16),Onglet_mapping_parameters!$J$18,AND(F316<Onglet_mapping_parameters!$J$16,G316>=Onglet_mapping_parameters!$J$16),Onglet_mapping_parameters!$J$20,AND(F316>=Onglet_mapping_parameters!$J$16,G316<Onglet_mapping_parameters!$J$16),Onglet_mapping_parameters!$J$21,AND(F316>=Onglet_mapping_parameters!$J$16,G316>=Onglet_mapping_parameters!$J$16),Onglet_mapping_parameters!$J$22),\"\")","v":""},null,{"$f":"IFERROR(_xlfn.IFS(Tableau1[[#This Row],[Category]]=Onglet_mapping_parameters!$C$27,Onglet_mapping_parameters!$B$27,Tableau1[[#This Row],[Category]]=Onglet_mapping_parameters!$C$28,Onglet_mapping_parameters!$B$28,Tableau1[[#This Row],[Category]]=Onglet_mapping_parameters!$C$29,Onglet_mapping_parameters!$B$29,Tableau1[[#This Row],[Category]]=Onglet_mapping_parameters!$C$30,Onglet_mapping_parameters!$B$30),\"\")","v":""},null,null,"Delete"]
[null,null,null,null,null,null,null,null,null,{"$f":"IFERROR(_xlfn.IFS(OR(F317=\"\",G317=\"\"),\"\",AND(F317<Onglet_mapping_parameters!$J$16,G317<Onglet_mapping_parameters!$J$16),Onglet_mapping_parameters!$J$18,AND(F317<Onglet_mapping_parameters!$J$16,G317>=Onglet_mapping_parameters!$J$16),Onglet_mapping_parameters!$J$20,AND(F317>=Onglet_mapping_parameters!$J$16,G317<Onglet_mapping_parameters!$J$16),Onglet_mapping_parameters!$J$21,AND(F317>=Onglet_mapping_parameters!$J$16,G317>=Onglet_mapping_parameters!$J$16),Onglet_mapping_parameters!$J$22),\"\")","v":""},null,{"$f":"IFERROR(_xlfn.IFS(Tableau1[[#This Row],[Category]]=Onglet_mapping_parameters!$C$27,Onglet_mapping_parameters!$B$27,Tableau1[[#This Row],[Category]]=Onglet_mapping_parameters!$C$28,Onglet_mapping_parameters!$B$28,Tableau1[[#This Row],[Category]]=Onglet_mapping_parameters!$C$29,Onglet_mapping_parameters!$B$29,Tableau1[[#This Row],[Category]]=Onglet_mapping_parameters!$C$30,Onglet_mapping_parameters!$B$30),\"\")","v":""},null,null,"Delete"]
[null,null,null,null,null,null,null,null,null,{"$f":"IFERROR(_xlfn.IFS(OR(F318=\"\",G318=\"\"),\"\",AND(F318<Onglet_mapping_parameters!$J$16,G318<Onglet_mapping_parameters!$J$16),Onglet_mapping_parameters!$J$18,AND(F318<Onglet_mapping_parameters!$J$16,G318>=Onglet_mapping_parameters!$J$16),Onglet_mapping_parameters!$J$20,AND(F318>=Onglet_mapping_parameters!$J$16,G318<Onglet_mapping_parameters!$J$16),Onglet_mapping_parameters!$J$21,AND(F318>=Onglet_mapping_parameters!$J$16,G318>=Onglet_mapping_parameters!$J$16),Onglet_mapping_parameters!$J$22),\"\")","v":""},null,{"$f":"IFERROR(_xlfn.IFS(Tableau1[[#This Row],[Category]]=Onglet_mapping_parameters!$C$27,Onglet_mapping_parameters!$B$27,Tableau1[[#This Row],[Category]]=Onglet_mapping_parameters!$C$28,Onglet_mapping_parameters!$B$28,Tableau1[[#This Row],[Category]]=Onglet_mapping_parameters!$C$29,Onglet_mapping_parameters!$B$29,Tableau1[[#This Row],[Category]]=Onglet_mapping_parameters!$C$30,Onglet_mapping_parameters!$B$30),\"\")","v":""},null,null,"Delete"]
[null,null,null,null,null,null,null,null,null,{"$f":"IFERROR(_xlfn.IFS(OR(F319=\"\",G319=\"\"),\"\",AND(F319<Onglet_mapping_parameters!$J$16,G319<Onglet_mapping_parameters!$J$16),Onglet_mapping_parameters!$J$18,AND(F319<Onglet_mapping_parameters!$J$16,G319>=Onglet_mapping_parameters!$J$16),Onglet_mapping_parameters!$J$20,AND(F319>=Onglet_mapping_parameters!$J$16,G319<Onglet_mapping_parameters!$J$16),Onglet_mapping_parameters!$J$21,AND(F319>=Onglet_mapping_parameters!$J$16,G319>=Onglet_mapping_parameters!$J$16),Onglet_mapping_parameters!$J$22),\"\")","v":""},null,{"$f":"IFERROR(_xlfn.IFS(Tableau1[[#This Row],[Category]]=Onglet_mapping_parameters!$C$27,Onglet_mapping_parameters!$B$27,Tableau1[[#This Row],[Category]]=Onglet_mapping_parameters!$C$28,Onglet_mapping_parameters!$B$28,Tableau1[[#This Row],[Category]]=Onglet_mapping_parameters!$C$29,Onglet_mapping_parameters!$B$29,Tableau1[[#This Row],[Category]]=Onglet_mapping_parameters!$C$30,Onglet_mapping_parameters!$B$30),\"\")","v":""},null,null,"Delete"]
[null,null,null,null,null,null,null,null,null,{"$f":"IFERROR(_xlfn.IFS(OR(F320=\"\",G320=\"\"),\"\",AND(F320<Onglet_mapping_parameters!$J$16,G320<Onglet_mapping_parameters!$J$16),Onglet_mapping_parameters!$J$18,AND(F320<Onglet_mapping_parameters!$J$16,G320>=Onglet_mapping_parameters!$J$16),Onglet_mapping_parameters!$J$20,AND(F320>=Onglet_mapping_parameters!$J$16,G320<Onglet_mapping_parameters!$J$16),Onglet_mapping_parameters!$J$21,AND(F320>=Onglet_mapping_parameters!$J$16,G320>=Onglet_mapping_parameters!$J$16),Onglet_mapping_parameters!$J$22),\"\")","v":""},null,{"$f":"IFERROR(_xlfn.IFS(Tableau1[[#This Row],[Category]]=Onglet_mapping_parameters!$C$27,Onglet_mapping_parameters!$B$27,Tableau1[[#This Row],[Category]]=Onglet_mapping_parameters!$C$28,Onglet_mapping_parameters!$B$28,Tableau1[[#This Row],[Category]]=Onglet_mapping_parameters!$C$29,Onglet_mapping_parameters!$B$29,Tableau1[[#This Row],[Category]]=Onglet_mapping_parameters!$C$30,Onglet_mapping_parameters!$B$30),\"\")","v":""},null,null,"Delete"]
[null,null,null,null,null,null,null,null,null,{"$f":"IFERROR(_xlfn.IFS(OR(F321=\"\",G321=\"\"),\"\",AND(F321<Onglet_mapping_parameters!$J$16,G321<Onglet_mapping_parameters!$J$16),Onglet_mapping_parameters!$J$18,AND(F321<Onglet_mapping_parameters!$J$16,G321>=Onglet_mapping_parameters!$J$16),Onglet_mapping_parameters!$J$20,AND(F321>=Onglet_mapping_parameters!$J$16,G321<Onglet_mapping_parameters!$J$16),Onglet_mapping_parameters!$J$21,AND(F321>=Onglet_mapping_parameters!$J$16,G321>=Onglet_mapping_parameters!$J$16),Onglet_mapping_parameters!$J$22),\"\")","v":""},null,{"$f":"IFERROR(_xlfn.IFS(Tableau1[[#This Row],[Category]]=Onglet_mapping_parameters!$C$27,Onglet_mapping_parameters!$B$27,Tableau1[[#This Row],[Category]]=Onglet_mapping_parameters!$C$28,Onglet_mapping_parameters!$B$28,Tableau1[[#This Row],[Category]]=Onglet_mapping_parameters!$C$29,Onglet_mapping_parameters!$B$29,Tableau1[[#This Row],[Category]]=Onglet_mapping_parameters!$C$30,Onglet_mapping_parameters!$B$30),\"\")","v":""},null,null,"Delete"]
[null,null,null,null,null,null,null,null,null,{"$f":"IFERROR(_xlfn.IFS(OR(F322=\"\",G322=\"\"),\"\",AND(F322<Onglet_mapping_parameters!$J$16,G322<Onglet_mapping_parameters!$J$16),Onglet_mapping_parameters!$J$18,AND(F322<Onglet_mapping_parameters!$J$16,G322>=Onglet_mapping_parameters!$J$16),Onglet_mapping_parameters!$J$20,AND(F322>=Onglet_mapping_parameters!$J$16,G322<Onglet_mapping_parameters!$J$16),Onglet_mapping_parameters!$J$21,AND(F322>=Onglet_mapping_parameters!$J$16,G322>=Onglet_mapping_parameters!$J$16),Onglet_mapping_parameters!$J$22),\"\")","v":""},null,{"$f":"IFERROR(_xlfn.IFS(Tableau1[[#This Row],[Category]]=Onglet_mapping_parameters!$C$27,Onglet_mapping_parameters!$B$27,Tableau1[[#This Row],[Category]]=Onglet_mapping_parameters!$C$28,Onglet_mapping_parameters!$B$28,Tableau1[[#This Row],[Category]]=Onglet_mapping_parameters!$C$29,Onglet_mapping_parameters!$B$29,Tableau1[[#This Row],[Category]]=Onglet_mapping_parameters!$C$30,Onglet_mapping_parameters!$B$30),\"\")","v":""},null,null,"Delete"]
[null,null,null,null,null,null,null,null,null,{"$f":"IFERROR(_xlfn.IFS(OR(F323=\"\",G323=\"\"),\"\",AND(F323<Onglet_mapping_parameters!$J$16,G323<Onglet_mapping_parameters!$J$16),Onglet_mapping_parameters!$J$18,AND(F323<Onglet_mapping_parameters!$J$16,G323>=Onglet_mapping_parameters!$J$16),Onglet_mapping_parameters!$J$20,AND(F323>=Onglet_mapping_parameters!$J$16,G323<Onglet_mapping_parameters!$J$16),Onglet_mapping_parameters!$J$21,AND(F323>=Onglet_mapping_parameters!$J$16,G323>=Onglet_mapping_parameters!$J$16),Onglet_mapping_parameters!$J$22),\"\")","v":""},null,{"$f":"IFERROR(_xlfn.IFS(Tableau1[[#This Row],[Category]]=Onglet_mapping_parameters!$C$27,Onglet_mapping_parameters!$B$27,Tableau1[[#This Row],[Category]]=Onglet_mapping_parameters!$C$28,Onglet_mapping_parameters!$B$28,Tableau1[[#This Row],[Category]]=Onglet_mapping_parameters!$C$29,Onglet_mapping_parameters!$B$29,Tableau1[[#This Row],[Category]]=Onglet_mapping_parameters!$C$30,Onglet_mapping_parameters!$B$30),\"\")","v":""},null,null,"Delete"]
[null,null,null,null,null,null,null,null,null,{"$f":"IFERROR(_xlfn.IFS(OR(F324=\"\",G324=\"\"),\"\",AND(F324<Onglet_mapping_parameters!$J$16,G324<Onglet_mapping_parameters!$J$16),Onglet_mapping_parameters!$J$18,AND(F324<Onglet_mapping_parameters!$J$16,G324>=Onglet_mapping_parameters!$J$16),Onglet_mapping_parameters!$J$20,AND(F324>=Onglet_mapping_parameters!$J$16,G324<Onglet_mapping_parameters!$J$16),Onglet_mapping_parameters!$J$21,AND(F324>=Onglet_mapping_parameters!$J$16,G324>=Onglet_mapping_parameters!$J$16),Onglet_mapping_parameters!$J$22),\"\")","v":""},null,{"$f":"IFERROR(_xlfn.IFS(Tableau1[[#This Row],[Category]]=Onglet_mapping_parameters!$C$27,Onglet_mapping_parameters!$B$27,Tableau1[[#This Row],[Category]]=Onglet_mapping_parameters!$C$28,Onglet_mapping_parameters!$B$28,Tableau1[[#This Row],[Category]]=Onglet_mapping_parameters!$C$29,Onglet_mapping_parameters!$B$29,Tableau1[[#This Row],[Category]]=Onglet_mapping_parameters!$C$30,Onglet_mapping_parameters!$B$30),\"\")","v":""},null,null,"Delete"]
[null,null,null,null,null,null,null,null,null,{"$f":"IFERROR(_xlfn.IFS(OR(F325=\"\",G325=\"\"),\"\",AND(F325<Onglet_mapping_parameters!$J$16,G325<Onglet_mapping_parameters!$J$16),Onglet_mapping_parameters!$J$18,AND(F325<Onglet_mapping_parameters!$J$16,G325>=Onglet_mapping_parameters!$J$16),Onglet_mapping_parameters!$J$20,AND(F325>=Onglet_mapping_parameters!$J$16,G325<Onglet_mapping_parameters!$J$16),Onglet_mapping_parameters!$J$21,AND(F325>=Onglet_mapping_parameters!$J$16,G325>=Onglet_mapping_parameters!$J$16),Onglet_mapping_parameters!$J$22),\"\")","v":""},null,{"$f":"IFERROR(_xlfn.IFS(Tableau1[[#This Row],[Category]]=Onglet_mapping_parameters!$C$27,Onglet_mapping_parameters!$B$27,Tableau1[[#This Row],[Category]]=Onglet_mapping_parameters!$C$28,Onglet_mapping_parameters!$B$28,Tableau1[[#This Row],[Category]]=Onglet_mapping_parameters!$C$29,Onglet_mapping_parameters!$B$29,Tableau1[[#This Row],[Category]]=Onglet_mapping_parameters!$C$30,Onglet_mapping_parameters!$B$30),\"\")","v":""},null,null,"Delete"]
[null,null,null,null,null,null,null,null,null,{"$f":"IFERROR(_xlfn.IFS(OR(F326=\"\",G326=\"\"),\"\",AND(F326<Onglet_mapping_parameters!$J$16,G326<Onglet_mapping_parameters!$J$16),Onglet_mapping_parameters!$J$18,AND(F326<Onglet_mapping_parameters!$J$16,G326>=Onglet_mapping_parameters!$J$16),Onglet_mapping_parameters!$J$20,AND(F326>=Onglet_mapping_parameters!$J$16,G326<Onglet_mapping_parameters!$J$16),Onglet_mapping_parameters!$J$21,AND(F326>=Onglet_mapping_parameters!$J$16,G326>=Onglet_mapping_parameters!$J$16),Onglet_mapping_parameters!$J$22),\"\")","v":""},null,{"$f":"IFERROR(_xlfn.IFS(Tableau1[[#This Row],[Category]]=Onglet_mapping_parameters!$C$27,Onglet_mapping_parameters!$B$27,Tableau1[[#This Row],[Category]]=Onglet_mapping_parameters!$C$28,Onglet_mapping_parameters!$B$28,Tableau1[[#This Row],[Category]]=Onglet_mapping_parameters!$C$29,Onglet_mapping_parameters!$B$29,Tableau1[[#This Row],[Category]]=Onglet_mapping_parameters!$C$30,Onglet_mapping_parameters!$B$30),\"\")","v":""},null,null,"Delete"]
[null,null,null,null,null,null,null,null,null,{"$f":"IFERROR(_xlfn.IFS(OR(F327=\"\",G327=\"\"),\"\",AND(F327<Onglet_mapping_parameters!$J$16,G327<Onglet_mapping_parameters!$J$16),Onglet_mapping_parameters!$J$18,AND(F327<Onglet_mapping_parameters!$J$16,G327>=Onglet_mapping_parameters!$J$16),Onglet_mapping_parameters!$J$20,AND(F327>=Onglet_mapping_parameters!$J$16,G327<Onglet_mapping_parameters!$J$16),Onglet_mapping_parameters!$J$21,AND(F327>=Onglet_mapping_parameters!$J$16,G327>=Onglet_mapping_parameters!$J$16),Onglet_mapping_parameters!$J$22),\"\")","v":""},null,{"$f":"IFERROR(_xlfn.IFS(Tableau1[[#This Row],[Category]]=Onglet_mapping_parameters!$C$27,Onglet_mapping_parameters!$B$27,Tableau1[[#This Row],[Category]]=Onglet_mapping_parameters!$C$28,Onglet_mapping_parameters!$B$28,Tableau1[[#This Row],[Category]]=Onglet_mapping_parameters!$C$29,Onglet_mapping_parameters!$B$29,Tableau1[[#This Row],[Category]]=Onglet_mapping_parameters!$C$30,Onglet_mapping_parameters!$B$30),\"\")","v":""},null,null,"Delete"]
[null,null,null,null,null,null,null,null,null,{"$f":"IFERROR(_xlfn.IFS(OR(F328=\"\",G328=\"\"),\"\",AND(F328<Onglet_mapping_parameters!$J$16,G328<Onglet_mapping_parameters!$J$16),Onglet_mapping_parameters!$J$18,AND(F328<Onglet_mapping_parameters!$J$16,G328>=Onglet_mapping_parameters!$J$16),Onglet_mapping_parameters!$J$20,AND(F328>=Onglet_mapping_parameters!$J$16,G328<Onglet_mapping_parameters!$J$16),Onglet_mapping_parameters!$J$21,AND(F328>=Onglet_mapping_parameters!$J$16,G328>=Onglet_mapping_parameters!$J$16),Onglet_mapping_parameters!$J$22),\"\")","v":""},null,{"$f":"IFERROR(_xlfn.IFS(Tableau1[[#This Row],[Category]]=Onglet_mapping_parameters!$C$27,Onglet_mapping_parameters!$B$27,Tableau1[[#This Row],[Category]]=Onglet_mapping_parameters!$C$28,Onglet_mapping_parameters!$B$28,Tableau1[[#This Row],[Category]]=Onglet_mapping_parameters!$C$29,Onglet_mapping_parameters!$B$29,Tableau1[[#This Row],[Category]]=Onglet_mapping_parameters!$C$30,Onglet_mapping_parameters!$B$30),\"\")","v":""},null,null,"Delete"]
[null,null,null,null,null,null,null,null,null,{"$f":"IFERROR(_xlfn.IFS(OR(F329=\"\",G329=\"\"),\"\",AND(F329<Onglet_mapping_parameters!$J$16,G329<Onglet_mapping_parameters!$J$16),Onglet_mapping_parameters!$J$18,AND(F329<Onglet_mapping_parameters!$J$16,G329>=Onglet_mapping_parameters!$J$16),Onglet_mapping_parameters!$J$20,AND(F329>=Onglet_mapping_parameters!$J$16,G329<Onglet_mapping_parameters!$J$16),Onglet_mapping_parameters!$J$21,AND(F329>=Onglet_mapping_parameters!$J$16,G329>=Onglet_mapping_parameters!$J$16),Onglet_mapping_parameters!$J$22),\"\")","v":""},null,{"$f":"IFERROR(_xlfn.IFS(Tableau1[[#This Row],[Category]]=Onglet_mapping_parameters!$C$27,Onglet_mapping_parameters!$B$27,Tableau1[[#This Row],[Category]]=Onglet_mapping_parameters!$C$28,Onglet_mapping_parameters!$B$28,Tableau1[[#This Row],[Category]]=Onglet_mapping_parameters!$C$29,Onglet_mapping_parameters!$B$29,Tableau1[[#This Row],[Category]]=Onglet_mapping_parameters!$C$30,Onglet_mapping_parameters!$B$30),\"\")","v":""},null,null,"Delete"]
[null,null,null,null,null,null,null,null,null,{"$f":"IFERROR(_xlfn.IFS(OR(F330=\"\",G330=\"\"),\"\",AND(F330<Onglet_mapping_parameters!$J$16,G330<Onglet_mapping_parameters!$J$16),Onglet_mapping_parameters!$J$18,AND(F330<Onglet_mapping_parameters!$J$16,G330>=Onglet_mapping_parameters!$J$16),Onglet_mapping_parameters!$J$20,AND(F330>=Onglet_mapping_parameters!$J$16,G330<Onglet_mapping_parameters!$J$16),Onglet_mapping_parameters!$J$21,AND(F330>=Onglet_mapping_parameters!$J$16,G330>=Onglet_mapping_parameters!$J$16),Onglet_mapping_parameters!$J$22),\"\")","v":""},null,{"$f":"IFERROR(_xlfn.IFS(Tableau1[[#This Row],[Category]]=Onglet_mapping_parameters!$C$27,Onglet_mapping_parameters!$B$27,Tableau1[[#This Row],[Category]]=Onglet_mapping_parameters!$C$28,Onglet_mapping_parameters!$B$28,Tableau1[[#This Row],[Category]]=Onglet_mapping_parameters!$C$29,Onglet_mapping_parameters!$B$29,Tableau1[[#This Row],[Category]]=Onglet_mapping_parameters!$C$30,Onglet_mapping_parameters!$B$30),\"\")","v":""},null,null,"Delete"]
[null,null,null,null,null,null,null,null,null,{"$f":"IFERROR(_xlfn.IFS(OR(F331=\"\",G331=\"\"),\"\",AND(F331<Onglet_mapping_parameters!$J$16,G331<Onglet_mapping_parameters!$J$16),Onglet_mapping_parameters!$J$18,AND(F331<Onglet_mapping_parameters!$J$16,G331>=Onglet_mapping_parameters!$J$16),Onglet_mapping_parameters!$J$20,AND(F331>=Onglet_mapping_parameters!$J$16,G331<Onglet_mapping_parameters!$J$16),Onglet_mapping_parameters!$J$21,AND(F331>=Onglet_mapping_parameters!$J$16,G331>=Onglet_mapping_parameters!$J$16),Onglet_mapping_parameters!$J$22),\"\")","v":""},null,{"$f":"IFERROR(_xlfn.IFS(Tableau1[[#This Row],[Category]]=Onglet_mapping_parameters!$C$27,Onglet_mapping_parameters!$B$27,Tableau1[[#This Row],[Category]]=Onglet_mapping_parameters!$C$28,Onglet_mapping_parameters!$B$28,Tableau1[[#This Row],[Category]]=Onglet_mapping_parameters!$C$29,Onglet_mapping_parameters!$B$29,Tableau1[[#This Row],[Category]]=Onglet_mapping_parameters!$C$30,Onglet_mapping_parameters!$B$30),\"\")","v":""},null,null,"Delete"]
[null,null,null,null,null,null,null,null,null,{"$f":"IFERROR(_xlfn.IFS(OR(F332=\"\",G332=\"\"),\"\",AND(F332<Onglet_mapping_parameters!$J$16,G332<Onglet_mapping_parameters!$J$16),Onglet_mapping_parameters!$J$18,AND(F332<Onglet_mapping_parameters!$J$16,G332>=Onglet_mapping_parameters!$J$16),Onglet_mapping_parameters!$J$20,AND(F332>=Onglet_mapping_parameters!$J$16,G332<Onglet_mapping_parameters!$J$16),Onglet_mapping_parameters!$J$21,AND(F332>=Onglet_mapping_parameters!$J$16,G332>=Onglet_mapping_parameters!$J$16),Onglet_mapping_parameters!$J$22),\"\")","v":""},null,{"$f":"IFERROR(_xlfn.IFS(Tableau1[[#This Row],[Category]]=Onglet_mapping_parameters!$C$27,Onglet_mapping_parameters!$B$27,Tableau1[[#This Row],[Category]]=Onglet_mapping_parameters!$C$28,Onglet_mapping_parameters!$B$28,Tableau1[[#This Row],[Category]]=Onglet_mapping_parameters!$C$29,Onglet_mapping_parameters!$B$29,Tableau1[[#This Row],[Category]]=Onglet_mapping_parameters!$C$30,Onglet_mapping_parameters!$B$30),\"\")","v":""},null,null,"Delete"]
[null,null,null,null,null,null,null,null,null,{"$f":"IFERROR(_xlfn.IFS(OR(F333=\"\",G333=\"\"),\"\",AND(F333<Onglet_mapping_parameters!$J$16,G333<Onglet_mapping_parameters!$J$16),Onglet_mapping_parameters!$J$18,AND(F333<Onglet_mapping_parameters!$J$16,G333>=Onglet_mapping_parameters!$J$16),Onglet_mapping_parameters!$J$20,AND(F333>=Onglet_mapping_parameters!$J$16,G333<Onglet_mapping_parameters!$J$16),Onglet_mapping_parameters!$J$21,AND(F333>=Onglet_mapping_parameters!$J$16,G333>=Onglet_mapping_parameters!$J$16),Onglet_mapping_parameters!$J$22),\"\")","v":""},null,{"$f":"IFERROR(_xlfn.IFS(Tableau1[[#This Row],[Category]]=Onglet_mapping_parameters!$C$27,Onglet_mapping_parameters!$B$27,Tableau1[[#This Row],[Category]]=Onglet_mapping_parameters!$C$28,Onglet_mapping_parameters!$B$28,Tableau1[[#This Row],[Category]]=Onglet_mapping_parameters!$C$29,Onglet_mapping_parameters!$B$29,Tableau1[[#This Row],[Category]]=Onglet_mapping_parameters!$C$30,Onglet_mapping_parameters!$B$30),\"\")","v":""},null,null,"Delete"]
[null,null,null,null,null,null,null,null,null,{"$f":"IFERROR(_xlfn.IFS(OR(F334=\"\",G334=\"\"),\"\",AND(F334<Onglet_mapping_parameters!$J$16,G334<Onglet_mapping_parameters!$J$16),Onglet_mapping_parameters!$J$18,AND(F334<Onglet_mapping_parameters!$J$16,G334>=Onglet_mapping_parameters!$J$16),Onglet_mapping_parameters!$J$20,AND(F334>=Onglet_mapping_parameters!$J$16,G334<Onglet_mapping_parameters!$J$16),Onglet_mapping_parameters!$J$21,AND(F334>=Onglet_mapping_parameters!$J$16,G334>=Onglet_mapping_parameters!$J$16),Onglet_mapping_parameters!$J$22),\"\")","v":""},null,{"$f":"IFERROR(_xlfn.IFS(Tableau1[[#This Row],[Category]]=Onglet_mapping_parameters!$C$27,Onglet_mapping_parameters!$B$27,Tableau1[[#This Row],[Category]]=Onglet_mapping_parameters!$C$28,Onglet_mapping_parameters!$B$28,Tableau1[[#This Row],[Category]]=Onglet_mapping_parameters!$C$29,Onglet_mapping_parameters!$B$29,Tableau1[[#This Row],[Category]]=Onglet_mapping_parameters!$C$30,Onglet_mapping_parameters!$B$30),\"\")","v":""},null,null,"Delete"]
[null,null,null,null,null,null,null,null,null,{"$f":"IFERROR(_xlfn.IFS(OR(F335=\"\",G335=\"\"),\"\",AND(F335<Onglet_mapping_parameters!$J$16,G335<Onglet_mapping_parameters!$J$16),Onglet_mapping_parameters!$J$18,AND(F335<Onglet_mapping_parameters!$J$16,G335>=Onglet_mapping_parameters!$J$16),Onglet_mapping_parameters!$J$20,AND(F335>=Onglet_mapping_parameters!$J$16,G335<Onglet_mapping_parameters!$J$16),Onglet_mapping_parameters!$J$21,AND(F335>=Onglet_mapping_parameters!$J$16,G335>=Onglet_mapping_parameters!$J$16),Onglet_mapping_parameters!$J$22),\"\")","v":""},null,{"$f":"IFERROR(_xlfn.IFS(Tableau1[[#This Row],[Category]]=Onglet_mapping_parameters!$C$27,Onglet_mapping_parameters!$B$27,Tableau1[[#This Row],[Category]]=Onglet_mapping_parameters!$C$28,Onglet_mapping_parameters!$B$28,Tableau1[[#This Row],[Category]]=Onglet_mapping_parameters!$C$29,Onglet_mapping_parameters!$B$29,Tableau1[[#This Row],[Category]]=Onglet_mapping_parameters!$C$30,Onglet_mapping_parameters!$B$30),\"\")","v":""},null,null,"Delete"]
[null,null,null,null,null,null,null,null,null,{"$f":"IFERROR(_xlfn.IFS(OR(F336=\"\",G336=\"\"),\"\",AND(F336<Onglet_mapping_parameters!$J$16,G336<Onglet_mapping_parameters!$J$16),Onglet_mapping_parameters!$J$18,AND(F336<Onglet_mapping_parameters!$J$16,G336>=Onglet_mapping_parameters!$J$16),Onglet_mapping_parameters!$J$20,AND(F336>=Onglet_mapping_parameters!$J$16,G336<Onglet_mapping_parameters!$J$16),Onglet_mapping_parameters!$J$21,AND(F336>=Onglet_mapping_parameters!$J$16,G336>=Onglet_mapping_parameters!$J$16),Onglet_mapping_parameters!$J$22),\"\")","v":""},null,{"$f":"IFERROR(_xlfn.IFS(Tableau1[[#This Row],[Category]]=Onglet_mapping_parameters!$C$27,Onglet_mapping_parameters!$B$27,Tableau1[[#This Row],[Category]]=Onglet_mapping_parameters!$C$28,Onglet_mapping_parameters!$B$28,Tableau1[[#This Row],[Category]]=Onglet_mapping_parameters!$C$29,Onglet_mapping_parameters!$B$29,Tableau1[[#This Row],[Category]]=Onglet_mapping_parameters!$C$30,Onglet_mapping_parameters!$B$30),\"\")","v":""},null,null,"Delete"]
[null,null,null,null,null,null,null,null,null,{"$f":"IFERROR(_xlfn.IFS(OR(F337=\"\",G337=\"\"),\"\",AND(F337<Onglet_mapping_parameters!$J$16,G337<Onglet_mapping_parameters!$J$16),Onglet_mapping_parameters!$J$18,AND(F337<Onglet_mapping_parameters!$J$16,G337>=Onglet_mapping_parameters!$J$16),Onglet_mapping_parameters!$J$20,AND(F337>=Onglet_mapping_parameters!$J$16,G337<Onglet_mapping_parameters!$J$16),Onglet_mapping_parameters!$J$21,AND(F337>=Onglet_mapping_parameters!$J$16,G337>=Onglet_mapping_parameters!$J$16),Onglet_mapping_parameters!$J$22),\"\")","v":""},null,{"$f":"IFERROR(_xlfn.IFS(Tableau1[[#This Row],[Category]]=Onglet_mapping_parameters!$C$27,Onglet_mapping_parameters!$B$27,Tableau1[[#This Row],[Category]]=Onglet_mapping_parameters!$C$28,Onglet_mapping_parameters!$B$28,Tableau1[[#This Row],[Category]]=Onglet_mapping_parameters!$C$29,Onglet_mapping_parameters!$B$29,Tableau1[[#This Row],[Category]]=Onglet_mapping_parameters!$C$30,Onglet_mapping_parameters!$B$30),\"\")","v":""},null,null,"Delete"]
[null,null,null,null,null,null,null,null,null,{"$f":"IFERROR(_xlfn.IFS(OR(F338=\"\",G338=\"\"),\"\",AND(F338<Onglet_mapping_parameters!$J$16,G338<Onglet_mapping_parameters!$J$16),Onglet_mapping_parameters!$J$18,AND(F338<Onglet_mapping_parameters!$J$16,G338>=Onglet_mapping_parameters!$J$16),Onglet_mapping_parameters!$J$20,AND(F338>=Onglet_mapping_parameters!$J$16,G338<Onglet_mapping_parameters!$J$16),Onglet_mapping_parameters!$J$21,AND(F338>=Onglet_mapping_parameters!$J$16,G338>=Onglet_mapping_parameters!$J$16),Onglet_mapping_parameters!$J$22),\"\")","v":""},null,{"$f":"IFERROR(_xlfn.IFS(Tableau1[[#This Row],[Category]]=Onglet_mapping_parameters!$C$27,Onglet_mapping_parameters!$B$27,Tableau1[[#This Row],[Category]]=Onglet_mapping_parameters!$C$28,Onglet_mapping_parameters!$B$28,Tableau1[[#This Row],[Category]]=Onglet_mapping_parameters!$C$29,Onglet_mapping_parameters!$B$29,Tableau1[[#This Row],[Category]]=Onglet_mapping_parameters!$C$30,Onglet_mapping_parameters!$B$30),\"\")","v":""},null,null,"Delete"]
[null,null,null,null,null,null,null,null,null,{"$f":"IFERROR(_xlfn.IFS(OR(F339=\"\",G339=\"\"),\"\",AND(F339<Onglet_mapping_parameters!$J$16,G339<Onglet_mapping_parameters!$J$16),Onglet_mapping_parameters!$J$18,AND(F339<Onglet_mapping_parameters!$J$16,G339>=Onglet_mapping_parameters!$J$16),Onglet_mapping_parameters!$J$20,AND(F339>=Onglet_mapping_parameters!$J$16,G339<Onglet_mapping_parameters!$J$16),Onglet_mapping_parameters!$J$21,AND(F339>=Onglet_mapping_parameters!$J$16,G339>=Onglet_mapping_parameters!$J$16),Onglet_mapping_parameters!$J$22),\"\")","v":""},null,{"$f":"IFERROR(_xlfn.IFS(Tableau1[[#This Row],[Category]]=Onglet_mapping_parameters!$C$27,Onglet_mapping_parameters!$B$27,Tableau1[[#This Row],[Category]]=Onglet_mapping_parameters!$C$28,Onglet_mapping_parameters!$B$28,Tableau1[[#This Row],[Category]]=Onglet_mapping_parameters!$C$29,Onglet_mapping_parameters!$B$29,Tableau1[[#This Row],[Category]]=Onglet_mapping_parameters!$C$30,Onglet_mapping_parameters!$B$30),\"\")","v":""},null,null,"Delete"]
[null,null,null,null,null,null,null,null,null,{"$f":"IFERROR(_xlfn.IFS(OR(F340=\"\",G340=\"\"),\"\",AND(F340<Onglet_mapping_parameters!$J$16,G340<Onglet_mapping_parameters!$J$16),Onglet_mapping_parameters!$J$18,AND(F340<Onglet_mapping_parameters!$J$16,G340>=Onglet_mapping_parameters!$J$16),Onglet_mapping_parameters!$J$20,AND(F340>=Onglet_mapping_parameters!$J$16,G340<Onglet_mapping_parameters!$J$16),Onglet_mapping_parameters!$J$21,AND(F340>=Onglet_mapping_parameters!$J$16,G340>=Onglet_mapping_parameters!$J$16),Onglet_mapping_parameters!$J$22),\"\")","v":""},null,{"$f":"IFERROR(_xlfn.IFS(Tableau1[[#This Row],[Category]]=Onglet_mapping_parameters!$C$27,Onglet_mapping_parameters!$B$27,Tableau1[[#This Row],[Category]]=Onglet_mapping_parameters!$C$28,Onglet_mapping_parameters!$B$28,Tableau1[[#This Row],[Category]]=Onglet_mapping_parameters!$C$29,Onglet_mapping_parameters!$B$29,Tableau1[[#This Row],[Category]]=Onglet_mapping_parameters!$C$30,Onglet_mapping_parameters!$B$30),\"\")","v":""},null,null,"Delete"]
[null,null,null,null,null,null,null,null,null,{"$f":"IFERROR(_xlfn.IFS(OR(F341=\"\",G341=\"\"),\"\",AND(F341<Onglet_mapping_parameters!$J$16,G341<Onglet_mapping_parameters!$J$16),Onglet_mapping_parameters!$J$18,AND(F341<Onglet_mapping_parameters!$J$16,G341>=Onglet_mapping_parameters!$J$16),Onglet_mapping_parameters!$J$20,AND(F341>=Onglet_mapping_parameters!$J$16,G341<Onglet_mapping_parameters!$J$16),Onglet_mapping_parameters!$J$21,AND(F341>=Onglet_mapping_parameters!$J$16,G341>=Onglet_mapping_parameters!$J$16),Onglet_mapping_parameters!$J$22),\"\")","v":""},null,{"$f":"IFERROR(_xlfn.IFS(Tableau1[[#This Row],[Category]]=Onglet_mapping_parameters!$C$27,Onglet_mapping_parameters!$B$27,Tableau1[[#This Row],[Category]]=Onglet_mapping_parameters!$C$28,Onglet_mapping_parameters!$B$28,Tableau1[[#This Row],[Category]]=Onglet_mapping_parameters!$C$29,Onglet_mapping_parameters!$B$29,Tableau1[[#This Row],[Category]]=Onglet_mapping_parameters!$C$30,Onglet_mapping_parameters!$B$30),\"\")","v":""},null,null,"Delete"]
[null,null,null,null,null,null,null,null,null,{"$f":"IFERROR(_xlfn.IFS(OR(F342=\"\",G342=\"\"),\"\",AND(F342<Onglet_mapping_parameters!$J$16,G342<Onglet_mapping_parameters!$J$16),Onglet_mapping_parameters!$J$18,AND(F342<Onglet_mapping_parameters!$J$16,G342>=Onglet_mapping_parameters!$J$16),Onglet_mapping_parameters!$J$20,AND(F342>=Onglet_mapping_parameters!$J$16,G342<Onglet_mapping_parameters!$J$16),Onglet_mapping_parameters!$J$21,AND(F342>=Onglet_mapping_parameters!$J$16,G342>=Onglet_mapping_parameters!$J$16),Onglet_mapping_parameters!$J$22),\"\")","v":""},null,{"$f":"IFERROR(_xlfn.IFS(Tableau1[[#This Row],[Category]]=Onglet_mapping_parameters!$C$27,Onglet_mapping_parameters!$B$27,Tableau1[[#This Row],[Category]]=Onglet_mapping_parameters!$C$28,Onglet_mapping_parameters!$B$28,Tableau1[[#This Row],[Category]]=Onglet_mapping_parameters!$C$29,Onglet_mapping_parameters!$B$29,Tableau1[[#This Row],[Category]]=Onglet_mapping_parameters!$C$30,Onglet_mapping_parameters!$B$30),\"\")","v":""},null,null,"Delete"]
[null,null,null,null,null,null,null,null,null,{"$f":"IFERROR(_xlfn.IFS(OR(F343=\"\",G343=\"\"),\"\",AND(F343<Onglet_mapping_parameters!$J$16,G343<Onglet_mapping_parameters!$J$16),Onglet_mapping_parameters!$J$18,AND(F343<Onglet_mapping_parameters!$J$16,G343>=Onglet_mapping_parameters!$J$16),Onglet_mapping_parameters!$J$20,AND(F343>=Onglet_mapping_parameters!$J$16,G343<Onglet_mapping_parameters!$J$16),Onglet_mapping_parameters!$J$21,AND(F343>=Onglet_mapping_parameters!$J$16,G343>=Onglet_mapping_parameters!$J$16),Onglet_mapping_parameters!$J$22),\"\")","v":""},null,{"$f":"IFERROR(_xlfn.IFS(Tableau1[[#This Row],[Category]]=Onglet_mapping_parameters!$C$27,Onglet_mapping_parameters!$B$27,Tableau1[[#This Row],[Category]]=Onglet_mapping_parameters!$C$28,Onglet_mapping_parameters!$B$28,Tableau1[[#This Row],[Category]]=Onglet_mapping_parameters!$C$29,Onglet_mapping_parameters!$B$29,Tableau1[[#This Row],[Category]]=Onglet_mapping_parameters!$C$30,Onglet_mapping_parameters!$B$30),\"\")","v":""},null,null,"Delete"]
[null,null,null,null,null,null,null,null,null,{"$f":"IFERROR(_xlfn.IFS(OR(F344=\"\",G344=\"\"),\"\",AND(F344<Onglet_mapping_parameters!$J$16,G344<Onglet_mapping_parameters!$J$16),Onglet_mapping_parameters!$J$18,AND(F344<Onglet_mapping_parameters!$J$16,G344>=Onglet_mapping_parameters!$J$16),Onglet_mapping_parameters!$J$20,AND(F344>=Onglet_mapping_parameters!$J$16,G344<Onglet_mapping_parameters!$J$16),Onglet_mapping_parameters!$J$21,AND(F344>=Onglet_mapping_parameters!$J$16,G344>=Onglet_mapping_parameters!$J$16),Onglet_mapping_parameters!$J$22),\"\")","v":""},null,{"$f":"IFERROR(_xlfn.IFS(Tableau1[[#This Row],[Category]]=Onglet_mapping_parameters!$C$27,Onglet_mapping_parameters!$B$27,Tableau1[[#This Row],[Category]]=Onglet_mapping_parameters!$C$28,Onglet_mapping_parameters!$B$28,Tableau1[[#This Row],[Category]]=Onglet_mapping_parameters!$C$29,Onglet_mapping_parameters!$B$29,Tableau1[[#This Row],[Category]]=Onglet_mapping_parameters!$C$30,Onglet_mapping_parameters!$B$30),\"\")","v":""},null,null,"Delete"]
[null,null,null,null,null,null,null,null,null,{"$f":"IFERROR(_xlfn.IFS(OR(F345=\"\",G345=\"\"),\"\",AND(F345<Onglet_mapping_parameters!$J$16,G345<Onglet_mapping_parameters!$J$16),Onglet_mapping_parameters!$J$18,AND(F345<Onglet_mapping_parameters!$J$16,G345>=Onglet_mapping_parameters!$J$16),Onglet_mapping_parameters!$J$20,AND(F345>=Onglet_mapping_parameters!$J$16,G345<Onglet_mapping_parameters!$J$16),Onglet_mapping_parameters!$J$21,AND(F345>=Onglet_mapping_parameters!$J$16,G345>=Onglet_mapping_parameters!$J$16),Onglet_mapping_parameters!$J$22),\"\")","v":""},null,{"$f":"IFERROR(_xlfn.IFS(Tableau1[[#This Row],[Category]]=Onglet_mapping_parameters!$C$27,Onglet_mapping_parameters!$B$27,Tableau1[[#This Row],[Category]]=Onglet_mapping_parameters!$C$28,Onglet_mapping_parameters!$B$28,Tableau1[[#This Row],[Category]]=Onglet_mapping_parameters!$C$29,Onglet_mapping_parameters!$B$29,Tableau1[[#This Row],[Category]]=Onglet_mapping_parameters!$C$30,Onglet_mapping_parameters!$B$30),\"\")","v":""},null,null,"Delete"]
[null,null,null,null,null,null,null,null,null,{"$f":"IFERROR(_xlfn.IFS(OR(F346=\"\",G346=\"\"),\"\",AND(F346<Onglet_mapping_parameters!$J$16,G346<Onglet_mapping_parameters!$J$16),Onglet_mapping_parameters!$J$18,AND(F346<Onglet_mapping_parameters!$J$16,G346>=Onglet_mapping_parameters!$J$16),Onglet_mapping_parameters!$J$20,AND(F346>=Onglet_mapping_parameters!$J$16,G346<Onglet_mapping_parameters!$J$16),Onglet_mapping_parameters!$J$21,AND(F346>=Onglet_mapping_parameters!$J$16,G346>=Onglet_mapping_parameters!$J$16),Onglet_mapping_parameters!$J$22),\"\")","v":""},null,{"$f":"IFERROR(_xlfn.IFS(Tableau1[[#This Row],[Category]]=Onglet_mapping_parameters!$C$27,Onglet_mapping_parameters!$B$27,Tableau1[[#This Row],[Category]]=Onglet_mapping_parameters!$C$28,Onglet_mapping_parameters!$B$28,Tableau1[[#This Row],[Category]]=Onglet_mapping_parameters!$C$29,Onglet_mapping_parameters!$B$29,Tableau1[[#This Row],[Category]]=Onglet_mapping_parameters!$C$30,Onglet_mapping_parameters!$B$30),\"\")","v":""},null,null,"Delete"]
[null,null,null,null,null,null,null,null,null,{"$f":"IFERROR(_xlfn.IFS(OR(F347=\"\",G347=\"\"),\"\",AND(F347<Onglet_mapping_parameters!$J$16,G347<Onglet_mapping_parameters!$J$16),Onglet_mapping_parameters!$J$18,AND(F347<Onglet_mapping_parameters!$J$16,G347>=Onglet_mapping_parameters!$J$16),Onglet_mapping_parameters!$J$20,AND(F347>=Onglet_mapping_parameters!$J$16,G347<Onglet_mapping_parameters!$J$16),Onglet_mapping_parameters!$J$21,AND(F347>=Onglet_mapping_parameters!$J$16,G347>=Onglet_mapping_parameters!$J$16),Onglet_mapping_parameters!$J$22),\"\")","v":""},null,{"$f":"IFERROR(_xlfn.IFS(Tableau1[[#This Row],[Category]]=Onglet_mapping_parameters!$C$27,Onglet_mapping_parameters!$B$27,Tableau1[[#This Row],[Category]]=Onglet_mapping_parameters!$C$28,Onglet_mapping_parameters!$B$28,Tableau1[[#This Row],[Category]]=Onglet_mapping_parameters!$C$29,Onglet_mapping_parameters!$B$29,Tableau1[[#This Row],[Category]]=Onglet_mapping_parameters!$C$30,Onglet_mapping_parameters!$B$30),\"\")","v":""},null,null,"Delete"]
[null,null,null,null,null,null,null,null,null,{"$f":"IFERROR(_xlfn.IFS(OR(F348=\"\",G348=\"\"),\"\",AND(F348<Onglet_mapping_parameters!$J$16,G348<Onglet_mapping_parameters!$J$16),Onglet_mapping_parameters!$J$18,AND(F348<Onglet_mapping_parameters!$J$16,G348>=Onglet_mapping_parameters!$J$16),Onglet_mapping_parameters!$J$20,AND(F348>=Onglet_mapping_parameters!$J$16,G348<Onglet_mapping_parameters!$J$16),Onglet_mapping_parameters!$J$21,AND(F348>=Onglet_mapping_parameters!$J$16,G348>=Onglet_mapping_parameters!$J$16),Onglet_mapping_parameters!$J$22),\"\")","v":""},null,{"$f":"IFERROR(_xlfn.IFS(Tableau1[[#This Row],[Category]]=Onglet_mapping_parameters!$C$27,Onglet_mapping_parameters!$B$27,Tableau1[[#This Row],[Category]]=Onglet_mapping_parameters!$C$28,Onglet_mapping_parameters!$B$28,Tableau1[[#This Row],[Category]]=Onglet_mapping_parameters!$C$29,Onglet_mapping_parameters!$B$29,Tableau1[[#This Row],[Category]]=Onglet_mapping_parameters!$C$30,Onglet_mapping_parameters!$B$30),\"\")","v":""},null,null,"Delete"]
[null,null,null,null,null,null,null,null,null,{"$f":"IFERROR(_xlfn.IFS(OR(F349=\"\",G349=\"\"),\"\",AND(F349<Onglet_mapping_parameters!$J$16,G349<Onglet_mapping_parameters!$J$16),Onglet_mapping_parameters!$J$18,AND(F349<Onglet_mapping_parameters!$J$16,G349>=Onglet_mapping_parameters!$J$16),Onglet_mapping_parameters!$J$20,AND(F349>=Onglet_mapping_parameters!$J$16,G349<Onglet_mapping_parameters!$J$16),Onglet_mapping_parameters!$J$21,AND(F349>=Onglet_mapping_parameters!$J$16,G349>=Onglet_mapping_parameters!$J$16),Onglet_mapping_parameters!$J$22),\"\")","v":""},null,{"$f":"IFERROR(_xlfn.IFS(Tableau1[[#This Row],[Category]]=Onglet_mapping_parameters!$C$27,Onglet_mapping_parameters!$B$27,Tableau1[[#This Row],[Category]]=Onglet_mapping_parameters!$C$28,Onglet_mapping_parameters!$B$28,Tableau1[[#This Row],[Category]]=Onglet_mapping_parameters!$C$29,Onglet_mapping_parameters!$B$29,Tableau1[[#This Row],[Category]]=Onglet_mapping_parameters!$C$30,Onglet_mapping_parameters!$B$30),\"\")","v":""},null,null,"Delete"]
[null,null,null,null,null,null,null,null,null,{"$f":"IFERROR(_xlfn.IFS(OR(F350=\"\",G350=\"\"),\"\",AND(F350<Onglet_mapping_parameters!$J$16,G350<Onglet_mapping_parameters!$J$16),Onglet_mapping_parameters!$J$18,AND(F350<Onglet_mapping_parameters!$J$16,G350>=Onglet_mapping_parameters!$J$16),Onglet_mapping_parameters!$J$20,AND(F350>=Onglet_mapping_parameters!$J$16,G350<Onglet_mapping_parameters!$J$16),Onglet_mapping_parameters!$J$21,AND(F350>=Onglet_mapping_parameters!$J$16,G350>=Onglet_mapping_parameters!$J$16),Onglet_mapping_parameters!$J$22),\"\")","v":""},null,{"$f":"IFERROR(_xlfn.IFS(Tableau1[[#This Row],[Category]]=Onglet_mapping_parameters!$C$27,Onglet_mapping_parameters!$B$27,Tableau1[[#This Row],[Category]]=Onglet_mapping_parameters!$C$28,Onglet_mapping_parameters!$B$28,Tableau1[[#This Row],[Category]]=Onglet_mapping_parameters!$C$29,Onglet_mapping_parameters!$B$29,Tableau1[[#This Row],[Category]]=Onglet_mapping_parameters!$C$30,Onglet_mapping_parameters!$B$30),\"\")","v":""},null,null,"Delete"]
[null,null,null,null,null,null,null,null,null,{"$f":"IFERROR(_xlfn.IFS(OR(F351=\"\",G351=\"\"),\"\",AND(F351<Onglet_mapping_parameters!$J$16,G351<Onglet_mapping_parameters!$J$16),Onglet_mapping_parameters!$J$18,AND(F351<Onglet_mapping_parameters!$J$16,G351>=Onglet_mapping_parameters!$J$16),Onglet_mapping_parameters!$J$20,AND(F351>=Onglet_mapping_parameters!$J$16,G351<Onglet_mapping_parameters!$J$16),Onglet_mapping_parameters!$J$21,AND(F351>=Onglet_mapping_parameters!$J$16,G351>=Onglet_mapping_parameters!$J$16),Onglet_mapping_parameters!$J$22),\"\")","v":""},null,{"$f":"IFERROR(_xlfn.IFS(Tableau1[[#This Row],[Category]]=Onglet_mapping_parameters!$C$27,Onglet_mapping_parameters!$B$27,Tableau1[[#This Row],[Category]]=Onglet_mapping_parameters!$C$28,Onglet_mapping_parameters!$B$28,Tableau1[[#This Row],[Category]]=Onglet_mapping_parameters!$C$29,Onglet_mapping_parameters!$B$29,Tableau1[[#This Row],[Category]]=Onglet_mapping_parameters!$C$30,Onglet_mapping_parameters!$B$30),\"\")","v":""},null,null,"Delete"]
[null,null,null,null,null,null,null,null,null,{"$f":"IFERROR(_xlfn.IFS(OR(F352=\"\",G352=\"\"),\"\",AND(F352<Onglet_mapping_parameters!$J$16,G352<Onglet_mapping_parameters!$J$16),Onglet_mapping_parameters!$J$18,AND(F352<Onglet_mapping_parameters!$J$16,G352>=Onglet_mapping_parameters!$J$16),Onglet_mapping_parameters!$J$20,AND(F352>=Onglet_mapping_parameters!$J$16,G352<Onglet_mapping_parameters!$J$16),Onglet_mapping_parameters!$J$21,AND(F352>=Onglet_mapping_parameters!$J$16,G352>=Onglet_mapping_parameters!$J$16),Onglet_mapping_parameters!$J$22),\"\")","v":""},null,{"$f":"IFERROR(_xlfn.IFS(Tableau1[[#This Row],[Category]]=Onglet_mapping_parameters!$C$27,Onglet_mapping_parameters!$B$27,Tableau1[[#This Row],[Category]]=Onglet_mapping_parameters!$C$28,Onglet_mapping_parameters!$B$28,Tableau1[[#This Row],[Category]]=Onglet_mapping_parameters!$C$29,Onglet_mapping_parameters!$B$29,Tableau1[[#This Row],[Category]]=Onglet_mapping_parameters!$C$30,Onglet_mapping_parameters!$B$30),\"\")","v":""},null,null,"Delete"]
[null,null,null,null,null,null,null,null,null,{"$f":"IFERROR(_xlfn.IFS(OR(F353=\"\",G353=\"\"),\"\",AND(F353<Onglet_mapping_parameters!$J$16,G353<Onglet_mapping_parameters!$J$16),Onglet_mapping_parameters!$J$18,AND(F353<Onglet_mapping_parameters!$J$16,G353>=Onglet_mapping_parameters!$J$16),Onglet_mapping_parameters!$J$20,AND(F353>=Onglet_mapping_parameters!$J$16,G353<Onglet_mapping_parameters!$J$16),Onglet_mapping_parameters!$J$21,AND(F353>=Onglet_mapping_parameters!$J$16,G353>=Onglet_mapping_parameters!$J$16),Onglet_mapping_parameters!$J$22),\"\")","v":""},null,{"$f":"IFERROR(_xlfn.IFS(Tableau1[[#This Row],[Category]]=Onglet_mapping_parameters!$C$27,Onglet_mapping_parameters!$B$27,Tableau1[[#This Row],[Category]]=Onglet_mapping_parameters!$C$28,Onglet_mapping_parameters!$B$28,Tableau1[[#This Row],[Category]]=Onglet_mapping_parameters!$C$29,Onglet_mapping_parameters!$B$29,Tableau1[[#This Row],[Category]]=Onglet_mapping_parameters!$C$30,Onglet_mapping_parameters!$B$30),\"\")","v":""},null,null,"Delete"]
[null,null,null,null,null,null,null,null,null,{"$f":"IFERROR(_xlfn.IFS(OR(F354=\"\",G354=\"\"),\"\",AND(F354<Onglet_mapping_parameters!$J$16,G354<Onglet_mapping_parameters!$J$16),Onglet_mapping_parameters!$J$18,AND(F354<Onglet_mapping_parameters!$J$16,G354>=Onglet_mapping_parameters!$J$16),Onglet_mapping_parameters!$J$20,AND(F354>=Onglet_mapping_parameters!$J$16,G354<Onglet_mapping_parameters!$J$16),Onglet_mapping_parameters!$J$21,AND(F354>=Onglet_mapping_parameters!$J$16,G354>=Onglet_mapping_parameters!$J$16),Onglet_mapping_parameters!$J$22),\"\")","v":""},null,{"$f":"IFERROR(_xlfn.IFS(Tableau1[[#This Row],[Category]]=Onglet_mapping_parameters!$C$27,Onglet_mapping_parameters!$B$27,Tableau1[[#This Row],[Category]]=Onglet_mapping_parameters!$C$28,Onglet_mapping_parameters!$B$28,Tableau1[[#This Row],[Category]]=Onglet_mapping_parameters!$C$29,Onglet_mapping_parameters!$B$29,Tableau1[[#This Row],[Category]]=Onglet_mapping_parameters!$C$30,Onglet_mapping_parameters!$B$30),\"\")","v":""},null,null,"Delete"]
[null,null,null,null,null,null,null,null,null,{"$f":"IFERROR(_xlfn.IFS(OR(F355=\"\",G355=\"\"),\"\",AND(F355<Onglet_mapping_parameters!$J$16,G355<Onglet_mapping_parameters!$J$16),Onglet_mapping_parameters!$J$18,AND(F355<Onglet_mapping_parameters!$J$16,G355>=Onglet_mapping_parameters!$J$16),Onglet_mapping_parameters!$J$20,AND(F355>=Onglet_mapping_parameters!$J$16,G355<Onglet_mapping_parameters!$J$16),Onglet_mapping_parameters!$J$21,AND(F355>=Onglet_mapping_parameters!$J$16,G355>=Onglet_mapping_parameters!$J$16),Onglet_mapping_parameters!$J$22),\"\")","v":""},null,{"$f":"IFERROR(_xlfn.IFS(Tableau1[[#This Row],[Category]]=Onglet_mapping_parameters!$C$27,Onglet_mapping_parameters!$B$27,Tableau1[[#This Row],[Category]]=Onglet_mapping_parameters!$C$28,Onglet_mapping_parameters!$B$28,Tableau1[[#This Row],[Category]]=Onglet_mapping_parameters!$C$29,Onglet_mapping_parameters!$B$29,Tableau1[[#This Row],[Category]]=Onglet_mapping_parameters!$C$30,Onglet_mapping_parameters!$B$30),\"\")","v":""},null,null,"Delete"]
[null,null,null,null,null,null,null,null,null,{"$f":"IFERROR(_xlfn.IFS(OR(F356=\"\",G356=\"\"),\"\",AND(F356<Onglet_mapping_parameters!$J$16,G356<Onglet_mapping_parameters!$J$16),Onglet_mapping_parameters!$J$18,AND(F356<Onglet_mapping_parameters!$J$16,G356>=Onglet_mapping_parameters!$J$16),Onglet_mapping_parameters!$J$20,AND(F356>=Onglet_mapping_parameters!$J$16,G356<Onglet_mapping_parameters!$J$16),Onglet_mapping_parameters!$J$21,AND(F356>=Onglet_mapping_parameters!$J$16,G356>=Onglet_mapping_parameters!$J$16),Onglet_mapping_parameters!$J$22),\"\")","v":""},null,{"$f":"IFERROR(_xlfn.IFS(Tableau1[[#This Row],[Category]]=Onglet_mapping_parameters!$C$27,Onglet_mapping_parameters!$B$27,Tableau1[[#This Row],[Category]]=Onglet_mapping_parameters!$C$28,Onglet_mapping_parameters!$B$28,Tableau1[[#This Row],[Category]]=Onglet_mapping_parameters!$C$29,Onglet_mapping_parameters!$B$29,Tableau1[[#This Row],[Category]]=Onglet_mapping_parameters!$C$30,Onglet_mapping_parameters!$B$30),\"\")","v":""},null,null,"Delete"]
[null,null,null,null,null,null,null,null,null,{"$f":"IFERROR(_xlfn.IFS(OR(F357=\"\",G357=\"\"),\"\",AND(F357<Onglet_mapping_parameters!$J$16,G357<Onglet_mapping_parameters!$J$16),Onglet_mapping_parameters!$J$18,AND(F357<Onglet_mapping_parameters!$J$16,G357>=Onglet_mapping_parameters!$J$16),Onglet_mapping_parameters!$J$20,AND(F357>=Onglet_mapping_parameters!$J$16,G357<Onglet_mapping_parameters!$J$16),Onglet_mapping_parameters!$J$21,AND(F357>=Onglet_mapping_parameters!$J$16,G357>=Onglet_mapping_parameters!$J$16),Onglet_mapping_parameters!$J$22),\"\")","v":""},null,{"$f":"IFERROR(_xlfn.IFS(Tableau1[[#This Row],[Category]]=Onglet_mapping_parameters!$C$27,Onglet_mapping_parameters!$B$27,Tableau1[[#This Row],[Category]]=Onglet_mapping_parameters!$C$28,Onglet_mapping_parameters!$B$28,Tableau1[[#This Row],[Category]]=Onglet_mapping_parameters!$C$29,Onglet_mapping_parameters!$B$29,Tableau1[[#This Row],[Category]]=Onglet_mapping_parameters!$C$30,Onglet_mapping_parameters!$B$30),\"\")","v":""},null,null,"Delete"]
[null,null,null,null,null,null,null,null,null,{"$f":"IFERROR(_xlfn.IFS(OR(F358=\"\",G358=\"\"),\"\",AND(F358<Onglet_mapping_parameters!$J$16,G358<Onglet_mapping_parameters!$J$16),Onglet_mapping_parameters!$J$18,AND(F358<Onglet_mapping_parameters!$J$16,G358>=Onglet_mapping_parameters!$J$16),Onglet_mapping_parameters!$J$20,AND(F358>=Onglet_mapping_parameters!$J$16,G358<Onglet_mapping_parameters!$J$16),Onglet_mapping_parameters!$J$21,AND(F358>=Onglet_mapping_parameters!$J$16,G358>=Onglet_mapping_parameters!$J$16),Onglet_mapping_parameters!$J$22),\"\")","v":""},null,{"$f":"IFERROR(_xlfn.IFS(Tableau1[[#This Row],[Category]]=Onglet_mapping_parameters!$C$27,Onglet_mapping_parameters!$B$27,Tableau1[[#This Row],[Category]]=Onglet_mapping_parameters!$C$28,Onglet_mapping_parameters!$B$28,Tableau1[[#This Row],[Category]]=Onglet_mapping_parameters!$C$29,Onglet_mapping_parameters!$B$29,Tableau1[[#This Row],[Category]]=Onglet_mapping_parameters!$C$30,Onglet_mapping_parameters!$B$30),\"\")","v":""},null,null,"Delete"]
[null,null,null,null,null,null,null,null,null,{"$f":"IFERROR(_xlfn.IFS(OR(F359=\"\",G359=\"\"),\"\",AND(F359<Onglet_mapping_parameters!$J$16,G359<Onglet_mapping_parameters!$J$16),Onglet_mapping_parameters!$J$18,AND(F359<Onglet_mapping_parameters!$J$16,G359>=Onglet_mapping_parameters!$J$16),Onglet_mapping_parameters!$J$20,AND(F359>=Onglet_mapping_parameters!$J$16,G359<Onglet_mapping_parameters!$J$16),Onglet_mapping_parameters!$J$21,AND(F359>=Onglet_mapping_parameters!$J$16,G359>=Onglet_mapping_parameters!$J$16),Onglet_mapping_parameters!$J$22),\"\")","v":""},null,{"$f":"IFERROR(_xlfn.IFS(Tableau1[[#This Row],[Category]]=Onglet_mapping_parameters!$C$27,Onglet_mapping_parameters!$B$27,Tableau1[[#This Row],[Category]]=Onglet_mapping_parameters!$C$28,Onglet_mapping_parameters!$B$28,Tableau1[[#This Row],[Category]]=Onglet_mapping_parameters!$C$29,Onglet_mapping_parameters!$B$29,Tableau1[[#This Row],[Category]]=Onglet_mapping_parameters!$C$30,Onglet_mapping_parameters!$B$30),\"\")","v":""},null,null,"Delete"]
[null,null,null,null,null,null,null,null,null,{"$f":"IFERROR(_xlfn.IFS(OR(F360=\"\",G360=\"\"),\"\",AND(F360<Onglet_mapping_parameters!$J$16,G360<Onglet_mapping_parameters!$J$16),Onglet_mapping_parameters!$J$18,AND(F360<Onglet_mapping_parameters!$J$16,G360>=Onglet_mapping_parameters!$J$16),Onglet_mapping_parameters!$J$20,AND(F360>=Onglet_mapping_parameters!$J$16,G360<Onglet_mapping_parameters!$J$16),Onglet_mapping_parameters!$J$21,AND(F360>=Onglet_mapping_parameters!$J$16,G360>=Onglet_mapping_parameters!$J$16),Onglet_mapping_parameters!$J$22),\"\")","v":""},null,{"$f":"IFERROR(_xlfn.IFS(Tableau1[[#This Row],[Category]]=Onglet_mapping_parameters!$C$27,Onglet_mapping_parameters!$B$27,Tableau1[[#This Row],[Category]]=Onglet_mapping_parameters!$C$28,Onglet_mapping_parameters!$B$28,Tableau1[[#This Row],[Category]]=Onglet_mapping_parameters!$C$29,Onglet_mapping_parameters!$B$29,Tableau1[[#This Row],[Category]]=Onglet_mapping_parameters!$C$30,Onglet_mapping_parameters!$B$30),\"\")","v":""},null,null,"Delete"]
[null,null,null,null,null,null,null,null,null,{"$f":"IFERROR(_xlfn.IFS(OR(F361=\"\",G361=\"\"),\"\",AND(F361<Onglet_mapping_parameters!$J$16,G361<Onglet_mapping_parameters!$J$16),Onglet_mapping_parameters!$J$18,AND(F361<Onglet_mapping_parameters!$J$16,G361>=Onglet_mapping_parameters!$J$16),Onglet_mapping_parameters!$J$20,AND(F361>=Onglet_mapping_parameters!$J$16,G361<Onglet_mapping_parameters!$J$16),Onglet_mapping_parameters!$J$21,AND(F361>=Onglet_mapping_parameters!$J$16,G361>=Onglet_mapping_parameters!$J$16),Onglet_mapping_parameters!$J$22),\"\")","v":""},null,{"$f":"IFERROR(_xlfn.IFS(Tableau1[[#This Row],[Category]]=Onglet_mapping_parameters!$C$27,Onglet_mapping_parameters!$B$27,Tableau1[[#This Row],[Category]]=Onglet_mapping_parameters!$C$28,Onglet_mapping_parameters!$B$28,Tableau1[[#This Row],[Category]]=Onglet_mapping_parameters!$C$29,Onglet_mapping_parameters!$B$29,Tableau1[[#This Row],[Category]]=Onglet_mapping_parameters!$C$30,Onglet_mapping_parameters!$B$30),\"\")","v":""},null,null,"Delete"]
[null,null,null,null,null,null,null,null,null,{"$f":"IFERROR(_xlfn.IFS(OR(F362=\"\",G362=\"\"),\"\",AND(F362<Onglet_mapping_parameters!$J$16,G362<Onglet_mapping_parameters!$J$16),Onglet_mapping_parameters!$J$18,AND(F362<Onglet_mapping_parameters!$J$16,G362>=Onglet_mapping_parameters!$J$16),Onglet_mapping_parameters!$J$20,AND(F362>=Onglet_mapping_parameters!$J$16,G362<Onglet_mapping_parameters!$J$16),Onglet_mapping_parameters!$J$21,AND(F362>=Onglet_mapping_parameters!$J$16,G362>=Onglet_mapping_parameters!$J$16),Onglet_mapping_parameters!$J$22),\"\")","v":""},null,{"$f":"IFERROR(_xlfn.IFS(Tableau1[[#This Row],[Category]]=Onglet_mapping_parameters!$C$27,Onglet_mapping_parameters!$B$27,Tableau1[[#This Row],[Category]]=Onglet_mapping_parameters!$C$28,Onglet_mapping_parameters!$B$28,Tableau1[[#This Row],[Category]]=Onglet_mapping_parameters!$C$29,Onglet_mapping_parameters!$B$29,Tableau1[[#This Row],[Category]]=Onglet_mapping_parameters!$C$30,Onglet_mapping_parameters!$B$30),\"\")","v":""},null,null,"Delete"]
[null,null,null,null,null,null,null,null,null,{"$f":"IFERROR(_xlfn.IFS(OR(F363=\"\",G363=\"\"),\"\",AND(F363<Onglet_mapping_parameters!$J$16,G363<Onglet_mapping_parameters!$J$16),Onglet_mapping_parameters!$J$18,AND(F363<Onglet_mapping_parameters!$J$16,G363>=Onglet_mapping_parameters!$J$16),Onglet_mapping_parameters!$J$20,AND(F363>=Onglet_mapping_parameters!$J$16,G363<Onglet_mapping_parameters!$J$16),Onglet_mapping_parameters!$J$21,AND(F363>=Onglet_mapping_parameters!$J$16,G363>=Onglet_mapping_parameters!$J$16),Onglet_mapping_parameters!$J$22),\"\")","v":""},null,{"$f":"IFERROR(_xlfn.IFS(Tableau1[[#This Row],[Category]]=Onglet_mapping_parameters!$C$27,Onglet_mapping_parameters!$B$27,Tableau1[[#This Row],[Category]]=Onglet_mapping_parameters!$C$28,Onglet_mapping_parameters!$B$28,Tableau1[[#This Row],[Category]]=Onglet_mapping_parameters!$C$29,Onglet_mapping_parameters!$B$29,Tableau1[[#This Row],[Category]]=Onglet_mapping_parameters!$C$30,Onglet_mapping_parameters!$B$30),\"\")","v":""},null,null,"Delete"]
[null,null,null,null,null,null,null,null,null,{"$f":"IFERROR(_xlfn.IFS(OR(F364=\"\",G364=\"\"),\"\",AND(F364<Onglet_mapping_parameters!$J$16,G364<Onglet_mapping_parameters!$J$16),Onglet_mapping_parameters!$J$18,AND(F364<Onglet_mapping_parameters!$J$16,G364>=Onglet_mapping_parameters!$J$16),Onglet_mapping_parameters!$J$20,AND(F364>=Onglet_mapping_parameters!$J$16,G364<Onglet_mapping_parameters!$J$16),Onglet_mapping_parameters!$J$21,AND(F364>=Onglet_mapping_parameters!$J$16,G364>=Onglet_mapping_parameters!$J$16),Onglet_mapping_parameters!$J$22),\"\")","v":""},null,{"$f":"IFERROR(_xlfn.IFS(Tableau1[[#This Row],[Category]]=Onglet_mapping_parameters!$C$27,Onglet_mapping_parameters!$B$27,Tableau1[[#This Row],[Category]]=Onglet_mapping_parameters!$C$28,Onglet_mapping_parameters!$B$28,Tableau1[[#This Row],[Category]]=Onglet_mapping_parameters!$C$29,Onglet_mapping_parameters!$B$29,Tableau1[[#This Row],[Category]]=Onglet_mapping_parameters!$C$30,Onglet_mapping_parameters!$B$30),\"\")","v":""},null,null,"Delete"]
[null,null,null,null,null,null,null,null,null,{"$f":"IFERROR(_xlfn.IFS(OR(F365=\"\",G365=\"\"),\"\",AND(F365<Onglet_mapping_parameters!$J$16,G365<Onglet_mapping_parameters!$J$16),Onglet_mapping_parameters!$J$18,AND(F365<Onglet_mapping_parameters!$J$16,G365>=Onglet_mapping_parameters!$J$16),Onglet_mapping_parameters!$J$20,AND(F365>=Onglet_mapping_parameters!$J$16,G365<Onglet_mapping_parameters!$J$16),Onglet_mapping_parameters!$J$21,AND(F365>=Onglet_mapping_parameters!$J$16,G365>=Onglet_mapping_parameters!$J$16),Onglet_mapping_parameters!$J$22),\"\")","v":""},null,{"$f":"IFERROR(_xlfn.IFS(Tableau1[[#This Row],[Category]]=Onglet_mapping_parameters!$C$27,Onglet_mapping_parameters!$B$27,Tableau1[[#This Row],[Category]]=Onglet_mapping_parameters!$C$28,Onglet_mapping_parameters!$B$28,Tableau1[[#This Row],[Category]]=Onglet_mapping_parameters!$C$29,Onglet_mapping_parameters!$B$29,Tableau1[[#This Row],[Category]]=Onglet_mapping_parameters!$C$30,Onglet_mapping_parameters!$B$30),\"\")","v":""},null,null,"Delete"]
[null,null,null,null,null,null,null,null,null,{"$f":"IFERROR(_xlfn.IFS(OR(F366=\"\",G366=\"\"),\"\",AND(F366<Onglet_mapping_parameters!$J$16,G366<Onglet_mapping_parameters!$J$16),Onglet_mapping_parameters!$J$18,AND(F366<Onglet_mapping_parameters!$J$16,G366>=Onglet_mapping_parameters!$J$16),Onglet_mapping_parameters!$J$20,AND(F366>=Onglet_mapping_parameters!$J$16,G366<Onglet_mapping_parameters!$J$16),Onglet_mapping_parameters!$J$21,AND(F366>=Onglet_mapping_parameters!$J$16,G366>=Onglet_mapping_parameters!$J$16),Onglet_mapping_parameters!$J$22),\"\")","v":""},null,{"$f":"IFERROR(_xlfn.IFS(Tableau1[[#This Row],[Category]]=Onglet_mapping_parameters!$C$27,Onglet_mapping_parameters!$B$27,Tableau1[[#This Row],[Category]]=Onglet_mapping_parameters!$C$28,Onglet_mapping_parameters!$B$28,Tableau1[[#This Row],[Category]]=Onglet_mapping_parameters!$C$29,Onglet_mapping_parameters!$B$29,Tableau1[[#This Row],[Category]]=Onglet_mapping_parameters!$C$30,Onglet_mapping_parameters!$B$30),\"\")","v":""},null,null,"Delete"]
[null,null,null,null,null,null,null,null,null,{"$f":"IFERROR(_xlfn.IFS(OR(F367=\"\",G367=\"\"),\"\",AND(F367<Onglet_mapping_parameters!$J$16,G367<Onglet_mapping_parameters!$J$16),Onglet_mapping_parameters!$J$18,AND(F367<Onglet_mapping_parameters!$J$16,G367>=Onglet_mapping_parameters!$J$16),Onglet_mapping_parameters!$J$20,AND(F367>=Onglet_mapping_parameters!$J$16,G367<Onglet_mapping_parameters!$J$16),Onglet_mapping_parameters!$J$21,AND(F367>=Onglet_mapping_parameters!$J$16,G367>=Onglet_mapping_parameters!$J$16),Onglet_mapping_parameters!$J$22),\"\")","v":""},null,{"$f":"IFERROR(_xlfn.IFS(Tableau1[[#This Row],[Category]]=Onglet_mapping_parameters!$C$27,Onglet_mapping_parameters!$B$27,Tableau1[[#This Row],[Category]]=Onglet_mapping_parameters!$C$28,Onglet_mapping_parameters!$B$28,Tableau1[[#This Row],[Category]]=Onglet_mapping_parameters!$C$29,Onglet_mapping_parameters!$B$29,Tableau1[[#This Row],[Category]]=Onglet_mapping_parameters!$C$30,Onglet_mapping_parameters!$B$30),\"\")","v":""},null,null,"Delete"]
[null,null,null,null,null,null,null,null,null,{"$f":"IFERROR(_xlfn.IFS(OR(F368=\"\",G368=\"\"),\"\",AND(F368<Onglet_mapping_parameters!$J$16,G368<Onglet_mapping_parameters!$J$16),Onglet_mapping_parameters!$J$18,AND(F368<Onglet_mapping_parameters!$J$16,G368>=Onglet_mapping_parameters!$J$16),Onglet_mapping_parameters!$J$20,AND(F368>=Onglet_mapping_parameters!$J$16,G368<Onglet_mapping_parameters!$J$16),Onglet_mapping_parameters!$J$21,AND(F368>=Onglet_mapping_parameters!$J$16,G368>=Onglet_mapping_parameters!$J$16),Onglet_mapping_parameters!$J$22),\"\")","v":""},null,{"$f":"IFERROR(_xlfn.IFS(Tableau1[[#This Row],[Category]]=Onglet_mapping_parameters!$C$27,Onglet_mapping_parameters!$B$27,Tableau1[[#This Row],[Category]]=Onglet_mapping_parameters!$C$28,Onglet_mapping_parameters!$B$28,Tableau1[[#This Row],[Category]]=Onglet_mapping_parameters!$C$29,Onglet_mapping_parameters!$B$29,Tableau1[[#This Row],[Category]]=Onglet_mapping_parameters!$C$30,Onglet_mapping_parameters!$B$30),\"\")","v":""},null,null,"Delete"]
[null,null,null,null,null,null,null,null,null,{"$f":"IFERROR(_xlfn.IFS(OR(F369=\"\",G369=\"\"),\"\",AND(F369<Onglet_mapping_parameters!$J$16,G369<Onglet_mapping_parameters!$J$16),Onglet_mapping_parameters!$J$18,AND(F369<Onglet_mapping_parameters!$J$16,G369>=Onglet_mapping_parameters!$J$16),Onglet_mapping_parameters!$J$20,AND(F369>=Onglet_mapping_parameters!$J$16,G369<Onglet_mapping_parameters!$J$16),Onglet_mapping_parameters!$J$21,AND(F369>=Onglet_mapping_parameters!$J$16,G369>=Onglet_mapping_parameters!$J$16),Onglet_mapping_parameters!$J$22),\"\")","v":""},null,{"$f":"IFERROR(_xlfn.IFS(Tableau1[[#This Row],[Category]]=Onglet_mapping_parameters!$C$27,Onglet_mapping_parameters!$B$27,Tableau1[[#This Row],[Category]]=Onglet_mapping_parameters!$C$28,Onglet_mapping_parameters!$B$28,Tableau1[[#This Row],[Category]]=Onglet_mapping_parameters!$C$29,Onglet_mapping_parameters!$B$29,Tableau1[[#This Row],[Category]]=Onglet_mapping_parameters!$C$30,Onglet_mapping_parameters!$B$30),\"\")","v":""},null,null,"Delete"]
[null,null,null,null,null,null,null,null,null,{"$f":"IFERROR(_xlfn.IFS(OR(F370=\"\",G370=\"\"),\"\",AND(F370<Onglet_mapping_parameters!$J$16,G370<Onglet_mapping_parameters!$J$16),Onglet_mapping_parameters!$J$18,AND(F370<Onglet_mapping_parameters!$J$16,G370>=Onglet_mapping_parameters!$J$16),Onglet_mapping_parameters!$J$20,AND(F370>=Onglet_mapping_parameters!$J$16,G370<Onglet_mapping_parameters!$J$16),Onglet_mapping_parameters!$J$21,AND(F370>=Onglet_mapping_parameters!$J$16,G370>=Onglet_mapping_parameters!$J$16),Onglet_mapping_parameters!$J$22),\"\")","v":""},null,{"$f":"IFERROR(_xlfn.IFS(Tableau1[[#This Row],[Category]]=Onglet_mapping_parameters!$C$27,Onglet_mapping_parameters!$B$27,Tableau1[[#This Row],[Category]]=Onglet_mapping_parameters!$C$28,Onglet_mapping_parameters!$B$28,Tableau1[[#This Row],[Category]]=Onglet_mapping_parameters!$C$29,Onglet_mapping_parameters!$B$29,Tableau1[[#This Row],[Category]]=Onglet_mapping_parameters!$C$30,Onglet_mapping_parameters!$B$30),\"\")","v":""},null,null,"Delete"]
[null,null,null,null,null,null,null,null,null,{"$f":"IFERROR(_xlfn.IFS(OR(F371=\"\",G371=\"\"),\"\",AND(F371<Onglet_mapping_parameters!$J$16,G371<Onglet_mapping_parameters!$J$16),Onglet_mapping_parameters!$J$18,AND(F371<Onglet_mapping_parameters!$J$16,G371>=Onglet_mapping_parameters!$J$16),Onglet_mapping_parameters!$J$20,AND(F371>=Onglet_mapping_parameters!$J$16,G371<Onglet_mapping_parameters!$J$16),Onglet_mapping_parameters!$J$21,AND(F371>=Onglet_mapping_parameters!$J$16,G371>=Onglet_mapping_parameters!$J$16),Onglet_mapping_parameters!$J$22),\"\")","v":""},null,{"$f":"IFERROR(_xlfn.IFS(Tableau1[[#This Row],[Category]]=Onglet_mapping_parameters!$C$27,Onglet_mapping_parameters!$B$27,Tableau1[[#This Row],[Category]]=Onglet_mapping_parameters!$C$28,Onglet_mapping_parameters!$B$28,Tableau1[[#This Row],[Category]]=Onglet_mapping_parameters!$C$29,Onglet_mapping_parameters!$B$29,Tableau1[[#This Row],[Category]]=Onglet_mapping_parameters!$C$30,Onglet_mapping_parameters!$B$30),\"\")","v":""},null,null,"Delete"]
[null,null,null,null,null,null,null,null,null,{"$f":"IFERROR(_xlfn.IFS(OR(F372=\"\",G372=\"\"),\"\",AND(F372<Onglet_mapping_parameters!$J$16,G372<Onglet_mapping_parameters!$J$16),Onglet_mapping_parameters!$J$18,AND(F372<Onglet_mapping_parameters!$J$16,G372>=Onglet_mapping_parameters!$J$16),Onglet_mapping_parameters!$J$20,AND(F372>=Onglet_mapping_parameters!$J$16,G372<Onglet_mapping_parameters!$J$16),Onglet_mapping_parameters!$J$21,AND(F372>=Onglet_mapping_parameters!$J$16,G372>=Onglet_mapping_parameters!$J$16),Onglet_mapping_parameters!$J$22),\"\")","v":""},null,{"$f":"IFERROR(_xlfn.IFS(Tableau1[[#This Row],[Category]]=Onglet_mapping_parameters!$C$27,Onglet_mapping_parameters!$B$27,Tableau1[[#This Row],[Category]]=Onglet_mapping_parameters!$C$28,Onglet_mapping_parameters!$B$28,Tableau1[[#This Row],[Category]]=Onglet_mapping_parameters!$C$29,Onglet_mapping_parameters!$B$29,Tableau1[[#This Row],[Category]]=Onglet_mapping_parameters!$C$30,Onglet_mapping_parameters!$B$30),\"\")","v":""},null,null,"Delete"]
[null,null,null,null,null,null,null,null,null,{"$f":"IFERROR(_xlfn.IFS(OR(F373=\"\",G373=\"\"),\"\",AND(F373<Onglet_mapping_parameters!$J$16,G373<Onglet_mapping_parameters!$J$16),Onglet_mapping_parameters!$J$18,AND(F373<Onglet_mapping_parameters!$J$16,G373>=Onglet_mapping_parameters!$J$16),Onglet_mapping_parameters!$J$20,AND(F373>=Onglet_mapping_parameters!$J$16,G373<Onglet_mapping_parameters!$J$16),Onglet_mapping_parameters!$J$21,AND(F373>=Onglet_mapping_parameters!$J$16,G373>=Onglet_mapping_parameters!$J$16),Onglet_mapping_parameters!$J$22),\"\")","v":""},null,{"$f":"IFERROR(_xlfn.IFS(Tableau1[[#This Row],[Category]]=Onglet_mapping_parameters!$C$27,Onglet_mapping_parameters!$B$27,Tableau1[[#This Row],[Category]]=Onglet_mapping_parameters!$C$28,Onglet_mapping_parameters!$B$28,Tableau1[[#This Row],[Category]]=Onglet_mapping_parameters!$C$29,Onglet_mapping_parameters!$B$29,Tableau1[[#This Row],[Category]]=Onglet_mapping_parameters!$C$30,Onglet_mapping_parameters!$B$30),\"\")","v":""},null,null,"Delete"]
[null,null,null,null,null,null,null,null,null,{"$f":"IFERROR(_xlfn.IFS(OR(F374=\"\",G374=\"\"),\"\",AND(F374<Onglet_mapping_parameters!$J$16,G374<Onglet_mapping_parameters!$J$16),Onglet_mapping_parameters!$J$18,AND(F374<Onglet_mapping_parameters!$J$16,G374>=Onglet_mapping_parameters!$J$16),Onglet_mapping_parameters!$J$20,AND(F374>=Onglet_mapping_parameters!$J$16,G374<Onglet_mapping_parameters!$J$16),Onglet_mapping_parameters!$J$21,AND(F374>=Onglet_mapping_parameters!$J$16,G374>=Onglet_mapping_parameters!$J$16),Onglet_mapping_parameters!$J$22),\"\")","v":""},null,{"$f":"IFERROR(_xlfn.IFS(Tableau1[[#This Row],[Category]]=Onglet_mapping_parameters!$C$27,Onglet_mapping_parameters!$B$27,Tableau1[[#This Row],[Category]]=Onglet_mapping_parameters!$C$28,Onglet_mapping_parameters!$B$28,Tableau1[[#This Row],[Category]]=Onglet_mapping_parameters!$C$29,Onglet_mapping_parameters!$B$29,Tableau1[[#This Row],[Category]]=Onglet_mapping_parameters!$C$30,Onglet_mapping_parameters!$B$30),\"\")","v":""},null,null,"Delete"]
[null,null,null,null,null,null,null,null,null,{"$f":"IFERROR(_xlfn.IFS(OR(F375=\"\",G375=\"\"),\"\",AND(F375<Onglet_mapping_parameters!$J$16,G375<Onglet_mapping_parameters!$J$16),Onglet_mapping_parameters!$J$18,AND(F375<Onglet_mapping_parameters!$J$16,G375>=Onglet_mapping_parameters!$J$16),Onglet_mapping_parameters!$J$20,AND(F375>=Onglet_mapping_parameters!$J$16,G375<Onglet_mapping_parameters!$J$16),Onglet_mapping_parameters!$J$21,AND(F375>=Onglet_mapping_parameters!$J$16,G375>=Onglet_mapping_parameters!$J$16),Onglet_mapping_parameters!$J$22),\"\")","v":""},null,{"$f":"IFERROR(_xlfn.IFS(Tableau1[[#This Row],[Category]]=Onglet_mapping_parameters!$C$27,Onglet_mapping_parameters!$B$27,Tableau1[[#This Row],[Category]]=Onglet_mapping_parameters!$C$28,Onglet_mapping_parameters!$B$28,Tableau1[[#This Row],[Category]]=Onglet_mapping_parameters!$C$29,Onglet_mapping_parameters!$B$29,Tableau1[[#This Row],[Category]]=Onglet_mapping_parameters!$C$30,Onglet_mapping_parameters!$B$30),\"\")","v":""},null,null,"Delete"]
[null,null,null,null,null,null,null,null,null,{"$f":"IFERROR(_xlfn.IFS(OR(F376=\"\",G376=\"\"),\"\",AND(F376<Onglet_mapping_parameters!$J$16,G376<Onglet_mapping_parameters!$J$16),Onglet_mapping_parameters!$J$18,AND(F376<Onglet_mapping_parameters!$J$16,G376>=Onglet_mapping_parameters!$J$16),Onglet_mapping_parameters!$J$20,AND(F376>=Onglet_mapping_parameters!$J$16,G376<Onglet_mapping_parameters!$J$16),Onglet_mapping_parameters!$J$21,AND(F376>=Onglet_mapping_parameters!$J$16,G376>=Onglet_mapping_parameters!$J$16),Onglet_mapping_parameters!$J$22),\"\")","v":""},null,{"$f":"IFERROR(_xlfn.IFS(Tableau1[[#This Row],[Category]]=Onglet_mapping_parameters!$C$27,Onglet_mapping_parameters!$B$27,Tableau1[[#This Row],[Category]]=Onglet_mapping_parameters!$C$28,Onglet_mapping_parameters!$B$28,Tableau1[[#This Row],[Category]]=Onglet_mapping_parameters!$C$29,Onglet_mapping_parameters!$B$29,Tableau1[[#This Row],[Category]]=Onglet_mapping_parameters!$C$30,Onglet_mapping_parameters!$B$30),\"\")","v":""},null,null,"Delete"]
[null,null,null,null,null,null,null,null,null,{"$f":"IFERROR(_xlfn.IFS(OR(F377=\"\",G377=\"\"),\"\",AND(F377<Onglet_mapping_parameters!$J$16,G377<Onglet_mapping_parameters!$J$16),Onglet_mapping_parameters!$J$18,AND(F377<Onglet_mapping_parameters!$J$16,G377>=Onglet_mapping_parameters!$J$16),Onglet_mapping_parameters!$J$20,AND(F377>=Onglet_mapping_parameters!$J$16,G377<Onglet_mapping_parameters!$J$16),Onglet_mapping_parameters!$J$21,AND(F377>=Onglet_mapping_parameters!$J$16,G377>=Onglet_mapping_parameters!$J$16),Onglet_mapping_parameters!$J$22),\"\")","v":""},null,{"$f":"IFERROR(_xlfn.IFS(Tableau1[[#This Row],[Category]]=Onglet_mapping_parameters!$C$27,Onglet_mapping_parameters!$B$27,Tableau1[[#This Row],[Category]]=Onglet_mapping_parameters!$C$28,Onglet_mapping_parameters!$B$28,Tableau1[[#This Row],[Category]]=Onglet_mapping_parameters!$C$29,Onglet_mapping_parameters!$B$29,Tableau1[[#This Row],[Category]]=Onglet_mapping_parameters!$C$30,Onglet_mapping_parameters!$B$30),\"\")","v":""},null,null,"Delete"]
[null,null,null,null,null,null,null,null,null,{"$f":"IFERROR(_xlfn.IFS(OR(F378=\"\",G378=\"\"),\"\",AND(F378<Onglet_mapping_parameters!$J$16,G378<Onglet_mapping_parameters!$J$16),Onglet_mapping_parameters!$J$18,AND(F378<Onglet_mapping_parameters!$J$16,G378>=Onglet_mapping_parameters!$J$16),Onglet_mapping_parameters!$J$20,AND(F378>=Onglet_mapping_parameters!$J$16,G378<Onglet_mapping_parameters!$J$16),Onglet_mapping_parameters!$J$21,AND(F378>=Onglet_mapping_parameters!$J$16,G378>=Onglet_mapping_parameters!$J$16),Onglet_mapping_parameters!$J$22),\"\")","v":""},null,{"$f":"IFERROR(_xlfn.IFS(Tableau1[[#This Row],[Category]]=Onglet_mapping_parameters!$C$27,Onglet_mapping_parameters!$B$27,Tableau1[[#This Row],[Category]]=Onglet_mapping_parameters!$C$28,Onglet_mapping_parameters!$B$28,Tableau1[[#This Row],[Category]]=Onglet_mapping_parameters!$C$29,Onglet_mapping_parameters!$B$29,Tableau1[[#This Row],[Category]]=Onglet_mapping_parameters!$C$30,Onglet_mapping_parameters!$B$30),\"\")","v":""},null,null,"Delete"]
[null,null,null,null,null,null,null,null,null,{"$f":"IFERROR(_xlfn.IFS(OR(F379=\"\",G379=\"\"),\"\",AND(F379<Onglet_mapping_parameters!$J$16,G379<Onglet_mapping_parameters!$J$16),Onglet_mapping_parameters!$J$18,AND(F379<Onglet_mapping_parameters!$J$16,G379>=Onglet_mapping_parameters!$J$16),Onglet_mapping_parameters!$J$20,AND(F379>=Onglet_mapping_parameters!$J$16,G379<Onglet_mapping_parameters!$J$16),Onglet_mapping_parameters!$J$21,AND(F379>=Onglet_mapping_parameters!$J$16,G379>=Onglet_mapping_parameters!$J$16),Onglet_mapping_parameters!$J$22),\"\")","v":""},null,{"$f":"IFERROR(_xlfn.IFS(Tableau1[[#This Row],[Category]]=Onglet_mapping_parameters!$C$27,Onglet_mapping_parameters!$B$27,Tableau1[[#This Row],[Category]]=Onglet_mapping_parameters!$C$28,Onglet_mapping_parameters!$B$28,Tableau1[[#This Row],[Category]]=Onglet_mapping_parameters!$C$29,Onglet_mapping_parameters!$B$29,Tableau1[[#This Row],[Category]]=Onglet_mapping_parameters!$C$30,Onglet_mapping_parameters!$B$30),\"\")","v":""},null,null,"Delete"]
[null,null,null,null,null,null,null,null,null,{"$f":"IFERROR(_xlfn.IFS(OR(F380=\"\",G380=\"\"),\"\",AND(F380<Onglet_mapping_parameters!$J$16,G380<Onglet_mapping_parameters!$J$16),Onglet_mapping_parameters!$J$18,AND(F380<Onglet_mapping_parameters!$J$16,G380>=Onglet_mapping_parameters!$J$16),Onglet_mapping_parameters!$J$20,AND(F380>=Onglet_mapping_parameters!$J$16,G380<Onglet_mapping_parameters!$J$16),Onglet_mapping_parameters!$J$21,AND(F380>=Onglet_mapping_parameters!$J$16,G380>=Onglet_mapping_parameters!$J$16),Onglet_mapping_parameters!$J$22),\"\")","v":""},null,{"$f":"IFERROR(_xlfn.IFS(Tableau1[[#This Row],[Category]]=Onglet_mapping_parameters!$C$27,Onglet_mapping_parameters!$B$27,Tableau1[[#This Row],[Category]]=Onglet_mapping_parameters!$C$28,Onglet_mapping_parameters!$B$28,Tableau1[[#This Row],[Category]]=Onglet_mapping_parameters!$C$29,Onglet_mapping_parameters!$B$29,Tableau1[[#This Row],[Category]]=Onglet_mapping_parameters!$C$30,Onglet_mapping_parameters!$B$30),\"\")","v":""},null,null,"Delete"]
[null,null,null,null,null,null,null,null,null,{"$f":"IFERROR(_xlfn.IFS(OR(F381=\"\",G381=\"\"),\"\",AND(F381<Onglet_mapping_parameters!$J$16,G381<Onglet_mapping_parameters!$J$16),Onglet_mapping_parameters!$J$18,AND(F381<Onglet_mapping_parameters!$J$16,G381>=Onglet_mapping_parameters!$J$16),Onglet_mapping_parameters!$J$20,AND(F381>=Onglet_mapping_parameters!$J$16,G381<Onglet_mapping_parameters!$J$16),Onglet_mapping_parameters!$J$21,AND(F381>=Onglet_mapping_parameters!$J$16,G381>=Onglet_mapping_parameters!$J$16),Onglet_mapping_parameters!$J$22),\"\")","v":""},null,{"$f":"IFERROR(_xlfn.IFS(Tableau1[[#This Row],[Category]]=Onglet_mapping_parameters!$C$27,Onglet_mapping_parameters!$B$27,Tableau1[[#This Row],[Category]]=Onglet_mapping_parameters!$C$28,Onglet_mapping_parameters!$B$28,Tableau1[[#This Row],[Category]]=Onglet_mapping_parameters!$C$29,Onglet_mapping_parameters!$B$29,Tableau1[[#This Row],[Category]]=Onglet_mapping_parameters!$C$30,Onglet_mapping_parameters!$B$30),\"\")","v":""},null,null,"Delete"]
[null,null,null,null,null,null,null,null,null,{"$f":"IFERROR(_xlfn.IFS(OR(F382=\"\",G382=\"\"),\"\",AND(F382<Onglet_mapping_parameters!$J$16,G382<Onglet_mapping_parameters!$J$16),Onglet_mapping_parameters!$J$18,AND(F382<Onglet_mapping_parameters!$J$16,G382>=Onglet_mapping_parameters!$J$16),Onglet_mapping_parameters!$J$20,AND(F382>=Onglet_mapping_parameters!$J$16,G382<Onglet_mapping_parameters!$J$16),Onglet_mapping_parameters!$J$21,AND(F382>=Onglet_mapping_parameters!$J$16,G382>=Onglet_mapping_parameters!$J$16),Onglet_mapping_parameters!$J$22),\"\")","v":""},null,{"$f":"IFERROR(_xlfn.IFS(Tableau1[[#This Row],[Category]]=Onglet_mapping_parameters!$C$27,Onglet_mapping_parameters!$B$27,Tableau1[[#This Row],[Category]]=Onglet_mapping_parameters!$C$28,Onglet_mapping_parameters!$B$28,Tableau1[[#This Row],[Category]]=Onglet_mapping_parameters!$C$29,Onglet_mapping_parameters!$B$29,Tableau1[[#This Row],[Category]]=Onglet_mapping_parameters!$C$30,Onglet_mapping_parameters!$B$30),\"\")","v":""},null,null,"Delete"]
[null,null,null,null,null,null,null,null,null,{"$f":"IFERROR(_xlfn.IFS(OR(F383=\"\",G383=\"\"),\"\",AND(F383<Onglet_mapping_parameters!$J$16,G383<Onglet_mapping_parameters!$J$16),Onglet_mapping_parameters!$J$18,AND(F383<Onglet_mapping_parameters!$J$16,G383>=Onglet_mapping_parameters!$J$16),Onglet_mapping_parameters!$J$20,AND(F383>=Onglet_mapping_parameters!$J$16,G383<Onglet_mapping_parameters!$J$16),Onglet_mapping_parameters!$J$21,AND(F383>=Onglet_mapping_parameters!$J$16,G383>=Onglet_mapping_parameters!$J$16),Onglet_mapping_parameters!$J$22),\"\")","v":""},null,{"$f":"IFERROR(_xlfn.IFS(Tableau1[[#This Row],[Category]]=Onglet_mapping_parameters!$C$27,Onglet_mapping_parameters!$B$27,Tableau1[[#This Row],[Category]]=Onglet_mapping_parameters!$C$28,Onglet_mapping_parameters!$B$28,Tableau1[[#This Row],[Category]]=Onglet_mapping_parameters!$C$29,Onglet_mapping_parameters!$B$29,Tableau1[[#This Row],[Category]]=Onglet_mapping_parameters!$C$30,Onglet_mapping_parameters!$B$30),\"\")","v":""},null,null,"Delete"]
[null,null,null,null,null,null,null,null,null,{"$f":"IFERROR(_xlfn.IFS(OR(F384=\"\",G384=\"\"),\"\",AND(F384<Onglet_mapping_parameters!$J$16,G384<Onglet_mapping_parameters!$J$16),Onglet_mapping_parameters!$J$18,AND(F384<Onglet_mapping_parameters!$J$16,G384>=Onglet_mapping_parameters!$J$16),Onglet_mapping_parameters!$J$20,AND(F384>=Onglet_mapping_parameters!$J$16,G384<Onglet_mapping_parameters!$J$16),Onglet_mapping_parameters!$J$21,AND(F384>=Onglet_mapping_parameters!$J$16,G384>=Onglet_mapping_parameters!$J$16),Onglet_mapping_parameters!$J$22),\"\")","v":""},null,{"$f":"IFERROR(_xlfn.IFS(Tableau1[[#This Row],[Category]]=Onglet_mapping_parameters!$C$27,Onglet_mapping_parameters!$B$27,Tableau1[[#This Row],[Category]]=Onglet_mapping_parameters!$C$28,Onglet_mapping_parameters!$B$28,Tableau1[[#This Row],[Category]]=Onglet_mapping_parameters!$C$29,Onglet_mapping_parameters!$B$29,Tableau1[[#This Row],[Category]]=Onglet_mapping_parameters!$C$30,Onglet_mapping_parameters!$B$30),\"\")","v":""},null,null,"Delete"]
[null,null,null,null,null,null,null,null,null,{"$f":"IFERROR(_xlfn.IFS(OR(F385=\"\",G385=\"\"),\"\",AND(F385<Onglet_mapping_parameters!$J$16,G385<Onglet_mapping_parameters!$J$16),Onglet_mapping_parameters!$J$18,AND(F385<Onglet_mapping_parameters!$J$16,G385>=Onglet_mapping_parameters!$J$16),Onglet_mapping_parameters!$J$20,AND(F385>=Onglet_mapping_parameters!$J$16,G385<Onglet_mapping_parameters!$J$16),Onglet_mapping_parameters!$J$21,AND(F385>=Onglet_mapping_parameters!$J$16,G385>=Onglet_mapping_parameters!$J$16),Onglet_mapping_parameters!$J$22),\"\")","v":""},null,{"$f":"IFERROR(_xlfn.IFS(Tableau1[[#This Row],[Category]]=Onglet_mapping_parameters!$C$27,Onglet_mapping_parameters!$B$27,Tableau1[[#This Row],[Category]]=Onglet_mapping_parameters!$C$28,Onglet_mapping_parameters!$B$28,Tableau1[[#This Row],[Category]]=Onglet_mapping_parameters!$C$29,Onglet_mapping_parameters!$B$29,Tableau1[[#This Row],[Category]]=Onglet_mapping_parameters!$C$30,Onglet_mapping_parameters!$B$30),\"\")","v":""},null,null,"Delete"]
[null,null,null,null,null,null,null,null,null,{"$f":"IFERROR(_xlfn.IFS(OR(F386=\"\",G386=\"\"),\"\",AND(F386<Onglet_mapping_parameters!$J$16,G386<Onglet_mapping_parameters!$J$16),Onglet_mapping_parameters!$J$18,AND(F386<Onglet_mapping_parameters!$J$16,G386>=Onglet_mapping_parameters!$J$16),Onglet_mapping_parameters!$J$20,AND(F386>=Onglet_mapping_parameters!$J$16,G386<Onglet_mapping_parameters!$J$16),Onglet_mapping_parameters!$J$21,AND(F386>=Onglet_mapping_parameters!$J$16,G386>=Onglet_mapping_parameters!$J$16),Onglet_mapping_parameters!$J$22),\"\")","v":""},null,{"$f":"IFERROR(_xlfn.IFS(Tableau1[[#This Row],[Category]]=Onglet_mapping_parameters!$C$27,Onglet_mapping_parameters!$B$27,Tableau1[[#This Row],[Category]]=Onglet_mapping_parameters!$C$28,Onglet_mapping_parameters!$B$28,Tableau1[[#This Row],[Category]]=Onglet_mapping_parameters!$C$29,Onglet_mapping_parameters!$B$29,Tableau1[[#This Row],[Category]]=Onglet_mapping_parameters!$C$30,Onglet_mapping_parameters!$B$30),\"\")","v":""},null,null,"Delete"]
[null,null,null,null,null,null,null,null,null,{"$f":"IFERROR(_xlfn.IFS(OR(F387=\"\",G387=\"\"),\"\",AND(F387<Onglet_mapping_parameters!$J$16,G387<Onglet_mapping_parameters!$J$16),Onglet_mapping_parameters!$J$18,AND(F387<Onglet_mapping_parameters!$J$16,G387>=Onglet_mapping_parameters!$J$16),Onglet_mapping_parameters!$J$20,AND(F387>=Onglet_mapping_parameters!$J$16,G387<Onglet_mapping_parameters!$J$16),Onglet_mapping_parameters!$J$21,AND(F387>=Onglet_mapping_parameters!$J$16,G387>=Onglet_mapping_parameters!$J$16),Onglet_mapping_parameters!$J$22),\"\")","v":""},null,{"$f":"IFERROR(_xlfn.IFS(Tableau1[[#This Row],[Category]]=Onglet_mapping_parameters!$C$27,Onglet_mapping_parameters!$B$27,Tableau1[[#This Row],[Category]]=Onglet_mapping_parameters!$C$28,Onglet_mapping_parameters!$B$28,Tableau1[[#This Row],[Category]]=Onglet_mapping_parameters!$C$29,Onglet_mapping_parameters!$B$29,Tableau1[[#This Row],[Category]]=Onglet_mapping_parameters!$C$30,Onglet_mapping_parameters!$B$30),\"\")","v":""},null,null,"Delete"]
[null,null,null,null,null,null,null,null,null,{"$f":"IFERROR(_xlfn.IFS(OR(F388=\"\",G388=\"\"),\"\",AND(F388<Onglet_mapping_parameters!$J$16,G388<Onglet_mapping_parameters!$J$16),Onglet_mapping_parameters!$J$18,AND(F388<Onglet_mapping_parameters!$J$16,G388>=Onglet_mapping_parameters!$J$16),Onglet_mapping_parameters!$J$20,AND(F388>=Onglet_mapping_parameters!$J$16,G388<Onglet_mapping_parameters!$J$16),Onglet_mapping_parameters!$J$21,AND(F388>=Onglet_mapping_parameters!$J$16,G388>=Onglet_mapping_parameters!$J$16),Onglet_mapping_parameters!$J$22),\"\")","v":""},null,{"$f":"IFERROR(_xlfn.IFS(Tableau1[[#This Row],[Category]]=Onglet_mapping_parameters!$C$27,Onglet_mapping_parameters!$B$27,Tableau1[[#This Row],[Category]]=Onglet_mapping_parameters!$C$28,Onglet_mapping_parameters!$B$28,Tableau1[[#This Row],[Category]]=Onglet_mapping_parameters!$C$29,Onglet_mapping_parameters!$B$29,Tableau1[[#This Row],[Category]]=Onglet_mapping_parameters!$C$30,Onglet_mapping_parameters!$B$30),\"\")","v":""},null,null,"Delete"]
[null,null,null,null,null,null,null,null,null,{"$f":"IFERROR(_xlfn.IFS(OR(F389=\"\",G389=\"\"),\"\",AND(F389<Onglet_mapping_parameters!$J$16,G389<Onglet_mapping_parameters!$J$16),Onglet_mapping_parameters!$J$18,AND(F389<Onglet_mapping_parameters!$J$16,G389>=Onglet_mapping_parameters!$J$16),Onglet_mapping_parameters!$J$20,AND(F389>=Onglet_mapping_parameters!$J$16,G389<Onglet_mapping_parameters!$J$16),Onglet_mapping_parameters!$J$21,AND(F389>=Onglet_mapping_parameters!$J$16,G389>=Onglet_mapping_parameters!$J$16),Onglet_mapping_parameters!$J$22),\"\")","v":""},null,{"$f":"IFERROR(_xlfn.IFS(Tableau1[[#This Row],[Category]]=Onglet_mapping_parameters!$C$27,Onglet_mapping_parameters!$B$27,Tableau1[[#This Row],[Category]]=Onglet_mapping_parameters!$C$28,Onglet_mapping_parameters!$B$28,Tableau1[[#This Row],[Category]]=Onglet_mapping_parameters!$C$29,Onglet_mapping_parameters!$B$29,Tableau1[[#This Row],[Category]]=Onglet_mapping_parameters!$C$30,Onglet_mapping_parameters!$B$30),\"\")","v":""},null,null,"Delete"]
[null,null,null,null,null,null,null,null,null,{"$f":"IFERROR(_xlfn.IFS(OR(F390=\"\",G390=\"\"),\"\",AND(F390<Onglet_mapping_parameters!$J$16,G390<Onglet_mapping_parameters!$J$16),Onglet_mapping_parameters!$J$18,AND(F390<Onglet_mapping_parameters!$J$16,G390>=Onglet_mapping_parameters!$J$16),Onglet_mapping_parameters!$J$20,AND(F390>=Onglet_mapping_parameters!$J$16,G390<Onglet_mapping_parameters!$J$16),Onglet_mapping_parameters!$J$21,AND(F390>=Onglet_mapping_parameters!$J$16,G390>=Onglet_mapping_parameters!$J$16),Onglet_mapping_parameters!$J$22),\"\")","v":""},null,{"$f":"IFERROR(_xlfn.IFS(Tableau1[[#This Row],[Category]]=Onglet_mapping_parameters!$C$27,Onglet_mapping_parameters!$B$27,Tableau1[[#This Row],[Category]]=Onglet_mapping_parameters!$C$28,Onglet_mapping_parameters!$B$28,Tableau1[[#This Row],[Category]]=Onglet_mapping_parameters!$C$29,Onglet_mapping_parameters!$B$29,Tableau1[[#This Row],[Category]]=Onglet_mapping_parameters!$C$30,Onglet_mapping_parameters!$B$30),\"\")","v":""},null,null,"Delete"]
[null,null,null,null,null,null,null,null,null,{"$f":"IFERROR(_xlfn.IFS(OR(F391=\"\",G391=\"\"),\"\",AND(F391<Onglet_mapping_parameters!$J$16,G391<Onglet_mapping_parameters!$J$16),Onglet_mapping_parameters!$J$18,AND(F391<Onglet_mapping_parameters!$J$16,G391>=Onglet_mapping_parameters!$J$16),Onglet_mapping_parameters!$J$20,AND(F391>=Onglet_mapping_parameters!$J$16,G391<Onglet_mapping_parameters!$J$16),Onglet_mapping_parameters!$J$21,AND(F391>=Onglet_mapping_parameters!$J$16,G391>=Onglet_mapping_parameters!$J$16),Onglet_mapping_parameters!$J$22),\"\")","v":""},null,{"$f":"IFERROR(_xlfn.IFS(Tableau1[[#This Row],[Category]]=Onglet_mapping_parameters!$C$27,Onglet_mapping_parameters!$B$27,Tableau1[[#This Row],[Category]]=Onglet_mapping_parameters!$C$28,Onglet_mapping_parameters!$B$28,Tableau1[[#This Row],[Category]]=Onglet_mapping_parameters!$C$29,Onglet_mapping_parameters!$B$29,Tableau1[[#This Row],[Category]]=Onglet_mapping_parameters!$C$30,Onglet_mapping_parameters!$B$30),\"\")","v":""},null,null,"Delete"]
[null,null,null,null,null,null,null,null,null,{"$f":"IFERROR(_xlfn.IFS(OR(F392=\"\",G392=\"\"),\"\",AND(F392<Onglet_mapping_parameters!$J$16,G392<Onglet_mapping_parameters!$J$16),Onglet_mapping_parameters!$J$18,AND(F392<Onglet_mapping_parameters!$J$16,G392>=Onglet_mapping_parameters!$J$16),Onglet_mapping_parameters!$J$20,AND(F392>=Onglet_mapping_parameters!$J$16,G392<Onglet_mapping_parameters!$J$16),Onglet_mapping_parameters!$J$21,AND(F392>=Onglet_mapping_parameters!$J$16,G392>=Onglet_mapping_parameters!$J$16),Onglet_mapping_parameters!$J$22),\"\")","v":""},null,{"$f":"IFERROR(_xlfn.IFS(Tableau1[[#This Row],[Category]]=Onglet_mapping_parameters!$C$27,Onglet_mapping_parameters!$B$27,Tableau1[[#This Row],[Category]]=Onglet_mapping_parameters!$C$28,Onglet_mapping_parameters!$B$28,Tableau1[[#This Row],[Category]]=Onglet_mapping_parameters!$C$29,Onglet_mapping_parameters!$B$29,Tableau1[[#This Row],[Category]]=Onglet_mapping_parameters!$C$30,Onglet_mapping_parameters!$B$30),\"\")","v":""},null,null,"Delete"]
[null,null,null,null,null,null,null,null,null,{"$f":"IFERROR(_xlfn.IFS(OR(F393=\"\",G393=\"\"),\"\",AND(F393<Onglet_mapping_parameters!$J$16,G393<Onglet_mapping_parameters!$J$16),Onglet_mapping_parameters!$J$18,AND(F393<Onglet_mapping_parameters!$J$16,G393>=Onglet_mapping_parameters!$J$16),Onglet_mapping_parameters!$J$20,AND(F393>=Onglet_mapping_parameters!$J$16,G393<Onglet_mapping_parameters!$J$16),Onglet_mapping_parameters!$J$21,AND(F393>=Onglet_mapping_parameters!$J$16,G393>=Onglet_mapping_parameters!$J$16),Onglet_mapping_parameters!$J$22),\"\")","v":""},null,{"$f":"IFERROR(_xlfn.IFS(Tableau1[[#This Row],[Category]]=Onglet_mapping_parameters!$C$27,Onglet_mapping_parameters!$B$27,Tableau1[[#This Row],[Category]]=Onglet_mapping_parameters!$C$28,Onglet_mapping_parameters!$B$28,Tableau1[[#This Row],[Category]]=Onglet_mapping_parameters!$C$29,Onglet_mapping_parameters!$B$29,Tableau1[[#This Row],[Category]]=Onglet_mapping_parameters!$C$30,Onglet_mapping_parameters!$B$30),\"\")","v":""},null,null,"Delete"]
[null,null,null,null,null,null,null,null,null,{"$f":"IFERROR(_xlfn.IFS(OR(F394=\"\",G394=\"\"),\"\",AND(F394<Onglet_mapping_parameters!$J$16,G394<Onglet_mapping_parameters!$J$16),Onglet_mapping_parameters!$J$18,AND(F394<Onglet_mapping_parameters!$J$16,G394>=Onglet_mapping_parameters!$J$16),Onglet_mapping_parameters!$J$20,AND(F394>=Onglet_mapping_parameters!$J$16,G394<Onglet_mapping_parameters!$J$16),Onglet_mapping_parameters!$J$21,AND(F394>=Onglet_mapping_parameters!$J$16,G394>=Onglet_mapping_parameters!$J$16),Onglet_mapping_parameters!$J$22),\"\")","v":""},null,{"$f":"IFERROR(_xlfn.IFS(Tableau1[[#This Row],[Category]]=Onglet_mapping_parameters!$C$27,Onglet_mapping_parameters!$B$27,Tableau1[[#This Row],[Category]]=Onglet_mapping_parameters!$C$28,Onglet_mapping_parameters!$B$28,Tableau1[[#This Row],[Category]]=Onglet_mapping_parameters!$C$29,Onglet_mapping_parameters!$B$29,Tableau1[[#This Row],[Category]]=Onglet_mapping_parameters!$C$30,Onglet_mapping_parameters!$B$30),\"\")","v":""},null,null,"Delete"]
[null,null,null,null,null,null,null,null,null,{"$f":"IFERROR(_xlfn.IFS(OR(F395=\"\",G395=\"\"),\"\",AND(F395<Onglet_mapping_parameters!$J$16,G395<Onglet_mapping_parameters!$J$16),Onglet_mapping_parameters!$J$18,AND(F395<Onglet_mapping_parameters!$J$16,G395>=Onglet_mapping_parameters!$J$16),Onglet_mapping_parameters!$J$20,AND(F395>=Onglet_mapping_parameters!$J$16,G395<Onglet_mapping_parameters!$J$16),Onglet_mapping_parameters!$J$21,AND(F395>=Onglet_mapping_parameters!$J$16,G395>=Onglet_mapping_parameters!$J$16),Onglet_mapping_parameters!$J$22),\"\")","v":""},null,{"$f":"IFERROR(_xlfn.IFS(Tableau1[[#This Row],[Category]]=Onglet_mapping_parameters!$C$27,Onglet_mapping_parameters!$B$27,Tableau1[[#This Row],[Category]]=Onglet_mapping_parameters!$C$28,Onglet_mapping_parameters!$B$28,Tableau1[[#This Row],[Category]]=Onglet_mapping_parameters!$C$29,Onglet_mapping_parameters!$B$29,Tableau1[[#This Row],[Category]]=Onglet_mapping_parameters!$C$30,Onglet_mapping_parameters!$B$30),\"\")","v":""},null,null,"Delete"]
[null,null,null,null,null,null,null,null,null,{"$f":"IFERROR(_xlfn.IFS(OR(F396=\"\",G396=\"\"),\"\",AND(F396<Onglet_mapping_parameters!$J$16,G396<Onglet_mapping_parameters!$J$16),Onglet_mapping_parameters!$J$18,AND(F396<Onglet_mapping_parameters!$J$16,G396>=Onglet_mapping_parameters!$J$16),Onglet_mapping_parameters!$J$20,AND(F396>=Onglet_mapping_parameters!$J$16,G396<Onglet_mapping_parameters!$J$16),Onglet_mapping_parameters!$J$21,AND(F396>=Onglet_mapping_parameters!$J$16,G396>=Onglet_mapping_parameters!$J$16),Onglet_mapping_parameters!$J$22),\"\")","v":""},null,{"$f":"IFERROR(_xlfn.IFS(Tableau1[[#This Row],[Category]]=Onglet_mapping_parameters!$C$27,Onglet_mapping_parameters!$B$27,Tableau1[[#This Row],[Category]]=Onglet_mapping_parameters!$C$28,Onglet_mapping_parameters!$B$28,Tableau1[[#This Row],[Category]]=Onglet_mapping_parameters!$C$29,Onglet_mapping_parameters!$B$29,Tableau1[[#This Row],[Category]]=Onglet_mapping_parameters!$C$30,Onglet_mapping_parameters!$B$30),\"\")","v":""},null,null,"Delete"]
[null,null,null,null,null,null,null,null,null,{"$f":"IFERROR(_xlfn.IFS(OR(F397=\"\",G397=\"\"),\"\",AND(F397<Onglet_mapping_parameters!$J$16,G397<Onglet_mapping_parameters!$J$16),Onglet_mapping_parameters!$J$18,AND(F397<Onglet_mapping_parameters!$J$16,G397>=Onglet_mapping_parameters!$J$16),Onglet_mapping_parameters!$J$20,AND(F397>=Onglet_mapping_parameters!$J$16,G397<Onglet_mapping_parameters!$J$16),Onglet_mapping_parameters!$J$21,AND(F397>=Onglet_mapping_parameters!$J$16,G397>=Onglet_mapping_parameters!$J$16),Onglet_mapping_parameters!$J$22),\"\")","v":""},null,{"$f":"IFERROR(_xlfn.IFS(Tableau1[[#This Row],[Category]]=Onglet_mapping_parameters!$C$27,Onglet_mapping_parameters!$B$27,Tableau1[[#This Row],[Category]]=Onglet_mapping_parameters!$C$28,Onglet_mapping_parameters!$B$28,Tableau1[[#This Row],[Category]]=Onglet_mapping_parameters!$C$29,Onglet_mapping_parameters!$B$29,Tableau1[[#This Row],[Category]]=Onglet_mapping_parameters!$C$30,Onglet_mapping_parameters!$B$30),\"\")","v":""},null,null,"Delete"]
[null,null,null,null,null,null,null,null,null,{"$f":"IFERROR(_xlfn.IFS(OR(F398=\"\",G398=\"\"),\"\",AND(F398<Onglet_mapping_parameters!$J$16,G398<Onglet_mapping_parameters!$J$16),Onglet_mapping_parameters!$J$18,AND(F398<Onglet_mapping_parameters!$J$16,G398>=Onglet_mapping_parameters!$J$16),Onglet_mapping_parameters!$J$20,AND(F398>=Onglet_mapping_parameters!$J$16,G398<Onglet_mapping_parameters!$J$16),Onglet_mapping_parameters!$J$21,AND(F398>=Onglet_mapping_parameters!$J$16,G398>=Onglet_mapping_parameters!$J$16),Onglet_mapping_parameters!$J$22),\"\")","v":""},null,{"$f":"IFERROR(_xlfn.IFS(Tableau1[[#This Row],[Category]]=Onglet_mapping_parameters!$C$27,Onglet_mapping_parameters!$B$27,Tableau1[[#This Row],[Category]]=Onglet_mapping_parameters!$C$28,Onglet_mapping_parameters!$B$28,Tableau1[[#This Row],[Category]]=Onglet_mapping_parameters!$C$29,Onglet_mapping_parameters!$B$29,Tableau1[[#This Row],[Category]]=Onglet_mapping_parameters!$C$30,Onglet_mapping_parameters!$B$30),\"\")","v":""},null,null,"Delete"]
[null,null,null,null,null,null,null,null,null,{"$f":"IFERROR(_xlfn.IFS(OR(F399=\"\",G399=\"\"),\"\",AND(F399<Onglet_mapping_parameters!$J$16,G399<Onglet_mapping_parameters!$J$16),Onglet_mapping_parameters!$J$18,AND(F399<Onglet_mapping_parameters!$J$16,G399>=Onglet_mapping_parameters!$J$16),Onglet_mapping_parameters!$J$20,AND(F399>=Onglet_mapping_parameters!$J$16,G399<Onglet_mapping_parameters!$J$16),Onglet_mapping_parameters!$J$21,AND(F399>=Onglet_mapping_parameters!$J$16,G399>=Onglet_mapping_parameters!$J$16),Onglet_mapping_parameters!$J$22),\"\")","v":""},null,{"$f":"IFERROR(_xlfn.IFS(Tableau1[[#This Row],[Category]]=Onglet_mapping_parameters!$C$27,Onglet_mapping_parameters!$B$27,Tableau1[[#This Row],[Category]]=Onglet_mapping_parameters!$C$28,Onglet_mapping_parameters!$B$28,Tableau1[[#This Row],[Category]]=Onglet_mapping_parameters!$C$29,Onglet_mapping_parameters!$B$29,Tableau1[[#This Row],[Category]]=Onglet_mapping_parameters!$C$30,Onglet_mapping_parameters!$B$30),\"\")","v":""},null,null,"Delete"]
[null,null,null,null,null,null,null,null,null,{"$f":"IFERROR(_xlfn.IFS(OR(F400=\"\",G400=\"\"),\"\",AND(F400<Onglet_mapping_parameters!$J$16,G400<Onglet_mapping_parameters!$J$16),Onglet_mapping_parameters!$J$18,AND(F400<Onglet_mapping_parameters!$J$16,G400>=Onglet_mapping_parameters!$J$16),Onglet_mapping_parameters!$J$20,AND(F400>=Onglet_mapping_parameters!$J$16,G400<Onglet_mapping_parameters!$J$16),Onglet_mapping_parameters!$J$21,AND(F400>=Onglet_mapping_parameters!$J$16,G400>=Onglet_mapping_parameters!$J$16),Onglet_mapping_parameters!$J$22),\"\")","v":""},null,{"$f":"IFERROR(_xlfn.IFS(Tableau1[[#This Row],[Category]]=Onglet_mapping_parameters!$C$27,Onglet_mapping_parameters!$B$27,Tableau1[[#This Row],[Category]]=Onglet_mapping_parameters!$C$28,Onglet_mapping_parameters!$B$28,Tableau1[[#This Row],[Category]]=Onglet_mapping_parameters!$C$29,Onglet_mapping_parameters!$B$29,Tableau1[[#This Row],[Category]]=Onglet_mapping_parameters!$C$30,Onglet_mapping_parameters!$B$30),\"\")","v":""},null,null,"Delete"]

{"sheet":"Onglet_Parameters","index":34,"n_rows":25,"n_cols":16,"rows_kept":25,"cut":false,"hidden":false,"merged":[]}
[]
[]
[]
[]
[null,null,{"$f":"Onglet_trad_menus!B271","v":"Welcome"}]
[]
[null,null,{"$f":"Onglet_trad_menus!B272","v":"WELCOME TO ONE SRM+"},null,null,null,null,{"$f":"Onglet_trad_menus!B35","v":"Report to the Social Performance Academy to find additional info and tools"}]
[]
[null,null,null,null,null,null,null,{"$f":"Onglet_trad_menus!B33","v":"Click on the logo to return to the home page"}]
[]
[]
[]
[null,null,{"$f":"Onglet_trad_menus!B12","v":"Your Branch"},null,null,null,null,null,null,{"$f":"Onglet_trad_menus!B263","v":"Completion"},{"$f":"Onglet_trad_menus!B264","v":"Key indicators"}]
[null,null,null,null,null,null,null,{"$f":"Onglet_trad_menus!B26","v":"Module 1"},{"$f":"Onglet_trad_menus!$B$37","v":"Societal Risks Review"},{"$f":"IFERROR(Onglet_SRR_progress!$H$18,\"\")","v":0},{"$f":"SUM(Onglet_SRR_graph!C22:C23)&Onglet_trad_menus!B266","v":"0 important risks to mitigate"}]
[null,null,{"$f":"Onglet_trad_menus!B14","v":"Name of your entity"},null,null,null,null,{"$f":"Onglet_trad_menus!B27","v":"Module 2"},{"$f":"Onglet_trad_menus!$B$38","v":"Stakeholder mapping"},{"$f":"IFERROR(Onglet_Mapping_progress!F18,\"\")","v":0},{"$f":"Onglet_Mapping_progress!D18&Onglet_trad_menus!B267","v":"0 stakeholders mapped"}]
[null,null,null,null,null,null,null,{"$f":"Onglet_trad_menus!B28","v":"Module 3"},{"$f":"Onglet_trad_menus!$B$39","v":"Stakeholder consultation"},{"$f":"IFERROR(Onglet_Consult_Progress!F18,\"\")","v":0},{"$f":"Onglet_Consult_Progress!D18&Onglet_trad_menus!B268","v":"0 stakeholders in panel"}]
[null,null,{"$f":"Onglet_trad_menus!B16","v":"Language"},null,{"$f":"INDEX(choix_langue,P17)","v":"EN"},null,null,{"$f":"Onglet_trad_menus!B29","v":"Module 4"},{"$f":"Onglet_trad_menus!$B$40","v":"Gap analysis and action plan"},{"$f":"Onglet_AP_progress!F18","v":0},{"$f":"Onglet_AP_progress!J18&Onglet_trad_menus!B269","v":"0 new actions to implement"},null,null,null,null,2]
[]
[null,null,{"$f":"Onglet_trad_menus!B18","v":"Are you planning a stakeholder consultation?"}]
[null,null,null,null,null,null,null,{"$f":"Onglet_trad_menus!B24","v":"Use the navigation bar to move through each of the modules"}]
[null,null,{"$f":"table!C104","v":"Asset lifecycle phase"}]
[]
[null,null,{"$f":"Onglet_trad_menus!B20","v":"Name of One SRM+ project manager"}]
[]
[null,null,{"$f":"Onglet_trad_menus!B22","v":"Date of last update:"}]

{"sheet":"Onglet_SRR_database","index":35,"n_rows":82,"n_cols":5,"rows_kept":82,"cut":false,"hidden":false,"merged":[]}
[]
[]
[]
[null,null,"IND","Score","Commentaires"]
[null,null,"P16"]
[null,null,"P17"]
[null,null,"P18"]
[null,null,"P19"]
[null,null,"P20"]
[null,null,"P21"]
[null,null,"P22"]
[null,null,"P23"]
[null,null,"P24"]
[null,null,"C01"]
[null,null,"C02"]
[null,null,"C03"]
[null,null,"C04"]
[null,null,"C05"]
[null,null,"C06"]
[null,null,"I01"]
[null,null,"I01.1"]
[null,null,"I01.2"]
[null,null,"I01.3"]
[null,null,"I01.4"]
[null,null,"I02"]
[null,null,"I02.1"]
[null,null,"I02.2"]
[null,null,"I02.3"]
[null,null,"I02.4"]
[null,null,"I02.5"]
[null,null,"I02.6"]
[null,null,"I03"]
[null,null,"I03.1"]
[null,null,"I03.2"]
[null,null,"I03.3"]
[null,null,"I03.4"]
[null,null,"I03.5"]
[null,null,"I04"]
[null,null,"I04.1"]
[null,null,"I04.2"]
[null,null,"I04.3"]
[null,null,"P01"]
[null,null,"P02"]
[null,null,"P03"]
[null,null,"P04"]
[null,null,"C07"]
[null,null,"C08"]
[null,null,"C09"]
[null,null,"C10"]
[null,null,"C11"]
[null,null,"C12"]
[null,null,"I05"]
[null,null,"I05.1"]
[null,null,"I05.1.1"]
[null,null,"I05.1.2"]
[null,null,"I05.1.3"]
[null,null,"I05.2"]
[null,null,"I05.3"]
[null,null,"I06"]
[null,null,"I06.1"]
[null,null,"I06.2"]
[null,null,"I06.3"]
[null,null,"I06.4"]
[null,null,"I06.4.1"]
[null,null,"P05"]
[null,null,"P06"]
[null,null,"P07"]
[null,null,"P08"]
[null,null,"C13"]
[null,null,"C14"]
[null,null,"C15"]
[null,null,"C16"]
[null,null,"I07"]
[null,null,"I08"]
[null,null,"I09"]
[null,null,"P09"]
[null,null,"P10"]
[null,null,"P11"]
[null,null,"P12"]
[null,null,"P13"]
[null,null,"P14"]
[null,null,"P15"]

{"sheet":"Onglet_SRR_dataset","index":36,"n_rows":94,"n_cols":22,"rows_kept":94,"cut":false,"hidden":false,"merged":[]}
[]
[null,null,null,null,null,null,null,null,"Seuil"]
[null,null,null,null,"Score_r","Progress_SC","Progress_Verb",null,2.5,null,"IND > Seuil",null,"Minimum required",null,"Score","Current Maturity","Minimum maturity","Review status","Targetet maturity","Action required","Review_score","Issue"]
[]
[null,"PILLAR 1","C01",{"$f":"VLOOKUP(C5,SRR_referential,2,FALSE)","v":"Position of the media regarding TotalEnergies"},{"$f":"IF(ISERROR(VLOOKUP(C5,SRR_database_P1,4,FALSE)),\"\",IF(VLOOKUP(C5,SRR_database_P1,4,FALSE)=0,\"\",IF(VLOOKUP(C5,SRR_database_P1,4,FALSE)=1,1.04,VLOOKUP(C5,SRR_database_P1,4,FALSE))))","v":""},{"$f":"IF(AND(E5<>0,E5<>\"\"),1,\"\")","v":""},{"$f":"IF(VLOOKUP(C5,SRR_database_P1,6,FALSE)=0,\"\",1)","v":""},null,{"$f":"IF(AND(E5>=Threshold,E5<>\"N/A\",E5<>0),E5,\"\")","v":""},null,{"$f":"IF(I5<>\"\",C5,\"\")","v":""},null,null,{"$f":"C5","v":"C01"},{"$f":"IF(ISERROR(VLOOKUP(C5,SRR_database_P1,4,FALSE)),\"\",IF(VLOOKUP(C5,SRR_database_P1,4,FALSE)=0,\"\",VLOOKUP(C5,SRR_database_P1,4,FALSE)))","v":""},null,null,"Done",null,{"$f":"IF(OR(I5<>\"\",AND(P5<>Q5,O5<M5)),1,\"\")","v":""},{"$f":"IFERROR(_xlfn.IFS(R5=Onglet_SRR_Table!$B$84,0,R5=Onglet_SRR_Table!$B$85,1,R5=Onglet_SRR_Table!$B$86,2),\"\")","v":2},{"$f":"VLOOKUP(C5,Correspondance_IND,6,FALSE)","v":"IS01_CIV"}]
[null,null,"C02","Existence of activitist associations","","","",null,"",null,"",null,null,"C02","",null,null,"Done",null,"",{"$f":"IFERROR(_xlfn.IFS(R6=Onglet_SRR_Table!$B$84,0,R6=Onglet_SRR_Table!$B$85,1,R6=Onglet_SRR_Table!$B$86,2),\"\")","v":2},"IS01_CIV"]
[null,null,"C03","Negative perception linked to past or unfulfilled social commitments","","","",null,"",null,"",null,null,"C03","",null,null,"Done",null,"",{"$f":"IFERROR(_xlfn.IFS(R7=Onglet_SRR_Table!$B$84,0,R7=Onglet_SRR_Table!$B$85,1,R7=Onglet_SRR_Table!$B$86,2),\"\")","v":2},"IS01_STK"]
[null,null,"C04","External factors threatening license to operate","","","",null,"",null,"",null,null,"C04","",null,null,"Done",null,"",{"$f":"IFERROR(_xlfn.IFS(R8=Onglet_SRR_Table!$B$84,0,R8=Onglet_SRR_Table!$B$85,1,R8=Onglet_SRR_Table!$B$86,2),\"\")","v":2},"IS01_STK"]
[null,null,"C05","Alignment of local practices and regulations with Company standards","","","",null,"",null,"",null,null,"C05","",null,null,"Done",null,"",{"$f":"IFERROR(_xlfn.IFS(R9=Onglet_SRR_Table!$B$84,0,R9=Onglet_SRR_Table!$B$85,1,R9=Onglet_SRR_Table!$B$86,2),\"\")","v":2},"IS01_STK"]
[null,null,"C06","Opposition to expansion projects, restructuring or conversion","","","",null,"",null,"",null,null,"C06","",null,null,"Done",null,"",{"$f":"IFERROR(_xlfn.IFS(R10=Onglet_SRR_Table!$B$84,0,R10=Onglet_SRR_Table!$B$85,1,R10=Onglet_SRR_Table!$B$86,2),\"\")","v":2},"IS01_STK"]
[]
[null,null,"I01",{"$f":"VLOOKUP(C12,SRR_referential,2,FALSE)","v":"Relations with authorities"},{"$f":"IF(ISERROR(VLOOKUP(C12,SRR_database_P1,4,FALSE)),\"\",IF(VLOOKUP(C12,SRR_database_P1,4,FALSE)=0,\"\",IF(VLOOKUP(C12,SRR_database_P1,4,FALSE)=1,1.04,VLOOKUP(C12,SRR_database_P1,4,FALSE))))","v":""},{"$f":"IF(AND(E12<>0,E12<>\"\"),1,\"\")","v":""},{"$f":"IF(VLOOKUP(C12,SRR_database_P1,6,FALSE)=0,\"\",1)","v":""},null,{"$f":"IF(AND(E12>=Threshold,E12<>\"N/A\",E12<>0),E12,\"\")","v":""},null,{"$f":"IF(I12<>\"\",C12,\"\")","v":""},null,null,{"$f":"C12","v":"I01"},{"$f":"IF(ISERROR(VLOOKUP(C12,SRR_database_P1,4,FALSE)),\"\",IF(VLOOKUP(C12,SRR_database_P1,4,FALSE)=0,\"\",VLOOKUP(C12,SRR_database_P1,4,FALSE)))","v":""},null,null,"Done",null,{"$f":"IF(OR(I12<>\"\",AND(P12<>Q12,O12<M12)),1,\"\")","v":""},{"$f":"IFERROR(_xlfn.IFS(R12=Onglet_SRR_Table!$B$84,0,R12=Onglet_SRR_Table!$B$85,1,R12=Onglet_SRR_Table!$B$86,2),\"\")","v":2},{"$f":"VLOOKUP(C12,Correspondance_IND,6,FALSE)","v":"IS01_AUT"}]
[null,null,"I02",{"$f":"VLOOKUP(C13,SRR_referential,2,FALSE)","v":"Relations with business partners"},{"$f":"IF(ISERROR(VLOOKUP(C13,SRR_database_P1,4,FALSE)),\"\",IF(VLOOKUP(C13,SRR_database_P1,4,FALSE)=0,\"\",IF(VLOOKUP(C13,SRR_database_P1,4,FALSE)=1,1.04,VLOOKUP(C13,SRR_database_P1,4,FALSE))))","v":""},"",{"$f":"IF(VLOOKUP(C13,SRR_database_P1,6,FALSE)=0,\"\",1)","v":""},null,{"$f":"IF(AND(E13>=Threshold,E13<>\"N/A\",E13<>0),E13,\"\")","v":""},null,{"$f":"IF(I13<>\"\",C13,\"\")","v":""},null,null,{"$f":"C13","v":"I02"},{"$f":"IF(ISERROR(VLOOKUP(C13,SRR_database_P1,4,FALSE)),\"\",IF(VLOOKUP(C13,SRR_database_P1,4,FALSE)=0,\"\",VLOOKUP(C13,SRR_database_P1,4,FALSE)))","v":""},null,null,"Done",null,"",{"$f":"IFERROR(_xlfn.IFS(R13=Onglet_SRR_Table!$B$84,0,R13=Onglet_SRR_Table!$B$85,1,R13=Onglet_SRR_Table!$B$86,2),\"\")","v":2},{"$f":"VLOOKUP(C13,Correspondance_IND,6,FALSE)","v":"IS01_BUS"}]
[null,null,"I03",{"$f":"VLOOKUP(C14,SRR_referential,2,FALSE)","v":"Relations with civil society"},{"$f":"IF(ISERROR(VLOOKUP(C14,SRR_database_P1,4,FALSE)),\"\",IF(VLOOKUP(C14,SRR_database_P1,4,FALSE)=0,\"\",IF(VLOOKUP(C14,SRR_database_P1,4,FALSE)=1,1.04,VLOOKUP(C14,SRR_database_P1,4,FALSE))))","v":""},"",{"$f":"IF(VLOOKUP(C14,SRR_database_P1,6,FALSE)=0,\"\",1)","v":""},null,{"$f":"IF(AND(E14>=Threshold,E14<>\"N/A\",E14<>0),E14,\"\")","v":""},null,{"$f":"IF(I14<>\"\",C14,\"\")","v":""},null,null,{"$f":"C14","v":"I03"},{"$f":"IF(ISERROR(VLOOKUP(C14,SRR_database_P1,4,FALSE)),\"\",IF(VLOOKUP(C14,SRR_database_P1,4,FALSE)=0,\"\",VLOOKUP(C14,SRR_database_P1,4,FALSE)))","v":""},null,null,"Done",null,"",{"$f":"IFERROR(_xlfn.IFS(R14=Onglet_SRR_Table!$B$84,0,R14=Onglet_SRR_Table!$B$85,1,R14=Onglet_SRR_Table!$B$86,2),\"\")","v":2},{"$f":"VLOOKUP(C14,Correspondance_IND,6,FALSE)","v":"IS01_CIV"}]
[null,null,"I04","Relations with affected communities",{"$f":"IF(ISERROR(VLOOKUP(C15,SRR_database_P1,4,FALSE)),\"\",IF(VLOOKUP(C15,SRR_database_P1,4,FALSE)=0,\"\",IF(VLOOKUP(C15,SRR_database_P1,4,FALSE)=1,1.04,VLOOKUP(C15,SRR_database_P1,4,FALSE))))","v":""},"",{"$f":"IF(VLOOKUP(C15,SRR_database_P1,6,FALSE)=0,\"\",1)","v":""},null,{"$f":"IF(AND(E15>=Threshold,E15<>\"N/A\",E15<>0),E15,\"\")","v":""},null,{"$f":"IF(I15<>\"\",C15,\"\")","v":""},null,null,{"$f":"C15","v":"I04"},{"$f":"IF(ISERROR(VLOOKUP(C15,SRR_database_P1,4,FALSE)),\"\",IF(VLOOKUP(C15,SRR_database_P1,4,FALSE)=0,\"\",VLOOKUP(C15,SRR_database_P1,4,FALSE)))","v":""},null,null,"Done",null,"",{"$f":"IFERROR(_xlfn.IFS(R15=Onglet_SRR_Table!$B$84,0,R15=Onglet_SRR_Table!$B$85,1,R15=Onglet_SRR_Table!$B$86,2),\"\")","v":2},{"$f":"VLOOKUP(C15,Correspondance_IND,6,FALSE)","v":"IS01_COM"}]
[null,null,null,null,null,""]
[null,null,"P01","Transparent and regular stakeholder engagement",{"$f":"IF(ISERROR(VLOOKUP(C17,SRR_database_P1,4,FALSE)),\"\",IF(VLOOKUP(C17,SRR_database_P1,4,FALSE)=0,\"\",IF(VLOOKUP(C17,SRR_database_P1,4,FALSE)=1,1.04,VLOOKUP(C17,SRR_database_P1,4,FALSE))))","v":""},"",{"$f":"IF(VLOOKUP(C17,SRR_database_P1,6,FALSE)=0,\"\",1)","v":""},null,null,null,null,null,{"$f":"IFERROR(VLOOKUP(Onglet_SRR_graph!$D$72,Maturity_arrondi,2,FALSE),\"\")","v":""},{"$f":"C17","v":"P01"},{"$f":"IF(ISERROR(VLOOKUP(C17,SRR_database_P1,4,FALSE)),\"\",IF(VLOOKUP(C17,SRR_database_P1,4,FALSE)=0,\"\",VLOOKUP(C17,SRR_database_P1,4,FALSE)))","v":""},{"$f":"IFERROR(INDEX(Maturity,MATCH(O17,Onglet_SRR_Rules!$C$7:$C$10,-1),4),\"\")","v":""},{"$f":"IFERROR(INDEX(Maturity,MATCH(M17,Onglet_SRR_Rules!$C$7:$C$10,-1),4),\"\")","v":""},"Done",null,{"$f":"IF(OR(I17<>\"\",AND(P17<>Q17,O17<M17)),1,\"\")","v":""},{"$f":"IFERROR(_xlfn.IFS(R17=Onglet_SRR_Table!$B$84,0,R17=Onglet_SRR_Table!$B$85,1,R17=Onglet_SRR_Table!$B$86,2),\"\")","v":2},{"$f":"VLOOKUP(C17,Correspondance_IND,6,FALSE)","v":"IS01_STK"}]
[null,null,"P02","Fullfilment and follow-up of commitments",{"$f":"IF(ISERROR(VLOOKUP(C18,SRR_database_P1,4,FALSE)),\"\",IF(VLOOKUP(C18,SRR_database_P1,4,FALSE)=0,\"\",IF(VLOOKUP(C18,SRR_database_P1,4,FALSE)=1,1.04,VLOOKUP(C18,SRR_database_P1,4,FALSE))))","v":""},"",{"$f":"IF(VLOOKUP(C18,SRR_database_P1,6,FALSE)=0,\"\",1)","v":""},null,null,null,null,null,{"$f":"IFERROR(VLOOKUP(Onglet_SRR_graph!$D$72,Maturity_arrondi,2,FALSE),\"\")","v":""},{"$f":"C18","v":"P02"},{"$f":"IF(ISERROR(VLOOKUP(C18,SRR_database_P1,4,FALSE)),\"\",IF(VLOOKUP(C18,SRR_database_P1,4,FALSE)=0,\"\",VLOOKUP(C18,SRR_database_P1,4,FALSE)))","v":""},{"$f":"IFERROR(INDEX(Maturity,MATCH(O18,Onglet_SRR_Rules!$C$7:$C$10,-1),4),\"\")","v":""},{"$f":"IFERROR(INDEX(Maturity,MATCH(M18,Onglet_SRR_Rules!$C$7:$C$10,-1),4),\"\")","v":""},"Done",null,"",{"$f":"IFERROR(_xlfn.IFS(R18=Onglet_SRR_Table!$B$84,0,R18=Onglet_SRR_Table!$B$85,1,R18=Onglet_SRR_Table!$B$86,2),\"\")","v":2},{"$f":"VLOOKUP(C18,Correspondance_IND,6,FALSE)","v":"IS01_STK"}]
[null,null,"P03","Management of grievances",{"$f":"IF(ISERROR(VLOOKUP(C19,SRR_database_P1,4,FALSE)),\"\",IF(VLOOKUP(C19,SRR_database_P1,4,FALSE)=0,\"\",IF(VLOOKUP(C19,SRR_database_P1,4,FALSE)=1,1.04,VLOOKUP(C19,SRR_database_P1,4,FALSE))))","v":""},"",{"$f":"IF(VLOOKUP(C19,SRR_database_P1,6,FALSE)=0,\"\",1)","v":""},null,null,null,null,null,{"$f":"IFERROR(VLOOKUP(Onglet_SRR_graph!$D$72,Maturity_arrondi,2,FALSE),\"\")","v":""},{"$f":"C19","v":"P03"},{"$f":"IF(ISERROR(VLOOKUP(C19,SRR_database_P1,4,FALSE)),\"\",IF(VLOOKUP(C19,SRR_database_P1,4,FALSE)=0,\"\",VLOOKUP(C19,SRR_database_P1,4,FALSE)))","v":""},{"$f":"IFERROR(INDEX(Maturity,MATCH(O19,Onglet_SRR_Rules!$C$7:$C$10,-1),4),\"\")","v":""},{"$f":"IFERROR(INDEX(Maturity,MATCH(M19,Onglet_SRR_Rules!$C$7:$C$10,-1),4),\"\")","v":""},"Done",null,"",{"$f":"IFERROR(_xlfn.IFS(R19=Onglet_SRR_Table!$B$84,0,R19=Onglet_SRR_Table!$B$85,1,R19=Onglet_SRR_Table!$B$86,2),\"\")","v":2},{"$f":"VLOOKUP(C19,Correspondance_IND,6,FALSE)","v":"IS03"}]
[null,null,"P04","Communication (activities, strategic outlook, social performance, sustainability…)",{"$f":"IF(ISERROR(VLOOKUP(C20,SRR_database_P1,4,FALSE)),\"\",IF(VLOOKUP(C20,SRR_database_P1,4,FALSE)=0,\"\",IF(VLOOKUP(C20,SRR_database_P1,4,FALSE)=1,1.04,VLOOKUP(C20,SRR_database_P1,4,FALSE))))","v":""},"",{"$f":"IF(VLOOKUP(C20,SRR_database_P1,6,FALSE)=0,\"\",1)","v":""},null,null,null,null,null,{"$f":"IFERROR(VLOOKUP(Onglet_SRR_graph!$D$72,Maturity_arrondi,2,FALSE),\"\")","v":""},{"$f":"C20","v":"P04"},{"$f":"IF(ISERROR(VLOOKUP(C20,SRR_database_P1,4,FALSE)),\"\",IF(VLOOKUP(C20,SRR_database_P1,4,FALSE)=0,\"\",VLOOKUP(C20,SRR_database_P1,4,FALSE)))","v":""},{"$f":"IFERROR(INDEX(Maturity,MATCH(O20,Onglet_SRR_Rules!$C$7:$C$10,-1),4),\"\")","v":""},{"$f":"IFERROR(INDEX(Maturity,MATCH(M20,Onglet_SRR_Rules!$C$7:$C$10,-1),4),\"\")","v":""},"Done",null,"",{"$f":"IFERROR(_xlfn.IFS(R20=Onglet_SRR_Table!$B$84,0,R20=Onglet_SRR_Table!$B$85,1,R20=Onglet_SRR_Table!$B$86,2),\"\")","v":2},{"$f":"VLOOKUP(C20,Correspondance_IND,6,FALSE)","v":"IS04"}]
[null,null,"Av.","Average",{"$f":"IFERROR(AVERAGE(E17:E20),\"\")","v":""},null,null,null,null,null,null,null,{"$f":"IFERROR(VLOOKUP(Onglet_SRR_graph!$D$72,Maturity_arrondi,2,FALSE),\"\")","v":""},{"$f":"C21","v":"Av."}]
[null,null,null,null,null,null,null,null,null,null,null,null,null,null,null,null,null,"Done",null,{"$f":"IF(OR(I22<>\"\",AND(P22<>Q22,O22<M22)),1,\"\")","v":""},{"$f":"IFERROR(_xlfn.IFS(R22=Onglet_SRR_Table!$B$84,0,R22=Onglet_SRR_Table!$B$85,1,R22=Onglet_SRR_Table!$B$86,2),\"\")","v":2}]
[null,"PILLAR 2","C07",{"$f":"VLOOKUP(C23,SRR_referential,2,FALSE)","v":"Proximity of communities near operations"},{"$f":"IF(ISERROR(VLOOKUP(C23,SRR_database_P2,4,FALSE)),\"\",IF(VLOOKUP(C23,SRR_database_P2,4,FALSE)=0,\"\",IF(VLOOKUP(C23,SRR_database_P2,4,FALSE)=1,1.04,VLOOKUP(C23,SRR_database_P2,4,FALSE))))","v":""},{"$f":"IF(AND(E23<>0,E23<>\"\"),1,\"\")","v":""},{"$f":"IF(VLOOKUP(C23,SRR_database_P2,6,FALSE)=0,\"\",1)","v":""},null,{"$f":"IF(AND(E23>=Threshold,E23<>\"N/A\",E23<>0),E23,\"\")","v":""},null,{"$f":"IF(I23<>\"\",C23,\"\")","v":""},null,null,{"$f":"C23","v":"C07"},{"$f":"IF(ISERROR(VLOOKUP(C23,SRR_database_P2,4,FALSE)),\"\",IF(VLOOKUP(C23,SRR_database_P2,4,FALSE)=0,\"\",VLOOKUP(C23,SRR_database_P2,4,FALSE)))","v":""},null,null,"Done",null,"",{"$f":"IFERROR(_xlfn.IFS(R23=Onglet_SRR_Table!$B$84,0,R23=Onglet_SRR_Table!$B$85,1,R23=Onglet_SRR_Table!$B$86,2),\"\")","v":2},{"$f":"VLOOKUP(C23,Correspondance_IND,6,FALSE)","v":"IS05"}]
[null,null,"C08","Risk of confusion with negative impacts of other industries","","","",null,"",null,"",null,null,"C08","",null,null,"Done",null,"",{"$f":"IFERROR(_xlfn.IFS(R24=Onglet_SRR_Table!$B$84,0,R24=Onglet_SRR_Table!$B$85,1,R24=Onglet_SRR_Table!$B$86,2),\"\")","v":2},"IS05"]
[null,null,"C09","Security","","","",null,"",null,"",null,null,"C09","",null,null,"Done",null,"",{"$f":"IFERROR(_xlfn.IFS(R25=Onglet_SRR_Table!$B$84,0,R25=Onglet_SRR_Table!$B$85,1,R25=Onglet_SRR_Table!$B$86,2),\"\")","v":2},"IS05"]
[null,null,"C10","Biodiversity","","","",null,"",null,"",null,null,"C10","",null,null,"Done",null,"",{"$f":"IFERROR(_xlfn.IFS(R26=Onglet_SRR_Table!$B$84,0,R26=Onglet_SRR_Table!$B$85,1,R26=Onglet_SRR_Table!$B$86,2),\"\")","v":2},"IS05"]
[null,null,"C11","Religious and cultural heritage","","","",null,"",null,"",null,null,"C11","",null,null,"Done",null,"",{"$f":"IFERROR(_xlfn.IFS(R27=Onglet_SRR_Table!$B$84,0,R27=Onglet_SRR_Table!$B$85,1,R27=Onglet_SRR_Table!$B$86,2),\"\")","v":2},"IS06"]
[null,null,"C12","Vulnerable populations","","","",null,"",null,"",null,null,"C12","",null,null,"Done",null,"",{"$f":"IFERROR(_xlfn.IFS(R28=Onglet_SRR_Table!$B$84,0,R28=Onglet_SRR_Table!$B$85,1,R28=Onglet_SRR_Table!$B$86,2),\"\")","v":2},"IS06"]
[]
[null,null,"I05",{"$f":"VLOOKUP(C30,SRR_referential,2,FALSE)","v":"Negative impacts on people & environment"},{"$f":"IF(ISERROR(VLOOKUP(C30,SRR_database_P2,4,FALSE)),\"\",IF(VLOOKUP(C30,SRR_database_P2,4,FALSE)=1,1.04,VLOOKUP(C30,SRR_database_P2,4,FALSE)))","v":""},{"$f":"IF(AND(E30<>0,E30<>\"\"),1,\"\")","v":""},{"$f":"IF(VLOOKUP(C30,SRR_database_P2,6,FALSE)=0,\"\",1)","v":""},null,{"$f":"IF(AND(E30>=Threshold,E30<>\"N/A\",E30<>0),E30,\"\")","v":""},null,{"$f":"IF(I30<>\"\",C30,\"\")","v":""},null,null,{"$f":"C30","v":"I05"},{"$f":"IF(ISERROR(VLOOKUP(C30,SRR_database_P2,4,FALSE)),\"\",IF(VLOOKUP(C30,SRR_database_P2,4,FALSE)=0,\"\",VLOOKUP(C30,SRR_database_P2,4,FALSE)))","v":""},null,null,"Done",null,{"$f":"IF(OR(I30<>\"\",AND(P30<>Q30,O30<M30)),1,\"\")","v":""},{"$f":"IFERROR(_xlfn.IFS(R30=Onglet_SRR_Table!$B$84,0,R30=Onglet_SRR_Table!$B$85,1,R30=Onglet_SRR_Table!$B$86,2),\"\")","v":2},{"$f":"VLOOKUP(C30,Correspondance_IND,6,FALSE)","v":"IS05"}]
[null,null,"I05.1","Impacts on environment",{"$f":"IF(ISERROR(VLOOKUP(C31,SRR_database_P2,4,FALSE)),\"\",IF(VLOOKUP(C31,SRR_database_P2,4,FALSE)=0,\"\",IF(VLOOKUP(C31,SRR_database_P2,4,FALSE)=1,1.04,VLOOKUP(C31,SRR_database_P2,4,FALSE))))","v":""},{"$f":"IF(AND(E31<>0,E31<>\"\"),1,\"\")","v":""},"",null,"",null,"",null,null,{"$f":"C31","v":"I05.1"},"",null,null,"Done",null,"",{"$f":"IFERROR(_xlfn.IFS(R31=Onglet_SRR_Table!$B$84,0,R31=Onglet_SRR_Table!$B$85,1,R31=Onglet_SRR_Table!$B$86,2),\"\")","v":2},"IS05"]
[null,null,"I05.1.1","Impacts on health of populations","","","",null,"",null,"",null,null,"I05.1.1","",null,null,"Done",null,"",{"$f":"IFERROR(_xlfn.IFS(R32=Onglet_SRR_Table!$B$84,0,R32=Onglet_SRR_Table!$B$85,1,R32=Onglet_SRR_Table!$B$86,2),\"\")","v":2},"IS05"]
[null,null,"I05.1.2","Impacts on biodiversity","","","",null,"",null,"",null,null,"I05.1.2","",null,null,"Done",null,"",{"$f":"IFERROR(_xlfn.IFS(R33=Onglet_SRR_Table!$B$84,0,R33=Onglet_SRR_Table!$B$85,1,R33=Onglet_SRR_Table!$B$86,2),\"\")","v":2},"IS05"]
[null,null,"I05.1.3","Impacts on climate change","","","",null,"",null,"",null,null,"I05.1.3","",null,null,"Done",null,"",{"$f":"IFERROR(_xlfn.IFS(R34=Onglet_SRR_Table!$B$84,0,R34=Onglet_SRR_Table!$B$85,1,R34=Onglet_SRR_Table!$B$86,2),\"\")","v":2},"IS05"]
[null,null,"I05.2","Industrial risks","","","",null,"",null,"",null,null,"I05.2","",null,null,"Done",null,"",{"$f":"IFERROR(_xlfn.IFS(R35=Onglet_SRR_Table!$B$84,0,R35=Onglet_SRR_Table!$B$85,1,R35=Onglet_SRR_Table!$B$86,2),\"\")","v":2},"IS05"]
[null,null,"I05.3","Nuisances","","","",null,"",null,"",null,null,"I05.3","",null,null,"Done",null,"",{"$f":"IFERROR(_xlfn.IFS(R36=Onglet_SRR_Table!$B$84,0,R36=Onglet_SRR_Table!$B$85,1,R36=Onglet_SRR_Table!$B$86,2),\"\")","v":2},"IS05"]
[null,null,"I06","Negative impacts on livelihoods & human rights",{"$f":"IF(ISERROR(VLOOKUP(C37,SRR_database_P2,4,FALSE)),\"\",IF(VLOOKUP(C37,SRR_database_P2,4,FALSE)=1,1.04,VLOOKUP(C37,SRR_database_P2,4,FALSE)))","v":""},"","",null,"",null,"",null,null,"I06","",null,null,"Done",null,"",{"$f":"IFERROR(_xlfn.IFS(R37=Onglet_SRR_Table!$B$84,0,R37=Onglet_SRR_Table!$B$85,1,R37=Onglet_SRR_Table!$B$86,2),\"\")","v":2},"IS06"]
[null,null,"I06.1","Marine / Land use restrictions",{"$f":"IF(ISERROR(VLOOKUP(C38,SRR_database_P2,4,FALSE)),\"\",IF(VLOOKUP(C38,SRR_database_P2,4,FALSE)=0,\"\",IF(VLOOKUP(C38,SRR_database_P2,4,FALSE)=1,1.04,VLOOKUP(C38,SRR_database_P2,4,FALSE))))","v":""},"","",null,"",null,"",null,null,"I06.1","",null,null,"Done",null,"",{"$f":"IFERROR(_xlfn.IFS(R38=Onglet_SRR_Table!$B$84,0,R38=Onglet_SRR_Table!$B$85,1,R38=Onglet_SRR_Table!$B$86,2),\"\")","v":2},"IS06"]
[null,null,"I06.2","Disturbance of local economy and livelihoods",{"$f":"IF(ISERROR(VLOOKUP(C39,SRR_database_P2,4,FALSE)),\"\",IF(VLOOKUP(C39,SRR_database_P2,4,FALSE)=0,\"\",IF(VLOOKUP(C39,SRR_database_P2,4,FALSE)=1,1.04,VLOOKUP(C39,SRR_database_P2,4,FALSE))))","v":""},"","",null,"",null,"",null,null,"I06.2","",null,null,"Done",null,"",{"$f":"IFERROR(_xlfn.IFS(R39=Onglet_SRR_Table!$B$84,0,R39=Onglet_SRR_Table!$B$85,1,R39=Onglet_SRR_Table!$B$86,2),\"\")","v":2},"IS06"]
[null,null,"I06.3","Impacts on religious and cultural heritage",{"$f":"IF(ISERROR(VLOOKUP(C40,SRR_database_P2,4,FALSE)),\"\",IF(VLOOKUP(C40,SRR_database_P2,4,FALSE)=0,\"\",IF(VLOOKUP(C40,SRR_database_P2,4,FALSE)=1,1.04,VLOOKUP(C40,SRR_database_P2,4,FALSE))))","v":""},"","",null,"",null,"",null,null,"I06.3","",null,null,"Done",null,"",{"$f":"IFERROR(_xlfn.IFS(R40=Onglet_SRR_Table!$B$84,0,R40=Onglet_SRR_Table!$B$85,1,R40=Onglet_SRR_Table!$B$86,2),\"\")","v":2},"IS06"]
[null,null,"I06.4","Violation of human rights in the workplace",{"$f":"IF(ISERROR(VLOOKUP(C41,SRR_database_P2,4,FALSE)),\"\",IF(VLOOKUP(C41,SRR_database_P2,4,FALSE)=0,\"\",IF(VLOOKUP(C41,SRR_database_P2,4,FALSE)=1,1.04,VLOOKUP(C41,SRR_database_P2,4,FALSE))))","v":""},"","",null,"",null,"",null,null,"I06.4","",null,null,"Done",null,"",{"$f":"IFERROR(_xlfn.IFS(R41=Onglet_SRR_Table!$B$84,0,R41=Onglet_SRR_Table!$B$85,1,R41=Onglet_SRR_Table!$B$86,2),\"\")","v":2},"IS06"]
[null,null,"I06.4.1","Violation of civil, political and security rights",{"$f":"IF(ISERROR(VLOOKUP(C42,SRR_database_P2,4,FALSE)),\"\",IF(VLOOKUP(C42,SRR_database_P2,4,FALSE)=0,\"\",IF(VLOOKUP(C42,SRR_database_P2,4,FALSE)=1,1.04,VLOOKUP(C42,SRR_database_P2,4,FALSE))))","v":""},"","",null,"",null,"",null,null,"I06.4.1","",null,null,"Done",null,"",{"$f":"IFERROR(_xlfn.IFS(R42=Onglet_SRR_Table!$B$84,0,R42=Onglet_SRR_Table!$B$85,1,R42=Onglet_SRR_Table!$B$86,2),\"\")","v":2},"IS06"]
[]
[null,null,"P05",{"$f":"VLOOKUP(C44,SRR_referential,2,FALSE)","v":"Information on HSE impacts"},{"$f":"IF(ISERROR(VLOOKUP(C44,SRR_database_P2,4,FALSE)),\"\",IF(VLOOKUP(C44,SRR_database_P2,4,FALSE)=0,\"\",IF(VLOOKUP(C44,SRR_database_P2,4,FALSE)=1,1.04,VLOOKUP(C44,SRR_database_P2,4,FALSE))))","v":""},{"$f":"IF(AND(E44<>0,E44<>\"\"),1,\"\")","v":""},{"$f":"IF(VLOOKUP(C44,SRR_database_P2,6,FALSE)=0,\"\",1)","v":""},null,null,null,null,null,{"$f":"IFERROR(VLOOKUP(Onglet_SRR_graph!$I$72,Maturity_arrondi,2,FALSE),\"\")","v":""},{"$f":"C44","v":"P05"},{"$f":"IF(ISERROR(VLOOKUP(C44,SRR_database_P2,4,FALSE)),\"\",IF(VLOOKUP(C44,SRR_database_P2,4,FALSE)=0,\"\",VLOOKUP(C44,SRR_database_P2,4,FALSE)))","v":""},{"$f":"IFERROR(INDEX(Maturity,MATCH(O44,Onglet_SRR_Rules!$C$7:$C$10,-1),4),\"\")","v":""},{"$f":"IFERROR(INDEX(Maturity,MATCH(M44,Onglet_SRR_Rules!$C$7:$C$10,-1),4),\"\")","v":""},"Done",null,{"$f":"IF(OR(I44<>\"\",AND(P44<>Q44,O44<M44)),1,\"\")","v":""},{"$f":"IFERROR(_xlfn.IFS(R44=Onglet_SRR_Table!$B$84,0,R44=Onglet_SRR_Table!$B$85,1,R44=Onglet_SRR_Table!$B$86,2),\"\")","v":2},{"$f":"VLOOKUP(C44,Correspondance_IND,6,FALSE)","v":"IS05"}]
[null,null,"P06",{"$f":"VLOOKUP(C45,SRR_referential,2,FALSE)","v":"Management of negative impacts on stakeholders"},{"$f":"IF(ISERROR(VLOOKUP(C45,SRR_database_P2,4,FALSE)),\"\",IF(VLOOKUP(C45,SRR_database_P2,4,FALSE)=0,\"\",IF(VLOOKUP(C45,SRR_database_P2,4,FALSE)=1,1.04,VLOOKUP(C45,SRR_database_P2,4,FALSE))))","v":""},{"$f":"IF(AND(E45<>0,E45<>\"\"),1,\"\")","v":""},{"$f":"IF(VLOOKUP(C45,SRR_database_P2,6,FALSE)=0,\"\",1)","v":""},null,null,null,null,null,{"$f":"IFERROR(VLOOKUP(Onglet_SRR_graph!$I$72,Maturity_arrondi,2,FALSE),\"\")","v":""},{"$f":"C45","v":"P06"},{"$f":"IF(ISERROR(VLOOKUP(C45,SRR_database_P2,4,FALSE)),\"\",IF(VLOOKUP(C45,SRR_database_P2,4,FALSE)=0,\"\",VLOOKUP(C45,SRR_database_P2,4,FALSE)))","v":""},{"$f":"IFERROR(INDEX(Maturity,MATCH(O45,Onglet_SRR_Rules!$C$7:$C$10,-1),4),\"\")","v":""},{"$f":"IFERROR(INDEX(Maturity,MATCH(M45,Onglet_SRR_Rules!$C$7:$C$10,-1),4),\"\")","v":""},"Done",null,{"$f":"IF(OR(I45<>\"\",AND(P45<>Q45,O45<M45)),1,\"\")","v":""},{"$f":"IFERROR(_xlfn.IFS(R45=Onglet_SRR_Table!$B$84,0,R45=Onglet_SRR_Table!$B$85,1,R45=Onglet_SRR_Table!$B$86,2),\"\")","v":2},{"$f":"VLOOKUP(C45,Correspondance_IND,6,FALSE)","v":"IS05"}]
[null,null,"P07",{"$f":"VLOOKUP(C46,SRR_referential,2,FALSE)","v":"Cooperation with authorities & industrial neighbors"},{"$f":"IF(ISERROR(VLOOKUP(C46,SRR_database_P2,4,FALSE)),\"\",IF(VLOOKUP(C46,SRR_database_P2,4,FALSE)=0,\"\",IF(VLOOKUP(C46,SRR_database_P2,4,FALSE)=1,1.04,VLOOKUP(C46,SRR_database_P2,4,FALSE))))","v":""},{"$f":"IF(AND(E46<>0,E46<>\"\"),1,\"\")","v":""},{"$f":"IF(VLOOKUP(C46,SRR_database_P2,6,FALSE)=0,\"\",1)","v":""},null,null,null,null,null,{"$f":"IFERROR(VLOOKUP(Onglet_SRR_graph!$I$72,Maturity_arrondi,2,FALSE),\"\")","v":""},{"$f":"C46","v":"P07"},{"$f":"IF(ISERROR(VLOOKUP(C46,SRR_database_P2,4,FALSE)),\"\",IF(VLOOKUP(C46,SRR_database_P2,4,FALSE)=0,\"\",VLOOKUP(C46,SRR_database_P2,4,FALSE)))","v":""},{"$f":"IFERROR(INDEX(Maturity,MATCH(O46,Onglet_SRR_Rules!$C$7:$C$10,-1),4),\"\")","v":""},{"$f":"IFERROR(INDEX(Maturity,MATCH(M46,Onglet_SRR_Rules!$C$7:$C$10,-1),4),\"\")","v":""},"Done",null,"",{"$f":"IFERROR(_xlfn.IFS(R46=Onglet_SRR_Table!$B$84,0,R46=Onglet_SRR_Table!$B$85,1,R46=Onglet_SRR_Table!$B$86,2),\"\")","v":2},{"$f":"VLOOKUP(C46,Correspondance_IND,6,FALSE)","v":"IS05"}]
[null,null,"P08",{"$f":"VLOOKUP(C47,SRR_referential,2,FALSE)","v":"Control of contractors on HSE & Human Rights related matters"},{"$f":"IF(ISERROR(VLOOKUP(C47,SRR_database_P2,4,FALSE)),\"\",IF(VLOOKUP(C47,SRR_database_P2,4,FALSE)=0,\"\",IF(VLOOKUP(C47,SRR_database_P2,4,FALSE)=1,1.04,VLOOKUP(C47,SRR_database_P2,4,FALSE))))","v":""},{"$f":"IF(AND(E47<>0,E47<>\"\"),1,\"\")","v":""},{"$f":"IF(VLOOKUP(C47,SRR_database_P2,6,FALSE)=0,\"\",1)","v":""},null,null,null,null,null,{"$f":"IFERROR(VLOOKUP(Onglet_SRR_graph!$I$72,Maturity_arrondi,2,FALSE),\"\")","v":""},{"$f":"C47","v":"P08"},{"$f":"IF(ISERROR(VLOOKUP(C47,SRR_database_P2,4,FALSE)),\"\",IF(VLOOKUP(C47,SRR_database_P2,4,FALSE)=0,\"\",VLOOKUP(C47,SRR_database_P2,4,FALSE)))","v":""},{"$f":"IFERROR(INDEX(Maturity,MATCH(O47,Onglet_SRR_Rules!$C$7:$C$10,-1),4),\"\")","v":""},{"$f":"IFERROR(INDEX(Maturity,MATCH(M47,Onglet_SRR_Rules!$C$7:$C$10,-1),4),\"\")","v":""},"Done",null,"",{"$f":"IFERROR(_xlfn.IFS(R47=Onglet_SRR_Table!$B$84,0,R47=Onglet_SRR_Table!$B$85,1,R47=Onglet_SRR_Table!$B$86,2),\"\")","v":2},{"$f":"VLOOKUP(C47,Correspondance_IND,6,FALSE)","v":"IS06"}]
[null,null,"Av.","Average",{"$f":"IFERROR(AVERAGE(E44:E47),\"\")","v":""},null,null,null,null,null,null,null,{"$f":"IFERROR(VLOOKUP(Onglet_SRR_graph!$I$72,Maturity_arrondi,2,FALSE),\"\")","v":""},{"$f":"C48","v":"Av."}]
[]
[null,"PILLAR 3","C13",{"$f":"VLOOKUP(C50,SRR_referential,2,FALSE)","v":"Level of economic development of the area"},{"$f":"IF(ISERROR(VLOOKUP(C50,SRR_database_P3,4,FALSE)),\"\",IF(VLOOKUP(C50,SRR_database_P3,4,FALSE)=0,\"\",IF(VLOOKUP(C50,SRR_database_P3,4,FALSE)=1,1.04,VLOOKUP(C50,SRR_database_P3,4,FALSE))))","v":""},{"$f":"IF(AND(E50<>0,E50<>\"\"),1,\"\")","v":""},{"$f":"IF(VLOOKUP(C50,SRR_database_P3,6,FALSE)=0,\"\",1)","v":""},null,{"$f":"IF(AND(E50>=Threshold,E50<>\"N/A\",E50<>0),E50,\"\")","v":""},null,{"$f":"IF(I50<>\"\",C50,\"\")","v":""},null,null,{"$f":"C50","v":"C13"},{"$f":"IF(ISERROR(VLOOKUP(C50,SRR_database_P3,4,FALSE)),\"\",IF(VLOOKUP(C50,SRR_database_P3,4,FALSE)=0,\"\",VLOOKUP(C50,SRR_database_P3,4,FALSE)))","v":""},null,null,"Done",null,{"$f":"IF(OR(I50<>\"\",AND(P50<>Q50,O50<M50)),1,\"\")","v":""},{"$f":"IFERROR(_xlfn.IFS(R50=Onglet_SRR_Table!$B$84,0,R50=Onglet_SRR_Table!$B$85,1,R50=Onglet_SRR_Table!$B$86,2),\"\")","v":2},{"$f":"VLOOKUP(C50,Correspondance_IND,6,FALSE)","v":"IS07"}]
[null,null,"C14",{"$f":"VLOOKUP(C51,SRR_referential,2,FALSE)","v":"Level of human development"},{"$f":"IF(ISERROR(VLOOKUP(C51,SRR_database_P3,4,FALSE)),\"\",IF(VLOOKUP(C51,SRR_database_P3,4,FALSE)=0,\"\",IF(VLOOKUP(C51,SRR_database_P3,4,FALSE)=1,1.04,VLOOKUP(C51,SRR_database_P3,4,FALSE))))","v":""},{"$f":"IF(AND(E51<>0,E51<>\"\"),1,\"\")","v":""},{"$f":"IF(VLOOKUP(C51,SRR_database_P3,6,FALSE)=0,\"\",1)","v":""},null,{"$f":"IF(AND(E51>=Threshold,E51<>\"N/A\",E51<>0),E51,\"\")","v":""},null,"",null,null,{"$f":"C51","v":"C14"},{"$f":"IF(ISERROR(VLOOKUP(C51,SRR_database_P3,4,FALSE)),\"\",IF(VLOOKUP(C51,SRR_database_P3,4,FALSE)=0,\"\",VLOOKUP(C51,SRR_database_P3,4,FALSE)))","v":""},null,null,"Done",null,"",{"$f":"IFERROR(_xlfn.IFS(R51=Onglet_SRR_Table!$B$84,0,R51=Onglet_SRR_Table!$B$85,1,R51=Onglet_SRR_Table!$B$86,2),\"\")","v":2},{"$f":"VLOOKUP(C51,Correspondance_IND,6,FALSE)","v":"IS09"}]
[null,null,"C15",{"$f":"VLOOKUP(C52,SRR_referential,2,FALSE)","v":"Economic footprint of TotalEnergies"},{"$f":"IF(ISERROR(VLOOKUP(C52,SRR_database_P3,4,FALSE)),\"\",IF(VLOOKUP(C52,SRR_database_P3,4,FALSE)=0,\"\",IF(VLOOKUP(C52,SRR_database_P3,4,FALSE)=1,1.04,VLOOKUP(C52,SRR_database_P3,4,FALSE))))","v":""},{"$f":"IF(AND(E52<>0,E52<>\"\"),1,\"\")","v":""},{"$f":"IF(VLOOKUP(C52,SRR_database_P3,6,FALSE)=0,\"\",1)","v":""},null,{"$f":"IF(AND(E52>=Threshold,E52<>\"N/A\",E52<>0),E52,\"\")","v":""},null,"",null,null,{"$f":"C52","v":"C15"},{"$f":"IF(ISERROR(VLOOKUP(C52,SRR_database_P3,4,FALSE)),\"\",IF(VLOOKUP(C52,SRR_database_P3,4,FALSE)=0,\"\",VLOOKUP(C52,SRR_database_P3,4,FALSE)))","v":""},null,null,"Done",null,"",{"$f":"IFERROR(_xlfn.IFS(R52=Onglet_SRR_Table!$B$84,0,R52=Onglet_SRR_Table!$B$85,1,R52=Onglet_SRR_Table!$B$86,2),\"\")","v":2},{"$f":"VLOOKUP(C52,Correspondance_IND,6,FALSE)","v":"IS07"}]
[null,null,"C16",{"$f":"VLOOKUP(C53,SRR_referential,2,FALSE)","v":"Employment trends in TotalEnergies"},{"$f":"IF(ISERROR(VLOOKUP(C53,SRR_database_P3,4,FALSE)),\"\",IF(VLOOKUP(C53,SRR_database_P3,4,FALSE)=0,\"\",IF(VLOOKUP(C53,SRR_database_P3,4,FALSE)=1,1.04,VLOOKUP(C53,SRR_database_P3,4,FALSE))))","v":""},{"$f":"IF(AND(E53<>0,E53<>\"\"),1,\"\")","v":""},{"$f":"IF(VLOOKUP(C53,SRR_database_P3,6,FALSE)=0,\"\",1)","v":""},null,{"$f":"IF(AND(E53>=Threshold,E53<>\"N/A\",E53<>0),E53,\"\")","v":""},null,"",null,null,{"$f":"C53","v":"C16"},{"$f":"IF(ISERROR(VLOOKUP(C53,SRR_database_P3,4,FALSE)),\"\",IF(VLOOKUP(C53,SRR_database_P3,4,FALSE)=0,\"\",VLOOKUP(C53,SRR_database_P3,4,FALSE)))","v":""},null,null,"Done",null,"",{"$f":"IFERROR(_xlfn.IFS(R53=Onglet_SRR_Table!$B$84,0,R53=Onglet_SRR_Table!$B$85,1,R53=Onglet_SRR_Table!$B$86,2),\"\")","v":2},{"$f":"VLOOKUP(C53,Correspondance_IND,6,FALSE)","v":"IS04"}]
[]
[null,null,"I07",{"$f":"VLOOKUP(C55,SRR_referential,2,FALSE)","v":"Local employment"},{"$f":"IF(ISERROR(VLOOKUP(C55,SRR_database_P3,4,FALSE)),\"\",IF(VLOOKUP(C55,SRR_database_P3,4,FALSE)=0,\"\",IF(VLOOKUP(C55,SRR_database_P3,4,FALSE)=1,1.04,VLOOKUP(C55,SRR_database_P3,4,FALSE))))","v":""},{"$f":"IF(AND(E55<>0,E55<>\"\"),1,\"\")","v":""},{"$f":"IF(VLOOKUP(C55,SRR_database_P3,6,FALSE)=0,\"\",1)","v":""},null,{"$f":"IF(AND(E55>=Threshold,E55<>\"N/A\",E55<>0),E55,\"\")","v":""},null,"",null,null,{"$f":"C55","v":"I07"},{"$f":"IF(ISERROR(VLOOKUP(C55,SRR_database_P3,4,FALSE)),\"\",IF(VLOOKUP(C55,SRR_database_P3,4,FALSE)=0,\"\",VLOOKUP(C55,SRR_database_P3,4,FALSE)))","v":""},null,null,"Done",null,{"$f":"IF(OR(I55<>\"\",AND(P55<>Q55,O55<M55)),1,\"\")","v":""},{"$f":"IFERROR(_xlfn.IFS(R55=Onglet_SRR_Table!$B$84,0,R55=Onglet_SRR_Table!$B$85,1,R55=Onglet_SRR_Table!$B$86,2),\"\")","v":2},{"$f":"VLOOKUP(C55,Correspondance_IND,6,FALSE)","v":"IS07"}]
[null,null,"I08",{"$f":"VLOOKUP(C56,SRR_referential,2,FALSE)","v":"Local procurement"},{"$f":"IF(ISERROR(VLOOKUP(C56,SRR_database_P3,4,FALSE)),\"\",IF(VLOOKUP(C56,SRR_database_P3,4,FALSE)=0,\"\",IF(VLOOKUP(C56,SRR_database_P3,4,FALSE)=1,1.04,VLOOKUP(C56,SRR_database_P3,4,FALSE))))","v":""},{"$f":"IF(AND(E56<>0,E56<>\"\"),1,\"\")","v":""},{"$f":"IF(VLOOKUP(C56,SRR_database_P3,6,FALSE)=0,\"\",1)","v":""},null,{"$f":"IF(AND(E56>=Threshold,E56<>\"N/A\",E56<>0),E56,\"\")","v":""},null,"",null,null,{"$f":"C56","v":"I08"},{"$f":"IF(ISERROR(VLOOKUP(C56,SRR_database_P3,4,FALSE)),\"\",IF(VLOOKUP(C56,SRR_database_P3,4,FALSE)=0,\"\",VLOOKUP(C56,SRR_database_P3,4,FALSE)))","v":""},null,null,"Done",null,"",{"$f":"IFERROR(_xlfn.IFS(R56=Onglet_SRR_Table!$B$84,0,R56=Onglet_SRR_Table!$B$85,1,R56=Onglet_SRR_Table!$B$86,2),\"\")","v":2},{"$f":"VLOOKUP(C56,Correspondance_IND,6,FALSE)","v":"IS08"}]
[null,null,"I09",{"$f":"VLOOKUP(C57,SRR_referential,2,FALSE)","v":"Local socio-economic investments"},{"$f":"IF(ISERROR(VLOOKUP(C57,SRR_database_P3,4,FALSE)),\"\",IF(VLOOKUP(C57,SRR_database_P3,4,FALSE)=0,\"\",IF(VLOOKUP(C57,SRR_database_P3,4,FALSE)=1,1.04,VLOOKUP(C57,SRR_database_P3,4,FALSE))))","v":""},{"$f":"IF(AND(E57<>0,E57<>\"\"),1,\"\")","v":""},{"$f":"IF(VLOOKUP(C57,SRR_database_P3,6,FALSE)=0,\"\",1)","v":""},null,{"$f":"IF(AND(E57>=Threshold,E57<>\"N/A\",E57<>0),E57,\"\")","v":""},null,{"$f":"IF(I57<>\"\",C57,\"\")","v":""},null,null,{"$f":"C57","v":"I09"},{"$f":"IF(ISERROR(VLOOKUP(C57,SRR_database_P3,4,FALSE)),\"\",IF(VLOOKUP(C57,SRR_database_P3,4,FALSE)=0,\"\",VLOOKUP(C57,SRR_database_P3,4,FALSE)))","v":""},null,null,"Done",null,"",{"$f":"IFERROR(_xlfn.IFS(R57=Onglet_SRR_Table!$B$84,0,R57=Onglet_SRR_Table!$B$85,1,R57=Onglet_SRR_Table!$B$86,2),\"\")","v":2},{"$f":"VLOOKUP(C57,Correspondance_IND,6,FALSE)","v":"IS09"}]
[]
[null,null,"P09",{"$f":"VLOOKUP(C59,SRR_referential,2,FALSE)","v":"Access to jobs opportunities for locals"},{"$f":"IF(ISERROR(VLOOKUP(C59,SRR_database_P3,4,FALSE)),\"\",IF(VLOOKUP(C59,SRR_database_P3,4,FALSE)=0,\"\",IF(VLOOKUP(C59,SRR_database_P3,4,FALSE)=\"N/A\",\"N/A\",IF(VLOOKUP(C59,SRR_database_P3,4,FALSE)=1,1.04,VLOOKUP(C59,SRR_database_P3,4,FALSE)))))","v":""},{"$f":"IF(AND(E59<>0,E59<>\"\"),1,\"\")","v":""},{"$f":"IF(VLOOKUP(C59,SRR_database_P3,6,FALSE)=0,\"\",1)","v":""},null,null,null,null,null,{"$f":"IFERROR(VLOOKUP(Onglet_SRR_graph!$N$72,Maturity_arrondi,2,FALSE),\"\")","v":""},{"$f":"C59","v":"P09"},{"$f":"IF(ISERROR(VLOOKUP(C59,SRR_database_P3,4,FALSE)),\"\",IF(VLOOKUP(C59,SRR_database_P3,4,FALSE)=0,\"\",VLOOKUP(C59,SRR_database_P3,4,FALSE)))","v":""},{"$f":"IFERROR(INDEX(Maturity,MATCH(O59,Onglet_SRR_Rules!$C$7:$C$10,-1),4),\"\")","v":""},{"$f":"IFERROR(INDEX(Maturity,MATCH(M59,Onglet_SRR_Rules!$C$7:$C$10,-1),4),\"\")","v":""},"Done",null,{"$f":"IF(OR(I59<>\"\",AND(P59<>Q59,O59<M59)),1,\"\")","v":""},{"$f":"IFERROR(_xlfn.IFS(R59=Onglet_SRR_Table!$B$84,0,R59=Onglet_SRR_Table!$B$85,1,R59=Onglet_SRR_Table!$B$86,2),\"\")","v":2},{"$f":"VLOOKUP(C59,Correspondance_IND,6,FALSE)","v":"IS07"}]
[null,null,"P10","Access to tenders for local contractors","","","",null,null,null,null,null,{"$f":"IFERROR(VLOOKUP(Onglet_SRR_graph!$N$72,Maturity_arrondi,2,FALSE),\"\")","v":""},"P10","",{"$f":"IFERROR(INDEX(Maturity,MATCH(O60,Onglet_SRR_Rules!$C$7:$C$10,-1),4),\"\")","v":""},{"$f":"IFERROR(INDEX(Maturity,MATCH(M60,Onglet_SRR_Rules!$C$7:$C$10,-1),4),\"\")","v":""},"Done",null,"",{"$f":"IFERROR(_xlfn.IFS(R60=Onglet_SRR_Table!$B$84,0,R60=Onglet_SRR_Table!$B$85,1,R60=Onglet_SRR_Table!$B$86,2),\"\")","v":2},"IS07"]
[null,null,"P11","Capacity building of locals","","","",null,null,null,null,null,{"$f":"IFERROR(VLOOKUP(Onglet_SRR_graph!$N$72,Maturity_arrondi,2,FALSE),\"\")","v":""},"P11","",{"$f":"IFERROR(INDEX(Maturity,MATCH(O61,Onglet_SRR_Rules!$C$7:$C$10,-1),4),\"\")","v":""},{"$f":"IFERROR(INDEX(Maturity,MATCH(M61,Onglet_SRR_Rules!$C$7:$C$10,-1),4),\"\")","v":""},"Done",null,"",{"$f":"IFERROR(_xlfn.IFS(R61=Onglet_SRR_Table!$B$84,0,R61=Onglet_SRR_Table!$B$85,1,R61=Onglet_SRR_Table!$B$86,2),\"\")","v":2},"IS07"]
[null,null,"P12","Participation in local economic institutions","","","",null,null,null,null,null,{"$f":"IFERROR(VLOOKUP(Onglet_SRR_graph!$N$72,Maturity_arrondi,2,FALSE),\"\")","v":""},"P12","",{"$f":"IFERROR(INDEX(Maturity,MATCH(O62,Onglet_SRR_Rules!$C$7:$C$10,-1),4),\"\")","v":""},{"$f":"IFERROR(INDEX(Maturity,MATCH(M62,Onglet_SRR_Rules!$C$7:$C$10,-1),4),\"\")","v":""},"Done",null,"",{"$f":"IFERROR(_xlfn.IFS(R62=Onglet_SRR_Table!$B$84,0,R62=Onglet_SRR_Table!$B$85,1,R62=Onglet_SRR_Table!$B$86,2),\"\")","v":2},"IS08"]
[null,null,"P13","Control of contractors on local content","","","",null,null,null,null,null,{"$f":"IFERROR(VLOOKUP(Onglet_SRR_graph!$N$72,Maturity_arrondi,2,FALSE),\"\")","v":""},"P13","",{"$f":"IFERROR(INDEX(Maturity,MATCH(O63,Onglet_SRR_Rules!$C$7:$C$10,-1),4),\"\")","v":""},{"$f":"IFERROR(INDEX(Maturity,MATCH(M63,Onglet_SRR_Rules!$C$7:$C$10,-1),4),\"\")","v":""},"Done",null,"",{"$f":"IFERROR(_xlfn.IFS(R63=Onglet_SRR_Table!$B$84,0,R63=Onglet_SRR_Table!$B$85,1,R63=Onglet_SRR_Table!$B$86,2),\"\")","v":2},"IS08"]
[null,null,"P14","Management of socio-economic projects","","","",null,null,null,null,null,{"$f":"IFERROR(VLOOKUP(Onglet_SRR_graph!$N$72,Maturity_arrondi,2,FALSE),\"\")","v":""},"P14","",{"$f":"IFERROR(INDEX(Maturity,MATCH(O64,Onglet_SRR_Rules!$C$7:$C$10,-1),4),\"\")","v":""},{"$f":"IFERROR(INDEX(Maturity,MATCH(M64,Onglet_SRR_Rules!$C$7:$C$10,-1),4),\"\")","v":""},"Done",null,"",{"$f":"IFERROR(_xlfn.IFS(R64=Onglet_SRR_Table!$B$84,0,R64=Onglet_SRR_Table!$B$85,1,R64=Onglet_SRR_Table!$B$86,2),\"\")","v":2},"IS09"]
[null,null,"P15","Partnerships","","","",null,null,null,null,null,{"$f":"IFERROR(VLOOKUP(Onglet_SRR_graph!$N$72,Maturity_arrondi,2,FALSE),\"\")","v":""},"P15","",{"$f":"IFERROR(INDEX(Maturity,MATCH(O65,Onglet_SRR_Rules!$C$7:$C$10,-1),4),\"\")","v":""},{"$f":"IFERROR(INDEX(Maturity,MATCH(M65,Onglet_SRR_Rules!$C$7:$C$10,-1),4),\"\")","v":""},"Done",null,"",{"$f":"IFERROR(_xlfn.IFS(R65=Onglet_SRR_Table!$B$84,0,R65=Onglet_SRR_Table!$B$85,1,R65=Onglet_SRR_Table!$B$86,2),\"\")","v":2},"IS09"]
[null,null,"Av.","Average",{"$f":"IFERROR(AVERAGE(E59:E65),\"\")","v":""},"",null,null,null,null,null,null,{"$f":"IFERROR(VLOOKUP(Onglet_SRR_graph!$N$72,Maturity_arrondi,2,FALSE),\"\")","v":""},"Av."]
[]
[null,null,"S01",{"$f":"VLOOKUP(C68,SRR_referential,2,FALSE)","v":"Road safety"},{"$f":"IF(ISERROR(VLOOKUP(C68,SRR_database_P3,4,FALSE)),\"\",IF(VLOOKUP(C68,SRR_database_P3,4,FALSE)=0,\"\",IF(VLOOKUP(C68,SRR_database_P3,4,FALSE)=\"N/A\",\"N/A\",IF(VLOOKUP(C68,SRR_database_P3,4,FALSE)=1,1.04,VLOOKUP(C68,SRR_database_P3,4,FALSE)))))","v":""},{"$f":"IF(AND(E68<>0,E68<>\"\"),1,\"\")","v":""},{"$f":"IF(VLOOKUP(C68,SRR_database_P3,6,FALSE)=0,\"\",1)","v":""},null,null,null,null,null,null,"S01",{"$f":"IF(ISERROR(VLOOKUP(C68,SRR_database_P3,4,FALSE)),\"\",IF(VLOOKUP(C68,SRR_database_P3,4,FALSE)=0,\"\",VLOOKUP(C68,SRR_database_P3,4,FALSE)))","v":""},null,null,"Done",null,{"$f":"IF(OR(O68=Onglet_SRR_Table!$B$123,O68=Onglet_SRR_Table!$B$124,O68=Onglet_SRR_Table!$B$125),1,\"\")","v":""},null,{"$f":"VLOOKUP(C68,Correspondance_IND,6,FALSE)","v":"IS09"}]
[null,null,"S02",{"$f":"VLOOKUP(C69,SRR_referential,2,FALSE)","v":"Environment & climate"},{"$f":"IF(ISERROR(VLOOKUP(C69,SRR_database_P3,4,FALSE)),\"\",IF(VLOOKUP(C69,SRR_database_P3,4,FALSE)=0,\"\",IF(VLOOKUP(C69,SRR_database_P3,4,FALSE)=\"N/A\",\"N/A\",IF(VLOOKUP(C69,SRR_database_P3,4,FALSE)=1,1.04,VLOOKUP(C69,SRR_database_P3,4,FALSE)))))","v":""},{"$f":"IF(AND(E69<>0,E69<>\"\"),1,\"\")","v":""},{"$f":"IF(VLOOKUP(C69,SRR_database_P3,6,FALSE)=0,\"\",1)","v":""},null,null,null,null,null,null,"S02","",null,null,"Done",null,{"$f":"IF(OR(O69=Onglet_SRR_Table!$B$123,O69=Onglet_SRR_Table!$B$124,O69=Onglet_SRR_Table!$B$125),1,\"\")","v":""},null,"IS09"]
[null,null,"S03","Culture and heritage","","","",null,null,null,null,null,null,"S03","",null,null,"Done",null,{"$f":"IF(OR(O70=Onglet_SRR_Table!$B$123,O70=Onglet_SRR_Table!$B$124,O70=Onglet_SRR_Table!$B$125),1,\"\")","v":""},null,"IS09"]
[null,null,"S04","Education / training / professional integration","","","",null,null,null,null,null,null,"S04","",null,null,"Done",null,{"$f":"IF(OR(O71=Onglet_SRR_Table!$B$123,O71=Onglet_SRR_Table!$B$124,O71=Onglet_SRR_Table!$B$125),1,\"\")","v":""},null,"IS09"]
[null,null,"S05","Economic empowerment/support to business development","","","",null,null,null,null,null,null,"S05","",null,null,"Done",null,{"$f":"IF(OR(O72=Onglet_SRR_Table!$B$123,O72=Onglet_SRR_Table!$B$124,O72=Onglet_SRR_Table!$B$125),1,\"\")","v":""},null,"IS09"]
[null,null,"S06","Improved access to essential services (health, water, energy)","","","",null,null,null,null,null,null,"S06","",null,null,"Done",null,{"$f":"IF(OR(O73=Onglet_SRR_Table!$B$123,O73=Onglet_SRR_Table!$B$124,O73=Onglet_SRR_Table!$B$125),1,\"\")","v":""},null,"IS09"]
[null,null,"S07","Other","","","",null,null,null,null,null,null,"S07","",null,null,"Done",null,{"$f":"IF(OR(O74=Onglet_SRR_Table!$B$123,O74=Onglet_SRR_Table!$B$124,O74=Onglet_SRR_Table!$B$125),1,\"\")","v":""},null,"IS09"]
[]
[]
[null,"PILLAR 4","P16",{"$f":"VLOOKUP(C77,SRR_referential,2,FALSE)","v":"Social performance resources (budget, staff)"},{"$f":"IF(ISERROR(VLOOKUP(C77,SRR_database_P4,4,FALSE)),\"\",IF(VLOOKUP(C77,SRR_database_P4,4,FALSE)=0,\"\",IF(VLOOKUP(C77,SRR_database_P4,4,FALSE)=1,1.04,VLOOKUP(C77,SRR_database_P4,4,FALSE))))","v":""},{"$f":"IF(AND(E77<>0,E77<>\"\"),1,\"\")","v":""},{"$f":"IF(VLOOKUP(C77,SRR_database_P4,6,FALSE)=0,\"\",1)","v":""},null,null,null,null,null,{"$f":"IFERROR(VLOOKUP(Onglet_SRR_graph!$D$106,Maturity_arrondi,2,FALSE),\"\")","v":""},{"$f":"C77","v":"P16"},{"$f":"IF(ISERROR(VLOOKUP(C77,SRR_database_P4,4,FALSE)),\"\",IF(VLOOKUP(C77,SRR_database_P4,4,FALSE)=0,\"\",VLOOKUP(C77,SRR_database_P4,4,FALSE)))","v":""},{"$f":"IFERROR(INDEX(Maturity,MATCH(O77,Onglet_SRR_Rules!$C$7:$C$10,-1),4),\"\")","v":""},{"$f":"IFERROR(INDEX(Maturity,MATCH(M77,Onglet_SRR_Rules!$C$7:$C$10,-1),4),\"\")","v":""},"Done",null,{"$f":"IF(OR(I77<>\"\",AND(P77<>Q77,O77<M77)),1,\"\")","v":""},{"$f":"IFERROR(_xlfn.IFS(R77=Onglet_SRR_Table!$B$84,0,R77=Onglet_SRR_Table!$B$85,1,R77=Onglet_SRR_Table!$B$86,2),\"\")","v":2},{"$f":"VLOOKUP(C77,Correspondance_IND,6,FALSE)","v":"IS10"}]
[null,null,"P17","Interactions with top management and other departments",{"$f":"IF(ISERROR(VLOOKUP(C78,SRR_database_P4,4,FALSE)),\"\",IF(VLOOKUP(C78,SRR_database_P4,4,FALSE)=0,\"\",IF(VLOOKUP(C78,SRR_database_P4,4,FALSE)=1,1.04,VLOOKUP(C78,SRR_database_P4,4,FALSE))))","v":""},{"$f":"IF(AND(E78<>0,E78<>\"\"),1,\"\")","v":""},"",null,null,null,null,null,{"$f":"IFERROR(VLOOKUP(Onglet_SRR_graph!$D$106,Maturity_arrondi,2,FALSE),\"\")","v":""},"P17","",{"$f":"IFERROR(INDEX(Maturity,MATCH(O78,Onglet_SRR_Rules!$C$7:$C$10,-1),4),\"\")","v":""},{"$f":"IFERROR(INDEX(Maturity,MATCH(M78,Onglet_SRR_Rules!$C$7:$C$10,-1),4),\"\")","v":""},"Done",null,"",{"$f":"IFERROR(_xlfn.IFS(R78=Onglet_SRR_Table!$B$84,0,R78=Onglet_SRR_Table!$B$85,1,R78=Onglet_SRR_Table!$B$86,2),\"\")","v":2},"IS10"]
[null,null,"P18","Social risk assessment and management","","","",null,null,null,null,null,{"$f":"IFERROR(VLOOKUP(Onglet_SRR_graph!$D$106,Maturity_arrondi,2,FALSE),\"\")","v":""},"P18","",{"$f":"IFERROR(INDEX(Maturity,MATCH(O79,Onglet_SRR_Rules!$C$7:$C$10,-1),4),\"\")","v":""},{"$f":"IFERROR(INDEX(Maturity,MATCH(M79,Onglet_SRR_Rules!$C$7:$C$10,-1),4),\"\")","v":""},"Done",null,"",{"$f":"IFERROR(_xlfn.IFS(R79=Onglet_SRR_Table!$B$84,0,R79=Onglet_SRR_Table!$B$85,1,R79=Onglet_SRR_Table!$B$86,2),\"\")","v":2},"IS10"]
[null,null,"P19","Stakeholder mapping and stakeholder engagement plan","","","",null,null,null,null,null,{"$f":"IFERROR(VLOOKUP(Onglet_SRR_graph!$D$106,Maturity_arrondi,2,FALSE),\"\")","v":""},"P19","",{"$f":"IFERROR(INDEX(Maturity,MATCH(O80,Onglet_SRR_Rules!$C$7:$C$10,-1),4),\"\")","v":""},{"$f":"IFERROR(INDEX(Maturity,MATCH(M80,Onglet_SRR_Rules!$C$7:$C$10,-1),4),\"\")","v":""},"Done",null,"",{"$f":"IFERROR(_xlfn.IFS(R80=Onglet_SRR_Table!$B$84,0,R80=Onglet_SRR_Table!$B$85,1,R80=Onglet_SRR_Table!$B$86,2),\"\")","v":2},"IS10"]
[null,null,"P20","Social Performance strategy","","","",null,null,null,null,null,{"$f":"IFERROR(VLOOKUP(Onglet_SRR_graph!$D$106,Maturity_arrondi,2,FALSE),\"\")","v":""},"P20","",{"$f":"IFERROR(INDEX(Maturity,MATCH(O81,Onglet_SRR_Rules!$C$7:$C$10,-1),4),\"\")","v":""},{"$f":"IFERROR(INDEX(Maturity,MATCH(M81,Onglet_SRR_Rules!$C$7:$C$10,-1),4),\"\")","v":""},"Done",null,"",{"$f":"IFERROR(_xlfn.IFS(R81=Onglet_SRR_Table!$B$84,0,R81=Onglet_SRR_Table!$B$85,1,R81=Onglet_SRR_Table!$B$86,2),\"\")","v":2},"IS10"]
[null,null,"P21","Social Performance action plan","","","",null,null,null,null,null,{"$f":"IFERROR(VLOOKUP(Onglet_SRR_graph!$D$106,Maturity_arrondi,2,FALSE),\"\")","v":""},"P21","",{"$f":"IFERROR(INDEX(Maturity,MATCH(O82,Onglet_SRR_Rules!$C$7:$C$10,-1),4),\"\")","v":""},{"$f":"IFERROR(INDEX(Maturity,MATCH(M82,Onglet_SRR_Rules!$C$7:$C$10,-1),4),\"\")","v":""},"Done",null,"",{"$f":"IFERROR(_xlfn.IFS(R82=Onglet_SRR_Table!$B$84,0,R82=Onglet_SRR_Table!$B$85,1,R82=Onglet_SRR_Table!$B$86,2),\"\")","v":2},"IS10"]
[null,null,"P22","Monitoring of Social Performance","","","",null,null,null,null,null,{"$f":"IFERROR(VLOOKUP(Onglet_SRR_graph!$D$106,Maturity_arrondi,2,FALSE),\"\")","v":""},"P22","",{"$f":"IFERROR(INDEX(Maturity,MATCH(O83,Onglet_SRR_Rules!$C$7:$C$10,-1),4),\"\")","v":""},{"$f":"IFERROR(INDEX(Maturity,MATCH(M83,Onglet_SRR_Rules!$C$7:$C$10,-1),4),\"\")","v":""},"Done",null,"",{"$f":"IFERROR(_xlfn.IFS(R83=Onglet_SRR_Table!$B$84,0,R83=Onglet_SRR_Table!$B$85,1,R83=Onglet_SRR_Table!$B$86,2),\"\")","v":2},"IS10"]
[null,null,"P23","Social Performance Reporting","","","",null,null,null,null,null,{"$f":"IFERROR(VLOOKUP(Onglet_SRR_graph!$D$106,Maturity_arrondi,2,FALSE),\"\")","v":""},"P23","",{"$f":"IFERROR(INDEX(Maturity,MATCH(O84,Onglet_SRR_Rules!$C$7:$C$10,-1),4),\"\")","v":""},{"$f":"IFERROR(INDEX(Maturity,MATCH(M84,Onglet_SRR_Rules!$C$7:$C$10,-1),4),\"\")","v":""},"Done",null,"",{"$f":"IFERROR(_xlfn.IFS(R84=Onglet_SRR_Table!$B$84,0,R84=Onglet_SRR_Table!$B$85,1,R84=Onglet_SRR_Table!$B$86,2),\"\")","v":2},"IS10"]
[null,null,"P24","Benchmark with other operators / industries","","","",null,null,null,null,null,{"$f":"IFERROR(VLOOKUP(Onglet_SRR_graph!$D$106,Maturity_arrondi,2,FALSE),\"\")","v":""},"P24","",{"$f":"IFERROR(INDEX(Maturity,MATCH(O85,Onglet_SRR_Rules!$C$7:$C$10,-1),4),\"\")","v":""},{"$f":"IFERROR(INDEX(Maturity,MATCH(M85,Onglet_SRR_Rules!$C$7:$C$10,-1),4),\"\")","v":""},"Done",null,"",{"$f":"IFERROR(_xlfn.IFS(R85=Onglet_SRR_Table!$B$84,0,R85=Onglet_SRR_Table!$B$85,1,R85=Onglet_SRR_Table!$B$86,2),\"\")","v":2},"IS10"]
[null,null,"Av.","Average",{"$f":"IFERROR(AVERAGE(E77:E85),\"\")","v":""},"",null,null,null,null,null,null,{"$f":"IFERROR(VLOOKUP(Onglet_SRR_graph!$D$106,Maturity_arrondi,2,FALSE),\"\")","v":""},"Av."]
[]
[]
[null,null,null,null,"nb d'actions requises","Progress review","Nombre d'action existantes par pillar",null,"Nombre de nouvelles actions par pillar"]
[]
[null,"P1",{"$f":"VLOOKUP(B91,Pillars,2,FALSE)","v":"Pillar 1 - Relationships & dialogue"},null,{"$f":"SUM(T5:T20)","v":0},{"$f":"IFERROR(SUMPRODUCT($T$5:$T$20,$U$5:$U$20)/(SUM($T$5:$T$20)*2),\"\")","v":""},{"$f":"COUNTIFS(Onglet_AP_Database_actions!$F:$F,Onglet_SRR_dataset!$C91,Onglet_AP_Database_actions!$H:$H,Onglet_SRR_Table!$B$72)","v":0},null,{"$f":"COUNTIFS(Onglet_AP_Database_actions!$F:$F,Onglet_SRR_dataset!$C91,Onglet_AP_Database_actions!$H:$H,Onglet_SRR_Table!$B$73)","v":0}]
[null,"P2",{"$f":"VLOOKUP(B92,Pillars,2,FALSE)","v":"Pillar 2 - Negative impacts"},null,{"$f":"SUM(T22:T47)","v":0},{"$f":"IFERROR(SUMPRODUCT($T$22:$T$47,$U$22:$U$47)/(SUM($T$22:$T$47)*2),\"\")","v":""},{"$f":"COUNTIFS(Onglet_AP_Database_actions!$F:$F,Onglet_SRR_dataset!$C92,Onglet_AP_Database_actions!$H:$H,Onglet_SRR_Table!$B$72)","v":0},null,{"$f":"COUNTIFS(Onglet_AP_Database_actions!$F:$F,Onglet_SRR_dataset!$C92,Onglet_AP_Database_actions!$H:$H,Onglet_SRR_Table!$B$73)","v":0}]
[null,"P3",{"$f":"VLOOKUP(B93,Pillars,2,FALSE)","v":"Pillar 3 - Positive impacts"},null,{"$f":"SUM(T50:T65)","v":0},{"$f":"IFERROR(SUMPRODUCT($T$50:$T$65,$U$50:$U$65)/(SUM($T$50:$T$65)*2),\"\")","v":""},{"$f":"COUNTIFS(Onglet_AP_Database_actions!$F:$F,Onglet_SRR_dataset!$C93,Onglet_AP_Database_actions!$H:$H,Onglet_SRR_Table!$B$72)","v":0},null,{"$f":"COUNTIFS(Onglet_AP_Database_actions!$F:$F,Onglet_SRR_dataset!$C93,Onglet_AP_Database_actions!$H:$H,Onglet_SRR_Table!$B$73)","v":0}]
[null,"P4",{"$f":"VLOOKUP(B94,Pillars,2,FALSE)","v":"SP Governance"},null,{"$f":"SUM(T77:T85)","v":0},{"$f":"IFERROR(SUMPRODUCT($T$77:$T$85,$U$77:$U$85)/(SUM($T$77:$T$85)*2),\"\")","v":""},{"$f":"COUNTIFS(Onglet_AP_Database_actions!$F:$F,Onglet_SRR_dataset!$C94,Onglet_AP_Database_actions!$H:$H,Onglet_SRR_Table!$B$72)","v":0},null,{"$f":"COUNTIFS(Onglet_AP_Database_actions!$F:$F,Onglet_SRR_dataset!$C94,Onglet_AP_Database_actions!$H:$H,Onglet_SRR_Table!$B$73)","v":0}]

{"sheet":"Onglet_SRR_Gov","index":37,"n_rows":96,"n_cols":13,"rows_kept":96,"cut":false,"hidden":false,"merged":[]}
[]
[]
[]
[]
[]
[null,{"$f":"Onglet_trad_menus!B49","v":"SOCIAL PERFORMANCE GOVERNANCE"}]
[]
[]
[null,null,{"$f":"Onglet_trad_menus!$B$78","v":"SOCIAL PERFORMANCE REVIEW"}]
[]
[null,null,"INSTRUCTIONS",null,null,{"$f":"Onglet_trad_menus!$B$91","v":"The maturity scale below applies to each social performance lever:"}]
[null,null,{"$f":"Onglet_trad_menus!$B$80","v":"Review each social performance lever and score it according to rating scale"},null,null,1,null,{"$f":"Onglet_trad_menus!$B$93","v":"Not started"}]
[null,null,{"$f":"Onglet_trad_menus!$B$81","v":"Double click on each lever to show/hide details of rating scale"},null,null,2,null,{"$f":"Onglet_trad_menus!$B$94","v":"Intermediate"}]
[null,null,{"$f":"Onglet_trad_menus!$B$82","v":"To justify your scores:"},null,null,3,null,{"$f":"Onglet_trad_menus!$B$95","v":"Mature"}]
[null,null,{"$f":"Onglet_trad_menus!$B$83","v":"> comment briefly on your score"},null,null,4,null,{"$f":"Onglet_trad_menus!$B$96","v":"Excellent"}]
[null,null,{"$f":"Onglet_trad_menus!$B$84","v":"> list existing actions that justify your score"},null,null,"N/A",null,{"$f":"Onglet_trad_menus!$B$97","v":"Not applicable"}]
[null,null,{"$f":"Onglet_trad_menus!$B$85","v":"> suggest possible actions to improve performance"}]
[null,null,{"$f":"Onglet_trad_menus!$B$86","v":"You  can list up to 5 actions by performance lever"}]
[null,null,{"$f":"Onglet_trad_menus!$B$87","v":"The objective is not to list as many actions as possible but rather to limit"}]
[null,null,{"$f":"Onglet_trad_menus!$B$88","v":"to the key ones"}]
[null,null,{"$f":"Onglet_trad_menus!$B$89","v":"All actions listed will be directly reported in your final SRM+ action plan"}]
[]
[]
[null,null,null,{"$f":"Onglet_trad_menus!$B$99","v":"Social performance levers"},null,{"$f":"Onglet_trad_menus!$B$100","v":"Score"},null,{"$f":"Onglet_trad_menus!$B$101","v":"Justification of your score"}]
[]
[null,null,{"$f":"Onglet_SRR_scales!B301","v":"P16"},{"$f":"Onglet_SRR_scales!C301","v":"Social performance resources (budget, staff)"},null,null,null,null,null,{"$f":"C26","v":"P16"},{"$f":"VLOOKUP(J26,Correspondance_IND,6,FALSE)","v":"IS10"}]
[null,null,{"$f":"Onglet_SRR_scales!B302","v":"i"},{"$f":"Onglet_SRR_scales!C302","v":"Adequacy (quality / quantity) of resources to deliver performance on societal affairs"},null,null,null,{"$f":"Onglet_trad_menus!$B$102","v":"List below existing and/or new actions to reduce social risks and improve your social performance."},null,{"$f":"Onglet_trad_menus!$B$104","v":"Action status"},null,null,{"$f":"Onglet_trad_menus!$B$105","v":"Targeted stakeholders"}]
[null,null,{"$f":"Onglet_SRR_scales!B303","v":1},{"$f":"Onglet_SRR_scales!C303","v":"No dedicated resources"},null,"Action 1",null,null,null,null,"IS10_A1_INT","A1"]
[null,null,{"$f":"Onglet_SRR_scales!B304","v":2},{"$f":"Onglet_SRR_scales!C304","v":"Inadequate resources to implement Social Performance strategy "},null,"Action 2",null,null,null,null,"IS10_A2_INT","A2"]
[null,null,{"$f":"Onglet_SRR_scales!B305","v":3},{"$f":"Onglet_SRR_scales!C305","v":"Resources in line with Socia Performance strategy"},null,"Action 3",null,null,null,null,{"$f":"K$66&\"_\"&L30&\"_INT\"","v":"IS10_A3_INT"},"A3"]
[null,null,{"$f":"Onglet_SRR_scales!B306","v":4},{"$f":"Onglet_SRR_scales!C306","v":"Resources mobilized and actualized during Long Term Plan reviews"},null,"Action 4",null,null,null,null,"IS10_A4_INT","A4"]
[null,null,{"$f":"Onglet_SRR_scales!B307","v":"N/A"},{"$f":"Onglet_SRR_scales!C307","v":"-"},null,"Action 5",null,null,null,null,"IS10_A5_INT","A5"]
[]
[null,null,{"$f":"Onglet_SRR_scales!B309","v":"P17"},{"$f":"Onglet_SRR_scales!C309","v":"Interactions with top management and other departments"},null,null,null,null,null,{"$f":"C34","v":"P17"},{"$f":"VLOOKUP(J34,Correspondance_IND,6,FALSE)","v":"IS10"}]
[null,null,{"$f":"Onglet_SRR_scales!B253","v":"i"},{"$f":"Onglet_SRR_scales!C310","v":"-"},null,null,null,{"$f":"Onglet_trad_menus!$B$102","v":"List below existing and/or new actions to reduce social risks and improve your social performance."},null,{"$f":"Onglet_trad_menus!$B$104","v":"Action status"},null,null,{"$f":"Onglet_trad_menus!$B$105","v":"Targeted stakeholders"}]
[null,null,{"$f":"Onglet_SRR_scales!B254","v":1},{"$f":"Onglet_SRR_scales!C311","v":"Inadequate position of societal in the organization"},null,"Action 1",null,null,null,null,"IS10_A6_INT","A6"]
[null,null,{"$f":"Onglet_SRR_scales!B255","v":2},{"$f":"Onglet_SRR_scales!C312","v":"Social performance teams mobilized as needed"},null,"Action 2",null,null,null,null,{"$f":"K$66&\"_\"&L37&\"_INT\"","v":"IS10_A7_INT"},"A7"]
[null,null,{"$f":"Onglet_SRR_scales!B256","v":3},{"$f":"Onglet_SRR_scales!C313","v":"Social performance teams involved in thematic committees"},null,"Action 3",null,null,null,null,"IS10_A8_INT","A8"]
[null,null,{"$f":"Onglet_SRR_scales!B257","v":4},{"$f":"Onglet_SRR_scales!C314","v":"Formal steering committee involving enlarged CODIR to approve social performance strategies / action plan and review performance on regular basis"},null,"Action 4",null,null,null,null,"IS10_A9_INT","A9"]
[null,null,{"$f":"Onglet_SRR_scales!B258","v":"N/A"},{"$f":"Onglet_SRR_scales!C315","v":"-"},null,"Action 5",null,null,null,null,"IS10_A10_INT","A10"]
[]
[null,null,{"$f":"Onglet_SRR_scales!B317","v":"P18"},{"$f":"Onglet_SRR_scales!C317","v":"Social risk assessment and management"},null,null,null,null,null,{"$f":"C42","v":"P18"},{"$f":"VLOOKUP(J42,Correspondance_IND,6,FALSE)","v":"IS10"}]
[null,null,{"$f":"Onglet_SRR_scales!B318","v":"i"},{"$f":"Onglet_SRR_scales!C318","v":"-"},null,null,null,{"$f":"Onglet_trad_menus!$B$102","v":"List below existing and/or new actions to reduce social risks and improve your social performance."},null,{"$f":"Onglet_trad_menus!$B$104","v":"Action status"},null,null,{"$f":"Onglet_trad_menus!$B$105","v":"Targeted stakeholders"}]
[null,null,{"$f":"Onglet_SRR_scales!B319","v":1},{"$f":"Onglet_SRR_scales!C319","v":"No formal assessment of social risks"},null,"Action 1",null,null,null,null,"IS10_A11_INT","A11"]
[null,null,{"$f":"Onglet_SRR_scales!B320","v":2},{"$f":"Onglet_SRR_scales!C320","v":"Risks are regularly assessed"},null,"Action 2",null,null,null,null,{"$f":"K$66&\"_\"&L45&\"_INT\"","v":"IS10_A12_INT"},"A12"]
[null,null,{"$f":"Onglet_SRR_scales!B321","v":3},{"$f":"Onglet_SRR_scales!C321","v":"Risks are assessed, mitigated and monitored"},null,"Action 3",null,null,null,null,"IS10_A13_INT","A13"]
[null,null,{"$f":"Onglet_SRR_scales!B322","v":4},{"$f":"Onglet_SRR_scales!C322","v":"Risks are reported and REX are documented and shared"},null,"Action 4",null,null,null,null,"IS10_A14_INT","A14"]
[null,null,{"$f":"Onglet_SRR_scales!B323","v":"N/A"},{"$f":"Onglet_SRR_scales!C323","v":"-"},null,"Action 5",null,null,null,null,"IS10_A15_INT","A15"]
[]
[null,null,{"$f":"Onglet_SRR_scales!B325","v":"P19"},{"$f":"Onglet_SRR_scales!C325","v":"Stakeholder mapping and stakeholder engagement plan"},null,null,null,null,null,{"$f":"C50","v":"P19"},{"$f":"VLOOKUP(J50,Correspondance_IND,6,FALSE)","v":"IS10"}]
[null,null,{"$f":"Onglet_SRR_scales!B326","v":"i"},{"$f":"Onglet_SRR_scales!C326","v":"-"},null,null,null,{"$f":"Onglet_trad_menus!$B$102","v":"List below existing and/or new actions to reduce social risks and improve your social performance."},null,{"$f":"Onglet_trad_menus!$B$104","v":"Action status"},null,null,{"$f":"Onglet_trad_menus!$B$105","v":"Targeted stakeholders"}]
[null,null,{"$f":"Onglet_SRR_scales!B327","v":1},{"$f":"Onglet_SRR_scales!C327","v":"No formal stakeholder mapping"},null,"Action 1",null,null,null,null,"IS10_A16_INT","A16"]
[null,null,{"$f":"Onglet_SRR_scales!B328","v":2},{"$f":"Onglet_SRR_scales!C328","v":"Stakeholders are mapped"},null,"Action 2",null,null,null,null,"IS10_A17_INT","A17"]
[null,null,{"$f":"Onglet_SRR_scales!B329","v":3},{"$f":"Onglet_SRR_scales!C329","v":"Stakeholders are mapped and mapping is regularly reviewed by top management"},null,"Action 3",null,null,null,null,"IS10_A18_INT","A18"]
[null,null,{"$f":"Onglet_SRR_scales!B330","v":4},{"$f":"Onglet_SRR_scales!C330","v":"Stakeholder engagement plan defined based on stakeholder mapping"},null,"Action 4",null,null,null,null,{"$f":"K$66&\"_\"&L55&\"_INT\"","v":"IS10_A19_INT"},"A19"]
[null,null,{"$f":"Onglet_SRR_scales!B331","v":"N/A"},{"$f":"Onglet_SRR_scales!C331","v":"-"},null,"Action 5",null,null,null,null,"IS10_A20_INT","A20"]
[]
[null,null,{"$f":"Onglet_SRR_scales!B333","v":"P20"},{"$f":"Onglet_SRR_scales!C333","v":"Social Performance strategy"},null,null,null,null,null,{"$f":"C58","v":"P20"},{"$f":"VLOOKUP(J58,Correspondance_IND,6,FALSE)","v":"IS10"}]
[null,null,{"$f":"Onglet_SRR_scales!B334","v":"i"},{"$f":"Onglet_SRR_scales!C334","v":"-"},null,null,null,{"$f":"Onglet_trad_menus!$B$102","v":"List below existing and/or new actions to reduce social risks and improve your social performance."},null,{"$f":"Onglet_trad_menus!$B$104","v":"Action status"},null,null,{"$f":"Onglet_trad_menus!$B$105","v":"Targeted stakeholders"}]
[null,null,{"$f":"Onglet_SRR_scales!B335","v":1},{"$f":"Onglet_SRR_scales!C335","v":"No formal Social Performance strategy"},null,"Action 1",null,null,null,null,"IS10_A21_INT","A21"]
[null,null,{"$f":"Onglet_SRR_scales!B336","v":2},{"$f":"Onglet_SRR_scales!C336","v":"Existence of a Social Performance strategy, but not endorsed by top management"},null,"Action 2",null,null,null,null,"IS10_A22_INT","A22"]
[null,null,{"$f":"Onglet_SRR_scales!B337","v":3},{"$f":"Onglet_SRR_scales!C337","v":"Existence of a formal Social Performance strategy endorsed by top management"},null,"Action 3",null,null,null,null,{"$f":"K$66&\"_\"&L62&\"_INT\"","v":"IS10_A23_INT"},"A23"]
[null,null,{"$f":"Onglet_SRR_scales!B338","v":4},{"$f":"Onglet_SRR_scales!C338","v":"Existence of a formal Social Performance strategy endorsed, championed by top management"},null,"Action 4",null,null,null,null,"IS10_A24_INT","A24"]
[null,null,{"$f":"Onglet_SRR_scales!B339","v":"N/A"},{"$f":"Onglet_SRR_scales!C339","v":"-"},null,"Action 5",null,null,null,null,"IS10_A25_INT","A25"]
[]
[null,null,{"$f":"Onglet_SRR_scales!B341","v":"P21"},{"$f":"Onglet_SRR_scales!C341","v":"Social Performance action plan"},null,null,null,null,null,{"$f":"C66","v":"P21"},{"$f":"VLOOKUP(J66,Correspondance_IND,6,FALSE)","v":"IS10"}]
[null,null,{"$f":"Onglet_SRR_scales!B342","v":"i"},{"$f":"Onglet_SRR_scales!C342","v":"-"},null,null,null,{"$f":"Onglet_trad_menus!$B$102","v":"List below existing and/or new actions to reduce social risks and improve your social performance."},null,{"$f":"Onglet_trad_menus!$B$104","v":"Action status"},null,null,{"$f":"Onglet_trad_menus!$B$105","v":"Targeted stakeholders"}]
[null,null,{"$f":"Onglet_SRR_scales!B343","v":1},{"$f":"Onglet_SRR_scales!C343","v":"No Social Performance action plan"},null,"Action 1",null,null,null,null,"IS10_A26_INT","A26"]
[null,null,{"$f":"Onglet_SRR_scales!B344","v":2},{"$f":"Onglet_SRR_scales!C344","v":"Formalized Social Performance Action Plan"},null,"Action 2",null,null,null,null,{"$f":"K$66&\"_\"&L69&\"_INT\"","v":"IS10_A27_INT"},"A27"]
[null,null,{"$f":"Onglet_SRR_scales!B345","v":3},{"$f":"Onglet_SRR_scales!C345","v":"Formalized Social Performance Action Plan taking into account stakeholders' concerns and expectations"},null,"Action 3",null,null,null,null,"IS10_A28_INT","A28"]
[null,null,{"$f":"Onglet_SRR_scales!B346","v":4},{"$f":"Onglet_SRR_scales!C346","v":"Formalized Social Performance Action Plan regularly reviewed and shared with stakeholders"},null,"Action 4",null,null,null,null,"IS10_A29_INT","A29"]
[null,null,{"$f":"Onglet_SRR_scales!B347","v":"N/A"},{"$f":"Onglet_SRR_scales!C347","v":"-"},null,"Action 5",null,null,null,null,"IS10_A30_INT","A30"]
[]
[null,null,{"$f":"Onglet_SRR_scales!B349","v":"P22"},{"$f":"Onglet_SRR_scales!C349","v":"Monitoring of Social Performance"},null,null,null,null,null,{"$f":"C74","v":"P22"},{"$f":"VLOOKUP(J74,Correspondance_IND,6,FALSE)","v":"IS10"}]
[null,null,{"$f":"Onglet_SRR_scales!B350","v":"i"},{"$f":"Onglet_SRR_scales!C350","v":"-"},null,null,null,{"$f":"Onglet_trad_menus!$B$102","v":"List below existing and/or new actions to reduce social risks and improve your social performance."},null,{"$f":"Onglet_trad_menus!$B$104","v":"Action status"},null,null,{"$f":"Onglet_trad_menus!$B$105","v":"Targeted stakeholders"}]
[null,null,{"$f":"Onglet_SRR_scales!B351","v":1},{"$f":"Onglet_SRR_scales!C351","v":"No Social Performance KPIs"},null,"Action 1",null,null,null,null,"IS10_A31_INT","A31"]
[null,null,{"$f":"Onglet_SRR_scales!B352","v":2},{"$f":"Onglet_SRR_scales!C352","v":"Social Performance KPIs are defined"},null,"Action 2",null,null,null,null,{"$f":"K$66&\"_\"&L77&\"_INT\"","v":"IS10_A32_INT"},"A32"]
[null,null,{"$f":"Onglet_SRR_scales!B353","v":3},{"$f":"Onglet_SRR_scales!C353","v":"Social Performance KPIs are followed and reported"},null,"Action 3",null,null,null,null,"IS10_A33_INT","A33"]
[null,null,{"$f":"Onglet_SRR_scales!B354","v":4},{"$f":"Onglet_SRR_scales!C354","v":"Social Performance KPIs are followed, reported and corrective actions are taken"},null,"Action 4",null,null,null,null,"IS10_A34_INT","A34"]
[null,null,{"$f":"Onglet_SRR_scales!B355","v":"N/A"},{"$f":"Onglet_SRR_scales!C355","v":"-"},null,"Action 5",null,null,null,null,"IS10_A35_INT","A35"]
[]
[null,null,{"$f":"Onglet_SRR_scales!B357","v":"P23"},{"$f":"Onglet_SRR_scales!C357","v":"Social Performance Reporting"},null,null,null,null,null,{"$f":"C82","v":"P23"},{"$f":"VLOOKUP(J82,Correspondance_IND,6,FALSE)","v":"IS10"}]
[null,null,{"$f":"Onglet_SRR_scales!B358","v":"i"},{"$f":"Onglet_SRR_scales!C358","v":"-"},null,null,null,{"$f":"Onglet_trad_menus!$B$102","v":"List below existing and/or new actions to reduce social risks and improve your social performance."},null,{"$f":"Onglet_trad_menus!$B$104","v":"Action status"},null,null,{"$f":"Onglet_trad_menus!$B$105","v":"Targeted stakeholders"}]
[null,null,{"$f":"Onglet_SRR_scales!B359","v":1},{"$f":"Onglet_SRR_scales!C359","v":"Reporting of societal actions limited to regulatory requirements"},null,"Action 1",null,null,null,null,"IS10_A36_INT","A36"]
[null,null,{"$f":"Onglet_SRR_scales!B360","v":2},{"$f":"Onglet_SRR_scales!C360","v":"Reporting of societal actions including voluntary commitments"},null,"Action 2",null,null,null,null,{"$f":"K$66&\"_\"&L85&\"_INT\"","v":"IS10_A37_INT"},"A37"]
[null,null,{"$f":"Onglet_SRR_scales!B361","v":3},{"$f":"Onglet_SRR_scales!C361","v":"Annual report of societal actions in line with Company's reporting needs"},null,"Action 3",null,null,null,null,"IS10_A38_INT","A38"]
[null,null,{"$f":"Onglet_SRR_scales!B362","v":4},{"$f":"Onglet_SRR_scales!C362","v":"Annual report of societal actions communicated to key stakeholders"},null,"Action 4",null,null,null,null,"IS10_A39_INT","A39"]
[null,null,{"$f":"Onglet_SRR_scales!B363","v":"N/A"},{"$f":"Onglet_SRR_scales!C363","v":"-"},null,"Action 5",null,null,null,null,"IS10_A40_INT","A40"]
[]
[null,null,{"$f":"Onglet_SRR_scales!B365","v":"P24"},{"$f":"Onglet_SRR_scales!C365","v":"Benchmark with other operators / industries"},null,null,null,null,null,{"$f":"C90","v":"P24"},{"$f":"VLOOKUP(J90,Correspondance_IND,6,FALSE)","v":"IS10"}]
[null,null,{"$f":"Onglet_SRR_scales!B366","v":"i"},{"$f":"Onglet_SRR_scales!C366","v":"Knowledge of the societal actions of competitors"},null,null,null,{"$f":"Onglet_trad_menus!$B$102","v":"List below existing and/or new actions to reduce social risks and improve your social performance."},null,{"$f":"Onglet_trad_menus!$B$104","v":"Action status"},null,null,{"$f":"Onglet_trad_menus!$B$105","v":"Targeted stakeholders"}]
[null,null,{"$f":"Onglet_SRR_scales!B367","v":1},{"$f":"Onglet_SRR_scales!C367","v":"No benchmark"},null,"Action 1",null,null,null,null,{"$f":"K$66&\"_\"&L92&\"_INT\"","v":"IS10_A41_INT"},"A41"]
[null,null,{"$f":"Onglet_SRR_scales!B368","v":2},{"$f":"Onglet_SRR_scales!C368","v":"Limited knowledge of the societal actions of the competitors"},null,"Action 2",null,null,null,null,{"$f":"K$66&\"_\"&L93&\"_INT\"","v":"IS10_A42_INT"},"A42"]
[null,null,{"$f":"Onglet_SRR_scales!B369","v":3},{"$f":"Onglet_SRR_scales!C369","v":"Documented benchmark of the societal actions of the competitors and the neighboring industries"},null,"Action 3",null,null,null,null,"IS10_A43_INT","A43"]
[null,null,{"$f":"Onglet_SRR_scales!B370","v":4},{"$f":"Onglet_SRR_scales!C370","v":"Participation to benchmark groups (inter-industry benchmarking groups, scouting committees...) on social performance issues"},null,"Action 4",null,null,null,null,"IS10_A44_INT","A44"]
[null,null,{"$f":"Onglet_SRR_scales!B371","v":"N/A"},{"$f":"Onglet_SRR_scales!C371","v":"-"},null,"Action 5",null,null,null,null,"IS10_A45_INT","A45"]

{"sheet":"Onglet_SRR_graph","index":38,"n_rows":145,"n_cols":27,"rows_kept":145,"cut":false,"hidden":false,"merged":[]}
[null,null,null,null,null,null,4]
[]
[]
[]
[]
[null,{"$f":"Onglet_SRR_Table!B94","v":"VISUALIZE SOCIAL RISKS & PERFORMANCE REVIEW RESULTS"}]
[]
[]
[null,null,{"$f":"Onglet_SRR_Table!B104","v":"SOCIETAL EXPOSURE"}]
[null,null,{"$f":"Onglet_SRR_Table!B96","v":"Before risk mitigation"},null,null,{"$f":"Onglet_SRR_Table!B105","v":"Societal exposure"},null,null,{"$f":"Onglet_SRR_Table!B106","v":"Social Risks matrix"},null,null,null,null,{"$f":"Onglet_SRR_Table!B107","v":"Social Risks Radar"},null,null,null,null,null,null,null,null,"Pour le radar"]
[null,null,null,null,null,null,null,null,null,null,null,null,null,null,null,null,null,null,null,null,null,null,"Nb questions P1",10]
[null,null,null,null,null,null,null,null,null,null,null,null,null,null,null,null,null,null,null,null,null,null,"Nb questions P2",17]
[null,null,"P1",{"$f":"Onglet_SRR_Table!B39","v":"Pillar 1 - Relationships & dialogue"},null,{"$f":"IF(Onglet_SRR_scoringmodel!F8=\"\",Onglet_SRR_Table!$B$31,Onglet_SRR_scoringmodel!F19)","v":"Not assessed yet"},null,null,null,null,null,null,null,null,null,null,null,null,null,null,null,null,"Nb questions P3",7]
[]
[null,null,"P2",{"$f":"Onglet_SRR_Table!B40","v":"Pillar 2 - Negative impacts"},null,{"$f":"IF(Onglet_SRR_scoringmodel!F9=\"\",Onglet_SRR_Table!$B$31,Onglet_SRR_scoringmodel!F20)","v":"Not assessed yet"}]
[]
[null,null,"P3",{"$f":"Onglet_SRR_Table!B41","v":"Pillar 3 - Positive impacts"},null,{"$f":"IF(Onglet_SRR_scoringmodel!F10=\"\",Onglet_SRR_Table!$B$31,Onglet_SRR_scoringmodel!F21)","v":"Not assessed yet"}]
[]
[null,null,"n",{"$f":"Onglet_SRR_Table!B98","v":"Your overall societal exposure is:"},null,{"$f":"IF(Onglet_SRR_scoringmodel!F11=\"\",Onglet_SRR_Table!$B$31,Onglet_SRR_scoringmodel!F22)","v":"Not assessed yet"}]
[]
[null,null,null,{"$f":"Onglet_SRR_Table!B100","v":"In order to mitigate your societal risks, action is required on:"}]
[null,null,{"$f":"COUNTIF(Onglet_SRR_dataset!E5:E10,\">=\"&Threshold)+COUNTIF(Onglet_SRR_dataset!E23:E28,\">=\"&Threshold)+COUNTIF(Onglet_SRR_dataset!E50:E53,\">=\"&Threshold)","v":0},{"$f":"Onglet_SRR_Table!B101","v":"risks linked to societal context"}]
[null,null,{"$f":"COUNTIF(Onglet_SRR_dataset!E12:E15,\">=\"&Threshold)+COUNTIF(Onglet_SRR_dataset!E31:E36,\">=\"&Threshold)+COUNTIF(Onglet_SRR_dataset!E38:E42,\">=\"&Threshold)+COUNTIF(Onglet_SRR_dataset!E55:E57,\">=\"&Threshold)","v":0},{"$f":"Onglet_SRR_Table!B102","v":"risks linked to impacts on people and/or environment"}]
[]
[]
[null,null,"#",{"$f":"Onglet_SRR_Table!B108","v":"Risks"},null,{"$f":"Onglet_SRR_Table!B109","v":"Level"},null,null,{"$f":"Onglet_SRR_Table!B110","v":"Pillar"},null,{"$f":"Onglet_SRR_Table!B111","v":"Type"},null,null,{"$f":"Onglet_SRR_Table!B112","v":"Risk mitigation"}]
[null,null,"C01",{"$f":"VLOOKUP(C27,SRR_referential,2,FALSE)","v":"Position of the media regarding TotalEnergies"},null,{"$f":"IFERROR(IF(ISERROR(INDEX(Onglet_SRR_Rules!$B$15:$D$18,MATCH(Onglet_SRR_dataset!O5,Onglet_SRR_Rules!$C$15:$C$18,0),3)),INDEX(Onglet_SRR_Rules!$B$15:$D$18,MATCH(Onglet_SRR_dataset!O5,Onglet_SRR_Rules!$C$15:$C$18,-1),3),INDEX(Onglet_SRR_Rules!$B$15:$D$18,MATCH(Onglet_SRR_dataset!O5,Onglet_SRR_Rules!$B$15:$B$18,-1),3)),\"\")","v":""},null,null,{"$f":"VLOOKUP(C27,Correspondance_IND,2,FALSE)","v":"Pillar 1 - Relationships & dialogue"},null,{"$f":"_xlfn.IFS(MID(C27,1,1)=\"C\",Onglet_SRR_Table!$B$35,MID(C27,1,1)=\"I\",Onglet_SRR_Table!$B$36)","v":"Context"},null,null,{"$f":"IF(OR(F27=Onglet_SRR_Table!$B$25,F27=Onglet_SRR_Table!$B$26),Onglet_SRR_Table!$B$30,\"\")","v":""}]
[null,null,"C02","Existence of activitist associations",null,{"$f":"IFERROR(IF(ISERROR(INDEX(Onglet_SRR_Rules!$B$15:$D$18,MATCH(Onglet_SRR_dataset!O6,Onglet_SRR_Rules!$C$15:$C$18,0),3)),INDEX(Onglet_SRR_Rules!$B$15:$D$18,MATCH(Onglet_SRR_dataset!O6,Onglet_SRR_Rules!$C$15:$C$18,-1),3),INDEX(Onglet_SRR_Rules!$B$15:$D$18,MATCH(Onglet_SRR_dataset!O6,Onglet_SRR_Rules!$B$15:$B$18,-1),3)),\"\")","v":""},null,null,"Pillar 1 - Relationships & dialogue",null,{"$f":"_xlfn.IFS(MID(C28,1,1)=\"C\",Onglet_SRR_Table!$B$35,MID(C28,1,1)=\"I\",Onglet_SRR_Table!$B$36)","v":"Context"},null,null,{"$f":"IF(OR(F28=Onglet_SRR_Table!$B$25,F28=Onglet_SRR_Table!$B$26),Onglet_SRR_Table!$B$30,\"\")","v":""}]
[null,null,"C03","Negative perception linked to past or unfulfilled social commitments",null,{"$f":"IFERROR(IF(ISERROR(INDEX(Onglet_SRR_Rules!$B$15:$D$18,MATCH(Onglet_SRR_dataset!O7,Onglet_SRR_Rules!$C$15:$C$18,0),3)),INDEX(Onglet_SRR_Rules!$B$15:$D$18,MATCH(Onglet_SRR_dataset!O7,Onglet_SRR_Rules!$C$15:$C$18,-1),3),INDEX(Onglet_SRR_Rules!$B$15:$D$18,MATCH(Onglet_SRR_dataset!O7,Onglet_SRR_Rules!$B$15:$B$18,-1),3)),\"\")","v":""},null,null,"Pillar 1 - Relationships & dialogue",null,{"$f":"_xlfn.IFS(MID(C29,1,1)=\"C\",Onglet_SRR_Table!$B$35,MID(C29,1,1)=\"I\",Onglet_SRR_Table!$B$36)","v":"Context"},null,null,{"$f":"IF(OR(F29=Onglet_SRR_Table!$B$25,F29=Onglet_SRR_Table!$B$26),Onglet_SRR_Table!$B$30,\"\")","v":""}]
[null,null,"C04","External factors threatening license to operate",null,{"$f":"IFERROR(IF(ISERROR(INDEX(Onglet_SRR_Rules!$B$15:$D$18,MATCH(Onglet_SRR_dataset!O8,Onglet_SRR_Rules!$C$15:$C$18,0),3)),INDEX(Onglet_SRR_Rules!$B$15:$D$18,MATCH(Onglet_SRR_dataset!O8,Onglet_SRR_Rules!$C$15:$C$18,-1),3),INDEX(Onglet_SRR_Rules!$B$15:$D$18,MATCH(Onglet_SRR_dataset!O8,Onglet_SRR_Rules!$B$15:$B$18,-1),3)),\"\")","v":""},null,null,"Pillar 1 - Relationships & dialogue",null,{"$f":"_xlfn.IFS(MID(C30,1,1)=\"C\",Onglet_SRR_Table!$B$35,MID(C30,1,1)=\"I\",Onglet_SRR_Table!$B$36)","v":"Context"},null,null,{"$f":"IF(OR(F30=Onglet_SRR_Table!$B$25,F30=Onglet_SRR_Table!$B$26),Onglet_SRR_Table!$B$30,\"\")","v":""}]
[null,null,"C05","Alignment of local practices and regulations with Company standards",null,{"$f":"IFERROR(IF(ISERROR(INDEX(Onglet_SRR_Rules!$B$15:$D$18,MATCH(Onglet_SRR_dataset!O9,Onglet_SRR_Rules!$C$15:$C$18,0),3)),INDEX(Onglet_SRR_Rules!$B$15:$D$18,MATCH(Onglet_SRR_dataset!O9,Onglet_SRR_Rules!$C$15:$C$18,-1),3),INDEX(Onglet_SRR_Rules!$B$15:$D$18,MATCH(Onglet_SRR_dataset!O9,Onglet_SRR_Rules!$B$15:$B$18,-1),3)),\"\")","v":""},null,null,"Pillar 1 - Relationships & dialogue",null,{"$f":"_xlfn.IFS(MID(C31,1,1)=\"C\",Onglet_SRR_Table!$B$35,MID(C31,1,1)=\"I\",Onglet_SRR_Table!$B$36)","v":"Context"},null,null,{"$f":"IF(OR(F31=Onglet_SRR_Table!$B$25,F31=Onglet_SRR_Table!$B$26),Onglet_SRR_Table!$B$30,\"\")","v":""}]
[null,null,"C06","Opposition to expansion projects, restructuring or conversion",null,{"$f":"IFERROR(IF(ISERROR(INDEX(Onglet_SRR_Rules!$B$15:$D$18,MATCH(Onglet_SRR_dataset!O10,Onglet_SRR_Rules!$C$15:$C$18,0),3)),INDEX(Onglet_SRR_Rules!$B$15:$D$18,MATCH(Onglet_SRR_dataset!O10,Onglet_SRR_Rules!$C$15:$C$18,-1),3),INDEX(Onglet_SRR_Rules!$B$15:$D$18,MATCH(Onglet_SRR_dataset!O10,Onglet_SRR_Rules!$B$15:$B$18,-1),3)),\"\")","v":""},null,null,"Pillar 1 - Relationships & dialogue",null,{"$f":"_xlfn.IFS(MID(C32,1,1)=\"C\",Onglet_SRR_Table!$B$35,MID(C32,1,1)=\"I\",Onglet_SRR_Table!$B$36)","v":"Context"},null,null,{"$f":"IF(OR(F32=Onglet_SRR_Table!$B$25,F32=Onglet_SRR_Table!$B$26),Onglet_SRR_Table!$B$30,\"\")","v":""}]
[null,null,"I01","Relations with authorities",null,{"$f":"IFERROR(IF(ISERROR(INDEX(Onglet_SRR_Rules!$B$15:$D$18,MATCH(Onglet_SRR_dataset!O12,Onglet_SRR_Rules!$C$15:$C$18,0),3)),INDEX(Onglet_SRR_Rules!$B$15:$D$18,MATCH(Onglet_SRR_dataset!O12,Onglet_SRR_Rules!$C$15:$C$18,-1),3),INDEX(Onglet_SRR_Rules!$B$15:$D$18,MATCH(Onglet_SRR_dataset!O12,Onglet_SRR_Rules!$B$15:$B$18,-1),3)),\"\")","v":""},null,null,"Pillar 1 - Relationships & dialogue",null,{"$f":"_xlfn.IFS(MID(C33,1,1)=\"C\",Onglet_SRR_Table!$B$35,MID(C33,1,1)=\"I\",Onglet_SRR_Table!$B$36)","v":"Impact"},null,null,{"$f":"IF(OR(F33=Onglet_SRR_Table!$B$25,F33=Onglet_SRR_Table!$B$26),Onglet_SRR_Table!$B$30,\"\")","v":""}]
[null,null,"I02","Relations with business partners",null,{"$f":"IFERROR(IF(ISERROR(INDEX(Onglet_SRR_Rules!$B$15:$D$18,MATCH(Onglet_SRR_dataset!O13,Onglet_SRR_Rules!$C$15:$C$18,0),3)),INDEX(Onglet_SRR_Rules!$B$15:$D$18,MATCH(Onglet_SRR_dataset!O13,Onglet_SRR_Rules!$C$15:$C$18,-1),3),INDEX(Onglet_SRR_Rules!$B$15:$D$18,MATCH(Onglet_SRR_dataset!O13,Onglet_SRR_Rules!$B$15:$B$18,-1),3)),\"\")","v":""},null,null,"Pillar 1 - Relationships & dialogue",null,{"$f":"_xlfn.IFS(MID(C34,1,1)=\"C\",Onglet_SRR_Table!$B$35,MID(C34,1,1)=\"I\",Onglet_SRR_Table!$B$36)","v":"Impact"},null,null,{"$f":"IF(OR(F34=Onglet_SRR_Table!$B$25,F34=Onglet_SRR_Table!$B$26),Onglet_SRR_Table!$B$30,\"\")","v":""}]
[null,null,"I03","Relations with civil society",null,{"$f":"IFERROR(IF(ISERROR(INDEX(Onglet_SRR_Rules!$B$15:$D$18,MATCH(Onglet_SRR_dataset!O14,Onglet_SRR_Rules!$C$15:$C$18,0),3)),INDEX(Onglet_SRR_Rules!$B$15:$D$18,MATCH(Onglet_SRR_dataset!O14,Onglet_SRR_Rules!$C$15:$C$18,-1),3),INDEX(Onglet_SRR_Rules!$B$15:$D$18,MATCH(Onglet_SRR_dataset!O14,Onglet_SRR_Rules!$B$15:$B$18,-1),3)),\"\")","v":""},null,null,"Pillar 1 - Relationships & dialogue",null,{"$f":"_xlfn.IFS(MID(C35,1,1)=\"C\",Onglet_SRR_Table!$B$35,MID(C35,1,1)=\"I\",Onglet_SRR_Table!$B$36)","v":"Impact"},null,null,{"$f":"IF(OR(F35=Onglet_SRR_Table!$B$25,F35=Onglet_SRR_Table!$B$26),Onglet_SRR_Table!$B$30,\"\")","v":""}]
[null,null,"I04","Relations with affected communities",null,{"$f":"IFERROR(IF(ISERROR(INDEX(Onglet_SRR_Rules!$B$15:$D$18,MATCH(Onglet_SRR_dataset!O15,Onglet_SRR_Rules!$C$15:$C$18,0),3)),INDEX(Onglet_SRR_Rules!$B$15:$D$18,MATCH(Onglet_SRR_dataset!O15,Onglet_SRR_Rules!$C$15:$C$18,-1),3),INDEX(Onglet_SRR_Rules!$B$15:$D$18,MATCH(Onglet_SRR_dataset!O15,Onglet_SRR_Rules!$B$15:$B$18,-1),3)),\"\")","v":""},null,null,"Pillar 1 - Relationships & dialogue",null,{"$f":"_xlfn.IFS(MID(C36,1,1)=\"C\",Onglet_SRR_Table!$B$35,MID(C36,1,1)=\"I\",Onglet_SRR_Table!$B$36)","v":"Impact"},null,null,{"$f":"IF(OR(F36=Onglet_SRR_Table!$B$25,F36=Onglet_SRR_Table!$B$26),Onglet_SRR_Table!$B$30,\"\")","v":""}]
[null,null,"C07","Proximity of communities near operations",null,{"$f":"IFERROR(IF(ISERROR(INDEX(Onglet_SRR_Rules!$B$15:$D$18,MATCH(Onglet_SRR_dataset!O23,Onglet_SRR_Rules!$C$15:$C$18,0),3)),INDEX(Onglet_SRR_Rules!$B$15:$D$18,MATCH(Onglet_SRR_dataset!O23,Onglet_SRR_Rules!$C$15:$C$18,-1),3),INDEX(Onglet_SRR_Rules!$B$15:$D$18,MATCH(Onglet_SRR_dataset!O23,Onglet_SRR_Rules!$B$15:$B$18,-1),3)),\"\")","v":""},null,null,"Pillar 2 - Negative impacts",null,{"$f":"_xlfn.IFS(MID(C37,1,1)=\"C\",Onglet_SRR_Table!$B$35,MID(C37,1,1)=\"I\",Onglet_SRR_Table!$B$36)","v":"Context"},null,null,{"$f":"IF(OR(F37=Onglet_SRR_Table!$B$25,F37=Onglet_SRR_Table!$B$26),Onglet_SRR_Table!$B$30,\"\")","v":""}]
[null,null,"C08","Risk of confusion with negative impacts of other industries",null,{"$f":"IFERROR(IF(ISERROR(INDEX(Onglet_SRR_Rules!$B$15:$D$18,MATCH(Onglet_SRR_dataset!O24,Onglet_SRR_Rules!$C$15:$C$18,0),3)),INDEX(Onglet_SRR_Rules!$B$15:$D$18,MATCH(Onglet_SRR_dataset!O24,Onglet_SRR_Rules!$C$15:$C$18,-1),3),INDEX(Onglet_SRR_Rules!$B$15:$D$18,MATCH(Onglet_SRR_dataset!O24,Onglet_SRR_Rules!$B$15:$B$18,-1),3)),\"\")","v":""},null,null,"Pillar 2 - Negative impacts",null,{"$f":"_xlfn.IFS(MID(C38,1,1)=\"C\",Onglet_SRR_Table!$B$35,MID(C38,1,1)=\"I\",Onglet_SRR_Table!$B$36)","v":"Context"},null,null,{"$f":"IF(OR(F38=Onglet_SRR_Table!$B$25,F38=Onglet_SRR_Table!$B$26),Onglet_SRR_Table!$B$30,\"\")","v":""}]
[null,null,"C09","Security",null,{"$f":"IFERROR(IF(ISERROR(INDEX(Onglet_SRR_Rules!$B$15:$D$18,MATCH(Onglet_SRR_dataset!O25,Onglet_SRR_Rules!$C$15:$C$18,0),3)),INDEX(Onglet_SRR_Rules!$B$15:$D$18,MATCH(Onglet_SRR_dataset!O25,Onglet_SRR_Rules!$C$15:$C$18,-1),3),INDEX(Onglet_SRR_Rules!$B$15:$D$18,MATCH(Onglet_SRR_dataset!O25,Onglet_SRR_Rules!$B$15:$B$18,-1),3)),\"\")","v":""},null,null,"Pillar 2 - Negative impacts",null,{"$f":"_xlfn.IFS(MID(C39,1,1)=\"C\",Onglet_SRR_Table!$B$35,MID(C39,1,1)=\"I\",Onglet_SRR_Table!$B$36)","v":"Context"},null,null,{"$f":"IF(OR(F39=Onglet_SRR_Table!$B$25,F39=Onglet_SRR_Table!$B$26),Onglet_SRR_Table!$B$30,\"\")","v":""}]
[null,null,"C10","Biodiversity",null,{"$f":"IFERROR(IF(ISERROR(INDEX(Onglet_SRR_Rules!$B$15:$D$18,MATCH(Onglet_SRR_dataset!O26,Onglet_SRR_Rules!$C$15:$C$18,0),3)),INDEX(Onglet_SRR_Rules!$B$15:$D$18,MATCH(Onglet_SRR_dataset!O26,Onglet_SRR_Rules!$C$15:$C$18,-1),3),INDEX(Onglet_SRR_Rules!$B$15:$D$18,MATCH(Onglet_SRR_dataset!O26,Onglet_SRR_Rules!$B$15:$B$18,-1),3)),\"\")","v":""},null,null,"Pillar 2 - Negative impacts",null,{"$f":"_xlfn.IFS(MID(C40,1,1)=\"C\",Onglet_SRR_Table!$B$35,MID(C40,1,1)=\"I\",Onglet_SRR_Table!$B$36)","v":"Context"},null,null,{"$f":"IF(OR(F40=Onglet_SRR_Table!$B$25,F40=Onglet_SRR_Table!$B$26),Onglet_SRR_Table!$B$30,\"\")","v":""}]
[null,null,"C11","Religious and cultural heritage",null,{"$f":"IFERROR(IF(ISERROR(INDEX(Onglet_SRR_Rules!$B$15:$D$18,MATCH(Onglet_SRR_dataset!O27,Onglet_SRR_Rules!$C$15:$C$18,0),3)),INDEX(Onglet_SRR_Rules!$B$15:$D$18,MATCH(Onglet_SRR_dataset!O27,Onglet_SRR_Rules!$C$15:$C$18,-1),3),INDEX(Onglet_SRR_Rules!$B$15:$D$18,MATCH(Onglet_SRR_dataset!O27,Onglet_SRR_Rules!$B$15:$B$18,-1),3)),\"\")","v":""},null,null,"Pillar 2 - Negative impacts",null,{"$f":"_xlfn.IFS(MID(C41,1,1)=\"C\",Onglet_SRR_Table!$B$35,MID(C41,1,1)=\"I\",Onglet_SRR_Table!$B$36)","v":"Context"},null,null,{"$f":"IF(OR(F41=Onglet_SRR_Table!$B$25,F41=Onglet_SRR_Table!$B$26),Onglet_SRR_Table!$B$30,\"\")","v":""}]
[null,null,"C12","Vulnerable populations",null,{"$f":"IFERROR(IF(ISERROR(INDEX(Onglet_SRR_Rules!$B$15:$D$18,MATCH(Onglet_SRR_dataset!O28,Onglet_SRR_Rules!$C$15:$C$18,0),3)),INDEX(Onglet_SRR_Rules!$B$15:$D$18,MATCH(Onglet_SRR_dataset!O28,Onglet_SRR_Rules!$C$15:$C$18,-1),3),INDEX(Onglet_SRR_Rules!$B$15:$D$18,MATCH(Onglet_SRR_dataset!O28,Onglet_SRR_Rules!$B$15:$B$18,-1),3)),\"\")","v":""},null,null,"Pillar 2 - Negative impacts",null,{"$f":"_xlfn.IFS(MID(C42,1,1)=\"C\",Onglet_SRR_Table!$B$35,MID(C42,1,1)=\"I\",Onglet_SRR_Table!$B$36)","v":"Context"},null,null,{"$f":"IF(OR(F42=Onglet_SRR_Table!$B$25,F42=Onglet_SRR_Table!$B$26),Onglet_SRR_Table!$B$30,\"\")","v":""}]
[null,null,"I05.1","Impacts on environment",null,{"$f":"IFERROR(IF(ISERROR(INDEX(Onglet_SRR_Rules!$B$15:$D$18,MATCH(Onglet_SRR_dataset!O31,Onglet_SRR_Rules!$C$15:$C$18,0),3)),INDEX(Onglet_SRR_Rules!$B$15:$D$18,MATCH(Onglet_SRR_dataset!O31,Onglet_SRR_Rules!$C$15:$C$18,-1),3),INDEX(Onglet_SRR_Rules!$B$15:$D$18,MATCH(Onglet_SRR_dataset!O31,Onglet_SRR_Rules!$B$15:$B$18,-1),3)),\"\")","v":""},null,null,"Pillar 2 - Negative impacts",null,{"$f":"_xlfn.IFS(MID(C43,1,1)=\"C\",Onglet_SRR_Table!$B$35,MID(C43,1,1)=\"I\",Onglet_SRR_Table!$B$36)","v":"Impact"},null,null,{"$f":"IF(OR(F43=Onglet_SRR_Table!$B$25,F43=Onglet_SRR_Table!$B$26),Onglet_SRR_Table!$B$30,\"\")","v":""}]
[null,null,"I05.1.1",{"$f":"VLOOKUP(C44,SRR_referential,2,FALSE)","v":"Impacts on health of populations"},null,{"$f":"IFERROR(IF(ISERROR(INDEX(Onglet_SRR_Rules!$B$15:$D$18,MATCH(Onglet_SRR_dataset!O32,Onglet_SRR_Rules!$C$15:$C$18,0),3)),INDEX(Onglet_SRR_Rules!$B$15:$D$18,MATCH(Onglet_SRR_dataset!O32,Onglet_SRR_Rules!$C$15:$C$18,-1),3),INDEX(Onglet_SRR_Rules!$B$15:$D$18,MATCH(Onglet_SRR_dataset!O32,Onglet_SRR_Rules!$B$15:$B$18,-1),3)),\"\")","v":""},null,null,{"$f":"VLOOKUP(C44,Correspondance_IND,2,FALSE)","v":"Pillar 2 - Negative impacts"},null,{"$f":"_xlfn.IFS(MID(C44,1,1)=\"C\",Onglet_SRR_Table!$B$35,MID(C44,1,1)=\"I\",Onglet_SRR_Table!$B$36)","v":"Impact"},null,null,{"$f":"IF(OR(F44=Onglet_SRR_Table!$B$25,F44=Onglet_SRR_Table!$B$26),Onglet_SRR_Table!$B$30,\"\")","v":""}]
[null,null,"I05.1.2","Impacts on biodiversity",null,{"$f":"IFERROR(IF(ISERROR(INDEX(Onglet_SRR_Rules!$B$15:$D$18,MATCH(Onglet_SRR_dataset!O33,Onglet_SRR_Rules!$C$15:$C$18,0),3)),INDEX(Onglet_SRR_Rules!$B$15:$D$18,MATCH(Onglet_SRR_dataset!O33,Onglet_SRR_Rules!$C$15:$C$18,-1),3),INDEX(Onglet_SRR_Rules!$B$15:$D$18,MATCH(Onglet_SRR_dataset!O33,Onglet_SRR_Rules!$B$15:$B$18,-1),3)),\"\")","v":""},null,null,"Pillar 2 - Negative impacts",null,{"$f":"_xlfn.IFS(MID(C45,1,1)=\"C\",Onglet_SRR_Table!$B$35,MID(C45,1,1)=\"I\",Onglet_SRR_Table!$B$36)","v":"Impact"},null,null,{"$f":"IF(OR(F45=Onglet_SRR_Table!$B$25,F45=Onglet_SRR_Table!$B$26),Onglet_SRR_Table!$B$30,\"\")","v":""}]
[null,null,"I05.1.3","Impacts on climate change",null,{"$f":"IFERROR(IF(ISERROR(INDEX(Onglet_SRR_Rules!$B$15:$D$18,MATCH(Onglet_SRR_dataset!O34,Onglet_SRR_Rules!$C$15:$C$18,0),3)),INDEX(Onglet_SRR_Rules!$B$15:$D$18,MATCH(Onglet_SRR_dataset!O34,Onglet_SRR_Rules!$C$15:$C$18,-1),3),INDEX(Onglet_SRR_Rules!$B$15:$D$18,MATCH(Onglet_SRR_dataset!O34,Onglet_SRR_Rules!$B$15:$B$18,-1),3)),\"\")","v":""},null,null,"Pillar 2 - Negative impacts",null,{"$f":"_xlfn.IFS(MID(C46,1,1)=\"C\",Onglet_SRR_Table!$B$35,MID(C46,1,1)=\"I\",Onglet_SRR_Table!$B$36)","v":"Impact"},null,null,{"$f":"IF(OR(F46=Onglet_SRR_Table!$B$25,F46=Onglet_SRR_Table!$B$26),Onglet_SRR_Table!$B$30,\"\")","v":""}]
[null,null,"I05.2","Industrial risks",null,{"$f":"IFERROR(IF(ISERROR(INDEX(Onglet_SRR_Rules!$B$15:$D$18,MATCH(Onglet_SRR_dataset!O35,Onglet_SRR_Rules!$C$15:$C$18,0),3)),INDEX(Onglet_SRR_Rules!$B$15:$D$18,MATCH(Onglet_SRR_dataset!O35,Onglet_SRR_Rules!$C$15:$C$18,-1),3),INDEX(Onglet_SRR_Rules!$B$15:$D$18,MATCH(Onglet_SRR_dataset!O35,Onglet_SRR_Rules!$B$15:$B$18,-1),3)),\"\")","v":""},null,null,"Pillar 2 - Negative impacts",null,{"$f":"_xlfn.IFS(MID(C47,1,1)=\"C\",Onglet_SRR_Table!$B$35,MID(C47,1,1)=\"I\",Onglet_SRR_Table!$B$36)","v":"Impact"},null,null,{"$f":"IF(OR(F47=Onglet_SRR_Table!$B$25,F47=Onglet_SRR_Table!$B$26),Onglet_SRR_Table!$B$30,\"\")","v":""}]
[null,null,"I05.3","Nuisances",null,{"$f":"IFERROR(IF(ISERROR(INDEX(Onglet_SRR_Rules!$B$15:$D$18,MATCH(Onglet_SRR_dataset!O36,Onglet_SRR_Rules!$C$15:$C$18,0),3)),INDEX(Onglet_SRR_Rules!$B$15:$D$18,MATCH(Onglet_SRR_dataset!O36,Onglet_SRR_Rules!$C$15:$C$18,-1),3),INDEX(Onglet_SRR_Rules!$B$15:$D$18,MATCH(Onglet_SRR_dataset!O36,Onglet_SRR_Rules!$B$15:$B$18,-1),3)),\"\")","v":""},null,null,"Pillar 2 - Negative impacts",null,{"$f":"_xlfn.IFS(MID(C48,1,1)=\"C\",Onglet_SRR_Table!$B$35,MID(C48,1,1)=\"I\",Onglet_SRR_Table!$B$36)","v":"Impact"},null,null,{"$f":"IF(OR(F48=Onglet_SRR_Table!$B$25,F48=Onglet_SRR_Table!$B$26),Onglet_SRR_Table!$B$30,\"\")","v":""}]
[null,null,"I06","Negative impacts on livelihoods & human rights",null,{"$f":"IFERROR(IF(ISERROR(INDEX(Onglet_SRR_Rules!$B$15:$D$18,MATCH(Onglet_SRR_dataset!O37,Onglet_SRR_Rules!$C$15:$C$18,0),3)),INDEX(Onglet_SRR_Rules!$B$15:$D$18,MATCH(Onglet_SRR_dataset!O37,Onglet_SRR_Rules!$C$15:$C$18,-1),3),INDEX(Onglet_SRR_Rules!$B$15:$D$18,MATCH(Onglet_SRR_dataset!O37,Onglet_SRR_Rules!$B$15:$B$18,-1),3)),\"\")","v":""},null,null,"Pillar 2 - Negative impacts",null,{"$f":"_xlfn.IFS(MID(C49,1,1)=\"C\",Onglet_SRR_Table!$B$35,MID(C49,1,1)=\"I\",Onglet_SRR_Table!$B$36)","v":"Impact"},null,null,{"$f":"IF(OR(F49=Onglet_SRR_Table!$B$25,F49=Onglet_SRR_Table!$B$26),Onglet_SRR_Table!$B$30,\"\")","v":""}]
[null,null,"C13","Level of economic development of the area",null,{"$f":"IFERROR(IF(ISERROR(INDEX(Onglet_SRR_Rules!$B$15:$D$18,MATCH(Onglet_SRR_dataset!O50,Onglet_SRR_Rules!$C$15:$C$18,0),3)),INDEX(Onglet_SRR_Rules!$B$15:$D$18,MATCH(Onglet_SRR_dataset!O50,Onglet_SRR_Rules!$C$15:$C$18,-1),3),INDEX(Onglet_SRR_Rules!$B$15:$D$18,MATCH(Onglet_SRR_dataset!O50,Onglet_SRR_Rules!$B$15:$B$18,-1),3)),\"\")","v":""},null,null,"Pillar 3 - Positive impacts",null,{"$f":"_xlfn.IFS(MID(C50,1,1)=\"C\",Onglet_SRR_Table!$B$35,MID(C50,1,1)=\"I\",Onglet_SRR_Table!$B$36)","v":"Context"},null,null,{"$f":"IF(OR(F50=Onglet_SRR_Table!$B$25,F50=Onglet_SRR_Table!$B$26),Onglet_SRR_Table!$B$30,\"\")","v":""}]
[null,null,"C14","Level of human development",null,{"$f":"IFERROR(IF(ISERROR(INDEX(Onglet_SRR_Rules!$B$15:$D$18,MATCH(Onglet_SRR_dataset!O51,Onglet_SRR_Rules!$C$15:$C$18,0),3)),INDEX(Onglet_SRR_Rules!$B$15:$D$18,MATCH(Onglet_SRR_dataset!O51,Onglet_SRR_Rules!$C$15:$C$18,-1),3),INDEX(Onglet_SRR_Rules!$B$15:$D$18,MATCH(Onglet_SRR_dataset!O51,Onglet_SRR_Rules!$B$15:$B$18,-1),3)),\"\")","v":""},null,null,"Pillar 3 - Positive impacts",null,{"$f":"_xlfn.IFS(MID(C51,1,1)=\"C\",Onglet_SRR_Table!$B$35,MID(C51,1,1)=\"I\",Onglet_SRR_Table!$B$36)","v":"Context"},null,null,{"$f":"IF(OR(F51=Onglet_SRR_Table!$B$25,F51=Onglet_SRR_Table!$B$26),Onglet_SRR_Table!$B$30,\"\")","v":""}]
[null,null,"C15","Economic footprint of TotalEnergies",null,{"$f":"IFERROR(IF(ISERROR(INDEX(Onglet_SRR_Rules!$B$15:$D$18,MATCH(Onglet_SRR_dataset!O52,Onglet_SRR_Rules!$C$15:$C$18,0),3)),INDEX(Onglet_SRR_Rules!$B$15:$D$18,MATCH(Onglet_SRR_dataset!O52,Onglet_SRR_Rules!$C$15:$C$18,-1),3),INDEX(Onglet_SRR_Rules!$B$15:$D$18,MATCH(Onglet_SRR_dataset!O52,Onglet_SRR_Rules!$B$15:$B$18,-1),3)),\"\")","v":""},null,null,"Pillar 3 - Positive impacts",null,{"$f":"_xlfn.IFS(MID(C52,1,1)=\"C\",Onglet_SRR_Table!$B$35,MID(C52,1,1)=\"I\",Onglet_SRR_Table!$B$36)","v":"Context"},null,null,{"$f":"IF(OR(F52=Onglet_SRR_Table!$B$25,F52=Onglet_SRR_Table!$B$26),Onglet_SRR_Table!$B$30,\"\")","v":""}]
[null,null,"C16","Employment trends in TotalEnergies",null,{"$f":"IFERROR(IF(ISERROR(INDEX(Onglet_SRR_Rules!$B$15:$D$18,MATCH(Onglet_SRR_dataset!O53,Onglet_SRR_Rules!$C$15:$C$18,0),3)),INDEX(Onglet_SRR_Rules!$B$15:$D$18,MATCH(Onglet_SRR_dataset!O53,Onglet_SRR_Rules!$C$15:$C$18,-1),3),INDEX(Onglet_SRR_Rules!$B$15:$D$18,MATCH(Onglet_SRR_dataset!O53,Onglet_SRR_Rules!$B$15:$B$18,-1),3)),\"\")","v":""},null,null,"Pillar 3 - Positive impacts",null,{"$f":"_xlfn.IFS(MID(C53,1,1)=\"C\",Onglet_SRR_Table!$B$35,MID(C53,1,1)=\"I\",Onglet_SRR_Table!$B$36)","v":"Context"},null,null,{"$f":"IF(OR(F53=Onglet_SRR_Table!$B$25,F53=Onglet_SRR_Table!$B$26),Onglet_SRR_Table!$B$30,\"\")","v":""}]
[null,null,"I07",{"$f":"VLOOKUP(C54,SRR_referential,2,FALSE)","v":"Local employment"},null,{"$f":"IFERROR(IF(ISERROR(INDEX(Onglet_SRR_Rules!$B$15:$D$18,MATCH(Onglet_SRR_dataset!O55,Onglet_SRR_Rules!$C$15:$C$18,0),3)),INDEX(Onglet_SRR_Rules!$B$15:$D$18,MATCH(Onglet_SRR_dataset!O55,Onglet_SRR_Rules!$C$15:$C$18,-1),3),INDEX(Onglet_SRR_Rules!$B$15:$D$18,MATCH(Onglet_SRR_dataset!O55,Onglet_SRR_Rules!$B$15:$B$18,-1),3)),\"\")","v":""},null,null,"Pillar 3 - Positive impacts",null,{"$f":"_xlfn.IFS(MID(C54,1,1)=\"C\",Onglet_SRR_Table!$B$35,MID(C54,1,1)=\"I\",Onglet_SRR_Table!$B$36)","v":"Impact"},null,null,{"$f":"IF(OR(F54=Onglet_SRR_Table!$B$25,F54=Onglet_SRR_Table!$B$26),Onglet_SRR_Table!$B$30,\"\")","v":""}]
[null,null,"I08","Local procurement",null,{"$f":"IFERROR(IF(ISERROR(INDEX(Onglet_SRR_Rules!$B$15:$D$18,MATCH(Onglet_SRR_dataset!O56,Onglet_SRR_Rules!$C$15:$C$18,0),3)),INDEX(Onglet_SRR_Rules!$B$15:$D$18,MATCH(Onglet_SRR_dataset!O56,Onglet_SRR_Rules!$C$15:$C$18,-1),3),INDEX(Onglet_SRR_Rules!$B$15:$D$18,MATCH(Onglet_SRR_dataset!O56,Onglet_SRR_Rules!$B$15:$B$18,-1),3)),\"\")","v":""},null,null,"Pillar 3 - Positive impacts",null,{"$f":"_xlfn.IFS(MID(C55,1,1)=\"C\",Onglet_SRR_Table!$B$35,MID(C55,1,1)=\"I\",Onglet_SRR_Table!$B$36)","v":"Impact"},null,null,{"$f":"IF(OR(F55=Onglet_SRR_Table!$B$25,F55=Onglet_SRR_Table!$B$26),Onglet_SRR_Table!$B$30,\"\")","v":""}]
[null,null,"I09","Local socio-economic investments",null,{"$f":"IFERROR(IF(ISERROR(INDEX(Onglet_SRR_Rules!$B$15:$D$18,MATCH(Onglet_SRR_dataset!O57,Onglet_SRR_Rules!$C$15:$C$18,0),3)),INDEX(Onglet_SRR_Rules!$B$15:$D$18,MATCH(Onglet_SRR_dataset!O57,Onglet_SRR_Rules!$C$15:$C$18,-1),3),INDEX(Onglet_SRR_Rules!$B$15:$D$18,MATCH(Onglet_SRR_dataset!O57,Onglet_SRR_Rules!$B$15:$B$18,-1),3)),\"\")","v":""},null,null,"Pillar 3 - Positive impacts",null,{"$f":"_xlfn.IFS(MID(C56,1,1)=\"C\",Onglet_SRR_Table!$B$35,MID(C56,1,1)=\"I\",Onglet_SRR_Table!$B$36)","v":"Impact"},null,null,{"$f":"IF(OR(F56=Onglet_SRR_Table!$B$25,F56=Onglet_SRR_Table!$B$26),Onglet_SRR_Table!$B$30,\"\")","v":""}]
[]
[]
[]
[null,null,{"$f":"Onglet_SRR_Table!B113","v":"MATURITY OF YOUR CURRENT SOCIAL PERFORMANCE"}]
[]
[null,null,{"$f":"Onglet_SRR_Table!B114","v":"In order to meet minimum Social Performance requirements due to your social exposure, action is required on:"}]
[null,null,{"$f":"COUNTIF($C$90:$P$117,Onglet_SRR_Table!$B$149)","v":0},{"$f":"Onglet_SRR_Table!B115","v":"social performance levers"}]
[]
[]
[null,null,null,{"$f":"Onglet_SRR_Table!B39","v":"Pillar 1 - Relationships & dialogue"},null,null,null,null,{"$f":"Onglet_SRR_Table!B40","v":"Pillar 2 - Negative impacts"},null,null,null,null,{"$f":"Onglet_SRR_Table!B41","v":"Pillar 3 - Positive impacts"}]
[]
[null,null,null,{"$f":"Onglet_SRR_Table!B105","v":"Societal exposure"},null,null,null,null,{"$f":"Onglet_SRR_Table!B105","v":"Societal exposure"},null,null,null,null,{"$f":"Onglet_SRR_Table!B105","v":"Societal exposure"}]
[null,null,null,{"$f":"IF(F13=\"\",Onglet_SRR_Table!$B$31,F13)","v":"Not assessed yet"},null,null,null,null,{"$f":"IF(F15=\"\",\"Not assessed yet\",F15)","v":"Not assessed yet"},null,null,null,null,{"$f":"IF(F17=\"\",\"Not assessed yet\",F17)","v":"Not assessed yet"}]
[]
[null,null,null,{"$f":"Onglet_SRR_Table!B116","v":"Minimum required"},null,null,null,null,{"$f":"Onglet_SRR_Table!B116","v":"Minimum required"},null,null,null,null,{"$f":"Onglet_SRR_Table!B116","v":"Minimum required"}]
[null,null,null,{"$f":"IFERROR(VLOOKUP(D69,Minimum_required,2,FALSE),\"\")","v":""},null,null,null,null,{"$f":"IFERROR(VLOOKUP(I69,Minimum_required,2,FALSE),\"\")","v":""},null,null,null,null,{"$f":"IFERROR(VLOOKUP(N69,Minimum_required,2,FALSE),\"\")","v":""}]
[]
[null,null,null,{"$f":"Onglet_SRR_Table!B117","v":"Average maturity of Social Performance"},null,null,null,null,{"$f":"Onglet_SRR_Table!B117","v":"Average maturity of Social Performance"},null,null,null,null,{"$f":"Onglet_SRR_Table!B117","v":"Average maturity of Social Performance"}]
[null,null,null,{"$f":"IFERROR(INDEX(Maturity,MATCH(Onglet_SRR_dataset!E21,Onglet_SRR_Rules!$C$7:$C$10,-1),4),\"\")","v":""},null,null,null,null,{"$f":"IFERROR(INDEX(Maturity,MATCH(Onglet_SRR_dataset!E48,Onglet_SRR_Rules!$C$7:$C$10,-1),4),\"\")","v":""},null,null,null,null,{"$f":"IFERROR(INDEX(Maturity,MATCH(Onglet_SRR_dataset!E66,Onglet_SRR_Rules!$C$7:$C$10,-1),4),\"\")","v":""}]
[]
[null,null,null,null,null,null,null,null,null,null,null,null,null,null,null,null,null,null,null,null,null,null,null,null,"P1",3,2]
[null,null,null,null,null,null,null,null,null,null,null,null,null,null,null,null,null,null,null,null,null,null,null,null,"P2",4,2]
[null,null,null,null,null,null,null,null,null,null,null,null,null,null,null,null,null,null,null,null,null,null,null,null,"P3",1,2]
[null,null,null,null,null,null,null,null,null,null,null,null,null,null,null,null,null,null,null,null,null,null,null,null,"P4",2,2]
[null,null,null,null,null,null,null,null,null,null,null,null,null,null,null,null,null,null,null,null,null,null,null,null,"Average",{"$f":"AVERAGE(Z77:Z80)","v":2.5},2]
[]
[]
[]
[]
[]
[]
[]
[]
[null,null,{"$f":"Onglet_SRR_dataset!C17","v":"P01"},{"$f":"Onglet_SRR_dataset!D17","v":"Transparent and regular stakeholder engagement"},null,{"$f":"IFERROR(IF(Onglet_SRR_dataset!E17=\"N/A\",Onglet_SRR_Table!$B$32,IF(ROUND(Onglet_SRR_dataset!E17,0)<VLOOKUP(Onglet_SRR_graph!D$72,Maturity_arrondi,2,FALSE),Onglet_SRR_Table!$B$149,Onglet_SRR_Table!$B$32)),Onglet_SRR_Table!$B$31)","v":"Not assessed yet"},null,{"$f":"Onglet_SRR_dataset!C44","v":"P05"},{"$f":"Onglet_SRR_dataset!D44","v":"Information on HSE impacts"},null,{"$f":"IFERROR(IF(Onglet_SRR_dataset!E44=\"N/A\",Onglet_SRR_Table!$B$32,IF(ROUND(Onglet_SRR_dataset!E44,0)<VLOOKUP(Onglet_SRR_graph!I$72,Maturity_arrondi,2,FALSE),Onglet_SRR_Table!$B$149,Onglet_SRR_Table!$B$32)),Onglet_SRR_Table!$B$31)","v":"Not assessed yet"},null,{"$f":"Onglet_SRR_dataset!C59","v":"P09"},{"$f":"Onglet_SRR_dataset!D59","v":"Access to jobs opportunities for locals"},null,{"$f":"IFERROR(IF(Onglet_SRR_dataset!E59=\"N/A\",Onglet_SRR_Table!$B$32,IF(ROUND(Onglet_SRR_dataset!E59,0)<VLOOKUP(Onglet_SRR_graph!N$72,Maturity_arrondi,2,FALSE),Onglet_SRR_Table!$B$149,Onglet_SRR_Table!$B$32)),Onglet_SRR_Table!$B$31)","v":"Not assessed yet"}]
[null,null,{"$f":"Onglet_SRR_dataset!C18","v":"P02"},{"$f":"Onglet_SRR_dataset!D18","v":"Fullfilment and follow-up of commitments"},null,{"$f":"IFERROR(IF(Onglet_SRR_dataset!E18=\"N/A\",Onglet_SRR_Table!$B$32,IF(ROUND(Onglet_SRR_dataset!E18,0)<VLOOKUP(Onglet_SRR_graph!D$72,Maturity_arrondi,2,FALSE),Onglet_SRR_Table!$B$149,Onglet_SRR_Table!$B$32)),Onglet_SRR_Table!$B$31)","v":"Not assessed yet"},null,{"$f":"Onglet_SRR_dataset!C45","v":"P06"},{"$f":"Onglet_SRR_dataset!D45","v":"Management of negative impacts on stakeholders"},null,{"$f":"IFERROR(IF(Onglet_SRR_dataset!E45=\"N/A\",Onglet_SRR_Table!$B$32,IF(ROUND(Onglet_SRR_dataset!E45,0)<VLOOKUP(Onglet_SRR_graph!I$72,Maturity_arrondi,2,FALSE),Onglet_SRR_Table!$B$149,Onglet_SRR_Table!$B$32)),Onglet_SRR_Table!$B$31)","v":"Not assessed yet"},null,{"$f":"Onglet_SRR_dataset!C60","v":"P10"},{"$f":"Onglet_SRR_dataset!D60","v":"Access to tenders for local contractors"},null,{"$f":"IFERROR(IF(Onglet_SRR_dataset!E60=\"N/A\",Onglet_SRR_Table!$B$32,IF(ROUND(Onglet_SRR_dataset!E60,0)<VLOOKUP(Onglet_SRR_graph!N$72,Maturity_arrondi,2,FALSE),Onglet_SRR_Table!$B$149,Onglet_SRR_Table!$B$32)),Onglet_SRR_Table!$B$31)","v":"Not assessed yet"}]
[null,null,{"$f":"Onglet_SRR_dataset!C19","v":"P03"},{"$f":"Onglet_SRR_dataset!D19","v":"Management of grievances"},null,{"$f":"IFERROR(IF(Onglet_SRR_dataset!E19=\"N/A\",Onglet_SRR_Table!$B$32,IF(ROUND(Onglet_SRR_dataset!E19,0)<VLOOKUP(Onglet_SRR_graph!D$72,Maturity_arrondi,2,FALSE),Onglet_SRR_Table!$B$149,Onglet_SRR_Table!$B$32)),Onglet_SRR_Table!$B$31)","v":"Not assessed yet"},null,{"$f":"Onglet_SRR_dataset!C46","v":"P07"},{"$f":"Onglet_SRR_dataset!D46","v":"Cooperation with authorities & industrial neighbors"},null,{"$f":"IFERROR(IF(Onglet_SRR_dataset!E46=\"N/A\",Onglet_SRR_Table!$B$32,IF(ROUND(Onglet_SRR_dataset!E46,0)<VLOOKUP(Onglet_SRR_graph!I$72,Maturity_arrondi,2,FALSE),Onglet_SRR_Table!$B$149,Onglet_SRR_Table!$B$32)),Onglet_SRR_Table!$B$31)","v":"Not assessed yet"},null,{"$f":"Onglet_SRR_dataset!C61","v":"P11"},{"$f":"Onglet_SRR_dataset!D61","v":"Capacity building of locals"},null,{"$f":"IFERROR(IF(Onglet_SRR_dataset!E61=\"N/A\",Onglet_SRR_Table!$B$32,IF(ROUND(Onglet_SRR_dataset!E61,0)<VLOOKUP(Onglet_SRR_graph!N$72,Maturity_arrondi,2,FALSE),Onglet_SRR_Table!$B$149,Onglet_SRR_Table!$B$32)),Onglet_SRR_Table!$B$31)","v":"Not assessed yet"}]
[null,null,{"$f":"Onglet_SRR_dataset!C20","v":"P04"},{"$f":"Onglet_SRR_dataset!D20","v":"Communication (activities, strategic outlook, social performance, sustainability…)"},null,{"$f":"IFERROR(IF(Onglet_SRR_dataset!E20=\"N/A\",Onglet_SRR_Table!$B$32,IF(ROUND(Onglet_SRR_dataset!E20,0)<VLOOKUP(Onglet_SRR_graph!D$72,Maturity_arrondi,2,FALSE),Onglet_SRR_Table!$B$149,Onglet_SRR_Table!$B$32)),Onglet_SRR_Table!$B$31)","v":"Not assessed yet"},null,{"$f":"Onglet_SRR_dataset!C47","v":"P08"},{"$f":"Onglet_SRR_dataset!D47","v":"Control of contractors on HSE & Human Rights related matters"},null,{"$f":"IFERROR(IF(Onglet_SRR_dataset!E47=\"N/A\",Onglet_SRR_Table!$B$32,IF(ROUND(Onglet_SRR_dataset!E47,0)<VLOOKUP(Onglet_SRR_graph!I$72,Maturity_arrondi,2,FALSE),Onglet_SRR_Table!$B$149,Onglet_SRR_Table!$B$32)),Onglet_SRR_Table!$B$31)","v":"Not assessed yet"},null,{"$f":"Onglet_SRR_dataset!C62","v":"P12"},{"$f":"Onglet_SRR_dataset!D62","v":"Participation in local economic institutions"},null,{"$f":"IFERROR(IF(Onglet_SRR_dataset!E62=\"N/A\",Onglet_SRR_Table!$B$32,IF(ROUND(Onglet_SRR_dataset!E62,0)<VLOOKUP(Onglet_SRR_graph!N$72,Maturity_arrondi,2,FALSE),Onglet_SRR_Table!$B$149,Onglet_SRR_Table!$B$32)),Onglet_SRR_Table!$B$31)","v":"Not assessed yet"}]
[null,null,null,null,null,null,null,null,null,null,null,null,{"$f":"Onglet_SRR_dataset!C63","v":"P13"},{"$f":"Onglet_SRR_dataset!D63","v":"Control of contractors on local content"},null,{"$f":"IFERROR(IF(Onglet_SRR_dataset!E63=\"N/A\",Onglet_SRR_Table!$B$32,IF(ROUND(Onglet_SRR_dataset!E63,0)<VLOOKUP(Onglet_SRR_graph!N$72,Maturity_arrondi,2,FALSE),Onglet_SRR_Table!$B$149,Onglet_SRR_Table!$B$32)),Onglet_SRR_Table!$B$31)","v":"Not assessed yet"}]
[null,null,null,null,null,null,null,null,null,null,null,null,{"$f":"Onglet_SRR_dataset!C64","v":"P14"},{"$f":"Onglet_SRR_dataset!D64","v":"Management of socio-economic projects"},null,{"$f":"IFERROR(IF(Onglet_SRR_dataset!E64=\"N/A\",Onglet_SRR_Table!$B$32,IF(ROUND(Onglet_SRR_dataset!E64,0)<VLOOKUP(Onglet_SRR_graph!N$72,Maturity_arrondi,2,FALSE),Onglet_SRR_Table!$B$149,Onglet_SRR_Table!$B$32)),Onglet_SRR_Table!$B$31)","v":"Not assessed yet"}]
[null,null,null,null,null,null,null,null,null,null,null,null,{"$f":"Onglet_SRR_dataset!C65","v":"P15"},{"$f":"Onglet_SRR_dataset!D65","v":"Partnerships"},null,{"$f":"IFERROR(IF(Onglet_SRR_dataset!E65=\"N/A\",Onglet_SRR_Table!$B$32,IF(ROUND(Onglet_SRR_dataset!E65,0)<VLOOKUP(Onglet_SRR_graph!N$72,Maturity_arrondi,2,FALSE),Onglet_SRR_Table!$B$149,Onglet_SRR_Table!$B$32)),Onglet_SRR_Table!$B$31)","v":"Not assessed yet"}]
[]
[]
[]
[null,null,null,{"$f":"Onglet_SRR_Table!B118","v":"Social performance governance"}]
[]
[null,null,null,{"$f":"Onglet_SRR_Table!B119","v":"Overall societal exposure"}]
[null,null,null,{"$f":"F19","v":"Not assessed yet"}]
[]
[null,null,null,{"$f":"Onglet_SRR_Table!B116","v":"Minimum required"}]
[null,null,null,{"$f":"IFERROR(VLOOKUP(D103,Minimum_required,2,FALSE),\"\")","v":""}]
[]
[null,null,null,{"$f":"Onglet_SRR_Table!B117","v":"Average maturity of Social Performance"}]
[null,null,null,{"$f":"IFERROR(INDEX(Maturity,MATCH(Onglet_SRR_dataset!E86,Onglet_SRR_Rules!$C$7:$C$10,-1),4),\"\")","v":""}]
[]
[]
[]
[null,null,"P16",{"$f":"VLOOKUP(C113,SRR_referential,2,FALSE)","v":"Social performance resources (budget, staff)"},null,{"$f":"IFERROR(IF(Onglet_SRR_dataset!E77=\"N/A\",Onglet_SRR_Table!$B$32,IF(ROUND(Onglet_SRR_dataset!E77,0)<VLOOKUP(Onglet_SRR_graph!D$106,Maturity_arrondi,2,FALSE),Onglet_SRR_Table!$B$149,Onglet_SRR_Table!$B$32)),Onglet_SRR_Table!$B$31)","v":"Not assessed yet"},null,"P20",{"$f":"VLOOKUP(H113,SRR_referential,2,FALSE)","v":"Social Performance strategy"},null,{"$f":"IFERROR(IF(Onglet_SRR_dataset!E81=\"N/A\",Onglet_SRR_Table!$B$32,IF(ROUND(Onglet_SRR_dataset!E81,0)<VLOOKUP(Onglet_SRR_graph!D$106,Maturity_arrondi,2,FALSE),Onglet_SRR_Table!$B$149,Onglet_SRR_Table!$B$32)),Onglet_SRR_Table!$B$31)","v":"Not assessed yet"}]
[null,null,"P17",{"$f":"VLOOKUP(C114,SRR_referential,2,FALSE)","v":"Interactions with top management and other departments"},null,{"$f":"IFERROR(IF(Onglet_SRR_dataset!E78=\"N/A\",Onglet_SRR_Table!$B$32,IF(ROUND(Onglet_SRR_dataset!E78,0)<VLOOKUP(Onglet_SRR_graph!D$106,Maturity_arrondi,2,FALSE),Onglet_SRR_Table!$B$149,Onglet_SRR_Table!$B$32)),Onglet_SRR_Table!$B$31)","v":"Not assessed yet"},null,"P21",{"$f":"VLOOKUP(H114,SRR_referential,2,FALSE)","v":"Social Performance action plan"},null,{"$f":"IFERROR(IF(Onglet_SRR_dataset!E82=\"N/A\",Onglet_SRR_Table!$B$32,IF(ROUND(Onglet_SRR_dataset!E82,0)<VLOOKUP(Onglet_SRR_graph!D$106,Maturity_arrondi,2,FALSE),Onglet_SRR_Table!$B$149,Onglet_SRR_Table!$B$32)),Onglet_SRR_Table!$B$31)","v":"Not assessed yet"}]
[null,null,"P18",{"$f":"VLOOKUP(C115,SRR_referential,2,FALSE)","v":"Social risk assessment and management"},null,{"$f":"IFERROR(IF(Onglet_SRR_dataset!E79=\"N/A\",Onglet_SRR_Table!$B$32,IF(ROUND(Onglet_SRR_dataset!E79,0)<VLOOKUP(Onglet_SRR_graph!D$106,Maturity_arrondi,2,FALSE),Onglet_SRR_Table!$B$149,Onglet_SRR_Table!$B$32)),Onglet_SRR_Table!$B$31)","v":"Not assessed yet"},null,"P22",{"$f":"VLOOKUP(H115,SRR_referential,2,FALSE)","v":"Monitoring of Social Performance"},null,{"$f":"IFERROR(IF(Onglet_SRR_dataset!E83=\"N/A\",Onglet_SRR_Table!$B$32,IF(ROUND(Onglet_SRR_dataset!E83,0)<VLOOKUP(Onglet_SRR_graph!D$106,Maturity_arrondi,2,FALSE),Onglet_SRR_Table!$B$149,Onglet_SRR_Table!$B$32)),Onglet_SRR_Table!$B$31)","v":"Not assessed yet"}]
[null,null,"P19",{"$f":"VLOOKUP(C116,SRR_referential,2,FALSE)","v":"Stakeholder mapping and stakeholder engagement plan"},null,{"$f":"IFERROR(IF(Onglet_SRR_dataset!E80=\"N/A\",Onglet_SRR_Table!$B$32,IF(ROUND(Onglet_SRR_dataset!E80,0)<VLOOKUP(Onglet_SRR_graph!D$106,Maturity_arrondi,2,FALSE),Onglet_SRR_Table!$B$149,Onglet_SRR_Table!$B$32)),Onglet_SRR_Table!$B$31)","v":"Not assessed yet"},null,"P23",{"$f":"VLOOKUP(H116,SRR_referential,2,FALSE)","v":"Social Performance Reporting"},null,{"$f":"IFERROR(IF(Onglet_SRR_dataset!E84=\"N/A\",Onglet_SRR_Table!$B$32,IF(ROUND(Onglet_SRR_dataset!E84,0)<VLOOKUP(Onglet_SRR_graph!D$106,Maturity_arrondi,2,FALSE),Onglet_SRR_Table!$B$149,Onglet_SRR_Table!$B$32)),Onglet_SRR_Table!$B$31)","v":"Not assessed yet"}]
[null,null,null,null,null,null,null,"P24",{"$f":"VLOOKUP(H117,SRR_referential,2,FALSE)","v":"Benchmark with other operators / industries"},null,{"$f":"IFERROR(IF(Onglet_SRR_dataset!E85=\"N/A\",Onglet_SRR_Table!$B$32,IF(ROUND(Onglet_SRR_dataset!E85,0)<VLOOKUP(Onglet_SRR_graph!D$106,Maturity_arrondi,2,FALSE),Onglet_SRR_Table!$B$149,Onglet_SRR_Table!$B$32)),Onglet_SRR_Table!$B$31)","v":"Not assessed yet"}]
[]
[]
[]
[]
[null,null,null,"DETAILED RESULTS"]
[]
[null,null,"P1","Pillar 1 - Relationships & Dialogue"]
[]
[null,null,null,"Risks linked to context",null,null,null,null,"Risks linked to impacts"]
[]
[]
[]
[]
[]
[]
[]
[]
[]
[]
[]
[]
[]
[]
[]
[]
[]
[]
[null,null,"P2","Pillar 2 - Negative impacts"]

{"sheet":"Onglet_SRR_P1","index":39,"n_rows":157,"n_cols":17,"rows_kept":157,"cut":false,"hidden":false,"merged":[]}
[]
[]
[]
[]
[]
[null,{"$f":"Onglet_trad_menus!B46","v":"Pillar 1 - RELATIONSHIPS & DIALOGUE"}]
[]
[]
[null,null,{"$f":"Onglet_trad_menus!$B$51","v":"RISKS LINKED TO SOCIETAL CONTEXT"}]
[]
[null,null,"INSTRUCTIONS",null,null,{"$f":"Onglet_trad_menus!$B$60","v":"Apply the following risk scale:"}]
[null,null,{"$f":"Onglet_trad_menus!$B$56","v":"Review each context indicator and score it according to rating scale"},null,null,1,null,{"$f":"Onglet_trad_menus!$B$62","v":"Low risk"}]
[null,null,{"$f":"Onglet_trad_menus!$B$57","v":"Double click on each indicator to show/hide details of rating scale"},null,null,2,null,{"$f":"Onglet_trad_menus!$B$63","v":"Moderate risk"}]
[null,null,{"$f":"Onglet_trad_menus!$B$58","v":"Make sure to justify (briefly) on your scores"},null,null,3,null,{"$f":"Onglet_trad_menus!$B$64","v":"High risk"}]
[null,null,null,null,null,4,null,{"$f":"Onglet_trad_menus!$B$65","v":"Critical risk"}]
[null,null,null,null,null,"N/A",null,{"$f":"Onglet_trad_menus!$B$66","v":"Not applicable"}]
[]
[null,null,null,{"$f":"Onglet_trad_menus!$B$68","v":"Context"},null,{"$f":"Onglet_trad_menus!$B$69","v":"Score"},null,{"$f":"Onglet_trad_menus!$B$70","v":"Justification of your score"}]
[]
[null,null,{"$f":"Onglet_SRR_scales!B4","v":"C01"},{"$f":"Onglet_SRR_scales!C4","v":"Position of the media regarding TotalEnergies"},null,null,null,null,null,{"$f":"C20","v":"C01"}]
[null,null,{"$f":"Onglet_SRR_scales!B5","v":"i"},{"$f":"Onglet_SRR_scales!C5","v":"Newspapers, radio, TV, internet, Social media ..."}]
[null,null,{"$f":"Onglet_SRR_scales!B6","v":1},{"$f":"Onglet_SRR_scales!C6","v":"The media play their role of information in an objective way"}]
[null,null,{"$f":"Onglet_SRR_scales!B7","v":2},{"$f":"Onglet_SRR_scales!C7","v":"High scrutiny of media towards the energy sector"}]
[null,null,{"$f":"Onglet_SRR_scales!B8","v":3},{"$f":"Onglet_SRR_scales!C8","v":"One of the main media is the intermediary of stakeholders hostile to TotalEnergies"}]
[null,null,{"$f":"Onglet_SRR_scales!B9","v":4},{"$f":"Onglet_SRR_scales!C9","v":"Aggressive campaign conducted by an influential media against TotalEnergies"}]
[null,null,{"$f":"Onglet_SRR_scales!B10","v":"N/A"},{"$f":"Onglet_SRR_scales!C10","v":"Not applicable"}]
[]
[null,null,{"$f":"Onglet_SRR_scales!B12","v":"C02"},{"$f":"Onglet_SRR_scales!C12","v":"Existence of activitist associations"},null,null,null,null,null,{"$f":"C28","v":"C02"}]
[null,null,{"$f":"Onglet_SRR_scales!B13","v":"i"},{"$f":"Onglet_SRR_scales!C13","v":"Are there activist or advocacy associations next to the operations or closely interested in TotalEnergies? Risk increases with the number and the influence of these associations on the other stakeholders"}]
[null,null,{"$f":"Onglet_SRR_scales!B14","v":1},{"$f":"Onglet_SRR_scales!C14","v":"Existing associations but not targeting TotalEnergies"}]
[null,null,{"$f":"Onglet_SRR_scales!B15","v":2},{"$f":"Onglet_SRR_scales!C15","v":"Existing associations (but not much influential or having no angle of controversy on TotalEnergies)"}]
[null,null,{"$f":"Onglet_SRR_scales!B16","v":3},{"$f":"Onglet_SRR_scales!C16","v":"Existing associations and first elements of existing proved conflict that may worsen"}]
[null,null,{"$f":"Onglet_SRR_scales!B17","v":4},{"$f":"Onglet_SRR_scales!C17","v":"Blockages, protests, lawsuits, and boycott history because of organized stakeholders"}]
[null,null,{"$f":"Onglet_SRR_scales!B18","v":"N/A"},{"$f":"Onglet_SRR_scales!C18","v":"Not applicable"}]
[]
[null,null,{"$f":"Onglet_SRR_scales!B20","v":"C03"},{"$f":"Onglet_SRR_scales!C20","v":"Negative perception linked to past or unfulfilled social commitments"},null,null,null,null,null,{"$f":"C36","v":"C03"}]
[null,null,{"$f":"Onglet_SRR_scales!B21","v":"i"},{"$f":"Onglet_SRR_scales!C21","v":"Commitments made by TotalEnergies or attributed to TotalEnergies by stakeholders"}]
[null,null,{"$f":"Onglet_SRR_scales!B22","v":1},{"$f":"Onglet_SRR_scales!C22","v":"No history of negative perceptions"}]
[null,null,{"$f":"Onglet_SRR_scales!B23","v":2},{"$f":"Onglet_SRR_scales!C23","v":"Confusion between TotalEnergies commitments and commitments made by others  "}]
[null,null,{"$f":"Onglet_SRR_scales!B24","v":3},{"$f":"Onglet_SRR_scales!C24","v":"Previous commitments challenged today by stakeholders"}]
[null,null,{"$f":"Onglet_SRR_scales!B25","v":4},{"$f":"Onglet_SRR_scales!C25","v":"Conflicts related to previous commitments unfulfilled"}]
[null,null,{"$f":"Onglet_SRR_scales!B26","v":"N/A"},{"$f":"Onglet_SRR_scales!C26","v":"Not applicable"}]
[]
[null,null,{"$f":"Onglet_SRR_scales!B28","v":"C04"},{"$f":"Onglet_SRR_scales!C28","v":"External factors threatening license to operate"},null,null,null,null,null,{"$f":"C44","v":"C04"}]
[null,null,{"$f":"Onglet_SRR_scales!B29","v":"i"},{"$f":"Onglet_SRR_scales!C29","v":"Is TotalEnergies's activity challenged by external factors?\nTypical factors: changes in taxation, nationalization, land use plans, land use conflicts or natural resources, urban development …"}]
[null,null,{"$f":"Onglet_SRR_scales!B30","v":1},{"$f":"Onglet_SRR_scales!C30","v":"No specific factors identified"}]
[null,null,{"$f":"Onglet_SRR_scales!B31","v":2},{"$f":"Onglet_SRR_scales!C31","v":"Weak signals"}]
[null,null,{"$f":"Onglet_SRR_scales!B32","v":3},{"$f":"Onglet_SRR_scales!C32","v":"Specific factors (urban planning, regulation ...) that can indirectly limit the license to operate of TotalEnergies"}]
[null,null,{"$f":"Onglet_SRR_scales!B33","v":4},{"$f":"Onglet_SRR_scales!C33","v":"Specific factors with direct impact of TotalEnergies' license to operate"}]
[null,null,{"$f":"Onglet_SRR_scales!B34","v":"N/A"},{"$f":"Onglet_SRR_scales!C34","v":"Not applicable"}]
[]
[null,null,{"$f":"Onglet_SRR_scales!B36","v":"C05"},{"$f":"Onglet_SRR_scales!C36","v":"Alignment of local practices and regulations with Company standards"},null,null,null,null,null,{"$f":"C52","v":"C05"}]
[null,null,{"$f":"Onglet_SRR_scales!B37","v":"i"},{"$f":"Onglet_SRR_scales!C37","v":"Alignment of local practices and regulations with Company standards on ethics and corruption, Social performance, Sustainability and Human Rights "}]
[null,null,{"$f":"Onglet_SRR_scales!B38","v":1},{"$f":"Onglet_SRR_scales!C38","v":"Compliance with Company standards"}]
[null,null,{"$f":"Onglet_SRR_scales!B39","v":2},{"$f":"Onglet_SRR_scales!C39","v":"Punctual requests / Easily manageable"}]
[null,null,{"$f":"Onglet_SRR_scales!B40","v":3},{"$f":"Onglet_SRR_scales!C40","v":"Repeated requests / Difficult to manage"}]
[null,null,{"$f":"Onglet_SRR_scales!B41","v":4},{"$f":"Onglet_SRR_scales!C41","v":"Major gaps"}]
[null,null,{"$f":"Onglet_SRR_scales!B42","v":"N/A"},{"$f":"Onglet_SRR_scales!C42","v":"Not applicable"}]
[]
[null,null,{"$f":"Onglet_SRR_scales!B44","v":"C06"},{"$f":"Onglet_SRR_scales!C44","v":"Opposition to expansion projects, restructuring or conversion"},null,null,null,null,null,{"$f":"C60","v":"C06"}]
[null,null,{"$f":"Onglet_SRR_scales!B45","v":"i"},{"$f":"Onglet_SRR_scales!C45","v":"Risk increases with the importance of the project "}]
[null,null,{"$f":"Onglet_SRR_scales!B46","v":1},{"$f":"Onglet_SRR_scales!C46","v":"No opposition"}]
[null,null,{"$f":"Onglet_SRR_scales!B47","v":2},{"$f":"Onglet_SRR_scales!C47","v":"Project with low opposition"}]
[null,null,{"$f":"Onglet_SRR_scales!B48","v":3},{"$f":"Onglet_SRR_scales!C48","v":"Important project with potential opposition"}]
[null,null,{"$f":"Onglet_SRR_scales!B49","v":4},{"$f":"Onglet_SRR_scales!C49","v":"Important project with declared opposition"}]
[null,null,{"$f":"Onglet_SRR_scales!B50","v":"N/A"},{"$f":"Onglet_SRR_scales!C50","v":"Not applicable"}]
[]
[]
[]
[null,null,{"$f":"Onglet_trad_menus!B109","v":"RISKS RELATED TO STAKEHOLDER RELATIONS"}]
[]
[null,null,"INSTRUCTIONS",null,null,{"$f":"Onglet_trad_menus!B117","v":"The following risk scale applies to each subcategory of stakeholders:"}]
[null,null,{"$f":"Onglet_trad_menus!B110","v":"Assess the quality of relationships with your key stakeholders"},null,null,1,null,{"$f":"Onglet_trad_menus!B119","v":"Low risk - No history of conflict"}]
[null,null,{"$f":"Onglet_trad_menus!B111","v":"- Double click on each indicator to show/hide sub categories of stakeholders"},null,null,2,null,{"$f":"Onglet_trad_menus!B120","v":"Moderate risk - Few minor incidents quickly solved"}]
[null,null,{"$f":"Onglet_trad_menus!B112","v":"- Make sure to rate and comment on each subcategory of stakeholder"},null,null,3,null,{"$f":"Onglet_trad_menus!B121","v":"High risk - Difficult relationship with potential conflicts"},null,null,null,null,null,null,null,null,"I02"]
[null,null,{"$f":"Onglet_trad_menus!B113","v":"- Average score is automatically calculated by type of stakeholder,"},null,null,4,null,{"$f":"Onglet_trad_menus!B122","v":"Critical risk - Clear risk of conflict"}]
[null,null,{"$f":"Onglet_trad_menus!B114","v":"based on the scores of subcategories"},null,null,"N/A",null,{"$f":"Onglet_trad_menus!B123","v":"Not applicable"}]
[null,null,{"$f":"Onglet_trad_menus!B115","v":"-You can make a summarized comment by type of stakeholder"}]
[]
[null,null,null,{"$f":"Onglet_trad_menus!B74","v":"Impacts"},null,{"$f":"Onglet_trad_menus!B75","v":"Score"},null,{"$f":"Onglet_trad_menus!B76","v":"Justification of your score"}]
[]
[null,null,{"$f":"Onglet_SRR_scales!B52","v":"I01"},{"$f":"Onglet_SRR_scales!C52","v":"Relations with authorities"},null,{"$f":"IFERROR(AVERAGE(F83:F86),\"\")","v":""},null,null,null,{"$f":"C82","v":"I01"},null,null,null,null,null,null,"I01"]
[null,null,{"$f":"Onglet_SRR_scales!B53","v":"I01.1"},{"$f":"Onglet_SRR_scales!C53","v":"Regulatory authorities"},null,null,null,null,null,{"$f":"C83","v":"I01.1"},null,null,null,null,null,null,"I01"]
[null,null,{"$f":"Onglet_SRR_scales!B54","v":"I01.2"},{"$f":"Onglet_SRR_scales!C54","v":"National authorities"},null,null,null,null,null,{"$f":"C84","v":"I01.2"},null,null,null,null,null,null,"I01"]
[null,null,{"$f":"Onglet_SRR_scales!B55","v":"I01.3"},{"$f":"Onglet_SRR_scales!C55","v":"Local authorities"},null,null,null,null,null,{"$f":"C85","v":"I01.3"},null,null,null,null,null,null,"I01"]
[null,null,{"$f":"Onglet_SRR_scales!B56","v":"I01.4"},{"$f":"Onglet_SRR_scales!C56","v":"Other authorities"},null,null,null,null,null,{"$f":"C86","v":"I01.4"},null,null,null,null,null,null,"I01"]
[]
[null,null,{"$f":"Onglet_SRR_scales!B58","v":"I02"},{"$f":"Onglet_SRR_scales!C58","v":"Relations with business partners"},null,{"$f":"IFERROR(AVERAGE(F89:F94),\"\")","v":""},null,null,null,{"$f":"C88","v":"I02"},null,null,null,null,null,null,"I02"]
[null,null,{"$f":"Onglet_SRR_scales!B59","v":"I02.1"},{"$f":"Onglet_SRR_scales!C59","v":"Contractors"},null,null,null,null,null,"I02.1",null,null,null,null,null,null,"I02"]
[null,null,{"$f":"Onglet_SRR_scales!B60","v":"I02.2"},{"$f":"Onglet_SRR_scales!C60","v":"JV Partners"},null,null,null,null,null,"I02.2",null,null,null,null,null,null,"I02"]
[null,null,{"$f":"Onglet_SRR_scales!B61","v":"I02.3"},{"$f":"Onglet_SRR_scales!C61","v":"Professional organizations"},null,null,null,null,null,"I02.3",null,null,null,null,null,null,"I02"]
[null,null,{"$f":"Onglet_SRR_scales!B62","v":"I02.4"},{"$f":"Onglet_SRR_scales!C62","v":"Industrials neighbors"},null,null,null,null,null,"I02.4",null,null,null,null,null,null,"I02"]
[null,null,{"$f":"Onglet_SRR_scales!B63","v":"I02.5"},{"$f":"Onglet_SRR_scales!C63","v":"Unions"},null,null,null,null,null,"I02.5",null,null,null,null,null,null,"I02"]
[null,null,{"$f":"Onglet_SRR_scales!B64","v":"I02.6"},{"$f":"Onglet_SRR_scales!C64","v":"Other business stakeholders"},null,null,null,null,null,"I02.6",null,null,null,null,null,null,"I02"]
[]
[null,null,{"$f":"Onglet_SRR_scales!B66","v":"I03"},{"$f":"Onglet_SRR_scales!C66","v":"Relations with civil society"},null,{"$f":"IFERROR(AVERAGE(F97:F101),\"\")","v":""},null,null,null,{"$f":"C96","v":"I03"},null,null,null,null,null,null,"I03"]
[null,null,{"$f":"Onglet_SRR_scales!B67","v":"I03.1"},{"$f":"Onglet_SRR_scales!C67","v":"NGOs and associations"},null,null,null,null,null,"I03.1",null,null,null,null,null,null,"I03"]
[null,null,{"$f":"Onglet_SRR_scales!B68","v":"I03.2"},{"$f":"Onglet_SRR_scales!C68","v":"Media"},null,null,null,null,null,"I03.2",null,null,null,null,null,null,"I03"]
[null,null,{"$f":"Onglet_SRR_scales!B69","v":"I03.3"},{"$f":"Onglet_SRR_scales!C69","v":"School & Universities"},null,null,null,null,null,"I03.3",null,null,null,null,null,null,"I03"]
[null,null,{"$f":"Onglet_SRR_scales!B70","v":"I03.4"},{"$f":"Onglet_SRR_scales!C70","v":"International organizations"},null,null,null,null,null,"I03.4",null,null,null,null,null,null,"I03"]
[null,null,{"$f":"Onglet_SRR_scales!B71","v":"I03.5"},{"$f":"Onglet_SRR_scales!C71","v":"Other civil society stakeholders"},null,null,null,null,null,"I03.5",null,null,null,null,null,null,"I03"]
[]
[null,null,{"$f":"Onglet_SRR_scales!B73","v":"I04"},{"$f":"Onglet_SRR_scales!C73","v":"Relations with affected communities"},null,{"$f":"IFERROR(AVERAGE(F104:F106),\"\")","v":""},null,null,null,{"$f":"C103","v":"I04"}]
[null,null,{"$f":"Onglet_SRR_scales!B74","v":"I04.1"},{"$f":"Onglet_SRR_scales!C74","v":"Local communities"},null,null,null,null,null,"I04.1"]
[null,null,{"$f":"Onglet_SRR_scales!B75","v":"I04.2"},{"$f":"Onglet_SRR_scales!C75","v":"Traditional/non-formal authorities"},null,null,null,null,null,"I04.2"]
[null,null,{"$f":"Onglet_SRR_scales!B76","v":"I04.3"},{"$f":"Onglet_SRR_scales!C76","v":"Other local communities"},null,null,null,null,null,"I04.3"]
[]
[]
[]
[null,null,{"$f":"Onglet_trad_menus!$B$78","v":"SOCIAL PERFORMANCE REVIEW"}]
[]
[null,null,"INSTRUCTIONS",null,null,{"$f":"Onglet_trad_menus!$B$91","v":"The maturity scale below applies to each social performance lever:"}]
[null,null,{"$f":"Onglet_trad_menus!$B$80","v":"Review each social performance lever and score it according to rating scale"},null,null,1,null,{"$f":"Onglet_trad_menus!$B$93","v":"Not started"}]
[null,null,{"$f":"Onglet_trad_menus!$B$81","v":"Double click on each lever to show/hide details of rating scale"},null,null,2,null,{"$f":"Onglet_trad_menus!$B$94","v":"Intermediate"}]
[null,null,{"$f":"Onglet_trad_menus!$B$82","v":"To justify your scores:"},null,null,3,null,{"$f":"Onglet_trad_menus!$B$95","v":"Mature"}]
[null,null,{"$f":"Onglet_trad_menus!$B$83","v":"> comment briefly on your score"},null,null,4,null,{"$f":"Onglet_trad_menus!$B$96","v":"Excellent"}]
[null,null,{"$f":"Onglet_trad_menus!$B$84","v":"> list existing actions that justify your score"},null,null,"N/A",null,{"$f":"Onglet_trad_menus!$B$97","v":"Not applicable"}]
[null,null,{"$f":"Onglet_trad_menus!$B$85","v":"> suggest possible actions to improve performance"}]
[null,null,{"$f":"Onglet_trad_menus!$B$86","v":"You  can list up to 5 actions by performance lever"}]
[null,null,{"$f":"Onglet_trad_menus!$B$87","v":"The objective is not to list as many actions as possible but rather to limit"}]
[null,null,{"$f":"Onglet_trad_menus!$B$88","v":"to the key ones"}]
[null,null,{"$f":"Onglet_trad_menus!$B$89","v":"All actions listed will be directly reported in your final SRM+ action plan"}]
[]
[]
[null,null,null,{"$f":"Onglet_trad_menus!$B$99","v":"Social performance levers"},null,{"$f":"Onglet_trad_menus!$B$100","v":"Score"},null,{"$f":"Onglet_trad_menus!$B$101","v":"Justification of your score"}]
[]
[null,null,{"$f":"Onglet_SRR_scales!B78","v":"P01"},{"$f":"Onglet_SRR_scales!C78","v":"Transparent and regular stakeholder engagement"},null,null,null,null,null,{"$f":"C127","v":"P01"},{"$f":"VLOOKUP(J127,Correspondance_IND,6,FALSE)","v":"IS01_STK"}]
[null,null,{"$f":"Onglet_SRR_scales!B79","v":"i"},{"$f":"Onglet_SRR_scales!C79","v":"Listening to the stakeholders to better understand their expectations and concerns - Condition of a lasting relationship of trust - socialization work with stakeholders"},null,null,null,{"$f":"Onglet_trad_menus!$B$102","v":"List below existing and/or new actions to reduce social risks and improve your social performance."},null,{"$f":"Onglet_trad_menus!$B$104","v":"Action status"},null,null,{"$f":"Onglet_trad_menus!$B$105","v":"Targeted stakeholders"}]
[null,null,{"$f":"Onglet_SRR_scales!B80","v":1},{"$f":"Onglet_SRR_scales!C80","v":"Dialogue limited to regulatory requirements"},null,"Action 1",null,null,null,null,"IS01_STK_A1_INT","A1"]
[null,null,{"$f":"Onglet_SRR_scales!B81","v":2},{"$f":"Onglet_SRR_scales!C81","v":"Punctual stakeholder engagement based on needs"},null,"Action 2",null,null,null,null,"IS01_STK_A3_INT","A3"]
[null,null,{"$f":"Onglet_SRR_scales!B82","v":3},{"$f":"Onglet_SRR_scales!C82","v":"Regular stakeholder engagement based on formalized Stakeholder engagement plan"},null,"Action 3",null,null,null,null,"IS01_STK_A4_INT","A4"]
[null,null,{"$f":"Onglet_SRR_scales!B83","v":4},{"$f":"Onglet_SRR_scales!C83","v":"Systematic feedback to stakeholders and recognized presence of TotalEnergies in the community"},null,"Action 4",null,null,null,null,"IS01_STK_A5_INT","A5"]
[null,null,{"$f":"Onglet_SRR_scales!B84","v":"N/A"},{"$f":"Onglet_SRR_scales!C84","v":"Not applicable"},null,"Action 5",null,null,null,null,{"$f":"K$127&\"_\"&L133&\"_INT\"","v":"IS01_STK_A5_INT"},"A5"]
[]
[null,null,{"$f":"Onglet_SRR_scales!B86","v":"P02"},{"$f":"Onglet_SRR_scales!C86","v":"Fullfilment and follow-up of commitments"},null,null,null,null,null,{"$f":"C135","v":"P02"},{"$f":"VLOOKUP(J135,Correspondance_IND,6,FALSE)","v":"IS01_STK"}]
[null,null,{"$f":"Onglet_SRR_scales!B87","v":"i"},{"$f":"Onglet_SRR_scales!C87","v":"-"},null,null,null,{"$f":"Onglet_trad_menus!$B$102","v":"List below existing and/or new actions to reduce social risks and improve your social performance."},null,{"$f":"Onglet_trad_menus!$B$104","v":"Action status"},null,null,{"$f":"Onglet_trad_menus!$B$105","v":"Targeted stakeholders"}]
[null,null,{"$f":"Onglet_SRR_scales!B88","v":1},{"$f":"Onglet_SRR_scales!C88","v":"No formal process to follow-up on commitments"},null,"Action 1",null,null,null,null,"IS01_STK_A6_INT","A6"]
[null,null,{"$f":"Onglet_SRR_scales!B89","v":2},{"$f":"Onglet_SRR_scales!C89","v":"Informal process to follow-up on commitments"},null,"Action 2",null,null,null,null,"IS01_STK_A7_INT","A7"]
[null,null,{"$f":"Onglet_SRR_scales!B90","v":3},{"$f":"Onglet_SRR_scales!C90","v":"Formal process to follow-up on commitments"},null,"Action 3",null,null,null,null,"IS01_STK_A8_INT","A8"]
[null,null,{"$f":"Onglet_SRR_scales!B91","v":4},{"$f":"Onglet_SRR_scales!C91","v":"Compliance with commitments is regularly shared with stakeholders"},null,"Action 4",null,null,null,null,"IS01_STK_A9_INT","A9"]
[null,null,{"$f":"Onglet_SRR_scales!B92","v":"N/A"},{"$f":"Onglet_SRR_scales!C92","v":"Not applicable"},null,"Action 5",null,null,null,null,{"$f":"K$135&\"_\"&L141&\"_INT\"","v":"IS01_STK_A10_INT"},"A10"]
[]
[null,null,{"$f":"Onglet_SRR_scales!B94","v":"P03"},{"$f":"Onglet_SRR_scales!C94","v":"Management of grievances"},null,null,null,null,null,{"$f":"C143","v":"P03"},{"$f":"VLOOKUP(J143,Correspondance_IND,6,FALSE)","v":"IS03"}]
[null,null,{"$f":"Onglet_SRR_scales!B95","v":"i"},{"$f":"Onglet_SRR_scales!C95","v":"Management of complaints from communities affected by TotalEnergies' activities"},null,null,null,{"$f":"Onglet_trad_menus!$B$102","v":"List below existing and/or new actions to reduce social risks and improve your social performance."},null,{"$f":"Onglet_trad_menus!$B$104","v":"Action status"},null,null,{"$f":"Onglet_trad_menus!$B$105","v":"Targeted stakeholders"}]
[null,null,{"$f":"Onglet_SRR_scales!B96","v":1},{"$f":"Onglet_SRR_scales!C96","v":"No grievance mechanism in place"},null,"Action 1",null,null,null,null,"IS03_A1_INT","A1"]
[null,null,{"$f":"Onglet_SRR_scales!B97","v":2},{"$f":"Onglet_SRR_scales!C97","v":"Grievance mechanism in place, but not communicated to stakeholders"},null,"Action 2",null,null,null,null,"IS03_A3_INT","A3"]
[null,null,{"$f":"Onglet_SRR_scales!B98","v":3},{"$f":"Onglet_SRR_scales!C98","v":"Grievance register in place and operational"},null,"Action 3",null,null,null,null,"IS03_A4_INT","A4"]
[null,null,{"$f":"Onglet_SRR_scales!B99","v":4},{"$f":"Onglet_SRR_scales!C99","v":"Timely resolution and feedback to complainant with proper internal grievance tracking database in place + no backlog"},null,"Action 4",null,null,null,null,"IS03_A5_INT","A5"]
[null,null,{"$f":"Onglet_SRR_scales!B100","v":"N/A"},{"$f":"Onglet_SRR_scales!C100","v":"Not applicable"},null,"Action 5",null,null,null,null,{"$f":"$K$143&\"_\"&L149&\"_INT\"","v":"IS03_A5_INT"},"A5"]
[]
[null,null,{"$f":"Onglet_SRR_scales!B102","v":"P04"},{"$f":"Onglet_SRR_scales!C102","v":"Communication (activities, strategic outlook, social performance, sustainability…)"},null,null,null,null,null,{"$f":"C151","v":"P04"},{"$f":"VLOOKUP(J151,Correspondance_IND,6,FALSE)","v":"IS04"}]
[null,null,{"$f":"Onglet_SRR_scales!B103","v":"i"},{"$f":"Onglet_SRR_scales!C103","v":"-"},null,null,null,null,null,{"$f":"Onglet_trad_menus!$B$104","v":"Action status"},null,null,{"$f":"Onglet_trad_menus!$B$105","v":"Targeted stakeholders"}]
[null,null,{"$f":"Onglet_SRR_scales!B104","v":1},{"$f":"Onglet_SRR_scales!C104","v":"No communication"},null,"Action 1",null,null,null,null,"IS04_A1_INT","A1"]
[null,null,{"$f":"Onglet_SRR_scales!B105","v":2},{"$f":"Onglet_SRR_scales!C105","v":"Punctual communication, at the request or in case of problem"},null,"Action 2",null,null,null,null,{"$f":"K$151&\"_\"&L154&\"_INT\"","v":"IS04_A2_INT"},"A2"]
[null,null,{"$f":"Onglet_SRR_scales!B106","v":3},{"$f":"Onglet_SRR_scales!C106","v":"Regular communication (internally and externally) "},null,"Action 3",null,null,null,null,{"$f":"$K$151&\"_\"&L155&\"_INT\"","v":"IS04_A3_INT"},"A3"]
[null,null,{"$f":"Onglet_SRR_scales!B107","v":4},{"$f":"Onglet_SRR_scales!C107","v":"Social Performance/Sustainability are part of the communication strategy and action plan of the entity"},null,"Action 4",null,null,null,null,"IS04_A4_INT","A4"]
[null,null,{"$f":"Onglet_SRR_scales!B108","v":"N/A"},{"$f":"Onglet_SRR_scales!C108","v":"Not applicable"},null,"Action 5",null,null,null,null,"IS04_A5_INT","A5"]

{"sheet":"Onglet_SRR_P2","index":40,"n_rows":146,"n_cols":13,"rows_kept":146,"cut":false,"hidden":false,"merged":[]}
[]
[]
[]
[]
[]
[null,{"$f":"Onglet_trad_menus!B47","v":"Pillar 2 - NEGATIVE IMPACTS"}]
[]
[]
[null,null,{"$f":"Onglet_trad_menus!$B$51","v":"RISKS LINKED TO SOCIETAL CONTEXT"}]
[]
[null,null,"INSTRUCTIONS",null,null,{"$f":"Onglet_trad_menus!$B$60","v":"Apply the following risk scale:"}]
[null,null,{"$f":"Onglet_trad_menus!$B$56","v":"Review each context indicator and score it according to rating scale"},null,null,1,null,{"$f":"Onglet_trad_menus!$B$62","v":"Low risk"}]
[null,null,{"$f":"Onglet_trad_menus!$B$57","v":"Double click on each indicator to show/hide details of rating scale"},null,null,2,null,{"$f":"Onglet_trad_menus!$B$63","v":"Moderate risk"}]
[null,null,{"$f":"Onglet_trad_menus!$B$58","v":"Make sure to justify (briefly) on your scores"},null,null,3,null,{"$f":"Onglet_trad_menus!$B$64","v":"High risk"}]
[null,null,null,null,null,4,null,{"$f":"Onglet_trad_menus!$B$65","v":"Critical risk"}]
[null,null,null,null,null,"N/A",null,{"$f":"Onglet_trad_menus!$B$66","v":"Not applicable"}]
[]
[null,null,null,{"$f":"Onglet_trad_menus!$B$68","v":"Context"},null,{"$f":"Onglet_trad_menus!$B$69","v":"Score"},null,{"$f":"Onglet_trad_menus!$B$70","v":"Justification of your score"}]
[]
[null,null,{"$f":"Onglet_SRR_scales!B110","v":"C07"},{"$f":"Onglet_SRR_scales!C110","v":"Proximity of communities near operations"},null,null,null,null,null,{"$f":"C20","v":"C07"}]
[null,null,{"$f":"Onglet_SRR_scales!B111","v":"i"},{"$f":"Onglet_SRR_scales!C111","v":"The social risk increases with the proximity of local residents with TotalEnergies' operations"},null,null,null,"Actions"]
[null,null,{"$f":"Onglet_SRR_scales!B112","v":1},{"$f":"Onglet_SRR_scales!C112","v":"Uninhabited area"}]
[null,null,{"$f":"Onglet_SRR_scales!B113","v":2},{"$f":"Onglet_SRR_scales!C113","v":"Sparse population, industrial area"}]
[null,null,{"$f":"Onglet_SRR_scales!B114","v":3},{"$f":"Onglet_SRR_scales!C114","v":"Inhabited area. Close but small population or large but remote population"}]
[null,null,{"$f":"Onglet_SRR_scales!B115","v":4},{"$f":"Onglet_SRR_scales!C115","v":"High proximity and / or population density"}]
[null,null,{"$f":"Onglet_SRR_scales!B116","v":"N/A"},{"$f":"Onglet_SRR_scales!C116","v":"Not applicable"}]
[]
[null,null,{"$f":"Onglet_SRR_scales!B118","v":"C08"},{"$f":"Onglet_SRR_scales!C118","v":"Risk of confusion with negative impacts of other industries"},null,null,null,null,null,{"$f":"C28","v":"C08"}]
[null,null,{"$f":"Onglet_SRR_scales!B119","v":"i"},{"$f":"Onglet_SRR_scales!C119","v":"Can TotalEnergies' activities be confused with another industrial or a business player having a bad reputation? "}]
[null,null,{"$f":"Onglet_SRR_scales!B120","v":1},{"$f":"Onglet_SRR_scales!C120","v":"No possible confusion "}]
[null,null,{"$f":"Onglet_SRR_scales!B121","v":2},{"$f":"Onglet_SRR_scales!C121","v":"Possible confusion, but few issues in terms of image"}]
[null,null,{"$f":"Onglet_SRR_scales!B122","v":3},{"$f":"Onglet_SRR_scales!C122","v":"Possible confusion and risk of negative impact on the image of TotalEnergies"}]
[null,null,{"$f":"Onglet_SRR_scales!B123","v":4},{"$f":"Onglet_SRR_scales!C123","v":"Systematic confusion with impact on reputation"}]
[null,null,{"$f":"Onglet_SRR_scales!B124","v":"N/A"},{"$f":"Onglet_SRR_scales!C124","v":"Not applicable"}]
[]
[null,null,{"$f":"Onglet_SRR_scales!B126","v":"C09"},{"$f":"Onglet_SRR_scales!C126","v":"Security"},null,null,null,null,null,{"$f":"C36","v":"C09"}]
[null,null,{"$f":"Onglet_SRR_scales!B127","v":"i"},{"$f":"Onglet_SRR_scales!C127","v":"The risk increases with the scale and intensity of conflicts (political, ethnic, religious conflicts ...). Can also be based on evaluation done by the Company security department based on the average of 4 scores. Ask the evaluation and make the correspondence with color code: Red=critical, Orange = high, Yellow = medium, White = Low)?"}]
[null,null,{"$f":"Onglet_SRR_scales!B128","v":1},{"$f":"Onglet_SRR_scales!C128","v":"Quiet and peaceful"}]
[null,null,{"$f":"Onglet_SRR_scales!B129","v":2},{"$f":"Onglet_SRR_scales!C129","v":"Quiet with occasional conflicts circumscribed"}]
[null,null,{"$f":"Onglet_SRR_scales!B130","v":3},{"$f":"Onglet_SRR_scales!C130","v":"Close to a conflict area with potential extension"}]
[null,null,{"$f":"Onglet_SRR_scales!B131","v":4},{"$f":"Onglet_SRR_scales!C131","v":"Conflict area"}]
[null,null,{"$f":"Onglet_SRR_scales!B132","v":"N/A"},{"$f":"Onglet_SRR_scales!C132","v":"Not applicable"}]
[]
[null,null,{"$f":"Onglet_SRR_scales!B134","v":"C10"},{"$f":"Onglet_SRR_scales!C134","v":"Biodiversity"},null,null,null,null,null,{"$f":"C44","v":"C10"}]
[null,null,{"$f":"Onglet_SRR_scales!B135","v":"i"},{"$f":"Onglet_SRR_scales!C135","v":"How sensitive is the natural environment on the area affected by the operations/activities? The risks increases with local communities relying on biodiversity for their livelihoods"}]
[null,null,{"$f":"Onglet_SRR_scales!B136","v":1},{"$f":"Onglet_SRR_scales!C136","v":"Not sensitive"}]
[null,null,{"$f":"Onglet_SRR_scales!B137","v":2},{"$f":"Onglet_SRR_scales!C137","v":"Sensitive"}]
[null,null,{"$f":"Onglet_SRR_scales!B138","v":3},{"$f":"Onglet_SRR_scales!C138","v":"Very sensitive"}]
[null,null,{"$f":"Onglet_SRR_scales!B139","v":4},{"$f":"Onglet_SRR_scales!C139","v":"Protected area"}]
[null,null,{"$f":"Onglet_SRR_scales!B140","v":"N/A"},{"$f":"Onglet_SRR_scales!C140","v":"Not applicable"}]
[]
[null,null,{"$f":"Onglet_SRR_scales!B142","v":"C11"},{"$f":"Onglet_SRR_scales!C142","v":"Religious and cultural heritage"},null,null,null,null,null,{"$f":"C52","v":"C11"}]
[null,null,{"$f":"Onglet_SRR_scales!B143","v":"i"},{"$f":"Onglet_SRR_scales!C143","v":"What is the sensitivity of the cultural and / or religious environment of the area affected by the operations / activities? Presence of sites or areas considered of cultural heritage / religious value by local communities in the operations zone of impact "}]
[null,null,{"$f":"Onglet_SRR_scales!B144","v":1},{"$f":"Onglet_SRR_scales!C144","v":"Presence near operations of unclassified and unprotected sites, with no particular value for the local population"}]
[null,null,{"$f":"Onglet_SRR_scales!B145","v":2},{"$f":"Onglet_SRR_scales!C145","v":"Presence near operations of unclassified and unprotected sites, but considered with value for the local population"}]
[null,null,{"$f":"Onglet_SRR_scales!B146","v":3},{"$f":"Onglet_SRR_scales!C146","v":"Classified and protected sites near operations"}]
[null,null,{"$f":"Onglet_SRR_scales!B147","v":4},{"$f":"Onglet_SRR_scales!C147","v":"Tensions regarding impacts of the activities on religious and cultural heritage"}]
[null,null,{"$f":"Onglet_SRR_scales!B148","v":"N/A"},{"$f":"Onglet_SRR_scales!C148","v":"Not applicable"}]
[]
[null,null,{"$f":"Onglet_SRR_scales!B150","v":"C12"},{"$f":"Onglet_SRR_scales!C150","v":"Vulnerable populations"},null,null,null,null,null,{"$f":"C60","v":"C12"}]
[null,null,{"$f":"Onglet_SRR_scales!B151","v":"i"},{"$f":"Onglet_SRR_scales!C151","v":"Are there vulnerable populations (minorities, indigenous people, gender, children,…) in the area affected by the operations/activities?"}]
[null,null,{"$f":"Onglet_SRR_scales!B152","v":1},{"$f":"Onglet_SRR_scales!C152","v":"Presence of vulnerable populations with no major human rights issues"}]
[null,null,{"$f":"Onglet_SRR_scales!B153","v":2},{"$f":"Onglet_SRR_scales!C153","v":"Sparse breaches in human rights of vulnerable populations"}]
[null,null,{"$f":"Onglet_SRR_scales!B154","v":3},{"$f":"Onglet_SRR_scales!C154","v":"Discrimations against specific groups"}]
[null,null,{"$f":"Onglet_SRR_scales!B155","v":4},{"$f":"Onglet_SRR_scales!C155","v":"Major breaches of human rights of vulnerable populations"}]
[null,null,{"$f":"Onglet_SRR_scales!B156","v":"N/A"},{"$f":"Onglet_SRR_scales!C156","v":"Not applicable"}]
[]
[]
[]
[null,null,{"$f":"Onglet_trad_menus!$B$127","v":"RISKS LINKED TO IMPACTS BEFORE MITIGATION"}]
[]
[null,null,"INSTRUCTIONS",null,null,{"$f":"Onglet_trad_menus!$B$60","v":"Apply the following risk scale:"}]
[null,null,{"$f":"Onglet_trad_menus!B128","v":"Assess the potential risk of negative impacts on stakeholders"},null,null,1,null,{"$f":"Onglet_trad_menus!B136","v":"Low risk - Nothing identified"}]
[null,null,{"$f":"Onglet_trad_menus!B129","v":"in your area of influence, linked to our operations/activities."},null,null,2,null,{"$f":"Onglet_trad_menus!B137","v":"Moderate risk - Low impact"}]
[null,null,{"$f":"Onglet_trad_menus!B130","v":"- Make sure to rate and comment on each specific impact"},null,null,3,null,{"$f":"Onglet_trad_menus!B138","v":"High risk - Significant impact"}]
[null,null,{"$f":"Onglet_trad_menus!B131","v":"- Average score is automatically calculated by impact,"},null,null,4,null,{"$f":"Onglet_trad_menus!B139","v":"Critical risk - Critical impact"}]
[null,null,{"$f":"Onglet_trad_menus!B132","v":"based on the scores of specific impact"},null,null,"N/A",null,{"$f":"Onglet_trad_menus!B140","v":"Not applicable"}]
[null,null,{"$f":"Onglet_trad_menus!B133","v":"-You can make a summarized comment by impact"}]
[]
[null,null,null,"Impacts",null,{"$f":"Onglet_trad_menus!$B$69","v":"Score"},null,{"$f":"Onglet_trad_menus!$B$70","v":"Justification of your score"}]
[]
[null,null,{"$f":"Onglet_SRR_scales!B158","v":"I05"},{"$f":"Onglet_SRR_scales!C158","v":"Negative impacts on people & environment"},null,{"$f":"IF(MAX(F83:F88)=0,\"\",MAX(F83:F88))","v":""},null,null,null,{"$f":"C82","v":"I05"}]
[null,null,"I05.1",{"$f":"Onglet_SRR_scales!C159","v":"Impacts on environment"},null,null,null,null,null,"I05.1"]
[null,null,"I05.1.1",{"$f":"Onglet_SRR_scales!C160","v":"Impacts on health of populations"},null,null,null,null,null,"I05.1.1"]
[null,null,"I05.1.2",{"$f":"Onglet_SRR_scales!C161","v":"Impacts on biodiversity"},null,null,null,null,null,"I05.1.2"]
[null,null,"I05.1.3",{"$f":"Onglet_SRR_scales!C162","v":"Impacts on climate change"},null,null,null,null,null,"I05.1.3"]
[null,null,"I05.2",{"$f":"Onglet_SRR_scales!C163","v":"Industrial risks"},null,null,null,null,null,"I05.2"]
[null,null,"I05.3",{"$f":"Onglet_SRR_scales!C164","v":"Nuisances"},null,null,null,null,null,"I05.3"]
[]
[null,null,{"$f":"Onglet_SRR_scales!B166","v":"I06"},{"$f":"Onglet_SRR_scales!C166","v":"Negative impacts on livelihoods & human rights"},null,{"$f":"IF(MAX(F91:F95)=0,\"\",MAX(F91:F95))","v":""},null,null,null,{"$f":"C90","v":"I06"}]
[null,null,"I06.1",{"$f":"Onglet_SRR_scales!C167","v":"Marine / Land use restrictions"},null,null,null,null,null,"I06.1"]
[null,null,"I06.2",{"$f":"Onglet_SRR_scales!C168","v":"Disturbance of local economy and livelihoods"},null,null,null,null,null,"I06.2"]
[null,null,"I06.3",{"$f":"Onglet_SRR_scales!C169","v":"Impacts on religious and cultural heritage"},null,null,null,null,null,"I06.3"]
[null,null,"I06.4",{"$f":"Onglet_SRR_scales!C170","v":"Violation of human rights in the workplace"},null,null,null,null,null,"I06.4"]
[null,null,"I06.4.1",{"$f":"Onglet_SRR_scales!C171","v":"Violation of civil, political and security rights"},null,null,null,null,null,"I06.4.1"]
[]
[]
[]
[null,null,{"$f":"Onglet_trad_menus!$B$78","v":"SOCIAL PERFORMANCE REVIEW"}]
[]
[null,null,"INSTRUCTIONS",null,null,{"$f":"Onglet_trad_menus!$B$91","v":"The maturity scale below applies to each social performance lever:"}]
[null,null,{"$f":"Onglet_trad_menus!$B$80","v":"Review each social performance lever and score it according to rating scale"},null,null,1,null,{"$f":"Onglet_trad_menus!$B$93","v":"Not started"}]
[null,null,{"$f":"Onglet_trad_menus!$B$81","v":"Double click on each lever to show/hide details of rating scale"},null,null,2,null,{"$f":"Onglet_trad_menus!$B$94","v":"Intermediate"}]
[null,null,{"$f":"Onglet_trad_menus!$B$82","v":"To justify your scores:"},null,null,3,null,{"$f":"Onglet_trad_menus!$B$95","v":"Mature"}]
[null,null,{"$f":"Onglet_trad_menus!$B$83","v":"> comment briefly on your score"},null,null,4,null,{"$f":"Onglet_trad_menus!$B$96","v":"Excellent"}]
[null,null,{"$f":"Onglet_trad_menus!$B$84","v":"> list existing actions that justify your score"},null,null,"N/A",null,{"$f":"Onglet_trad_menus!$B$97","v":"Not applicable"}]
[null,null,{"$f":"Onglet_trad_menus!$B$85","v":"> suggest possible actions to improve performance"}]
[null,null,{"$f":"Onglet_trad_menus!$B$86","v":"You  can list up to 5 actions by performance lever"}]
[null,null,{"$f":"Onglet_trad_menus!$B$87","v":"The objective is not to list as many actions as possible but rather to limit"}]
[null,null,{"$f":"Onglet_trad_menus!$B$88","v":"to the key ones"}]
[null,null,{"$f":"Onglet_trad_menus!$B$89","v":"All actions listed will be directly reported in your final SRM+ action plan"}]
[]
[]
[null,null,null,{"$f":"Onglet_trad_menus!$B$99","v":"Social performance levers"},null,{"$f":"Onglet_trad_menus!$B$100","v":"Score"},null,{"$f":"Onglet_trad_menus!$B$101","v":"Justification of your score"}]
[]
[null,null,{"$f":"Onglet_SRR_scales!B173","v":"P05"},{"$f":"Onglet_SRR_scales!C173","v":"Information on HSE impacts"},null,null,null,null,null,"P05",{"$f":"VLOOKUP(J116,Correspondance_IND,6,FALSE)","v":"IS05"}]
[null,null,{"$f":"Onglet_SRR_scales!B174","v":"i"},{"$f":"Onglet_SRR_scales!C174","v":"Items provided to stakeholders for a good understanding of the operations and their impacts"},null,null,null,{"$f":"Onglet_trad_menus!$B$102","v":"List below existing and/or new actions to reduce social risks and improve your social performance."},null,{"$f":"Onglet_trad_menus!$B$104","v":"Action status"},null,null,{"$f":"Onglet_trad_menus!$B$105","v":"Targeted stakeholders"}]
[null,null,{"$f":"Onglet_SRR_scales!B175","v":1},{"$f":"Onglet_SRR_scales!C175","v":"No available information"},null,"Action 1"]
[null,null,{"$f":"Onglet_SRR_scales!B176","v":2},{"$f":"Onglet_SRR_scales!C176","v":"Compliance with regulatory framework"},null,"Action 2",null,null,null,null,{"$f":"K$116&\"_\"&L119&\"_INT\"","v":"IS05_A2_INT"},"A2"]
[null,null,{"$f":"Onglet_SRR_scales!B177","v":3},{"$f":"Onglet_SRR_scales!C177","v":"Information available on demand (reactive)"},null,"Action 3",null,null,null,null,"IS05_A3_INT","A3"]
[null,null,{"$f":"Onglet_SRR_scales!B178","v":4},{"$f":"Onglet_SRR_scales!C178","v":"Organized, regular and transparent information on impacts"},null,"Action 4",null,null,null,null,"IS05_A4_INT","A4"]
[null,null,{"$f":"Onglet_SRR_scales!B179","v":"N/A"},{"$f":"Onglet_SRR_scales!C179","v":"-"},null,"Action 5",null,null,null,null,"IS05_A5_INT","A5"]
[]
[null,null,{"$f":"Onglet_SRR_scales!B181","v":"P06"},{"$f":"Onglet_SRR_scales!C181","v":"Management of negative impacts on stakeholders"},null,null,null,null,null,{"$f":"C124","v":"P06"},{"$f":"VLOOKUP(J124,Correspondance_IND,6,FALSE)","v":"IS05"}]
[null,null,{"$f":"Onglet_SRR_scales!B182","v":"i"},{"$f":"Onglet_SRR_scales!C182","v":"-"},null,null,null,{"$f":"Onglet_trad_menus!$B$102","v":"List below existing and/or new actions to reduce social risks and improve your social performance."},null,{"$f":"Onglet_trad_menus!$B$104","v":"Action status"},null,null,{"$f":"Onglet_trad_menus!$B$105","v":"Targeted stakeholders"}]
[null,null,{"$f":"Onglet_SRR_scales!B183","v":1},{"$f":"Onglet_SRR_scales!C183","v":"Actions are implemented on a reactive mode based on urgent needs or situations"},null,"Action 1",null,null,null,null,{"$f":"K$124&\"_\"&L126&\"_INT\"","v":"IS05_A6_INT"},"A6"]
[null,null,{"$f":"Onglet_SRR_scales!B184","v":2},{"$f":"Onglet_SRR_scales!C184","v":"Management plans are implemented by different entities without coordination with other departments"},null,"Action 2",null,null,null,null,{"$f":"K$124&\"_\"&L127&\"_INT\"","v":"IS05_A7_INT"},"A7"]
[null,null,{"$f":"Onglet_SRR_scales!B185","v":3},{"$f":"Onglet_SRR_scales!C185","v":"Management plans are implemented and coordinated without systematic stakeholder engagement"},null,"Action 3",null,null,null,null,"IS05_A8_INT","A8"]
[null,null,{"$f":"Onglet_SRR_scales!B186","v":4},{"$f":"Onglet_SRR_scales!C186","v":"Management plans are implemented and accepted by all stakeholders"},null,"Action 4",null,null,null,null,"IS05_A9_INT","A9"]
[null,null,{"$f":"Onglet_SRR_scales!B187","v":"N/A"},{"$f":"Onglet_SRR_scales!C187","v":"-"},null,"Action 5",null,null,null,null,"IS05_A10_INT","A10"]
[]
[null,null,{"$f":"Onglet_SRR_scales!B189","v":"P07"},{"$f":"Onglet_SRR_scales!C189","v":"Cooperation with authorities & industrial neighbors"},null,null,null,null,null,{"$f":"C132","v":"P07"},{"$f":"VLOOKUP(J132,Correspondance_IND,6,FALSE)","v":"IS05"}]
[null,null,{"$f":"Onglet_SRR_scales!B190","v":"i"},{"$f":"Onglet_SRR_scales!C190","v":"Sharing best practices and implementing joint solutions on HSE : emergency response plans, trainings and conducting safety drills,…"},null,null,null,{"$f":"Onglet_trad_menus!$B$102","v":"List below existing and/or new actions to reduce social risks and improve your social performance."},null,{"$f":"Onglet_trad_menus!$B$104","v":"Action status"},null,null,{"$f":"Onglet_trad_menus!$B$105","v":"Targeted stakeholders"}]
[null,null,{"$f":"Onglet_SRR_scales!B191","v":1},{"$f":"Onglet_SRR_scales!C191","v":"Risks not identified"},null,"Action 1"]
[null,null,{"$f":"Onglet_SRR_scales!B192","v":2},{"$f":"Onglet_SRR_scales!C192","v":"Risks identified but not communicated to stakeholders"},null,"Action 2"]
[null,null,{"$f":"Onglet_SRR_scales!B193","v":3},{"$f":"Onglet_SRR_scales!C193","v":"Risks identified and communicated to stakeholders"},null,"Action 3",null,null,null,null,{"$f":"K$132&\"_\"&L136&\"_INT\"","v":"IS05_A13_INT"},"A13"]
[null,null,{"$f":"Onglet_SRR_scales!B194","v":4},{"$f":"Onglet_SRR_scales!C194","v":"Risks identified, communicated to stakeholders and stakeholders trained"},null,"Action 4",null,null,null,null,"IS05_A14_INT","A14"]
[null,null,{"$f":"Onglet_SRR_scales!B195","v":"N/A"},{"$f":"Onglet_SRR_scales!C195","v":"-"},null,"Action 5",null,null,null,null,"IS05_A15_INT","A15"]
[]
[null,null,{"$f":"Onglet_SRR_scales!B197","v":"P08"},{"$f":"Onglet_SRR_scales!C197","v":"Control of contractors on HSE & Human Rights related matters"},null,null,null,null,null,{"$f":"C140","v":"P08"},{"$f":"VLOOKUP(J140,Correspondance_IND,6,FALSE)","v":"IS06"}]
[null,null,{"$f":"Onglet_SRR_scales!B198","v":"i"},{"$f":"Onglet_SRR_scales!C198","v":"-"},null,null,null,{"$f":"Onglet_trad_menus!$B$102","v":"List below existing and/or new actions to reduce social risks and improve your social performance."},null,{"$f":"Onglet_trad_menus!$B$104","v":"Action status"},null,null,{"$f":"Onglet_trad_menus!$B$105","v":"Targeted stakeholders"}]
[null,null,{"$f":"Onglet_SRR_scales!B199","v":1},{"$f":"Onglet_SRR_scales!C199","v":"No specific clauses in contracts"},null,"Action 1",null,null,null,null,"IS06_A1_INT","A1"]
[null,null,{"$f":"Onglet_SRR_scales!B200","v":2},{"$f":"Onglet_SRR_scales!C200","v":"Existence of specific clauses in the contracts"},null,"Action 2",null,null,null,null,"IS06_A2_INT","A2"]
[null,null,{"$f":"Onglet_SRR_scales!B201","v":3},{"$f":"Onglet_SRR_scales!C201","v":"Monitoring of contractors' performance"},null,"Action 3",null,null,null,null,"IS06_A3_INT","A3"]
[null,null,{"$f":"Onglet_SRR_scales!B202","v":4},{"$f":"Onglet_SRR_scales!C202","v":"Performance is regularly reviewed with contractors"},null,"Action 4",null,null,null,null,{"$f":"K$140&\"_\"&L145&\"_INT\"","v":"IS06_A4_INT"},"A4"]
[null,null,{"$f":"Onglet_SRR_scales!B203","v":"N/A"},{"$f":"Onglet_SRR_scales!C203","v":"-"},null,"Action 5",null,null,null,null,"IS06_A5_INT","A5"]

{"sheet":"Onglet_SRR_P3","index":41,"n_rows":165,"n_cols":13,"rows_kept":165,"cut":false,"hidden":false,"merged":[]}
[]
[]
[]
[]
[]
[null,{"$f":"Onglet_trad_menus!B48","v":"Pillar 3 - POSITIVE IMPACTS"}]
[]
[]
[null,null,{"$f":"Onglet_trad_menus!$B$51","v":"RISKS LINKED TO SOCIETAL CONTEXT"}]
[]
[null,null,"INSTRUCTIONS",null,null,{"$f":"Onglet_trad_menus!$B$60","v":"Apply the following risk scale:"}]
[null,null,{"$f":"Onglet_trad_menus!$B$56","v":"Review each context indicator and score it according to rating scale"},null,null,1,null,{"$f":"Onglet_trad_menus!$B$62","v":"Low risk"}]
[null,null,{"$f":"Onglet_trad_menus!$B$57","v":"Double click on each indicator to show/hide details of rating scale"},null,null,2,null,{"$f":"Onglet_trad_menus!$B$63","v":"Moderate risk"}]
[null,null,{"$f":"Onglet_trad_menus!$B$58","v":"Make sure to justify (briefly) on your scores"},null,null,3,null,{"$f":"Onglet_trad_menus!$B$64","v":"High risk"}]
[null,null,null,null,null,4,null,{"$f":"Onglet_trad_menus!$B$65","v":"Critical risk"}]
[null,null,null,null,null,"N/A",null,{"$f":"Onglet_trad_menus!$B$66","v":"Not applicable"}]
[]
[null,null,null,{"$f":"Onglet_trad_menus!$B$68","v":"Context"},null,{"$f":"Onglet_trad_menus!$B$69","v":"Score"},null,{"$f":"Onglet_trad_menus!$B$70","v":"Justification of your score"}]
[]
[null,null,{"$f":"Onglet_SRR_scales!B206","v":"C13"},{"$f":"Onglet_SRR_scales!C206","v":"Level of economic development of the area"},null,null,null,null,null,{"$f":"C20","v":"C13"}]
[null,null,{"$f":"Onglet_SRR_scales!B207","v":"i"},{"$f":"Onglet_SRR_scales!C207","v":"The risk increases with the economical instability. Can also be based on evaluation evaluation done by the World Bank on economic development"}]
[null,null,{"$f":"Onglet_SRR_scales!B208","v":1},{"$f":"Onglet_SRR_scales!C208","v":"Area with booming economy"}]
[null,null,{"$f":"Onglet_SRR_scales!B209","v":2},{"$f":"Onglet_SRR_scales!C209","v":"Economically stagnant area"}]
[null,null,{"$f":"Onglet_SRR_scales!B210","v":3},{"$f":"Onglet_SRR_scales!C210","v":"Area in development"}]
[null,null,{"$f":"Onglet_SRR_scales!B211","v":4},{"$f":"Onglet_SRR_scales!C211","v":"Area in structural crisis"}]
[null,null,{"$f":"Onglet_SRR_scales!B212","v":"N/A"},{"$f":"Onglet_SRR_scales!C212","v":"Not applicable"}]
[]
[null,null,{"$f":"Onglet_SRR_scales!B214","v":"C14"},{"$f":"Onglet_SRR_scales!C214","v":"Level of human development"},null,null,null,null,null,{"$f":"C28","v":"C14"}]
[null,null,{"$f":"Onglet_SRR_scales!B215","v":"i"},{"$f":"Onglet_SRR_scales!C215","v":"Access of local populations to energy, health, water…Can also be based on evaluation done by Human Rights Department following the 4 categories done by the UNDP Human development index"}]
[null,null,{"$f":"Onglet_SRR_scales!B216","v":1},{"$f":"Onglet_SRR_scales!C216","v":"System meeting all the needs of stakeholders"}]
[null,null,{"$f":"Onglet_SRR_scales!B217","v":2},{"$f":"Onglet_SRR_scales!C217","v":"System partially satisfying stakeholders' needs"}]
[null,null,{"$f":"Onglet_SRR_scales!B218","v":3},{"$f":"Onglet_SRR_scales!C218","v":"Unequal system creating tensions"}]
[null,null,{"$f":"Onglet_SRR_scales!B219","v":4},{"$f":"Onglet_SRR_scales!C219","v":"No local institutional framework with endemic poverty"}]
[null,null,{"$f":"Onglet_SRR_scales!B220","v":"N/A"},{"$f":"Onglet_SRR_scales!C220","v":"Not applicable"}]
[]
[null,null,{"$f":"Onglet_SRR_scales!B222","v":"C15"},{"$f":"Onglet_SRR_scales!C222","v":"Economic footprint of TotalEnergies"},null,null,null,null,null,{"$f":"C36","v":"C15"}]
[null,null,{"$f":"Onglet_SRR_scales!B223","v":"i"},{"$f":"Onglet_SRR_scales!C223","v":"Is TotalEnergies a significant economic player (employment, purchases, taxes, ...)? The risk increases with dependance of local economy on TotalEnergies's economic footprint"}]
[null,null,{"$f":"Onglet_SRR_scales!B224","v":1},{"$f":"Onglet_SRR_scales!C224","v":"TotalEnergies is a minor player in its environment"}]
[null,null,{"$f":"Onglet_SRR_scales!B225","v":2},{"$f":"Onglet_SRR_scales!C225","v":"TotalEnergies is an average player in its environment"}]
[null,null,{"$f":"Onglet_SRR_scales!B226","v":3},{"$f":"Onglet_SRR_scales!C226","v":"TotalEnergies is one of the top 5 economic players"}]
[null,null,{"$f":"Onglet_SRR_scales!B227","v":4},{"$f":"Onglet_SRR_scales!C227","v":"TotalEnergies is a major player, if not unique in an economically disadvantaged area"}]
[null,null,{"$f":"Onglet_SRR_scales!B228","v":"N/A"},{"$f":"Onglet_SRR_scales!C228","v":"Not applicable"}]
[]
[null,null,{"$f":"Onglet_SRR_scales!B230","v":"C16"},{"$f":"Onglet_SRR_scales!C230","v":"Employment trends in TotalEnergies"},null,null,null,null,null,{"$f":"C44","v":"C16"}]
[null,null,{"$f":"Onglet_SRR_scales!B231","v":"i"},{"$f":"Onglet_SRR_scales!C231","v":"Societal risk increases when TotalEnergies employment declines"}]
[null,null,{"$f":"Onglet_SRR_scales!B232","v":1},{"$f":"Onglet_SRR_scales!C232","v":"Rising or stable employment"}]
[null,null,{"$f":"Onglet_SRR_scales!B233","v":2},{"$f":"Onglet_SRR_scales!C233","v":"Declining employment (absorbed by natural decrease, retirement, resignation)"}]
[null,null,{"$f":"Onglet_SRR_scales!B234","v":3},{"$f":"Onglet_SRR_scales!C234","v":"Drop requiring social measures (social, restructuring plans)"}]
[null,null,{"$f":"Onglet_SRR_scales!B235","v":4},{"$f":"Onglet_SRR_scales!C235","v":"Closure project or high restructuring plan"}]
[null,null,{"$f":"Onglet_SRR_scales!B236","v":"N/A"},{"$f":"Onglet_SRR_scales!C236","v":"Not applicable"}]
[]
[]
[]
[null,null,{"$f":"Onglet_trad_menus!B144","v":"RISKS LINKED TO IMPACTS"}]
[]
[null,null,"INSTRUCTIONS",null,null,{"$f":"Onglet_trad_menus!$B$60","v":"Apply the following risk scale:"}]
[null,null,{"$f":"Onglet_trad_menus!B145","v":"Assess the risks and opportunities linked to your contribution"},null,null,1,null,{"$f":"Onglet_trad_menus!B149","v":"Major positive impacts"}]
[null,null,{"$f":"Onglet_trad_menus!B146","v":"to local economic and human development."},null,null,2,null,{"$f":"Onglet_trad_menus!B150","v":"Significant positive impacts"}]
[null,null,{"$f":"Onglet_trad_menus!B147","v":"Make sure to rate and comment on each impact."},null,null,3,null,{"$f":"Onglet_trad_menus!B151","v":"Moderate positive impacts"}]
[null,null,null,null,null,4,null,{"$f":"Onglet_trad_menus!B152","v":"Very limited positive impacts"}]
[null,null,null,null,null,"N/A",null,{"$f":"Onglet_trad_menus!B153","v":"Not applicable"}]
[]
[]
[null,null,null,"Impacts",null,{"$f":"Onglet_trad_menus!$B$69","v":"Score"},null,{"$f":"Onglet_trad_menus!$B$70","v":"Justification of your score"}]
[]
[null,null,{"$f":"Onglet_SRR_scales!B238","v":"I07"},{"$f":"Onglet_SRR_scales!C238","v":"Local employment"},null,null,null,null,null,{"$f":"C66","v":"I07"}]
[]
[null,null,{"$f":"Onglet_SRR_scales!B240","v":"I08"},{"$f":"Onglet_SRR_scales!C240","v":"Local procurement"},null,null,null,null,null,{"$f":"C68","v":"I08"}]
[]
[null,null,{"$f":"Onglet_SRR_scales!B242","v":"I09"},{"$f":"Onglet_SRR_scales!C242","v":"Local socio-economic investments"},null,null,null,null,null,{"$f":"C70","v":"I09"}]
[]
[]
[]
[null,null,{"$f":"Onglet_trad_menus!$B$78","v":"SOCIAL PERFORMANCE REVIEW"}]
[]
[null,null,"INSTRUCTIONS",null,null,{"$f":"Onglet_trad_menus!$B$91","v":"The maturity scale below applies to each social performance lever:"}]
[null,null,{"$f":"Onglet_trad_menus!$B$80","v":"Review each social performance lever and score it according to rating scale"},null,null,1,null,{"$f":"Onglet_trad_menus!$B$93","v":"Not started"}]
[null,null,{"$f":"Onglet_trad_menus!$B$81","v":"Double click on each lever to show/hide details of rating scale"},null,null,2,null,{"$f":"Onglet_trad_menus!$B$94","v":"Intermediate"}]
[null,null,{"$f":"Onglet_trad_menus!$B$82","v":"To justify your scores:"},null,null,3,null,{"$f":"Onglet_trad_menus!$B$95","v":"Mature"}]
[null,null,{"$f":"Onglet_trad_menus!$B$83","v":"> comment briefly on your score"},null,null,4,null,{"$f":"Onglet_trad_menus!$B$96","v":"Excellent"}]
[null,null,{"$f":"Onglet_trad_menus!$B$84","v":"> list existing actions that justify your score"},null,null,"N/A",null,{"$f":"Onglet_trad_menus!$B$97","v":"Not applicable"}]
[null,null,{"$f":"Onglet_trad_menus!$B$85","v":"> suggest possible actions to improve performance"}]
[null,null,{"$f":"Onglet_trad_menus!$B$86","v":"You  can list up to 5 actions by performance lever"}]
[null,null,{"$f":"Onglet_trad_menus!$B$87","v":"The objective is not to list as many actions as possible but rather to limit"}]
[null,null,{"$f":"Onglet_trad_menus!$B$88","v":"to the key ones"}]
[null,null,{"$f":"Onglet_trad_menus!$B$89","v":"All actions listed will be directly reported in your final SRM+ action plan"}]
[]
[]
[null,null,null,{"$f":"Onglet_trad_menus!$B$99","v":"Social performance levers"},null,{"$f":"Onglet_trad_menus!$B$100","v":"Score"},null,{"$f":"Onglet_trad_menus!$B$101","v":"Justification of your score"}]
[]
[null,null,{"$f":"Onglet_SRR_scales!B244","v":"P09"},{"$f":"Onglet_SRR_scales!C244","v":"Access to jobs opportunities for locals"},null,null,null,null,null,{"$f":"C91","v":"P09"},{"$f":"VLOOKUP(J91,Correspondance_IND,6,FALSE)","v":"IS07"}]
[null,null,{"$f":"Onglet_SRR_scales!B245","v":"i"},{"$f":"Onglet_SRR_scales!C245","v":"-"},null,null,null,{"$f":"Onglet_trad_menus!$B$102","v":"List below existing and/or new actions to reduce social risks and improve your social performance."},null,{"$f":"Onglet_trad_menus!$B$104","v":"Action status"},null,null,{"$f":"Onglet_trad_menus!$B$105","v":"Targeted stakeholders"}]
[null,null,{"$f":"Onglet_SRR_scales!B246","v":1},{"$f":"Onglet_SRR_scales!C246","v":"No formal process for management of local employment"},null,"Action 1",null,null,null,null,"IS07_A1_INT","A1"]
[null,null,{"$f":"Onglet_SRR_scales!B247","v":2},{"$f":"Onglet_SRR_scales!C247","v":"Formal process is implemented for skilled jobs"},null,"Action 2",null,null,null,null,"IS07_A2_INT","A2"]
[null,null,{"$f":"Onglet_SRR_scales!B248","v":3},{"$f":"Onglet_SRR_scales!C248","v":"Formal process is implemented for skilled and un-skilled jobs"},null,"Action 3",null,null,null,null,"IS07_A3_INT","A3"]
[null,null,{"$f":"Onglet_SRR_scales!B249","v":4},{"$f":"Onglet_SRR_scales!C249","v":"Formal process is implemented and KPIs are monitored"},null,"Action 4",null,null,null,null,"IS07_A4_INT","A4"]
[null,null,{"$f":"Onglet_SRR_scales!B250","v":"N/A"},{"$f":"Onglet_SRR_scales!C250","v":"-"},null,"Action 5",null,null,null,null,"IS07_A5_INT","A5"]
[]
[null,null,{"$f":"Onglet_SRR_scales!B252","v":"P10"},{"$f":"Onglet_SRR_scales!C252","v":"Access to tenders for local contractors"},null,null,null,null,null,{"$f":"C99","v":"P10"},{"$f":"VLOOKUP(J99,Correspondance_IND,6,FALSE)","v":"IS07"}]
[null,null,{"$f":"Onglet_SRR_scales!B253","v":"i"},{"$f":"Onglet_SRR_scales!C253","v":"-"},null,null,null,{"$f":"Onglet_trad_menus!$B$102","v":"List below existing and/or new actions to reduce social risks and improve your social performance."},null,{"$f":"Onglet_trad_menus!$B$104","v":"Action status"},null,null,{"$f":"Onglet_trad_menus!$B$105","v":"Targeted stakeholders"}]
[null,null,{"$f":"Onglet_SRR_scales!B254","v":1},{"$f":"Onglet_SRR_scales!C254","v":"No specific action"},null,"Action 1",null,null,null,null,"IS07_A6_INT","A6"]
[null,null,{"$f":"Onglet_SRR_scales!B255","v":2},{"$f":"Onglet_SRR_scales!C255","v":"Early and transparent access to tenders"},null,"Action 2",null,null,null,null,{"$f":"K$99&\"_\"&L102&\"_INT\"","v":"IS07_A7_INT"},"A7"]
[null,null,{"$f":"Onglet_SRR_scales!B256","v":3},{"$f":"Onglet_SRR_scales!C256","v":"There is a local procurement plan (market industry analysis, prequalification, capacity building) "},null,"Action 3",null,null,null,null,"IS07_A8_INT","A8"]
[null,null,{"$f":"Onglet_SRR_scales!B257","v":4},{"$f":"Onglet_SRR_scales!C257","v":"Local procurement plan is implemented and monitored"},null,"Action 4",null,null,null,null,"IS07_A9_INT","A9"]
[null,null,{"$f":"Onglet_SRR_scales!B258","v":"N/A"},{"$f":"Onglet_SRR_scales!C258","v":"-"},null,"Action 5",null,null,null,null,"IS07_A10_INT","A10"]
[]
[null,null,{"$f":"Onglet_SRR_scales!B260","v":"P11"},{"$f":"Onglet_SRR_scales!C260","v":"Capacity building of locals"},null,null,null,null,null,{"$f":"C107","v":"P11"},{"$f":"VLOOKUP(J107,Correspondance_IND,6,FALSE)","v":"IS07"}]
[null,null,{"$f":"Onglet_SRR_scales!B261","v":"i"},{"$f":"Onglet_SRR_scales!C261","v":"-"},null,null,null,{"$f":"Onglet_trad_menus!$B$102","v":"List below existing and/or new actions to reduce social risks and improve your social performance."},null,{"$f":"Onglet_trad_menus!$B$104","v":"Action status"},null,null,{"$f":"Onglet_trad_menus!$B$105","v":"Targeted stakeholders"}]
[null,null,{"$f":"Onglet_SRR_scales!B262","v":1},{"$f":"Onglet_SRR_scales!C262","v":"No capacity building"},null,"Action 1",null,null,null,null,"IS07_A11_INT","A11"]
[null,null,{"$f":"Onglet_SRR_scales!B263","v":2},{"$f":"Onglet_SRR_scales!C263","v":"Capacity building needs evaluated but no program implemented"},null,"Action 2",null,null,null,null,{"$f":"K$107&\"_\"&L110&\"_INT\"","v":"IS07_A12_INT"},"A12"]
[null,null,{"$f":"Onglet_SRR_scales!B264","v":3},{"$f":"Onglet_SRR_scales!C264","v":"Programs contributing to short term operational needs"},null,"Action 3",null,null,null,null,"IS07_A13_INT","A13"]
[null,null,{"$f":"Onglet_SRR_scales!B265","v":4},{"$f":"Onglet_SRR_scales!C265","v":"Programs contributing to a sustainable economy"},null,"Action 4",null,null,null,null,"IS07_A14_INT","A14"]
[null,null,{"$f":"Onglet_SRR_scales!B266","v":"N/A"},{"$f":"Onglet_SRR_scales!C266","v":"-"},null,"Action 5",null,null,null,null,"IS07_A15_INT","A15"]
[]
[null,null,{"$f":"Onglet_SRR_scales!B268","v":"P12"},{"$f":"Onglet_SRR_scales!C268","v":"Participation in local economic institutions"},null,null,null,null,null,{"$f":"C115","v":"P12"},{"$f":"VLOOKUP(J115,Correspondance_IND,6,FALSE)","v":"IS08"}]
[null,null,{"$f":"Onglet_SRR_scales!B269","v":"i"},{"$f":"Onglet_SRR_scales!C269","v":"-"},null,null,null,{"$f":"Onglet_trad_menus!$B$102","v":"List below existing and/or new actions to reduce social risks and improve your social performance."},null,{"$f":"Onglet_trad_menus!$B$104","v":"Action status"},null,null,{"$f":"Onglet_trad_menus!$B$105","v":"Targeted stakeholders"}]
[null,null,{"$f":"Onglet_SRR_scales!B270","v":1},{"$f":"Onglet_SRR_scales!C270","v":"No participation"},null,"Action 1",null,null,null,null,"IS08_A1_INT","A1"]
[null,null,{"$f":"Onglet_SRR_scales!B271","v":2},{"$f":"Onglet_SRR_scales!C271","v":"TotalEnergies is registered as a member of a local economic development institutions"},null,"Action 2",null,null,null,null,{"$f":"K$115&\"_\"&L118&\"_INT\"","v":"IS08_A2_INT"},"A2"]
[null,null,{"$f":"Onglet_SRR_scales!B272","v":3},{"$f":"Onglet_SRR_scales!C272","v":"A TotalEnergies senior manager participates regularly in local economic institutions meetings, and influences decisions"},null,"Action 3",null,null,null,null,"IS08_A3_INT","A3"]
[null,null,{"$f":"Onglet_SRR_scales!B273","v":4},{"$f":"Onglet_SRR_scales!C273","v":"TotalEnergies is recognized as a leader in local economic development institutions"},null,"Action 4",null,null,null,null,"IS08_A4_INT","A4"]
[null,null,{"$f":"Onglet_SRR_scales!B274","v":"N/A"},{"$f":"Onglet_SRR_scales!C274","v":"-"},null,"Action 5",null,null,null,null,"IS08_A5_INT","A5"]
[]
[null,null,{"$f":"Onglet_SRR_scales!B276","v":"P13"},{"$f":"Onglet_SRR_scales!C276","v":"Control of contractors on local content"},null,null,null,null,null,{"$f":"C123","v":"P13"},{"$f":"VLOOKUP(J123,Correspondance_IND,6,FALSE)","v":"IS08"}]
[null,null,{"$f":"Onglet_SRR_scales!B277","v":"i"},{"$f":"Onglet_SRR_scales!C277","v":"-"},null,null,null,{"$f":"Onglet_trad_menus!$B$102","v":"List below existing and/or new actions to reduce social risks and improve your social performance."},null,{"$f":"Onglet_trad_menus!$B$104","v":"Action status"},null,null,{"$f":"Onglet_trad_menus!$B$105","v":"Targeted stakeholders"}]
[null,null,{"$f":"Onglet_SRR_scales!B278","v":1},{"$f":"Onglet_SRR_scales!C278","v":"No specific clauses in contracts"},null,"Action 1",null,null,null,null,"IS08_A6_INT","A6"]
[null,null,{"$f":"Onglet_SRR_scales!B279","v":2},{"$f":"Onglet_SRR_scales!C279","v":"Existence of specific clauses in the contracts"},null,"Action 2",null,null,null,null,"IS08_A7_INT","A7"]
[null,null,{"$f":"Onglet_SRR_scales!B280","v":3},{"$f":"Onglet_SRR_scales!C280","v":"Monitoring of contractors' performance"},null,"Action 3",null,null,null,null,{"$f":"K$123&\"_\"&L127&\"_INT\"","v":"IS08_A8_INT"},"A8"]
[null,null,{"$f":"Onglet_SRR_scales!B281","v":4},{"$f":"Onglet_SRR_scales!C281","v":"Performance is regularly reviewed with contractors"},null,"Action 4",null,null,null,null,"IS08_A9_INT","A9"]
[null,null,{"$f":"Onglet_SRR_scales!B282","v":"N/A"},{"$f":"Onglet_SRR_scales!C282","v":"-"},null,"Action 5",null,null,null,null,"IS08_A10_INT","A10"]
[]
[null,null,{"$f":"Onglet_SRR_scales!B284","v":"P14"},{"$f":"Onglet_SRR_scales!C284","v":"Management of socio-economic projects"},null,null,null,null,null,{"$f":"C131","v":"P14"},{"$f":"VLOOKUP(J131,Correspondance_IND,6,FALSE)","v":"IS09"}]
[null,null,{"$f":"Onglet_SRR_scales!B285","v":"i"},{"$f":"Onglet_SRR_scales!C285","v":"-"},null,null,null,{"$f":"Onglet_trad_menus!$B$102","v":"List below existing and/or new actions to reduce social risks and improve your social performance."},null,{"$f":"Onglet_trad_menus!$B$104","v":"Action status"},null,null,{"$f":"Onglet_trad_menus!$B$105","v":"Targeted stakeholders"}]
[null,null,{"$f":"Onglet_SRR_scales!B286","v":1},{"$f":"Onglet_SRR_scales!C286","v":"No criteria for selection of projects and beneficiaries"},null,"Action 1",null,null,null,null,"IS09_A1_INT","A1"]
[null,null,{"$f":"Onglet_SRR_scales!B287","v":2},{"$f":"Onglet_SRR_scales!C287","v":"Selection of projects and beneficiaries in line with strategy of the affiliate"},null,"Action 2",null,null,null,null,{"$f":"K$131&\"_\"&L134&\"_INT\"","v":"IS09_A2_INT"},"A2"]
[null,null,{"$f":"Onglet_SRR_scales!B288","v":3},{"$f":"Onglet_SRR_scales!C288","v":"Selection of projects and beneficiaries in line with strategy and stakeholder expectations"},null,"Action 3",null,null,null,null,"IS09_A3_INT","A3"]
[null,null,{"$f":"Onglet_SRR_scales!B289","v":4},{"$f":"Onglet_SRR_scales!C289","v":"Selection of projects and beneficiaries are in line with strategy and stakeholder expectations and their impact is regularly assessed"},null,"Action 4",null,null,null,null,"IS09_A4_INT","A4"]
[null,null,{"$f":"Onglet_SRR_scales!B290","v":"N/A"},{"$f":"Onglet_SRR_scales!C290","v":"N/A"},null,"Action 5",null,null,null,null,"IS09_A5_INT","A5"]
[]
[null,null,{"$f":"Onglet_SRR_scales!B292","v":"P15"},{"$f":"Onglet_SRR_scales!C292","v":"Partnerships"},null,null,null,null,null,{"$f":"C139","v":"P15"},{"$f":"VLOOKUP(J139,Correspondance_IND,6,FALSE)","v":"IS09"}]
[null,null,{"$f":"Onglet_SRR_scales!B293","v":"i"},{"$f":"Onglet_SRR_scales!C293","v":"-"},null,null,null,{"$f":"Onglet_trad_menus!$B$102","v":"List below existing and/or new actions to reduce social risks and improve your social performance."},null,{"$f":"Onglet_trad_menus!$B$104","v":"Action status"},null,null,{"$f":"Onglet_trad_menus!$B$105","v":"Targeted stakeholders"}]
[null,null,{"$f":"Onglet_SRR_scales!B294","v":1},{"$f":"Onglet_SRR_scales!C294","v":"No partnerships - TotalEnergies operates all socio-economic projects on its own"},null,"Action 1",null,null,null,null,"IS09_A1_INT","A1"]
[null,null,{"$f":"Onglet_SRR_scales!B295","v":2},{"$f":"Onglet_SRR_scales!C295","v":"Partnerships implemented on some socio-economic projects"},null,"Action 2",null,null,null,null,{"$f":"K$139&\"_\"&L142&\"_INT\"","v":"IS09_A2_INT"},"A2"]
[null,null,{"$f":"Onglet_SRR_scales!B296","v":3},{"$f":"Onglet_SRR_scales!C296","v":"Most socio-economic projects are operated with partners"},null,"Action 3",null,null,null,null,"IS09_A3_INT","A3"]
[null,null,{"$f":"Onglet_SRR_scales!B297","v":4},{"$f":"Onglet_SRR_scales!C297","v":"Funding of socio-economic projects does not depend on TotalEnergies. Partners are selected and contribute based on their skills. Roles and responsibilities are clearly defined in a contractual/partnership framework"},null,"Action 4",null,null,null,null,"IS09_A4_INT","A4"]
[null,null,{"$f":"Onglet_SRR_scales!B298","v":"N/A"},{"$f":"Onglet_SRR_scales!C298","v":"-"},null,"Action 5",null,null,null,null,"IS09_A5_INT","A5"]
[]
[]
[null,null,{"$f":"Onglet_trad_menus!B187","v":"SOCIETAL INVESTMENT PRIORITIES"}]
[]
[null,null,"INSTRUCTIONS",null,null,{"$f":"Onglet_trad_menus!B193","v":"Apply the following prioritization scale:"}]
[null,null,{"$f":"Onglet_trad_menus!B188","v":"Review your entity's societal investment priorities"},null,null,{"$f":"Onglet_SRR_Table!B123","v":"Priority n°1"}]
[null,null,{"$f":"Onglet_trad_menus!B189","v":"Draw on your knowledge of local needs,"},null,null,{"$f":"Onglet_SRR_Table!B124","v":"Priority n°2"}]
[null,null,{"$f":"Onglet_trad_menus!B190","v":"the Company's social investment priorities,"},null,null,{"$f":"Onglet_SRR_Table!B125","v":"Priority n°3"}]
[null,null,{"$f":"Onglet_trad_menus!B191","v":"and your entity's strengths"},null,null,{"$f":"Onglet_SRR_Table!B126","v":"Priority n°4"}]
[null,null,null,null,null,"N/A",null,"Not applicable"]
[]
[null,null,null,{"$f":"Onglet_trad_menus!B195","v":"Societal investment areas"},null,{"$f":"Onglet_trad_menus!$B$100","v":"Score"},null,{"$f":"Onglet_trad_menus!$B$101","v":"Justification of your score"}]
[]
[null,null,{"$f":"Onglet_SRR_scales!B374","v":"S01"},{"$f":"Onglet_SRR_scales!C374","v":"Road safety"}]
[null,null,{"$f":"Onglet_SRR_scales!B375","v":"S02"},{"$f":"Onglet_SRR_scales!C375","v":"Environment & climate"}]
[null,null,{"$f":"Onglet_SRR_scales!B376","v":"S03"},{"$f":"Onglet_SRR_scales!C376","v":"Culture and heritage"}]
[null,null,{"$f":"Onglet_SRR_scales!B377","v":"S04"},{"$f":"Onglet_SRR_scales!C377","v":"Education / training / professional integration"}]
[null,null,{"$f":"Onglet_SRR_scales!B378","v":"S05"},{"$f":"Onglet_SRR_scales!C378","v":"Economic empowerment/support to business development"}]
[null,null,{"$f":"Onglet_SRR_scales!B379","v":"S06"},{"$f":"Onglet_SRR_scales!C379","v":"Improved access to essential services (health, water, energy)"}]
[null,null,{"$f":"Onglet_SRR_scales!B380","v":"S07"},{"$f":"Onglet_SRR_scales!C380","v":"Other"}]

{"sheet":"Onglet_SRR_progress","index":42,"n_rows":26,"n_cols":10,"rows_kept":26,"cut":false,"hidden":false,"merged":[]}
[]
[]
[]
[]
[]
[null,{"$f":"Onglet_trad_menus!B173","v":"Progress report of Social Risks & performance Review"}]
[]
[null,"Sections",null,"Scores",null,"Justifications"]
[]
[null,{"$f":"Onglet_trad_menus!B46","v":"Pillar 1 - RELATIONSHIPS & DIALOGUE"},null,{"$f":"COUNTIF(Onglet_SRR_dataset!F5:F20,1)/COUNTA(Onglet_SRR_dataset!$D$5:$D$20)","v":0},null,{"$f":"COUNTIF(Onglet_SRR_dataset!G5:G20,1)/COUNTA(Onglet_SRR_dataset!$D$5:$D$20)","v":0}]
[]
[null,{"$f":"Onglet_trad_menus!B47","v":"Pillar 2 - NEGATIVE IMPACTS"},null,{"$f":"COUNTIF(Onglet_SRR_dataset!F23:F47,1)/COUNTA(Onglet_SRR_dataset!$D$23:$D$47)","v":0},null,{"$f":"COUNTIF(Onglet_SRR_dataset!G23:G47,1)/COUNTA(Onglet_SRR_dataset!$D$23:$D$47)","v":0}]
[]
[null,{"$f":"Onglet_trad_menus!B48","v":"Pillar 3 - POSITIVE IMPACTS"},null,{"$f":"IF((COUNTIF(Onglet_SRR_dataset!F50:F74,1)-1)/(COUNTA(Onglet_SRR_dataset!$D$50:$D$74)-1)<0,0,(COUNTIF(Onglet_SRR_dataset!F50:F74,1)-1)/(COUNTA(Onglet_SRR_dataset!$D$50:$D$74)-1))","v":0},null,{"$f":"IF((COUNTIF(Onglet_SRR_dataset!G50:G74,1)-1)/(COUNTA(Onglet_SRR_dataset!$D$50:$D$74)-1)<0,0,(COUNTIF(Onglet_SRR_dataset!G50:G74,1)-1)/(COUNTA(Onglet_SRR_dataset!$D$50:$D$74)-1))","v":0}]
[]
[null,{"$f":"Onglet_trad_menus!B174","v":"Social performance governance"},null,{"$f":"COUNTIF(Onglet_SRR_dataset!F77:F85,1)/COUNTA(Onglet_SRR_dataset!$D$77:$D$85)","v":0},null,{"$f":"COUNTIF(Onglet_SRR_dataset!G77:G85,1)/COUNTA(Onglet_SRR_dataset!$D$77:$D$85)","v":0}]
[]
[null,{"$f":"Onglet_trad_menus!B175","v":"Overall progress "},null,{"$f":"COUNTIF(Onglet_SRR_dataset!F5:F85,1)/COUNTA(Onglet_SRR_dataset!$D$5:$D$85)","v":0},null,{"$f":"COUNTIF(Onglet_SRR_dataset!G5:G85,1)/COUNTA(Onglet_SRR_dataset!$D$5:$D$85)","v":0},null,{"$f":"AVERAGE(D18,F18)","v":0},null,{"$f":"Onglet_trad_menus!B178","v":"The % shows the progress of the Social Risks & performance Review"}]
[null,{"$f":"Onglet_trad_menus!B176","v":"(based on number of questions)"}]
[null,null,null,null,null,null,null,null,null,{"$f":"Onglet_trad_menus!B180","v":"Each section is divided into 3 parts: "}]
[null,null,null,null,null,null,null,null,null,{"$f":"Onglet_trad_menus!B181","v":"Part 1 - Review of risks linked to societal context"}]
[null,null,null,null,null,null,null,null,null,{"$f":"Onglet_trad_menus!B182","v":"Part 2 - Review of risks linked to impacts of our activities"}]
[null,null,null,null,null,null,null,null,null,{"$f":"Onglet_trad_menus!B183","v":"Part 3 - Review of social performance"}]
[]
[]
[null,null,null,1,null,1]

{"sheet":"Onglet_SRR_Rules","index":43,"n_rows":54,"n_cols":12,"rows_kept":54,"cut":false,"hidden":false,"merged":[]}
[]
[]
[]
[null,"Level of maturity"]
[]
[null,"Low range","High range","Level","Maturity","Arrondi 0","Seuil bas <"]
[null,{"$f":"C8","v":3.5},4,"Level 4",{"$f":"Onglet_SRR_Table!B20","v":"Excellent"},4,{"$f":"B7","v":3.5}]
[null,{"$f":"C9","v":2.5},3.5,"Level 3",{"$f":"Onglet_SRR_Table!B19","v":"Mature"},3,{"$f":"B8","v":2.5}]
[null,{"$f":"C10","v":1.51},2.5,"Level 2",{"$f":"Onglet_SRR_Table!B18","v":"Intermediate"},2,{"$f":"B9","v":1.51}]
[null,0,1.51,"Level 1",{"$f":"Onglet_SRR_Table!B17","v":"Not started"},1]
[]
[null,"Level of societal exposure"]
[]
[null,"Low range","High range","Level",null,null,null,2.5,null,null,{"$f":"IF(ISERROR(INDEX(Exposure,MATCH(H14,$C$15:$C$18,0),3)),INDEX(Exposure,MATCH(H14,$C$15:$C$18,-1),3),INDEX(Exposure,MATCH(H14,$B$15:$B$18,-1),3))","v":"High"},{"$f":"INDEX(Exposure,MATCH(H14,$C$15:$C$18,-1),3)","v":"Medium"}]
[null,{"$f":"C16","v":3.5},5,{"$f":"Onglet_SRR_Table!B26","v":"Critical"},null,"Attentinon seul haut non inclus"]
[null,{"$f":"C17","v":2.5},3.5,{"$f":"Onglet_SRR_Table!B25","v":"High"}]
[null,{"$f":"C18","v":1.5},2.5,{"$f":"Onglet_SRR_Table!B24","v":"Medium"}]
[null,0,1.5,{"$f":"Onglet_SRR_Table!B23","v":"Low"}]
[]
[]
[null,"Minimum required (maturity)"]
[]
[null,"Exposure","Minimum maturity"]
[null,{"$f":"Onglet_SRR_Table!B12","v":"Low"},{"$f":"Onglet_SRR_Table!B18","v":"Intermediate"},null,null,null,null,null,null,"Maybe change rules: "]
[null,{"$f":"Onglet_SRR_Table!B13","v":"Medium"},{"$f":"Onglet_SRR_Table!B19","v":"Mature"},null,null,null,null,null,null,"No action not allowed"]
[null,{"$f":"Onglet_SRR_Table!B14","v":"High"},"Mature",null,null,null,null,null,null,"At least one performance lever at maturity target?"]
[null,null,null,null,null,null,null,null,null,"Où moyenne (pondérée ?) au niveau recherché"]
[null,null,null,null,null,null,null,null,null,"Peut-être faire la simulation en changeant les niveaux de maturité target ici"]
[null,"Level of concern",null,null,null,null,null,null,null,"et les répercuter dans le gap analysis après (c'est mieux ? Pas sûr, mieux vaut que les éléments de restitution restent des élémetns de restitution)"]
[]
[null,"Low range","High range"]
[null,{"$f":"C33","v":3.5},4,{"$f":"Onglet_SRR_Table!B69","v":"Critical"}]
[null,{"$f":"C34","v":2.5},3.5,{"$f":"Onglet_SRR_Table!B68","v":"High"}]
[null,{"$f":"C35","v":1.5},2.5,{"$f":"Onglet_SRR_Table!B67","v":"Medium"}]
[null,0,1.5,{"$f":"Onglet_SRR_Table!B66","v":"Low"}]
[]
[]
[null,"Level of expectations"]
[]
[null,"Low range","High range"]
[null,{"$f":"C42","v":3.5},4,{"$f":"Onglet_SRR_Table!B63","v":"Must improve"}]
[null,{"$f":"C43","v":2.5},3.5,{"$f":"Onglet_SRR_Table!B62","v":"Should improve"}]
[null,{"$f":"C44","v":1.5},2.5,{"$f":"Onglet_SRR_Table!B61","v":"Could improve"}]
[null,0,1.5,{"$f":"Onglet_SRR_Table!B60","v":"Maintain"}]
[]
[]
[]
[null,"Priorities for social investment"]
[]
[null,"Low range","High range"]
[null,{"$f":"C52","v":3.5},4,{"$f":"Onglet_SRR_Table!B123","v":"Priority n°1"}]
[null,{"$f":"C53","v":2.5},3.5,{"$f":"Onglet_SRR_Table!B124","v":"Priority n°2"}]
[null,{"$f":"C54","v":1.5},2.5,{"$f":"Onglet_SRR_Table!B125","v":"Priority n°3"}]
[null,0,1.5,{"$f":"Onglet_SRR_Table!B126","v":"Priority n°4"}]

{"sheet":"Onglet_SRR_scales","index":44,"n_rows":380,"n_cols":8,"rows_kept":380,"cut":false,"hidden":false,"merged":[]}
[]
[null,null,"Current",null,null,"English","French (Deepl)","Spanish (Deepl)"]
[]
[null,"C01",{"$f":"_xlfn.IFS(Language=\"EN\",F4,Language=\"FR\",G4,Language=\"SP\",H4)","v":"Position of the media regarding TotalEnergies"},null,null,"Position of the media regarding TotalEnergies","Position des médias à l'égard de TotalEnergies"]
[null,"i",{"$f":"_xlfn.IFS(Language=\"EN\",F5,Language=\"FR\",G5,Language=\"SP\",H5)","v":"Newspapers, radio, TV, internet, Social media ..."},null,null,"Newspapers, radio, TV, internet, Social media ...","Journaux, radio, TV, internet, médias sociaux ..."]
[null,1,{"$f":"_xlfn.IFS(Language=\"EN\",F6,Language=\"FR\",G6,Language=\"SP\",H6)","v":"The media play their role of information in an objective way"},null,null,"The media play their role of information in an objective way","Les médias jouent leur rôle d'information de manière objective"]
[null,2,{"$f":"_xlfn.IFS(Language=\"EN\",F7,Language=\"FR\",G7,Language=\"SP\",H7)","v":"High scrutiny of media towards the energy sector"},null,null,"High scrutiny of media towards the energy sector","Les médias sont très attentifs au secteur de l'énergie"]
[null,3,{"$f":"_xlfn.IFS(Language=\"EN\",F8,Language=\"FR\",G8,Language=\"SP\",H8)","v":"One of the main media is the intermediary of stakeholders hostile to TotalEnergies"},null,null,"One of the main media is the intermediary of stakeholders hostile to TotalEnergies","L'un des principaux médias est l'intermédiaire des parties prenantes hostiles à TotalEnergies"]
[null,4,{"$f":"_xlfn.IFS(Language=\"EN\",F9,Language=\"FR\",G9,Language=\"SP\",H9)","v":"Aggressive campaign conducted by an influential media against TotalEnergies"},null,null,"Aggressive campaign conducted by an influential media against TotalEnergies","Campagne agressive menée par un média influent contre TotalEnergies"]
[null,"N/A",{"$f":"_xlfn.IFS(Language=\"EN\",F10,Language=\"FR\",G10,Language=\"SP\",H10)","v":"Not applicable"},null,null,"Not applicable","Non applicable"]
[]
[null,"C02",{"$f":"_xlfn.IFS(Language=\"EN\",F12,Language=\"FR\",G12,Language=\"SP\",H12)","v":"Existence of activitist associations"},null,null,"Existence of activitist associations","Existence d'associations activistes"]
[null,"i",{"$f":"_xlfn.IFS(Language=\"EN\",F13,Language=\"FR\",G13,Language=\"SP\",H13)","v":"Are there activist or advocacy associations next to the operations or closely interested in TotalEnergies? Risk increases with the number and the influence of these associations on the other stakeholders"},null,null,"Are there activist or advocacy associations next to the operations or closely interested in TotalEnergies? Risk increases with the number and the influence of these associations on the other stakeholders","Existe-t-il des associations d'activistes ou de plaidoyer à proximité des opérations ou intéressées de près par TotalEnergies ? Le risque augmente avec le nombre et l'influence de ces associations sur les autres parties prenantes."]
[null,1,{"$f":"_xlfn.IFS(Language=\"EN\",F14,Language=\"FR\",G14,Language=\"SP\",H14)","v":"Existing associations but not targeting TotalEnergies"},null,null,"Existing associations but not targeting TotalEnergies","Associations existantes mais ne ciblant pas TotalEnergies"]
[null,2,{"$f":"_xlfn.IFS(Language=\"EN\",F15,Language=\"FR\",G15,Language=\"SP\",H15)","v":"Existing associations (but not much influential or having no angle of controversy on TotalEnergies)"},null,null,"Existing associations (but not much influential or having no angle of controversy on TotalEnergies)","Associations existantes (mais peu influentes ou n'ayant pas d'angle d'attaque sur TotalEnergies)"]
[null,3,{"$f":"_xlfn.IFS(Language=\"EN\",F16,Language=\"FR\",G16,Language=\"SP\",H16)","v":"Existing associations and first elements of existing proved conflict that may worsen"},null,null,"Existing associations and first elements of existing proved conflict that may worsen","Associations existantes et premiers éléments de conflits avérés pouvant s'aggraver"]
[null,4,{"$f":"_xlfn.IFS(Language=\"EN\",F17,Language=\"FR\",G17,Language=\"SP\",H17)","v":"Blockages, protests, lawsuits, and boycott history because of organized stakeholders"},null,null,"Blockages, protests, lawsuits, and boycott history because of organized stakeholders","Blocages, protestations, poursuites judiciaires et passif de boycott  causés par des parties prenantes organisées"]
[null,"N/A",{"$f":"_xlfn.IFS(Language=\"EN\",F18,Language=\"FR\",G18,Language=\"SP\",H18)","v":"Not applicable"},null,null,"Not applicable","Non applicable"]
[]
[null,"C03",{"$f":"_xlfn.IFS(Language=\"EN\",F20,Language=\"FR\",G20,Language=\"SP\",H20)","v":"Negative perception linked to past or unfulfilled social commitments"},null,null,"Negative perception linked to past or unfulfilled social commitments","Perception négative liée à des engagements sociétaux passés ou non tenus"]
[null,"i",{"$f":"_xlfn.IFS(Language=\"EN\",F21,Language=\"FR\",G21,Language=\"SP\",H21)","v":"Commitments made by TotalEnergies or attributed to TotalEnergies by stakeholders"},null,null,"Commitments made by TotalEnergies or attributed to TotalEnergies by stakeholders","Engagements pris par TotalEnergies ou attribués à TotalEnergies par les parties prenantes"]
[null,1,{"$f":"_xlfn.IFS(Language=\"EN\",F22,Language=\"FR\",G22,Language=\"SP\",H22)","v":"No history of negative perceptions"},null,null,"No history of negative perceptions","Pas d'historique de perception négative"]
[null,2,{"$f":"_xlfn.IFS(Language=\"EN\",F23,Language=\"FR\",G23,Language=\"SP\",H23)","v":"Confusion between TotalEnergies commitments and commitments made by others  "},null,null,"Confusion between TotalEnergies commitments and commitments made by others  ","Confusion entre les engagements de TotalEnergies et ceux d'autres acteurs  "]
[null,3,{"$f":"_xlfn.IFS(Language=\"EN\",F24,Language=\"FR\",G24,Language=\"SP\",H24)","v":"Previous commitments challenged today by stakeholders"},null,null,"Previous commitments challenged today by stakeholders","Engagements antérieurs remis en cause aujourd'hui par les parties prenantes"]
[null,4,{"$f":"_xlfn.IFS(Language=\"EN\",F25,Language=\"FR\",G25,Language=\"SP\",H25)","v":"Conflicts related to previous commitments unfulfilled"},null,null,"Conflicts related to previous commitments unfulfilled","Conflits liés à des engagements antérieurs non tenus"]
[null,"N/A",{"$f":"_xlfn.IFS(Language=\"EN\",F26,Language=\"FR\",G26,Language=\"SP\",H26)","v":"Not applicable"},null,null,"Not applicable","Non applicable"]
[]
[null,"C04",{"$f":"_xlfn.IFS(Language=\"EN\",F28,Language=\"FR\",G28,Language=\"SP\",H28)","v":"External factors threatening license to operate"},null,null,"External factors threatening license to operate","Facteurs externes menaçant la licence d'exploitation"]
[null,"i",{"$f":"_xlfn.IFS(Language=\"EN\",F29,Language=\"FR\",G29,Language=\"SP\",H29)","v":"Is TotalEnergies's activity challenged by external factors?\nTypical factors: changes in taxation, nationalization, land use plans, land use conflicts or natural resources, urban development …"},null,null,"Is TotalEnergies's activity challenged by external factors?\nTypical factors: changes in taxation, nationalization, land use plans, land use conflicts or natural resources, urban development …","« L'activité de TotalEnergies est-elle remise en cause par des facteurs externes ?\nFacteurs typiques : changements dans la fiscalité, nationalisation, plans d'occupation des sols, conflits d'utilisation des sols ou des ressources naturelles, développement urbain... »"]
[null,1,{"$f":"_xlfn.IFS(Language=\"EN\",F30,Language=\"FR\",G30,Language=\"SP\",H30)","v":"No specific factors identified"},null,null,"No specific factors identified","Aucun facteur spécifique n'a été identifié"]
[null,2,{"$f":"_xlfn.IFS(Language=\"EN\",F31,Language=\"FR\",G31,Language=\"SP\",H31)","v":"Weak signals"},null,null,"Weak signals","Signaux faibles"]
[null,3,{"$f":"_xlfn.IFS(Language=\"EN\",F32,Language=\"FR\",G32,Language=\"SP\",H32)","v":"Specific factors (urban planning, regulation ...) that can indirectly limit the license to operate of TotalEnergies"},null,null,"Specific factors (urban planning, regulation ...) that can indirectly limit the license to operate of TotalEnergies","Facteurs spécifiques (urbanisme, réglementation...) pouvant limiter indirectement l'autorisation d'exploiter de TotalEnergies"]
[null,4,{"$f":"_xlfn.IFS(Language=\"EN\",F33,Language=\"FR\",G33,Language=\"SP\",H33)","v":"Specific factors with direct impact of TotalEnergies' license to operate"},null,null,"Specific factors with direct impact of TotalEnergies' license to operate","Facteurs spécifiques ayant un impact direct sur la licence d'exploitation de TotalEnergies"]
[null,"N/A",{"$f":"_xlfn.IFS(Language=\"EN\",F34,Language=\"FR\",G34,Language=\"SP\",H34)","v":"Not applicable"},null,null,"Not applicable","Non applicable"]
[]
[null,"C05",{"$f":"_xlfn.IFS(Language=\"EN\",F36,Language=\"FR\",G36,Language=\"SP\",H36)","v":"Alignment of local practices and regulations with Company standards"},null,null,"Alignment of local practices and regulations with Company standards","Conformité des pratiques et réglementations locales avec les normes de l'entreprise"]
[null,"i",{"$f":"_xlfn.IFS(Language=\"EN\",F37,Language=\"FR\",G37,Language=\"SP\",H37)","v":"Alignment of local practices and regulations with Company standards on ethics and corruption, Social performance, Sustainability and Human Rights "},null,null,"Alignment of local practices and regulations with Company standards on ethics and corruption, Social performance, Sustainability and Human Rights ","Alignement des pratiques et réglementations locales avec les standards de la Compagnie en matière d'éthique, de corruption, de performance sociétale et de droits humains."]
[null,1,{"$f":"_xlfn.IFS(Language=\"EN\",F38,Language=\"FR\",G38,Language=\"SP\",H38)","v":"Compliance with Company standards"},null,null,"Compliance with Company standards","Conformité avec les standards de la Compagnie"]
[null,2,{"$f":"_xlfn.IFS(Language=\"EN\",F39,Language=\"FR\",G39,Language=\"SP\",H39)","v":"Punctual requests / Easily manageable"},null,null,"Punctual requests / Easily manageable","Demandes ponctuelles / Facilement gérable"]
[null,3,{"$f":"_xlfn.IFS(Language=\"EN\",F40,Language=\"FR\",G40,Language=\"SP\",H40)","v":"Repeated requests / Difficult to manage"},null,null,"Repeated requests / Difficult to manage","Demandes répétées / Difficile à gérer"]
[null,4,{"$f":"_xlfn.IFS(Language=\"EN\",F41,Language=\"FR\",G41,Language=\"SP\",H41)","v":"Major gaps"},null,null,"Major gaps","Ecarts majeurs"]
[null,"N/A",{"$f":"_xlfn.IFS(Language=\"EN\",F42,Language=\"FR\",G42,Language=\"SP\",H42)","v":"Not applicable"},null,null,"Not applicable","Non applicable"]
[]
[null,"C06",{"$f":"_xlfn.IFS(Language=\"EN\",F44,Language=\"FR\",G44,Language=\"SP\",H44)","v":"Opposition to expansion projects, restructuring or conversion"},null,null,"Opposition to expansion projects, restructuring or conversion","Opposition à des projets d'expansion, de restructuration ou de reconversion"]
[null,"i",{"$f":"_xlfn.IFS(Language=\"EN\",F45,Language=\"FR\",G45,Language=\"SP\",H45)","v":"Risk increases with the importance of the project "},null,null,"Risk increases with the importance of the project ","Le risque augmente avec l'importance du projet "]
[null,1,{"$f":"_xlfn.IFS(Language=\"EN\",F46,Language=\"FR\",G46,Language=\"SP\",H46)","v":"No opposition"},null,null,"No opposition","Pas d'opposition"]
[null,2,{"$f":"_xlfn.IFS(Language=\"EN\",F47,Language=\"FR\",G47,Language=\"SP\",H47)","v":"Project with low opposition"},null,null,"Project with low opposition","Projet avec une faible opposition"]
[null,3,{"$f":"_xlfn.IFS(Language=\"EN\",F48,Language=\"FR\",G48,Language=\"SP\",H48)","v":"Important project with potential opposition"},null,null,"Important project with potential opposition","Projet important avec opposition potentielle"]
[null,4,{"$f":"_xlfn.IFS(Language=\"EN\",F49,Language=\"FR\",G49,Language=\"SP\",H49)","v":"Important project with declared opposition"},null,null,"Important project with declared opposition","Projet important avec opposition déclarée"]
[null,"N/A",{"$f":"_xlfn.IFS(Language=\"EN\",F50,Language=\"FR\",G50,Language=\"SP\",H50)","v":"Not applicable"},null,null,"Not applicable","Non applicable"]
[]
[null,"I01",{"$f":"_xlfn.IFS(Language=\"EN\",F52,Language=\"FR\",G52,Language=\"SP\",H52)","v":"Relations with authorities"},null,null,"Relations with authorities","Relations avec les autorités"]
[null,"I01.1",{"$f":"_xlfn.IFS(Language=\"EN\",F53,Language=\"FR\",G53,Language=\"SP\",H53)","v":"Regulatory authorities"},null,null,"Regulatory authorities","Autorités de régulation"]
[null,"I01.2",{"$f":"_xlfn.IFS(Language=\"EN\",F54,Language=\"FR\",G54,Language=\"SP\",H54)","v":"National authorities"},null,null,"National authorities","Autorités nationales"]
[null,"I01.3",{"$f":"_xlfn.IFS(Language=\"EN\",F55,Language=\"FR\",G55,Language=\"SP\",H55)","v":"Local authorities"},null,null,"Local authorities","Autorités locales"]
[null,"I01.4",{"$f":"_xlfn.IFS(Language=\"EN\",F56,Language=\"FR\",G56,Language=\"SP\",H56)","v":"Other authorities"},null,null,"Other authorities","Autres autorités"]
[]
[null,"I02",{"$f":"_xlfn.IFS(Language=\"EN\",F58,Language=\"FR\",G58,Language=\"SP\",H58)","v":"Relations with business partners"},null,null,"Relations with business partners","Relations avec les partenaires commerciaux"]
[null,"I02.1",{"$f":"_xlfn.IFS(Language=\"EN\",F59,Language=\"FR\",G59,Language=\"SP\",H59)","v":"Contractors"},null,null,"Contractors","Contracteurs"]
[null,"I02.2",{"$f":"_xlfn.IFS(Language=\"EN\",F60,Language=\"FR\",G60,Language=\"SP\",H60)","v":"JV Partners"},null,null,"JV Partners","Partenaires JV"]
[null,"I02.3",{"$f":"_xlfn.IFS(Language=\"EN\",F61,Language=\"FR\",G61,Language=\"SP\",H61)","v":"Professional organizations"},null,null,"Professional organizations","Organisations professionnelles"]
[null,"I02.4",{"$f":"_xlfn.IFS(Language=\"EN\",F62,Language=\"FR\",G62,Language=\"SP\",H62)","v":"Industrials neighbors"},null,null,"Industrials neighbors","Voisins industriels"]
[null,"I02.5",{"$f":"_xlfn.IFS(Language=\"EN\",F63,Language=\"FR\",G63,Language=\"SP\",H63)","v":"Unions"},null,null,"Unions","Syndicats"]
[null,"I02.6",{"$f":"_xlfn.IFS(Language=\"EN\",F64,Language=\"FR\",G64,Language=\"SP\",H64)","v":"Other business stakeholders"},null,null,"Other business stakeholders","Autres parties prenantes business"]
[]
[null,"I03",{"$f":"_xlfn.IFS(Language=\"EN\",F66,Language=\"FR\",G66,Language=\"SP\",H66)","v":"Relations with civil society"},null,null,"Relations with civil society","Relations avec la société civile"]
[null,"I03.1",{"$f":"_xlfn.IFS(Language=\"EN\",F67,Language=\"FR\",G67,Language=\"SP\",H67)","v":"NGOs and associations"},null,null,"NGOs and associations","ONG et associations"]
[null,"I03.2",{"$f":"_xlfn.IFS(Language=\"EN\",F68,Language=\"FR\",G68,Language=\"SP\",H68)","v":"Media"},null,null,"Media","Médias"]
[null,"I03.3",{"$f":"_xlfn.IFS(Language=\"EN\",F69,Language=\"FR\",G69,Language=\"SP\",H69)","v":"School & Universities"},null,null,"School & Universities","Écoles et universités"]
[null,"I03.4",{"$f":"_xlfn.IFS(Language=\"EN\",F70,Language=\"FR\",G70,Language=\"SP\",H70)","v":"International organizations"},null,null,"International organizations","Organisations internationales"]
[null,"I03.5",{"$f":"_xlfn.IFS(Language=\"EN\",F71,Language=\"FR\",G71,Language=\"SP\",H71)","v":"Other civil society stakeholders"},null,null,"Other civil society stakeholders","Autres acteurs de la société civile"]
[]
[null,"I04",{"$f":"_xlfn.IFS(Language=\"EN\",F73,Language=\"FR\",G73,Language=\"SP\",H73)","v":"Relations with affected communities"},null,null,"Relations with affected communities","Relations avec les communautés affectées"]
[null,"I04.1",{"$f":"_xlfn.IFS(Language=\"EN\",F74,Language=\"FR\",G74,Language=\"SP\",H74)","v":"Local communities"},null,null,"Local communities","Communautés locales"]
[null,"I04.2",{"$f":"_xlfn.IFS(Language=\"EN\",F75,Language=\"FR\",G75,Language=\"SP\",H75)","v":"Traditional/non-formal authorities"},null,null,"Traditional/non-formal authorities","Autorités traditionnelles/non officielles"]
[null,"I04.3",{"$f":"_xlfn.IFS(Language=\"EN\",F76,Language=\"FR\",G76,Language=\"SP\",H76)","v":"Other local communities"},null,null,"Other local communities","Autres communautés locales"]
[]
[null,"P01",{"$f":"_xlfn.IFS(Language=\"EN\",F78,Language=\"FR\",G78,Language=\"SP\",H78)","v":"Transparent and regular stakeholder engagement"},null,null,"Transparent and regular stakeholder engagement","Dialogue transparent et régulier avec les parties prenantes"]
[null,"i",{"$f":"_xlfn.IFS(Language=\"EN\",F79,Language=\"FR\",G79,Language=\"SP\",H79)","v":"Listening to the stakeholders to better understand their expectations and concerns - Condition of a lasting relationship of trust - socialization work with stakeholders"},null,null,"Listening to the stakeholders to better understand their expectations and concerns - Condition of a lasting relationship of trust - socialization work with stakeholders","Écoute des parties prenantes pour mieux comprendre leurs attentes et leurs préoccupations - Condition d'une relation de confiance durable - travail de socialisation avec les parties prenantes"]
[{"$f":"B78&-B80","v":"P01-1"},1,{"$f":"_xlfn.IFS(Language=\"EN\",F80,Language=\"FR\",G80,Language=\"SP\",H80)","v":"Dialogue limited to regulatory requirements"},null,null,"Dialogue limited to regulatory requirements","Dialogue limité aux exigences réglementaires"]
[{"$f":"B78&-B81","v":"P01-2"},2,{"$f":"_xlfn.IFS(Language=\"EN\",F81,Language=\"FR\",G81,Language=\"SP\",H81)","v":"Punctual stakeholder engagement based on needs"},null,null,"Punctual stakeholder engagement based on needs","Dialogue ponctuel avec les parties prenantes en fonction des besoins"]
[{"$f":"B78&-B82","v":"P01-3"},3,{"$f":"_xlfn.IFS(Language=\"EN\",F82,Language=\"FR\",G82,Language=\"SP\",H82)","v":"Regular stakeholder engagement based on formalized Stakeholder engagement plan"},null,null,"Regular stakeholder engagement based on formalized Stakeholder engagement plan","Dialogue régulier avec les parties prenantes sur la base d'un Plan de Dialogue avec les Parties Prenantes formalisé "]
[{"$f":"B78&-B83","v":"P01-4"},4,{"$f":"_xlfn.IFS(Language=\"EN\",F83,Language=\"FR\",G83,Language=\"SP\",H83)","v":"Systematic feedback to stakeholders and recognized presence of TotalEnergies in the community"},null,null,"Systematic feedback to stakeholders and recognized presence of TotalEnergies in the community","Feedback systématique aux parties prenantes et présence de TotalEnergies reconnue au sein de la communauté"]
[null,"N/A",{"$f":"_xlfn.IFS(Language=\"EN\",F84,Language=\"FR\",G84,Language=\"SP\",H84)","v":"Not applicable"},null,null,"Not applicable","Non applicable"]
[]
[null,"P02",{"$f":"_xlfn.IFS(Language=\"EN\",F86,Language=\"FR\",G86,Language=\"SP\",H86)","v":"Fullfilment and follow-up of commitments"},null,null,"Fullfilment and follow-up of commitments","Respect et suivi des engagements"]
[null,"i",{"$f":"_xlfn.IFS(Language=\"EN\",F87,Language=\"FR\",G87,Language=\"SP\",H87)","v":"-"},null,null,"-","-"]
[{"$f":"B86&-B88","v":"P02-1"},1,{"$f":"_xlfn.IFS(Language=\"EN\",F88,Language=\"FR\",G88,Language=\"SP\",H88)","v":"No formal process to follow-up on commitments"},null,null,"No formal process to follow-up on commitments","Pas de processus formel de suivi des engagements"]
[{"$f":"B86&-B89","v":"P02-2"},2,{"$f":"_xlfn.IFS(Language=\"EN\",F89,Language=\"FR\",G89,Language=\"SP\",H89)","v":"Informal process to follow-up on commitments"},null,null,"Informal process to follow-up on commitments","Processus informel de suivi des engagements"]
[{"$f":"B86&-B90","v":"P02-3"},3,{"$f":"_xlfn.IFS(Language=\"EN\",F90,Language=\"FR\",G90,Language=\"SP\",H90)","v":"Formal process to follow-up on commitments"},null,null,"Formal process to follow-up on commitments","Processus formel de suivi des engagements"]
[{"$f":"B86&-B91","v":"P02-4"},4,{"$f":"_xlfn.IFS(Language=\"EN\",F91,Language=\"FR\",G91,Language=\"SP\",H91)","v":"Compliance with commitments is regularly shared with stakeholders"},null,null,"Compliance with commitments is regularly shared with stakeholders","Le respect des engagements est régulièrement communiqué aux parties prenantes"]
[null,"N/A",{"$f":"_xlfn.IFS(Language=\"EN\",F92,Language=\"FR\",G92,Language=\"SP\",H92)","v":"Not applicable"},null,null,"Not applicable","Non applicable"]
[]
[null,"P03",{"$f":"_xlfn.IFS(Language=\"EN\",F94,Language=\"FR\",G94,Language=\"SP\",H94)","v":"Management of grievances"},null,null,"Management of grievances","Gestion des plaintes"]
[null,"i",{"$f":"_xlfn.IFS(Language=\"EN\",F95,Language=\"FR\",G95,Language=\"SP\",H95)","v":"Management of complaints from communities affected by TotalEnergies' activities"},null,null,"Management of complaints from communities affected by TotalEnergies' activities","Suivi des plaintes des communautés affectées par les activités de TotalEnergies"]
[{"$f":"B94&-B96","v":"P03-1"},1,{"$f":"_xlfn.IFS(Language=\"EN\",F96,Language=\"FR\",G96,Language=\"SP\",H96)","v":"No grievance mechanism in place"},null,null,"No grievance mechanism in place","Aucun mécanisme de gestion des plaintes n'est en place"]
[{"$f":"B94&-B97","v":"P03-2"},2,{"$f":"_xlfn.IFS(Language=\"EN\",F97,Language=\"FR\",G97,Language=\"SP\",H97)","v":"Grievance mechanism in place, but not communicated to stakeholders"},null,null,"Grievance mechanism in place, but not communicated to stakeholders","Mécanisme de gestion des plaintes en place, mais non communiqué aux parties prenantes"]
[{"$f":"B94&-B98","v":"P03-3"},3,{"$f":"_xlfn.IFS(Language=\"EN\",F98,Language=\"FR\",G98,Language=\"SP\",H98)","v":"Grievance register in place and operational"},null,null,"Grievance register in place and operational","Registre des plaintes en place et opérationnel"]
[{"$f":"B94&-B99","v":"P03-4"},4,{"$f":"_xlfn.IFS(Language=\"EN\",F99,Language=\"FR\",G99,Language=\"SP\",H99)","v":"Timely resolution and feedback to complainant with proper internal grievance tracking database in place + no backlog"},null,null,"Timely resolution and feedback to complainant with proper internal grievance tracking database in place + no backlog","Résolution rapide et retour (\"feedback\") aux plaignants avec un registre des plaintes interne approprié en place + pas d'arriéré"]
[null,"N/A",{"$f":"_xlfn.IFS(Language=\"EN\",F100,Language=\"FR\",G100,Language=\"SP\",H100)","v":"Not applicable"},null,null,"Not applicable","Non applicable"]
[]
[null,"P04",{"$f":"_xlfn.IFS(Language=\"EN\",F102,Language=\"FR\",G102,Language=\"SP\",H102)","v":"Communication (activities, strategic outlook, social performance, sustainability…)"},null,null,"Communication (activities, strategic outlook, social performance, sustainability…)","Communication (activités, perspectives stratégiques, performance sociétale, Sustainability...)"]
[null,"i",{"$f":"_xlfn.IFS(Language=\"EN\",F103,Language=\"FR\",G103,Language=\"SP\",H103)","v":"-"},null,null,"-","-"]
[{"$f":"B102&-B104","v":"P04-1"},1,{"$f":"_xlfn.IFS(Language=\"EN\",F104,Language=\"FR\",G104,Language=\"SP\",H104)","v":"No communication"},null,null,"No communication","Pas de communication"]
[{"$f":"B102&-B105","v":"P04-2"},2,{"$f":"_xlfn.IFS(Language=\"EN\",F105,Language=\"FR\",G105,Language=\"SP\",H105)","v":"Punctual communication, at the request or in case of problem"},null,null,"Punctual communication, at the request or in case of problem","Communication ponctuelle, à la demande ou en cas de problème"]
[{"$f":"B102&-B106","v":"P04-3"},3,{"$f":"_xlfn.IFS(Language=\"EN\",F106,Language=\"FR\",G106,Language=\"SP\",H106)","v":"Regular communication (internally and externally) "},null,null,"Regular communication (internally and externally) ","Communication régulière (interne et externe) "]
[{"$f":"B102&-B107","v":"P04-4"},4,{"$f":"_xlfn.IFS(Language=\"EN\",F107,Language=\"FR\",G107,Language=\"SP\",H107)","v":"Social Performance/Sustainability are part of the communication strategy and action plan of the entity"},null,null,"Social Performance/Sustainability are part of the communication strategy and action plan of the entity","Le Sociétal/Sustainability font partie de la stratégie de communication et du plan d'action de l'entité"]
[null,"N/A",{"$f":"_xlfn.IFS(Language=\"EN\",F108,Language=\"FR\",G108,Language=\"SP\",H108)","v":"Not applicable"},null,null,"Not applicable","Non applicable"]
[]
[null,"C07",{"$f":"_xlfn.IFS(Language=\"EN\",F110,Language=\"FR\",G110,Language=\"SP\",H110)","v":"Proximity of communities near operations"},null,null,"Proximity of communities near operations","Proximité des communautés à proximité des opérations"]
[null,"i",{"$f":"_xlfn.IFS(Language=\"EN\",F111,Language=\"FR\",G111,Language=\"SP\",H111)","v":"The social risk increases with the proximity of local residents with TotalEnergies' operations"},null,null,"The social risk increases with the proximity of local residents with TotalEnergies' operations","Le risque sociétal augmente avec la proximité entre les opérations de TotalEnergies et les résidents locaux."]
[null,1,{"$f":"_xlfn.IFS(Language=\"EN\",F112,Language=\"FR\",G112,Language=\"SP\",H112)","v":"Uninhabited area"},null,null,"Uninhabited area","Zone inhabitée"]
[null,2,{"$f":"_xlfn.IFS(Language=\"EN\",F113,Language=\"FR\",G113,Language=\"SP\",H113)","v":"Sparse population, industrial area"},null,null,"Sparse population, industrial area","Population clairsemée, zone industrielle"]
[null,3,{"$f":"_xlfn.IFS(Language=\"EN\",F114,Language=\"FR\",G114,Language=\"SP\",H114)","v":"Inhabited area. Close but small population or large but remote population"},null,null,"Inhabited area. Close but small population or large but remote population","Zone habitée. Population proche mais peu nombreuse ou population nombreuse mais éloignée"]
[null,4,{"$f":"_xlfn.IFS(Language=\"EN\",F115,Language=\"FR\",G115,Language=\"SP\",H115)","v":"High proximity and / or population density"},null,null,"High proximity and / or population density","Forte proximité et / ou densité de population"]
[null,"N/A",{"$f":"_xlfn.IFS(Language=\"EN\",F116,Language=\"FR\",G116,Language=\"SP\",H116)","v":"Not applicable"},null,null,"Not applicable","Non applicable"]
[]
[null,"C08",{"$f":"_xlfn.IFS(Language=\"EN\",F118,Language=\"FR\",G118,Language=\"SP\",H118)","v":"Risk of confusion with negative impacts of other industries"},null,null,"Risk of confusion with negative impacts of other industries","Risque de confusion avec les impacts négatifs d'autres industries"]
[null,"i",{"$f":"_xlfn.IFS(Language=\"EN\",F119,Language=\"FR\",G119,Language=\"SP\",H119)","v":"Can TotalEnergies' activities be confused with another industrial or a business player having a bad reputation? "},null,null,"Can TotalEnergies' activities be confused with another industrial or a business player having a bad reputation? ","Les activités de TotalEnergies peuvent être confondues avec un autre acteur industriel ou commercial ayant une mauvaise réputation ? "]
[null,1,{"$f":"_xlfn.IFS(Language=\"EN\",F120,Language=\"FR\",G120,Language=\"SP\",H120)","v":"No possible confusion "},null,null,"No possible confusion ","Pas de confusion possible "]
[null,2,{"$f":"_xlfn.IFS(Language=\"EN\",F121,Language=\"FR\",G121,Language=\"SP\",H121)","v":"Possible confusion, but few issues in terms of image"},null,null,"Possible confusion, but few issues in terms of image","Confusion possible, mais peu d'enjeux en termes d'image"]
[null,3,{"$f":"_xlfn.IFS(Language=\"EN\",F122,Language=\"FR\",G122,Language=\"SP\",H122)","v":"Possible confusion and risk of negative impact on the image of TotalEnergies"},null,null,"Possible confusion and risk of negative impact on the image of TotalEnergies","Confusion possible et risque d'impacter négativement l'image de TotalEnergies"]
[null,4,{"$f":"_xlfn.IFS(Language=\"EN\",F123,Language=\"FR\",G123,Language=\"SP\",H123)","v":"Systematic confusion with impact on reputation"},null,null,"Systematic confusion with impact on reputation","Confusion systématique avec impact sur la réputation"]
[null,"N/A",{"$f":"_xlfn.IFS(Language=\"EN\",F124,Language=\"FR\",G124,Language=\"SP\",H124)","v":"Not applicable"},null,null,"Not applicable","Non applicable"]
[]
[null,"C09",{"$f":"_xlfn.IFS(Language=\"EN\",F126,Language=\"FR\",G126,Language=\"SP\",H126)","v":"Security"},null,null,"Security","Sécurité"]
[null,"i",{"$f":"_xlfn.IFS(Language=\"EN\",F127,Language=\"FR\",G127,Language=\"SP\",H127)","v":"The risk increases with the scale and intensity of conflicts (political, ethnic, religious conflicts ...). Can also be based on evaluation done by the Company security department based on the average of 4 scores. Ask the evaluation and make the correspondence with color code: Red=critical, Orange = high, Yellow = medium, White = Low)?"},null,null,"The risk increases with the scale and intensity of conflicts (political, ethnic, religious conflicts ...). Can also be based on evaluation done by the Company security department based on the average of 4 scores. Ask the evaluation and make the correspondence with color code: Red=critical, Orange = high, Yellow = medium, White = Low)?","Le risque augmente avec l'ampleur et l'intensité des conflits (politiques, ethniques, religieux...). Peut également être basé sur l'évaluation faite par le département de la Sécurité de la compagnie sur la base de la moyenne de 4 notes. Demandez l'évaluation et faites la correspondance avec le code couleur : Rouge = critique, Orange = élevé, Jaune = moyen, Blanc = faible)."]
[null,1,{"$f":"_xlfn.IFS(Language=\"EN\",F128,Language=\"FR\",G128,Language=\"SP\",H128)","v":"Quiet and peaceful"},null,null,"Quiet and peaceful","Calme et paisible"]
[null,2,{"$f":"_xlfn.IFS(Language=\"EN\",F129,Language=\"FR\",G129,Language=\"SP\",H129)","v":"Quiet with occasional conflicts circumscribed"},null,null,"Quiet with occasional conflicts circumscribed","Calme avec des conflits occasionnels circonscrits"]
[null,3,{"$f":"_xlfn.IFS(Language=\"EN\",F130,Language=\"FR\",G130,Language=\"SP\",H130)","v":"Close to a conflict area with potential extension"},null,null,"Close to a conflict area with potential extension","Proche d'une zone de conflit avec extension potentielle"]
[null,4,{"$f":"_xlfn.IFS(Language=\"EN\",F131,Language=\"FR\",G131,Language=\"SP\",H131)","v":"Conflict area"},null,null,"Conflict area","Zone de conflit"]
[null,"N/A",{"$f":"_xlfn.IFS(Language=\"EN\",F132,Language=\"FR\",G132,Language=\"SP\",H132)","v":"Not applicable"},null,null,"Not applicable","Non applicable"]
[]
[null,"C10",{"$f":"_xlfn.IFS(Language=\"EN\",F134,Language=\"FR\",G134,Language=\"SP\",H134)","v":"Biodiversity"},null,null,"Biodiversity","Biodiversité"]
[null,"i",{"$f":"_xlfn.IFS(Language=\"EN\",F135,Language=\"FR\",G135,Language=\"SP\",H135)","v":"How sensitive is the natural environment on the area affected by the operations/activities? The risks increases with local communities relying on biodiversity for their livelihoods"},null,null,"How sensitive is the natural environment on the area affected by the operations/activities? The risks increases with local communities relying on biodiversity for their livelihoods","Quel est le degré de sensibilité de l'environnement naturel de la zone affectée par les opérations/activités ? Les risques augmentent avec la dépendance des communautés locales à la biodiversité pour leur subsistance."]
[null,1,{"$f":"_xlfn.IFS(Language=\"EN\",F136,Language=\"FR\",G136,Language=\"SP\",H136)","v":"Not sensitive"},null,null,"Not sensitive","Peu sensible"]
[null,2,{"$f":"_xlfn.IFS(Language=\"EN\",F137,Language=\"FR\",G137,Language=\"SP\",H137)","v":"Sensitive"},null,null,"Sensitive","Sensible"]
[null,3,{"$f":"_xlfn.IFS(Language=\"EN\",F138,Language=\"FR\",G138,Language=\"SP\",H138)","v":"Very sensitive"},null,null,"Very sensitive","Très sensible"]
[null,4,{"$f":"_xlfn.IFS(Language=\"EN\",F139,Language=\"FR\",G139,Language=\"SP\",H139)","v":"Protected area"},null,null,"Protected area","Zone protégée"]
[null,"N/A",{"$f":"_xlfn.IFS(Language=\"EN\",F140,Language=\"FR\",G140,Language=\"SP\",H140)","v":"Not applicable"},null,null,"Not applicable","Non applicable"]
[]
[null,"C11",{"$f":"_xlfn.IFS(Language=\"EN\",F142,Language=\"FR\",G142,Language=\"SP\",H142)","v":"Religious and cultural heritage"},null,null,"Religious and cultural heritage","Patrimoine religieux et culturel"]
[null,"i",{"$f":"_xlfn.IFS(Language=\"EN\",F143,Language=\"FR\",G143,Language=\"SP\",H143)","v":"What is the sensitivity of the cultural and / or religious environment of the area affected by the operations / activities? Presence of sites or areas considered of cultural heritage / religious value by local communities in the operations zone of impact "},null,null,"What is the sensitivity of the cultural and / or religious environment of the area affected by the operations / activities? Presence of sites or areas considered of cultural heritage / religious value by local communities in the operations zone of impact ","Quelle est la sensibilité de l'environnement culturel et/ou religieux dans la zone impactée par les opérations/activités ? Présence de sites ou de zones d'intérêt culturel / religieux pour les communautés locales dans la zone d'impact des opérations"]
[null,1,{"$f":"_xlfn.IFS(Language=\"EN\",F144,Language=\"FR\",G144,Language=\"SP\",H144)","v":"Presence near operations of unclassified and unprotected sites, with no particular value for the local population"},null,null,"Presence near operations of unclassified and unprotected sites, with no particular value for the local population","Présence à proximité des opérations des sites non classés et non protégés, mais considérés sans valeur particulière par la population locale"]
[null,2,{"$f":"_xlfn.IFS(Language=\"EN\",F145,Language=\"FR\",G145,Language=\"SP\",H145)","v":"Presence near operations of unclassified and unprotected sites, but considered with value for the local population"},null,null,"Presence near operations of unclassified and unprotected sites, but considered with value for the local population","Présence à proximité d'opérations de sites non classés et non protégés, mais considérés comme ayant une valeur pour la population locale"]
[null,3,{"$f":"_xlfn.IFS(Language=\"EN\",F146,Language=\"FR\",G146,Language=\"SP\",H146)","v":"Classified and protected sites near operations"},null,null,"Classified and protected sites near operations","Sites classés et protégés à proximité des opérations"]
[null,4,{"$f":"_xlfn.IFS(Language=\"EN\",F147,Language=\"FR\",G147,Language=\"SP\",H147)","v":"Tensions regarding impacts of the activities on religious and cultural heritage"},null,null,"Tensions regarding impacts of the activities on religious and cultural heritage","Tensions concernant l'impact des activités sur le patrimoine religieux et culturel"]
[null,"N/A",{"$f":"_xlfn.IFS(Language=\"EN\",F148,Language=\"FR\",G148,Language=\"SP\",H148)","v":"Not applicable"},null,null,"Not applicable","Non applicable"]
[]
[null,"C12",{"$f":"_xlfn.IFS(Language=\"EN\",F150,Language=\"FR\",G150,Language=\"SP\",H150)","v":"Vulnerable populations"},null,null,"Vulnerable populations","Populations vulnérables"]
[null,"i",{"$f":"_xlfn.IFS(Language=\"EN\",F151,Language=\"FR\",G151,Language=\"SP\",H151)","v":"Are there vulnerable populations (minorities, indigenous people, gender, children,…) in the area affected by the operations/activities?"},null,null,"Are there vulnerable populations (minorities, indigenous people, gender, children,…) in the area affected by the operations/activities?","Existe-t-il des populations vulnérables (minorités, populations autochtones, sexe, enfants,...) dans la zone impactée par les opérations/activités ?"]
[null,1,{"$f":"_xlfn.IFS(Language=\"EN\",F152,Language=\"FR\",G152,Language=\"SP\",H152)","v":"Presence of vulnerable populations with no major human rights issues"},null,null,"Presence of vulnerable populations with no major human rights issues","Présence de populations vulnérables sans problème majeur de droits humains"]
[null,2,{"$f":"_xlfn.IFS(Language=\"EN\",F153,Language=\"FR\",G153,Language=\"SP\",H153)","v":"Sparse breaches in human rights of vulnerable populations"},null,null,"Sparse breaches in human rights of vulnerable populations","Peu de violations des droits de l'homme des populations vulnérables"]
[null,3,{"$f":"_xlfn.IFS(Language=\"EN\",F154,Language=\"FR\",G154,Language=\"SP\",H154)","v":"Discrimations against specific groups"},null,null,"Discrimations against specific groups","Discriminations à l'encontre de groupes spécifiques"]
[null,4,{"$f":"_xlfn.IFS(Language=\"EN\",F155,Language=\"FR\",G155,Language=\"SP\",H155)","v":"Major breaches of human rights of vulnerable populations"},null,null,"Major breaches of human rights of vulnerable populations","Violations majeures des droits de l'homme des populations vulnérables"]
[null,"N/A",{"$f":"_xlfn.IFS(Language=\"EN\",F156,Language=\"FR\",G156,Language=\"SP\",H156)","v":"Not applicable"},null,null,"Not applicable","Non applicable"]
[]
[null,"I05",{"$f":"_xlfn.IFS(Language=\"EN\",F158,Language=\"FR\",G158,Language=\"SP\",H158)","v":"Negative impacts on people & environment"},null,null,"Negative impacts on people & environment","Impacts négatifs sur les personnes et l'environnement"]
[null,"I05.1",{"$f":"_xlfn.IFS(Language=\"EN\",F159,Language=\"FR\",G159,Language=\"SP\",H159)","v":"Impacts on environment"},null,null,"Impacts on environment","Impacts négatifs sur l'environnement"]
[null,"I05.1.1",{"$f":"_xlfn.IFS(Language=\"EN\",F160,Language=\"FR\",G160,Language=\"SP\",H160)","v":"Impacts on health of populations"},null,null,"Impacts on health of populations","Impacts négatifs sur la santé des populations"]
[null,"I05.1.2",{"$f":"_xlfn.IFS(Language=\"EN\",F161,Language=\"FR\",G161,Language=\"SP\",H161)","v":"Impacts on biodiversity"},null,null,"Impacts on biodiversity","Impacts négatifs sur la biodiversité"]
[null,"I05.1.3",{"$f":"_xlfn.IFS(Language=\"EN\",F162,Language=\"FR\",G162,Language=\"SP\",H162)","v":"Impacts on climate change"},null,null,"Impacts on climate change","Impacts négatifs sur le changement climatique"]
[null,"I05.2",{"$f":"_xlfn.IFS(Language=\"EN\",F163,Language=\"FR\",G163,Language=\"SP\",H163)","v":"Industrial risks"},null,null,"Industrial risks","Impacts négatifs sur la sécurité (risques industriels)"]
[null,"I05.3",{"$f":"_xlfn.IFS(Language=\"EN\",F164,Language=\"FR\",G164,Language=\"SP\",H164)","v":"Nuisances"},null,null,"Nuisances","Nuisances"]
[]
[null,"I06",{"$f":"_xlfn.IFS(Language=\"EN\",F166,Language=\"FR\",G166,Language=\"SP\",H166)","v":"Negative impacts on livelihoods & human rights"},null,null,"Negative impacts on livelihoods & human rights","Impacts négatifs sur les moyens de subsistance et les droits humains"]
[null,"I06.1",{"$f":"_xlfn.IFS(Language=\"EN\",F167,Language=\"FR\",G167,Language=\"SP\",H167)","v":"Marine / Land use restrictions"},null,null,"Marine / Land use restrictions","Restriction de l'usages de la terre / des milieux marins"]
[null,"I06.2",{"$f":"_xlfn.IFS(Language=\"EN\",F168,Language=\"FR\",G168,Language=\"SP\",H168)","v":"Disturbance of local economy and livelihoods"},null,null,"Disturbance of local economy and livelihoods","Perturbations de l'économie locale et les moyens de subsistance"]
[null,"I06.3",{"$f":"_xlfn.IFS(Language=\"EN\",F169,Language=\"FR\",G169,Language=\"SP\",H169)","v":"Impacts on religious and cultural heritage"},null,null,"Impacts on religious and cultural heritage","Impacts sur le patrimoine religieux et culturel"]
[null,"I06.4",{"$f":"_xlfn.IFS(Language=\"EN\",F170,Language=\"FR\",G170,Language=\"SP\",H170)","v":"Violation of human rights in the workplace"},null,null,"Violation of human rights in the workplace","Impacts négatifs sur les droits humains dans la chaîne de valeur"]
[null,"I06.4.1",{"$f":"_xlfn.IFS(Language=\"EN\",F171,Language=\"FR\",G171,Language=\"SP\",H171)","v":"Violation of civil, political and security rights"},null,null,"Violation of civil, political and security rights","Violation des droits civils, politiques et à la sécurité"]
[]
[null,"P05",{"$f":"_xlfn.IFS(Language=\"EN\",F173,Language=\"FR\",G173,Language=\"SP\",H173)","v":"Information on HSE impacts"},null,null,"Information on HSE impacts","Informations sur les impacts HSE"]
[null,"i",{"$f":"_xlfn.IFS(Language=\"EN\",F174,Language=\"FR\",G174,Language=\"SP\",H174)","v":"Items provided to stakeholders for a good understanding of the operations and their impacts"},null,null,"Items provided to stakeholders for a good understanding of the operations and their impacts","Éléments fournis aux parties prenantes pour une bonne compréhension des opérations et de leurs impacts"]
[{"$f":"B173&-B175","v":"P05-1"},1,{"$f":"_xlfn.IFS(Language=\"EN\",F175,Language=\"FR\",G175,Language=\"SP\",H175)","v":"No available information"},null,null,"No available information","Aucune information disponible"]
[{"$f":"B173&-B176","v":"P05-2"},2,{"$f":"_xlfn.IFS(Language=\"EN\",F176,Language=\"FR\",G176,Language=\"SP\",H176)","v":"Compliance with regulatory framework"},null,null,"Compliance with regulatory framework","Respect du cadre réglementaire"]
[{"$f":"B173&-B177","v":"P05-3"},3,{"$f":"_xlfn.IFS(Language=\"EN\",F177,Language=\"FR\",G177,Language=\"SP\",H177)","v":"Information available on demand (reactive)"},null,null,"Information available on demand (reactive)","Informations disponibles en réaction à une demande des parties prenantes"]
[{"$f":"B173&-B178","v":"P05-4"},4,{"$f":"_xlfn.IFS(Language=\"EN\",F178,Language=\"FR\",G178,Language=\"SP\",H178)","v":"Organized, regular and transparent information on impacts"},null,null,"Organized, regular and transparent information on impacts","Information organisée, régulière et transparente sur les impacts"]
[null,"N/A",{"$f":"_xlfn.IFS(Language=\"EN\",F179,Language=\"FR\",G179,Language=\"SP\",H179)","v":"-"},null,null,"-","-"]
[]
[null,"P06",{"$f":"_xlfn.IFS(Language=\"EN\",F181,Language=\"FR\",G181,Language=\"SP\",H181)","v":"Management of negative impacts on stakeholders"},null,null,"Management of negative impacts on stakeholders","Gestion des impacts négatifs sur les parties prenantes"]
[null,"i",{"$f":"_xlfn.IFS(Language=\"EN\",F182,Language=\"FR\",G182,Language=\"SP\",H182)","v":"-"},null,null,"-","-"]
[{"$f":"B181&-B183","v":"P06-1"},1,{"$f":"_xlfn.IFS(Language=\"EN\",F183,Language=\"FR\",G183,Language=\"SP\",H183)","v":"Actions are implemented on a reactive mode based on urgent needs or situations"},null,null,"Actions are implemented on a reactive mode based on urgent needs or situations","Les actions sont mises en œuvre de manière réactive en fonction de l'urgence des besoins ou des situations"]
[{"$f":"B181&-B184","v":"P06-2"},2,{"$f":"_xlfn.IFS(Language=\"EN\",F184,Language=\"FR\",G184,Language=\"SP\",H184)","v":"Management plans are implemented by different entities without coordination with other departments"},null,null,"Management plans are implemented by different entities without coordination with other departments","Les plans de gestion sont mis en œuvre par différentes entités sans coordination avec d'autres départements"]
[{"$f":"B181&-B185","v":"P06-3"},3,{"$f":"_xlfn.IFS(Language=\"EN\",F185,Language=\"FR\",G185,Language=\"SP\",H185)","v":"Management plans are implemented and coordinated without systematic stakeholder engagement"},null,null,"Management plans are implemented and coordinated without systematic stakeholder engagement","Les plans de management sont mis en œuvre et coordonnés sans dialogue systématique avec les parties prenantes"]
[{"$f":"B181&-B186","v":"P06-4"},4,{"$f":"_xlfn.IFS(Language=\"EN\",F186,Language=\"FR\",G186,Language=\"SP\",H186)","v":"Management plans are implemented and accepted by all stakeholders"},null,null,"Management plans are implemented and accepted by all stakeholders","Les plans de management sont mis en œuvre et acceptés par toutes les parties prenantes"]
[null,"N/A",{"$f":"_xlfn.IFS(Language=\"EN\",F187,Language=\"FR\",G187,Language=\"SP\",H187)","v":"-"},null,null,"-","-"]
[]
[null,"P07",{"$f":"_xlfn.IFS(Language=\"EN\",F189,Language=\"FR\",G189,Language=\"SP\",H189)","v":"Cooperation with authorities & industrial neighbors"},null,null,"Cooperation with authorities & industrial neighbors","Coopération avec les autorités et les voisins industriels"]
[null,"i",{"$f":"_xlfn.IFS(Language=\"EN\",F190,Language=\"FR\",G190,Language=\"SP\",H190)","v":"Sharing best practices and implementing joint solutions on HSE : emergency response plans, trainings and conducting safety drills,…"},null,null,"Sharing best practices and implementing joint solutions on HSE : emergency response plans, trainings and conducting safety drills,…","Partage des meilleures pratiques et mise en œuvre de solutions communes en matière de HSE : plans d'intervention d'urgence, formations et exercices de sécurité,…"]
[{"$f":"B189&-B191","v":"P07-1"},1,{"$f":"_xlfn.IFS(Language=\"EN\",F191,Language=\"FR\",G191,Language=\"SP\",H191)","v":"Risks not identified"},null,null,"Risks not identified","Risques non identifiés"]
[{"$f":"B189&-B192","v":"P07-2"},2,{"$f":"_xlfn.IFS(Language=\"EN\",F192,Language=\"FR\",G192,Language=\"SP\",H192)","v":"Risks identified but not communicated to stakeholders"},null,null,"Risks identified but not communicated to stakeholders","Risques identifiés mais non communiqués aux parties prenantes"]
[{"$f":"B189&-B193","v":"P07-3"},3,{"$f":"_xlfn.IFS(Language=\"EN\",F193,Language=\"FR\",G193,Language=\"SP\",H193)","v":"Risks identified and communicated to stakeholders"},null,null,"Risks identified and communicated to stakeholders","Risques identifiés et communiqués aux parties prenantes"]
[{"$f":"B189&-B194","v":"P07-4"},4,{"$f":"_xlfn.IFS(Language=\"EN\",F194,Language=\"FR\",G194,Language=\"SP\",H194)","v":"Risks identified, communicated to stakeholders and stakeholders trained"},null,null,"Risks identified, communicated to stakeholders and stakeholders trained","Risques identifiés, communiqués aux parties prenantes et parties prenantes formées"]
[null,"N/A",{"$f":"_xlfn.IFS(Language=\"EN\",F195,Language=\"FR\",G195,Language=\"SP\",H195)","v":"-"},null,null,"-","-"]
[]
[null,"P08",{"$f":"_xlfn.IFS(Language=\"EN\",F197,Language=\"FR\",G197,Language=\"SP\",H197)","v":"Control of contractors on HSE & Human Rights related matters"},null,null,"Control of contractors on HSE & Human Rights related matters","Contrôle des contracteurs sur les aspects HSE et droits humains"]
[null,"i",{"$f":"_xlfn.IFS(Language=\"EN\",F198,Language=\"FR\",G198,Language=\"SP\",H198)","v":"-"},null,null,"-","-"]
[{"$f":"B197&-B199","v":"P08-1"},1,{"$f":"_xlfn.IFS(Language=\"EN\",F199,Language=\"FR\",G199,Language=\"SP\",H199)","v":"No specific clauses in contracts"},null,null,"No specific clauses in contracts","Pas de clauses spécifiques dans les contrats"]
[{"$f":"B197&-B200","v":"P08-2"},2,{"$f":"_xlfn.IFS(Language=\"EN\",F200,Language=\"FR\",G200,Language=\"SP\",H200)","v":"Existence of specific clauses in the contracts"},null,null,"Existence of specific clauses in the contracts","Existence de clauses spécifiques dans les contrats"]
[{"$f":"B197&-B201","v":"P08-3"},3,{"$f":"_xlfn.IFS(Language=\"EN\",F201,Language=\"FR\",G201,Language=\"SP\",H201)","v":"Monitoring of contractors' performance"},null,null,"Monitoring of contractors' performance","Revue régulière de la performance avec les contracteurs"]
[{"$f":"B197&-B202","v":"P08-4"},4,{"$f":"_xlfn.IFS(Language=\"EN\",F202,Language=\"FR\",G202,Language=\"SP\",H202)","v":"Performance is regularly reviewed with contractors"},null,null,"Performance is regularly reviewed with contractors","Les performances sont régulièrement examinées avec les contractants"]
[null,"N/A",{"$f":"_xlfn.IFS(Language=\"EN\",F203,Language=\"FR\",G203,Language=\"SP\",H203)","v":"-"},null,null,"-","-"]
[]
[]
[null,"C13",{"$f":"_xlfn.IFS(Language=\"EN\",F206,Language=\"FR\",G206,Language=\"SP\",H206)","v":"Level of economic development of the area"},null,null,"Level of economic development of the area","Niveau de développement économique de la région"]
[null,"i",{"$f":"_xlfn.IFS(Language=\"EN\",F207,Language=\"FR\",G207,Language=\"SP\",H207)","v":"The risk increases with the economical instability. Can also be based on evaluation evaluation done by the World Bank on economic development"},null,null,"The risk increases with the economical instability. Can also be based on evaluation evaluation done by the World Bank on economic development","Le risque augmente avec l'instabilité économique. Peut également être basé sur l'évaluation de la Banque mondiale sur le développement économique."]
[null,1,{"$f":"_xlfn.IFS(Language=\"EN\",F208,Language=\"FR\",G208,Language=\"SP\",H208)","v":"Area with booming economy"},null,null,"Area with booming economy","Zone à l'économie en pleine expansion"]
[null,2,{"$f":"_xlfn.IFS(Language=\"EN\",F209,Language=\"FR\",G209,Language=\"SP\",H209)","v":"Economically stagnant area"},null,null,"Economically stagnant area","Zone économiquement stagnante"]
[null,3,{"$f":"_xlfn.IFS(Language=\"EN\",F210,Language=\"FR\",G210,Language=\"SP\",H210)","v":"Area in development"},null,null,"Area in development","Zone en développement"]
[null,4,{"$f":"_xlfn.IFS(Language=\"EN\",F211,Language=\"FR\",G211,Language=\"SP\",H211)","v":"Area in structural crisis"},null,null,"Area in structural crisis","Zone en crise structurelle"]
[null,"N/A",{"$f":"_xlfn.IFS(Language=\"EN\",F212,Language=\"FR\",G212,Language=\"SP\",H212)","v":"Not applicable"},null,null,"Not applicable","Non applicable"]
[]
[null,"C14",{"$f":"_xlfn.IFS(Language=\"EN\",F214,Language=\"FR\",G214,Language=\"SP\",H214)","v":"Level of human development"},null,null,"Level of human development","Niveau de développement humain"]
[null,"i",{"$f":"_xlfn.IFS(Language=\"EN\",F215,Language=\"FR\",G215,Language=\"SP\",H215)","v":"Access of local populations to energy, health, water…Can also be based on evaluation done by Human Rights Department following the 4 categories done by the UNDP Human development index"},null,null,"Access of local populations to energy, health, water…Can also be based on evaluation done by Human Rights Department following the 4 categories done by the UNDP Human development index","Accès des populations locales à l'énergie, à la santé, à l'eau... Peut également être basé sur l'évaluation faite par le département des droits humains suivant les 4 catégories de l'indice de développement humain du PNUD."]
[null,1,{"$f":"_xlfn.IFS(Language=\"EN\",F216,Language=\"FR\",G216,Language=\"SP\",H216)","v":"System meeting all the needs of stakeholders"},null,null,"System meeting all the needs of stakeholders","Contexte socio-économique répondant à tous les besoins des parties prenantes"]
[null,2,{"$f":"_xlfn.IFS(Language=\"EN\",F217,Language=\"FR\",G217,Language=\"SP\",H217)","v":"System partially satisfying stakeholders' needs"},null,null,"System partially satisfying stakeholders' needs","Contexte socio-économique répondant partiellement aux besoins des parties prenantes"]
[null,3,{"$f":"_xlfn.IFS(Language=\"EN\",F218,Language=\"FR\",G218,Language=\"SP\",H218)","v":"Unequal system creating tensions"},null,null,"Unequal system creating tensions","Système inégalitaire créant des tensions"]
[null,4,{"$f":"_xlfn.IFS(Language=\"EN\",F219,Language=\"FR\",G219,Language=\"SP\",H219)","v":"No local institutional framework with endemic poverty"},null,null,"No local institutional framework with endemic poverty","Absence de cadre institutionnel local associé à une pauvreté endémique"]
[null,"N/A",{"$f":"_xlfn.IFS(Language=\"EN\",F220,Language=\"FR\",G220,Language=\"SP\",H220)","v":"Not applicable"},null,null,"Not applicable","Pas de cadre institutionnel local avec une pauvreté endémique"]
[]
[null,"C15",{"$f":"_xlfn.IFS(Language=\"EN\",F222,Language=\"FR\",G222,Language=\"SP\",H222)","v":"Economic footprint of TotalEnergies"},null,null,"Economic footprint of TotalEnergies","Empreinte économique de TotalEnergies"]
[null,"i",{"$f":"_xlfn.IFS(Language=\"EN\",F223,Language=\"FR\",G223,Language=\"SP\",H223)","v":"Is TotalEnergies a significant economic player (employment, purchases, taxes, ...)? The risk increases with dependance of local economy on TotalEnergies's economic footprint"},null,null,"Is TotalEnergies a significant economic player (employment, purchases, taxes, ...)? The risk increases with dependance of local economy on TotalEnergies's economic footprint","TotalEnergies est-il un acteur économique significatif (emplois, achats, taxes, ...) ? Le risque augmente avec la dépendance de l'économie locale aux retombées économiques liées à TotalEnergies"]
[null,1,{"$f":"_xlfn.IFS(Language=\"EN\",F224,Language=\"FR\",G224,Language=\"SP\",H224)","v":"TotalEnergies is a minor player in its environment"},null,null,"TotalEnergies is a minor player in its environment","TotalEnergies est un acteur mineur dans son environnement"]
[null,2,{"$f":"_xlfn.IFS(Language=\"EN\",F225,Language=\"FR\",G225,Language=\"SP\",H225)","v":"TotalEnergies is an average player in its environment"},null,null,"TotalEnergies is an average player in its environment","TotalEnergies est un acteur moyen dans son environnement"]
[null,3,{"$f":"_xlfn.IFS(Language=\"EN\",F226,Language=\"FR\",G226,Language=\"SP\",H226)","v":"TotalEnergies is one of the top 5 economic players"},null,null,"TotalEnergies is one of the top 5 economic players","TotalEnergies est l'un des 5 premiers acteurs économiques"]
[null,4,{"$f":"_xlfn.IFS(Language=\"EN\",F227,Language=\"FR\",G227,Language=\"SP\",H227)","v":"TotalEnergies is a major player, if not unique in an economically disadvantaged area"},null,null,"TotalEnergies is a major player, if not unique in an economically disadvantaged area","TotalEnergies est un acteur majeur, voire unique, dans une zone économiquement défavorisée"]
[null,"N/A",{"$f":"_xlfn.IFS(Language=\"EN\",F228,Language=\"FR\",G228,Language=\"SP\",H228)","v":"Not applicable"},null,null,"Not applicable","Non applicable"]
[]
[null,"C16",{"$f":"_xlfn.IFS(Language=\"EN\",F230,Language=\"FR\",G230,Language=\"SP\",H230)","v":"Employment trends in TotalEnergies"},null,null,"Employment trends in TotalEnergies","L'évolution de l'emploi chez TotalEnergies"]
[null,"i",{"$f":"_xlfn.IFS(Language=\"EN\",F231,Language=\"FR\",G231,Language=\"SP\",H231)","v":"Societal risk increases when TotalEnergies employment declines"},null,null,"Societal risk increases when TotalEnergies employment declines","Le risque sociétal augmente lorsque l'emploi chez TotalEnergies diminue"]
[null,1,{"$f":"_xlfn.IFS(Language=\"EN\",F232,Language=\"FR\",G232,Language=\"SP\",H232)","v":"Rising or stable employment"},null,null,"Rising or stable employment","Augmentation ou stabilité de l'emploi"]
[null,2,{"$f":"_xlfn.IFS(Language=\"EN\",F233,Language=\"FR\",G233,Language=\"SP\",H233)","v":"Declining employment (absorbed by natural decrease, retirement, resignation)"},null,null,"Declining employment (absorbed by natural decrease, retirement, resignation)","Baisse de l'emploi (absorbé par la décroissance naturelle, la retraite, la démission)"]
[null,3,{"$f":"_xlfn.IFS(Language=\"EN\",F234,Language=\"FR\",G234,Language=\"SP\",H234)","v":"Drop requiring social measures (social, restructuring plans)"},null,null,"Drop requiring social measures (social, restructuring plans)","Baisse nécessitant des mesures sociales (plans sociaux, plans de restructuration)"]
[null,4,{"$f":"_xlfn.IFS(Language=\"EN\",F235,Language=\"FR\",G235,Language=\"SP\",H235)","v":"Closure project or high restructuring plan"},null,null,"Closure project or high restructuring plan","Projet de fermeture ou plan de restructuration important"]
[null,"N/A",{"$f":"_xlfn.IFS(Language=\"EN\",F236,Language=\"FR\",G236,Language=\"SP\",H236)","v":"Not applicable"},null,null,"Not applicable","Non applicable"]
[]
[null,"I07",{"$f":"_xlfn.IFS(Language=\"EN\",F238,Language=\"FR\",G238,Language=\"SP\",H238)","v":"Local employment"},null,null,"Local employment","Emploi local"]
[]
[null,"I08",{"$f":"_xlfn.IFS(Language=\"EN\",F240,Language=\"FR\",G240,Language=\"SP\",H240)","v":"Local procurement"},null,null,"Local procurement","Achats locaux"]
[]
[null,"I09",{"$f":"_xlfn.IFS(Language=\"EN\",F242,Language=\"FR\",G242,Language=\"SP\",H242)","v":"Local socio-economic investments"},null,null,"Local socio-economic investments","Investissements socio-économiques locaux"]
[]
[null,"P09",{"$f":"_xlfn.IFS(Language=\"EN\",F244,Language=\"FR\",G244,Language=\"SP\",H244)","v":"Access to jobs opportunities for locals"},null,null,"Access to jobs opportunities for locals","Accès aux opportunités d'emploi local"]
[null,"i",{"$f":"_xlfn.IFS(Language=\"EN\",F245,Language=\"FR\",G245,Language=\"SP\",H245)","v":"-"},null,null,"-","-"]
[{"$f":"B244&-B246","v":"P09-1"},1,{"$f":"_xlfn.IFS(Language=\"EN\",F246,Language=\"FR\",G246,Language=\"SP\",H246)","v":"No formal process for management of local employment"},null,null,"No formal process for management of local employment","Pas de processus formel pour la gestion de l'emploi local"]
[{"$f":"B244&-B247","v":"P09-2"},2,{"$f":"_xlfn.IFS(Language=\"EN\",F247,Language=\"FR\",G247,Language=\"SP\",H247)","v":"Formal process is implemented for skilled jobs"},null,null,"Formal process is implemented for skilled jobs","Un processus formel est mis en œuvre pour les emplois qualifiés"]
[{"$f":"B244&-B248","v":"P09-3"},3,{"$f":"_xlfn.IFS(Language=\"EN\",F248,Language=\"FR\",G248,Language=\"SP\",H248)","v":"Formal process is implemented for skilled and un-skilled jobs"},null,null,"Formal process is implemented for skilled and un-skilled jobs","Un processus formel est mis en œuvre pour les emplois qualifiés et non qualifiés"]
[{"$f":"B244&-B249","v":"P09-4"},4,{"$f":"_xlfn.IFS(Language=\"EN\",F249,Language=\"FR\",G249,Language=\"SP\",H249)","v":"Formal process is implemented and KPIs are monitored"},null,null,"Formal process is implemented and KPIs are monitored","Un processus formel est mis en œuvre et des indicateurs clés de performance (KPI) sont contrôlés."]
[null,"N/A",{"$f":"_xlfn.IFS(Language=\"EN\",F250,Language=\"FR\",G250,Language=\"SP\",H250)","v":"-"},null,null,"-","-"]
[]
[null,"P10",{"$f":"_xlfn.IFS(Language=\"EN\",F252,Language=\"FR\",G252,Language=\"SP\",H252)","v":"Access to tenders for local contractors"},null,null,"Access to tenders for local contractors","Accès des entreprises locales aux appels d'offres"]
[null,"i",{"$f":"_xlfn.IFS(Language=\"EN\",F253,Language=\"FR\",G253,Language=\"SP\",H253)","v":"-"},null,null,"-","-"]
[{"$f":"B252&-B254","v":"P10-1"},1,{"$f":"_xlfn.IFS(Language=\"EN\",F254,Language=\"FR\",G254,Language=\"SP\",H254)","v":"No specific action"},null,null,"No specific action","Pas d'action spécifique"]
[{"$f":"B252&-B255","v":"P10-2"},2,{"$f":"_xlfn.IFS(Language=\"EN\",F255,Language=\"FR\",G255,Language=\"SP\",H255)","v":"Early and transparent access to tenders"},null,null,"Early and transparent access to tenders","Accès rapide et transparent aux appels d'offres"]
[{"$f":"B252&-B256","v":"P10-3"},3,{"$f":"_xlfn.IFS(Language=\"EN\",F256,Language=\"FR\",G256,Language=\"SP\",H256)","v":"There is a local procurement plan (market industry analysis, prequalification, capacity building) "},null,null,"There is a local procurement plan (market industry analysis, prequalification, capacity building) ","il existe un plan de fourniture de biens et services locaux (analyse du marché, préqualification, renforcement des capacités)"]
[{"$f":"B252&-B257","v":"P10-4"},4,{"$f":"_xlfn.IFS(Language=\"EN\",F257,Language=\"FR\",G257,Language=\"SP\",H257)","v":"Local procurement plan is implemented and monitored"},null,null,"Local procurement plan is implemented and monitored","Un plan de fourniture de biens et services locaux est mis en place et suivi"]
[null,"N/A",{"$f":"_xlfn.IFS(Language=\"EN\",F258,Language=\"FR\",G258,Language=\"SP\",H258)","v":"-"},null,null,"-","-"]
[]
[null,"P11",{"$f":"_xlfn.IFS(Language=\"EN\",F260,Language=\"FR\",G260,Language=\"SP\",H260)","v":"Capacity building of locals"},null,null,"Capacity building of locals","Renforcement des capacités des acteurs locaux"]
[null,"i",{"$f":"_xlfn.IFS(Language=\"EN\",F261,Language=\"FR\",G261,Language=\"SP\",H261)","v":"-"},null,null,"-","-"]
[{"$f":"B260&-B262","v":"P11-1"},1,{"$f":"_xlfn.IFS(Language=\"EN\",F262,Language=\"FR\",G262,Language=\"SP\",H262)","v":"No capacity building"},null,null,"No capacity building","Pas de renforcement des capacités"]
[{"$f":"B260&-B263","v":"P11-2"},2,{"$f":"_xlfn.IFS(Language=\"EN\",F263,Language=\"FR\",G263,Language=\"SP\",H263)","v":"Capacity building needs evaluated but no program implemented"},null,null,"Capacity building needs evaluated but no program implemented","Les besoins en matière de renforcement des capacités ont été évalués, mais aucun programme n'a été mis en œuvre"]
[{"$f":"B260&-B264","v":"P11-3"},3,{"$f":"_xlfn.IFS(Language=\"EN\",F264,Language=\"FR\",G264,Language=\"SP\",H264)","v":"Programs contributing to short term operational needs"},null,null,"Programs contributing to short term operational needs","Programmes contribuant aux besoins opérationnels à court terme"]
[{"$f":"B260&-B265","v":"P11-4"},4,{"$f":"_xlfn.IFS(Language=\"EN\",F265,Language=\"FR\",G265,Language=\"SP\",H265)","v":"Programs contributing to a sustainable economy"},null,null,"Programs contributing to a sustainable economy","Programmes contribuant à une économie durable"]
[null,"N/A",{"$f":"_xlfn.IFS(Language=\"EN\",F266,Language=\"FR\",G266,Language=\"SP\",H266)","v":"-"},null,null,"-","-"]
[]
[null,"P12",{"$f":"_xlfn.IFS(Language=\"EN\",F268,Language=\"FR\",G268,Language=\"SP\",H268)","v":"Participation in local economic institutions"},null,null,"Participation in local economic institutions","Participation à des institutions économiques locales"]
[null,"i",{"$f":"_xlfn.IFS(Language=\"EN\",F269,Language=\"FR\",G269,Language=\"SP\",H269)","v":"-"},null,null,"-","-"]
[{"$f":"B268&-B270","v":"P12-1"},1,{"$f":"_xlfn.IFS(Language=\"EN\",F270,Language=\"FR\",G270,Language=\"SP\",H270)","v":"No participation"},null,null,"No participation","Pas de participation"]
[{"$f":"B268&-B271","v":"P12-2"},2,{"$f":"_xlfn.IFS(Language=\"EN\",F271,Language=\"FR\",G271,Language=\"SP\",H271)","v":"TotalEnergies is registered as a member of a local economic development institutions"},null,null,"TotalEnergies is registered as a member of a local economic development institutions","TotalEnergies est enregistré comme membre d'une institution locale de développement économique."]
[{"$f":"B268&-B272","v":"P12-3"},3,{"$f":"_xlfn.IFS(Language=\"EN\",F272,Language=\"FR\",G272,Language=\"SP\",H272)","v":"A TotalEnergies senior manager participates regularly in local economic institutions meetings, and influences decisions"},null,null,"A TotalEnergies senior manager participates regularly in local economic institutions meetings, and influences decisions","Un responsable de TotalEnergies participe régulièrement aux réunions des institutions économiques locales et influence les décisions."]
[{"$f":"B268&-B273","v":"P12-4"},4,{"$f":"_xlfn.IFS(Language=\"EN\",F273,Language=\"FR\",G273,Language=\"SP\",H273)","v":"TotalEnergies is recognized as a leader in local economic development institutions"},null,null,"TotalEnergies is recognized as a leader in local economic development institutions","TotalEnergies est reconnu comme un leader dans les institutions de développement économique local"]
[null,"N/A",{"$f":"_xlfn.IFS(Language=\"EN\",F274,Language=\"FR\",G274,Language=\"SP\",H274)","v":"-"},null,null,"-","-"]
[]
[null,"P13",{"$f":"_xlfn.IFS(Language=\"EN\",F276,Language=\"FR\",G276,Language=\"SP\",H276)","v":"Control of contractors on local content"},null,null,"Control of contractors on local content","Contrôle des contracteurs sur les aspects liés au contenu local"]
[null,"i",{"$f":"_xlfn.IFS(Language=\"EN\",F277,Language=\"FR\",G277,Language=\"SP\",H277)","v":"-"},null,null,"-","-"]
[{"$f":"B276&-B278","v":"P13-1"},1,{"$f":"_xlfn.IFS(Language=\"EN\",F278,Language=\"FR\",G278,Language=\"SP\",H278)","v":"No specific clauses in contracts"},null,null,"No specific clauses in contracts","Pas de clauses spécifiques dans les contrats"]
[{"$f":"B276&-B279","v":"P13-2"},2,{"$f":"_xlfn.IFS(Language=\"EN\",F279,Language=\"FR\",G279,Language=\"SP\",H279)","v":"Existence of specific clauses in the contracts"},null,null,"Existence of specific clauses in the contracts","Existence de clauses spécifiques dans les contrats"]
[{"$f":"B276&-B280","v":"P13-3"},3,{"$f":"_xlfn.IFS(Language=\"EN\",F280,Language=\"FR\",G280,Language=\"SP\",H280)","v":"Monitoring of contractors' performance"},null,null,"Monitoring of contractors' performance","Suivi de la performance des contracteurs"]
[{"$f":"B276&-B281","v":"P13-4"},4,{"$f":"_xlfn.IFS(Language=\"EN\",F281,Language=\"FR\",G281,Language=\"SP\",H281)","v":"Performance is regularly reviewed with contractors"},null,null,"Performance is regularly reviewed with contractors","La performance est régulièrement examinée avec les contracteurs"]
[null,"N/A",{"$f":"_xlfn.IFS(Language=\"EN\",F282,Language=\"FR\",G282,Language=\"SP\",H282)","v":"-"},null,null,"-","-"]
[]
[null,"P14",{"$f":"_xlfn.IFS(Language=\"EN\",F284,Language=\"FR\",G284,Language=\"SP\",H284)","v":"Management of socio-economic projects"},null,null,"Management of socio-economic projects","Gestion des projets socio-économiques"]
[null,"i",{"$f":"_xlfn.IFS(Language=\"EN\",F285,Language=\"FR\",G285,Language=\"SP\",H285)","v":"-"},null,null,"-","-"]
[{"$f":"B284&-B286","v":"P14-1"},1,{"$f":"_xlfn.IFS(Language=\"EN\",F286,Language=\"FR\",G286,Language=\"SP\",H286)","v":"No criteria for selection of projects and beneficiaries"},null,null,"No criteria for selection of projects and beneficiaries","Pas de critères de sélection des projets et des bénéficiaires"]
[{"$f":"B284&-B287","v":"P14-2"},2,{"$f":"_xlfn.IFS(Language=\"EN\",F287,Language=\"FR\",G287,Language=\"SP\",H287)","v":"Selection of projects and beneficiaries in line with strategy of the affiliate"},null,null,"Selection of projects and beneficiaries in line with strategy of the affiliate","Sélection des projets et des bénéficiaires conforme à la stratégie de l'entité"]
[{"$f":"B284&-B288","v":"P14-3"},3,{"$f":"_xlfn.IFS(Language=\"EN\",F288,Language=\"FR\",G288,Language=\"SP\",H288)","v":"Selection of projects and beneficiaries in line with strategy and stakeholder expectations"},null,null,"Selection of projects and beneficiaries in line with strategy and stakeholder expectations","Sélection des projets et des bénéficiaires conforme à la stratégie et aux attentes des parties prenantes"]
[{"$f":"B284&-B289","v":"P14-4"},4,{"$f":"_xlfn.IFS(Language=\"EN\",F289,Language=\"FR\",G289,Language=\"SP\",H289)","v":"Selection of projects and beneficiaries are in line with strategy and stakeholder expectations and their impact is regularly assessed"},null,null,"Selection of projects and beneficiaries are in line with strategy and stakeholder expectations and their impact is regularly assessed","La sélection des projets et des bénéficiaires est conforme à la stratégie et aux attentes des parties prenantes et leur impact est régulièrement évalué."]
[null,"N/A",{"$f":"_xlfn.IFS(Language=\"EN\",F290,Language=\"FR\",G290,Language=\"SP\",H290)","v":"N/A"},null,null,"N/A","N/A"]
[]
[null,"P15",{"$f":"_xlfn.IFS(Language=\"EN\",F292,Language=\"FR\",G292,Language=\"SP\",H292)","v":"Partnerships"},null,null,"Partnerships","Partenariats"]
[null,"i",{"$f":"_xlfn.IFS(Language=\"EN\",F293,Language=\"FR\",G293,Language=\"SP\",H293)","v":"-"},null,null,"-","-"]
[{"$f":"B292&-B294","v":"P15-1"},1,{"$f":"_xlfn.IFS(Language=\"EN\",F294,Language=\"FR\",G294,Language=\"SP\",H294)","v":"No partnerships - TotalEnergies operates all socio-economic projects on its own"},null,null,"No partnerships - TotalEnergies operates all socio-economic projects on its own","Pas de partenariat - TotalEnergies gère seul tous les projets socio-économiques"]
[{"$f":"B292&-B295","v":"P15-2"},2,{"$f":"_xlfn.IFS(Language=\"EN\",F295,Language=\"FR\",G295,Language=\"SP\",H295)","v":"Partnerships implemented on some socio-economic projects"},null,null,"Partnerships implemented on some socio-economic projects","Partenariats mis en œuvre pour certains projets socio-économiques"]
[{"$f":"B292&-B296","v":"P15-3"},3,{"$f":"_xlfn.IFS(Language=\"EN\",F296,Language=\"FR\",G296,Language=\"SP\",H296)","v":"Most socio-economic projects are operated with partners"},null,null,"Most socio-economic projects are operated with partners","La plupart des projets socio-économiques sont gérés avec des partenaires"]
[{"$f":"B292&-B297","v":"P15-4"},4,{"$f":"_xlfn.IFS(Language=\"EN\",F297,Language=\"FR\",G297,Language=\"SP\",H297)","v":"Funding of socio-economic projects does not depend on TotalEnergies. Partners are selected and contribute based on their skills. Roles and responsibilities are clearly defined in a contractual/partnership framework"},null,null,"Funding of socio-economic projects does not depend on TotalEnergies. Partners are selected and contribute based on their skills. Roles and responsibilities are clearly defined in a contractual/partnership framework","Le financement des projets socio-économiques ne dépend pas de TotalEnergies. Les partenaires sont sélectionnés et contribuent en fonction de leurs compétences. Les rôles et responsabilités sont clairement définis dans le cadre d'un contrat ou d'un partenariat"]
[null,"N/A",{"$f":"_xlfn.IFS(Language=\"EN\",F298,Language=\"FR\",G298,Language=\"SP\",H298)","v":"-"},null,null,"-","-"]
[]
[]
[null,"P16",{"$f":"_xlfn.IFS(Language=\"EN\",F301,Language=\"FR\",G301,Language=\"SP\",H301)","v":"Social performance resources (budget, staff)"},null,null,"Social performance resources (budget, staff)","Ressources sociétales (budget, personnel)"]
[null,"i",{"$f":"_xlfn.IFS(Language=\"EN\",F302,Language=\"FR\",G302,Language=\"SP\",H302)","v":"Adequacy (quality / quantity) of resources to deliver performance on societal affairs"},null,null,"Adequacy (quality / quantity) of resources to deliver performance on societal affairs","Ressources adéquates pour assurer un management sociétal performant"]
[{"$f":"B301&-B303","v":"P16-1"},1,{"$f":"_xlfn.IFS(Language=\"EN\",F303,Language=\"FR\",G303,Language=\"SP\",H303)","v":"No dedicated resources"},null,null,"No dedicated resources","Pas de ressources dédiées"]
[{"$f":"B301&-B304","v":"P16-2"},2,{"$f":"_xlfn.IFS(Language=\"EN\",F304,Language=\"FR\",G304,Language=\"SP\",H304)","v":"Inadequate resources to implement Social Performance strategy "},null,null,"Inadequate resources to implement Social Performance strategy ","Ressources inadéquates pour mettre en œuvre la stratégie / plan d'action sociétal"]
[{"$f":"B301&-B305","v":"P16-3"},3,{"$f":"_xlfn.IFS(Language=\"EN\",F305,Language=\"FR\",G305,Language=\"SP\",H305)","v":"Resources in line with Socia Performance strategy"},null,null,"Resources in line with Socia Performance strategy","Ressources adéquate pour mettre en œuvre la stratégie / plan d'action sociétal"]
[{"$f":"B301&-B306","v":"P16-4"},4,{"$f":"_xlfn.IFS(Language=\"EN\",F306,Language=\"FR\",G306,Language=\"SP\",H306)","v":"Resources mobilized and actualized during Long Term Plan reviews"},null,null,"Resources mobilized and actualized during Long Term Plan reviews","Ressources mobilisées et actualisées au cours des examens du plan à long terme"]
[null,"N/A",{"$f":"_xlfn.IFS(Language=\"EN\",F307,Language=\"FR\",G307,Language=\"SP\",H307)","v":"-"},null,null,"-","-"]
[]
[null,"P17",{"$f":"_xlfn.IFS(Language=\"EN\",F309,Language=\"FR\",G309,Language=\"SP\",H309)","v":"Interactions with top management and other departments"},null,null,"Interactions with top management and other departments","Interactions avec la direction (CODIR, ManCom) et les autres départements de l'entité"]
[null,"i",{"$f":"_xlfn.IFS(Language=\"EN\",F310,Language=\"FR\",G310,Language=\"SP\",H310)","v":"-"},null,null,"-","-"]
[{"$f":"B309&-B311","v":"P17-1"},1,{"$f":"_xlfn.IFS(Language=\"EN\",F311,Language=\"FR\",G311,Language=\"SP\",H311)","v":"Inadequate position of societal in the organization"},null,null,"Inadequate position of societal in the organization","Position inadéquate du sociétal dans l'organisation"]
[{"$f":"B309&-B312","v":"P17-2"},2,{"$f":"_xlfn.IFS(Language=\"EN\",F312,Language=\"FR\",G312,Language=\"SP\",H312)","v":"Social performance teams mobilized as needed"},null,null,"Social performance teams mobilized as needed","Mobilisation des équipes sociétales en fonction des besoins"]
[{"$f":"B309&-B313","v":"P17-3"},3,{"$f":"_xlfn.IFS(Language=\"EN\",F313,Language=\"FR\",G313,Language=\"SP\",H313)","v":"Social performance teams involved in thematic committees"},null,null,"Social performance teams involved in thematic committees","Équipes sociétales impliquées dans les comités thématiques"]
[{"$f":"B309&-B314","v":"P17-4"},4,{"$f":"_xlfn.IFS(Language=\"EN\",F314,Language=\"FR\",G314,Language=\"SP\",H314)","v":"Formal steering committee involving enlarged CODIR to approve social performance strategies / action plan and review performance on regular basis"},null,null,"Formal steering committee involving enlarged CODIR to approve social performance strategies / action plan and review performance on regular basis","Comité de pilotage formel impliquant le CODIR élargi pour approuver la stratégie et le plan d'action sociétal et examiner la performance régulièrement"]
[null,"N/A",{"$f":"_xlfn.IFS(Language=\"EN\",F315,Language=\"FR\",G315,Language=\"SP\",H315)","v":"-"},null,null,"-","-"]
[]
[null,"P18",{"$f":"_xlfn.IFS(Language=\"EN\",F317,Language=\"FR\",G317,Language=\"SP\",H317)","v":"Social risk assessment and management"},null,null,"Social risk assessment and management","Évaluation et gestion des risques sociétaux"]
[null,"i",{"$f":"_xlfn.IFS(Language=\"EN\",F318,Language=\"FR\",G318,Language=\"SP\",H318)","v":"-"},null,null,"-","-"]
[{"$f":"B317&-B319","v":"P18-1"},1,{"$f":"_xlfn.IFS(Language=\"EN\",F319,Language=\"FR\",G319,Language=\"SP\",H319)","v":"No formal assessment of social risks"},null,null,"No formal assessment of social risks","Pas d'évaluation formelle des risques sociétaux"]
[{"$f":"B317&-B320","v":"P18-2"},2,{"$f":"_xlfn.IFS(Language=\"EN\",F320,Language=\"FR\",G320,Language=\"SP\",H320)","v":"Risks are regularly assessed"},null,null,"Risks are regularly assessed","Les risques sont régulièrement évalués"]
[{"$f":"B317&-B321","v":"P18-3"},3,{"$f":"_xlfn.IFS(Language=\"EN\",F321,Language=\"FR\",G321,Language=\"SP\",H321)","v":"Risks are assessed, mitigated and monitored"},null,null,"Risks are assessed, mitigated and monitored","Les risques sont évalués, atténués et suivis"]
[{"$f":"B317&-B322","v":"P18-4"},4,{"$f":"_xlfn.IFS(Language=\"EN\",F322,Language=\"FR\",G322,Language=\"SP\",H322)","v":"Risks are reported and REX are documented and shared"},null,null,"Risks are reported and REX are documented and shared","Les risques sont signalés et le REX est documenté et partagé"]
[null,"N/A",{"$f":"_xlfn.IFS(Language=\"EN\",F323,Language=\"FR\",G323,Language=\"SP\",H323)","v":"-"},null,null,"-","-"]
[]
[null,"P19",{"$f":"_xlfn.IFS(Language=\"EN\",F325,Language=\"FR\",G325,Language=\"SP\",H325)","v":"Stakeholder mapping and stakeholder engagement plan"},null,null,"Stakeholder mapping and stakeholder engagement plan","Cartographie des parties prenantes et Plan de Dialogue avec les Parties Prenantes"]
[null,"i",{"$f":"_xlfn.IFS(Language=\"EN\",F326,Language=\"FR\",G326,Language=\"SP\",H326)","v":"-"},null,null,"-","-"]
[{"$f":"B325&-B327","v":"P19-1"},1,{"$f":"_xlfn.IFS(Language=\"EN\",F327,Language=\"FR\",G327,Language=\"SP\",H327)","v":"No formal stakeholder mapping"},null,null,"No formal stakeholder mapping","Pas de cartographie formelle des parties prenantes"]
[{"$f":"B325&-B328","v":"P19-2"},2,{"$f":"_xlfn.IFS(Language=\"EN\",F328,Language=\"FR\",G328,Language=\"SP\",H328)","v":"Stakeholders are mapped"},null,null,"Stakeholders are mapped","Les parties prenantes sont identifiées"]
[{"$f":"B325&-B329","v":"P19-3"},3,{"$f":"_xlfn.IFS(Language=\"EN\",F329,Language=\"FR\",G329,Language=\"SP\",H329)","v":"Stakeholders are mapped and mapping is regularly reviewed by top management"},null,null,"Stakeholders are mapped and mapping is regularly reviewed by top management","Les parties prenantes sont cartographiées et la cartographie est régulièrement examinée par la direction (CODIR/ManCom)"]
[{"$f":"B325&-B330","v":"P19-4"},4,{"$f":"_xlfn.IFS(Language=\"EN\",F330,Language=\"FR\",G330,Language=\"SP\",H330)","v":"Stakeholder engagement plan defined based on stakeholder mapping"},null,null,"Stakeholder engagement plan defined based on stakeholder mapping","Plan de dialogue avec les parties prenantes défini sur la base de la cartographie des parties prenantes"]
[null,"N/A",{"$f":"_xlfn.IFS(Language=\"EN\",F331,Language=\"FR\",G331,Language=\"SP\",H331)","v":"-"},null,null,"-","-"]
[]
[null,"P20",{"$f":"_xlfn.IFS(Language=\"EN\",F333,Language=\"FR\",G333,Language=\"SP\",H333)","v":"Social Performance strategy"},null,null,"Social Performance strategy","Stratégie sociétale"]
[null,"i",{"$f":"_xlfn.IFS(Language=\"EN\",F334,Language=\"FR\",G334,Language=\"SP\",H334)","v":"-"},null,null,"-","-"]
[{"$f":"B333&-B335","v":"P20-1"},1,{"$f":"_xlfn.IFS(Language=\"EN\",F335,Language=\"FR\",G335,Language=\"SP\",H335)","v":"No formal Social Performance strategy"},null,null,"No formal Social Performance strategy","Pas de stratégie sociétale formelle "]
[{"$f":"B333&-B336","v":"P20-2"},2,{"$f":"_xlfn.IFS(Language=\"EN\",F336,Language=\"FR\",G336,Language=\"SP\",H336)","v":"Existence of a Social Performance strategy, but not endorsed by top management"},null,null,"Existence of a Social Performance strategy, but not endorsed by top management","Existence d'une stratégie sociétale, mais non approuvée par la direction (CODIR /ManCom)"]
[{"$f":"B333&-B337","v":"P20-3"},3,{"$f":"_xlfn.IFS(Language=\"EN\",F337,Language=\"FR\",G337,Language=\"SP\",H337)","v":"Existence of a formal Social Performance strategy endorsed by top management"},null,null,"Existence of a formal Social Performance strategy endorsed by top management","Existence d'une stratégie sociétale formelle approuvée par la direction générale (CODIR / ManCom)"]
[{"$f":"B333&-B338","v":"P20-4"},4,{"$f":"_xlfn.IFS(Language=\"EN\",F338,Language=\"FR\",G338,Language=\"SP\",H338)","v":"Existence of a formal Social Performance strategy endorsed, championed by top management"},null,null,"Existence of a formal Social Performance strategy endorsed, championed by top management","Existence d'une stratégie sociétale formelle approuvée et défendue par le CODIR / ManCom"]
[null,"N/A",{"$f":"_xlfn.IFS(Language=\"EN\",F339,Language=\"FR\",G339,Language=\"SP\",H339)","v":"-"},null,null,"-","-"]
[]
[null,"P21",{"$f":"_xlfn.IFS(Language=\"EN\",F341,Language=\"FR\",G341,Language=\"SP\",H341)","v":"Social Performance action plan"},null,null,"Social Performance action plan","Plan d'action sociétal"]
[null,"i",{"$f":"_xlfn.IFS(Language=\"EN\",F342,Language=\"FR\",G342,Language=\"SP\",H342)","v":"-"},null,null,"-","-"]
[{"$f":"B341&-B343","v":"P21-1"},1,{"$f":"_xlfn.IFS(Language=\"EN\",F343,Language=\"FR\",G343,Language=\"SP\",H343)","v":"No Social Performance action plan"},null,null,"No Social Performance action plan","Pas de plan d'action sociétal"]
[{"$f":"B341&-B344","v":"P21-2"},2,{"$f":"_xlfn.IFS(Language=\"EN\",F344,Language=\"FR\",G344,Language=\"SP\",H344)","v":"Formalized Social Performance Action Plan"},null,null,"Formalized Social Performance Action Plan","Plan d'action sociétal formalisé"]
[{"$f":"B341&-B345","v":"P21-3"},3,{"$f":"_xlfn.IFS(Language=\"EN\",F345,Language=\"FR\",G345,Language=\"SP\",H345)","v":"Formalized Social Performance Action Plan taking into account stakeholders' concerns and expectations"},null,null,"Formalized Social Performance Action Plan taking into account stakeholders' concerns and expectations","Plan d'action sociétal formalisé tenant compte des préoccupations et des attentes des parties prenantes"]
[{"$f":"B341&-B346","v":"P21-4"},4,{"$f":"_xlfn.IFS(Language=\"EN\",F346,Language=\"FR\",G346,Language=\"SP\",H346)","v":"Formalized Social Performance Action Plan regularly reviewed and shared with stakeholders"},null,null,"Formalized Social Performance Action Plan regularly reviewed and shared with stakeholders","Plan d'action  sociétal formalisé et régulièrement revu et partagé avec les parties prenantes"]
[null,"N/A",{"$f":"_xlfn.IFS(Language=\"EN\",F347,Language=\"FR\",G347,Language=\"SP\",H347)","v":"-"},null,null,"-","-"]
[]
[null,"P22",{"$f":"_xlfn.IFS(Language=\"EN\",F349,Language=\"FR\",G349,Language=\"SP\",H349)","v":"Monitoring of Social Performance"},null,null,"Monitoring of Social Performance","Suivi de la performance sociétale"]
[null,"i",{"$f":"_xlfn.IFS(Language=\"EN\",F350,Language=\"FR\",G350,Language=\"SP\",H350)","v":"-"},null,null,"-","-"]
[{"$f":"B349&-B351","v":"P22-1"},1,{"$f":"_xlfn.IFS(Language=\"EN\",F351,Language=\"FR\",G351,Language=\"SP\",H351)","v":"No Social Performance KPIs"},null,null,"No Social Performance KPIs","Pas d'indicateurs de performance sociale"]
[{"$f":"B349&-B352","v":"P22-2"},2,{"$f":"_xlfn.IFS(Language=\"EN\",F352,Language=\"FR\",G352,Language=\"SP\",H352)","v":"Social Performance KPIs are defined"},null,null,"Social Performance KPIs are defined","Les indicateurs de performance sociétale sont définis"]
[{"$f":"B349&-B353","v":"P22-3"},3,{"$f":"_xlfn.IFS(Language=\"EN\",F353,Language=\"FR\",G353,Language=\"SP\",H353)","v":"Social Performance KPIs are followed and reported"},null,null,"Social Performance KPIs are followed and reported","Les indicateurs de performance sociétale sont suivis et communiqués"]
[{"$f":"B349&-B354","v":"P22-4"},4,{"$f":"_xlfn.IFS(Language=\"EN\",F354,Language=\"FR\",G354,Language=\"SP\",H354)","v":"Social Performance KPIs are followed, reported and corrective actions are taken"},null,null,"Social Performance KPIs are followed, reported and corrective actions are taken","Les indicateurs de performance sociétale sont suivis et reportés, et des mesures correctives sont prises"]
[null,"N/A",{"$f":"_xlfn.IFS(Language=\"EN\",F355,Language=\"FR\",G355,Language=\"SP\",H355)","v":"-"},null,null,"-","-"]
[]
[null,"P23",{"$f":"_xlfn.IFS(Language=\"EN\",F357,Language=\"FR\",G357,Language=\"SP\",H357)","v":"Social Performance Reporting"},null,null,"Social Performance Reporting","Rapports sur la performance sociétale"]
[null,"i",{"$f":"_xlfn.IFS(Language=\"EN\",F358,Language=\"FR\",G358,Language=\"SP\",H358)","v":"-"},null,null,"-","-"]
[{"$f":"B357&-B359","v":"P23-1"},1,{"$f":"_xlfn.IFS(Language=\"EN\",F359,Language=\"FR\",G359,Language=\"SP\",H359)","v":"Reporting of societal actions limited to regulatory requirements"},null,null,"Reporting of societal actions limited to regulatory requirements","Rapport sur les actions sociétales limité aux exigences réglementaires"]
[{"$f":"B357&-B360","v":"P23-2"},2,{"$f":"_xlfn.IFS(Language=\"EN\",F360,Language=\"FR\",G360,Language=\"SP\",H360)","v":"Reporting of societal actions including voluntary commitments"},null,null,"Reporting of societal actions including voluntary commitments","Rapport sur les actions sociétales, y compris les engagements volontaires"]
[{"$f":"B357&-B361","v":"P23-3"},3,{"$f":"_xlfn.IFS(Language=\"EN\",F361,Language=\"FR\",G361,Language=\"SP\",H361)","v":"Annual report of societal actions in line with Company's reporting needs"},null,null,"Annual report of societal actions in line with Company's reporting needs","Rapport annuel sur les actions sociétales conformément aux besoins de reporting de la Compagnie"]
[{"$f":"B357&-B362","v":"P23-4"},4,{"$f":"_xlfn.IFS(Language=\"EN\",F362,Language=\"FR\",G362,Language=\"SP\",H362)","v":"Annual report of societal actions communicated to key stakeholders"},null,null,"Annual report of societal actions communicated to key stakeholders","Rapport annuel sur les actions sociétales communiqué aux principales parties prenantes"]
[null,"N/A",{"$f":"_xlfn.IFS(Language=\"EN\",F363,Language=\"FR\",G363,Language=\"SP\",H363)","v":"-"},null,null,"-","-"]
[]
[null,"P24",{"$f":"_xlfn.IFS(Language=\"EN\",F365,Language=\"FR\",G365,Language=\"SP\",H365)","v":"Benchmark with other operators / industries"},null,null,"Benchmark with other operators / industries","Comparaison avec d'autres opérateurs/industries"]
[null,"i",{"$f":"_xlfn.IFS(Language=\"EN\",F366,Language=\"FR\",G366,Language=\"SP\",H366)","v":"Knowledge of the societal actions of competitors"},null,null,"Knowledge of the societal actions of competitors","Connaissance des actions sociétales des concurrents"]
[{"$f":"B365&-B367","v":"P24-1"},1,{"$f":"_xlfn.IFS(Language=\"EN\",F367,Language=\"FR\",G367,Language=\"SP\",H367)","v":"No benchmark"},null,null,"No benchmark","Pas d'analyse comparative"]
[{"$f":"B365&-B368","v":"P24-2"},2,{"$f":"_xlfn.IFS(Language=\"EN\",F368,Language=\"FR\",G368,Language=\"SP\",H368)","v":"Limited knowledge of the societal actions of the competitors"},null,null,"Limited knowledge of the societal actions of the competitors","Connaissance limitée des actions sociétales des concurrents"]
[{"$f":"B365&-B369","v":"P24-3"},3,{"$f":"_xlfn.IFS(Language=\"EN\",F369,Language=\"FR\",G369,Language=\"SP\",H369)","v":"Documented benchmark of the societal actions of the competitors and the neighboring industries"},null,null,"Documented benchmark of the societal actions of the competitors and the neighboring industries","Analyse comparative documentée des actions sociétales des concurrents et des industries voisines"]
[{"$f":"B365&-B370","v":"P24-4"},4,{"$f":"_xlfn.IFS(Language=\"EN\",F370,Language=\"FR\",G370,Language=\"SP\",H370)","v":"Participation to benchmark groups (inter-industry benchmarking groups, scouting committees...) on social performance issues"},null,null,"Participation to benchmark groups (inter-industry benchmarking groups, scouting committees...) on social performance issues","Participation à des groupes de référence (groupes de référence interindustriels, comités de repérage...) sur les questions de performance sociale"]
[null,"N/A",{"$f":"_xlfn.IFS(Language=\"EN\",F371,Language=\"FR\",G371,Language=\"SP\",H371)","v":"-"},null,null,"-","-"]
[]
[]
[null,"S01",{"$f":"_xlfn.IFS(Language=\"EN\",F374,Language=\"FR\",G374,Language=\"SP\",H374)","v":"Road safety"},null,null,"Road safety","Sécurité routière"]
[null,"S02",{"$f":"_xlfn.IFS(Language=\"EN\",F375,Language=\"FR\",G375,Language=\"SP\",H375)","v":"Environment & climate"},null,null,"Environment & climate","Environnement et climat"]
[null,"S03",{"$f":"_xlfn.IFS(Language=\"EN\",F376,Language=\"FR\",G376,Language=\"SP\",H376)","v":"Culture and heritage"},null,null,"Culture and heritage","Culture et patrimoine"]
[null,"S04",{"$f":"_xlfn.IFS(Language=\"EN\",F377,Language=\"FR\",G377,Language=\"SP\",H377)","v":"Education / training / professional integration"},null,null,"Education / training / professional integration","Education / formation / insertion professionnelle"]
[null,"S05",{"$f":"_xlfn.IFS(Language=\"EN\",F378,Language=\"FR\",G378,Language=\"SP\",H378)","v":"Economic empowerment/support to business development"},null,null,"Economic empowerment/support to business development","Soutien au développement des PME"]
[null,"S06",{"$f":"_xlfn.IFS(Language=\"EN\",F379,Language=\"FR\",G379,Language=\"SP\",H379)","v":"Improved access to essential services (health, water, energy)"},null,null,"Improved access to essential services (health, water, energy)","Amélioration de l'accès aux services essentiels"]
[null,"S07",{"$f":"_xlfn.IFS(Language=\"EN\",F380,Language=\"FR\",G380,Language=\"SP\",H380)","v":"Other"},null,null,"Other","Autre"]

{"sheet":"Onglet_SRR_scoringmodel","index":45,"n_rows":33,"n_cols":9,"rows_kept":33,"cut":false,"hidden":false,"merged":[]}
[]
[null,"Scoring model"]
[]
[]
[null,"Societal exposure",null,null,null,null,"En tenant compte de la consultation"]
[]
[null,null,"Context","Impacts","MyPond","Matrix","Consult Impact","Max Impact","Corrected Exposure"]
[null,"Pillar 1",{"$f":"IFERROR(AVERAGE(Onglet_SRR_dataset!E5:E10),\"\")","v":""},{"$f":"IFERROR(AVERAGE(Onglet_SRR_dataset!E12:E15),0)","v":0},{"$f":"IFERROR(AVERAGE(C8:D8),\"\")","v":0},{"$f":"IF(AND(C8<>\"\",D8<>\"\"),IF(OR(C8>=3,D8>=3),Onglet_SRR_Table!$B$14,IF(OR(C8>=2,D8>=2),Onglet_SRR_Table!$B$13,IF(OR(C8>=1,D8>=1),Onglet_SRR_Table!$B$12,\"\"))),\"\")","v":""},{"$f":"AVERAGE(Onglet_consult_dataset!H8:H11)","v":{"$error":"#DIV/0!"}},{"$f":"MAX(D8,G8)","v":{"$error":"#DIV/0!"}},{"$f":"IF(AND(C8<>\"\",H8<>\"\"),IF(OR(C8>=3,H8>=3),Onglet_SRR_Table!$B$14,IF(OR(C8>=2,H8>=2),Onglet_SRR_Table!$B$13,IF(OR(C8>=1,H8>=1),Onglet_SRR_Table!$B$12,\"\"))),\"\")","v":{"$error":"#DIV/0!"}}]
[null,"Pillar 2",{"$f":"IFERROR(AVERAGE(Onglet_SRR_dataset!E23:E28),\"\")","v":""},{"$f":"IFERROR(AVERAGE(Onglet_SRR_dataset!E30,Onglet_SRR_dataset!E37),0)","v":0},{"$f":"IFERROR(AVERAGE(C9:D9),\"\")","v":0},{"$f":"IF(AND(C9<>\"\",D9<>\"\"),IF(OR(C9>=3,D9>=3),Onglet_SRR_Table!$B$14,IF(OR(C9>=2,D9>=2),Onglet_SRR_Table!$B$13,IF(OR(C9>=1,D9>=1),Onglet_SRR_Table!$B$12,\"\"))),\"\")","v":""},{"$f":"AVERAGE(Onglet_consult_dataset!H17:H24)","v":{"$error":"#DIV/0!"}},{"$f":"MAX(D9,G9)","v":{"$error":"#DIV/0!"}},{"$f":"IF(AND(C9<>\"\",H9<>\"\"),IF(OR(C9>=3,H9>=3),Onglet_SRR_Table!$B$14,IF(OR(C9>=2,H9>=2),Onglet_SRR_Table!$B$13,IF(OR(C9>=1,H9>=1),Onglet_SRR_Table!$B$12,\"\"))),\"\")","v":{"$error":"#DIV/0!"}}]
[null,"Pillar 3",{"$f":"IFERROR(AVERAGE(Onglet_SRR_dataset!E50:E53),\"\")","v":""},{"$f":"IFERROR(AVERAGE(Onglet_SRR_dataset!E55:E57),0)","v":0},{"$f":"IFERROR(AVERAGE(C10:D10),\"\")","v":0},{"$f":"IF(AND(C10<>\"\",D10<>\"\"),IF(OR(C10>=3,D10>=3),Onglet_SRR_Table!$B$14,IF(OR(C10>=2,D10>=2),Onglet_SRR_Table!$B$13,IF(OR(C10>=1,D10>=1),Onglet_SRR_Table!$B$12,\"\"))),\"\")","v":""},{"$f":"AVERAGE(Onglet_consult_dataset!H30:H32)","v":{"$error":"#DIV/0!"}},{"$error":"#DIV/0!"},{"$f":"IF(AND(C10<>\"\",H10<>\"\"),IF(OR(C10>=3,H10>=3),Onglet_SRR_Table!$B$14,IF(OR(C10>=2,H10>=2),Onglet_SRR_Table!$B$13,IF(OR(C10>=1,H10>=1),Onglet_SRR_Table!$B$12,\"\"))),\"\")","v":{"$error":"#DIV/0!"}}]
[null,"Overall",{"$f":"IFERROR(AVERAGE(C8:C10),\"\")","v":""},{"$f":"IFERROR(AVERAGE(D8:D10),\"\")","v":0},{"$f":"IFERROR(AVERAGE(C11:D11),\"\")","v":0},{"$f":"IF(AND(C11<>\"\",D11<>\"\"),IF(OR(C11>=3,D11>=3),Onglet_SRR_Table!$B$14,IF(OR(C11>=2,D11>=2),Onglet_SRR_Table!$B$13,IF(OR(C11>=1,D11>=1),Onglet_SRR_Table!$B$12,\"\"))),\"\")","v":""},{"$f":"IFERROR(AVERAGE(E11:F11),\"\")","v":0},{"$f":"IFERROR(AVERAGE(F11:G11),\"\")","v":0},{"$f":"IF(AND(C11<>\"\",H11<>\"\"),IF(OR(C11>=3,H11>=3),Onglet_SRR_Table!$B$14,IF(OR(C11>=2,H11>=2),Onglet_SRR_Table!$B$13,IF(OR(C11>=1,H11>=1),Onglet_SRR_Table!$B$12,\"\"))),\"\")","v":""}]
[]
[]
[null,"Modèle Socrat (retenu)"]
[]
[]
[]
[null,null,"Context","Impacts","MyPond","Matrix","Consult Impact","Max impact","Corrected Exposure"]
["P1","Pillar 1",{"$f":"IFERROR((C8-1)/3*5,-1)","v":-1},{"$f":"IFERROR((D8-1)/3*5,\"\")","v":-1.6666666666666665},{"$f":"IFERROR(AVERAGE(C19:D19),\"\")","v":-1.3333333333333333},{"$f":"IFERROR(IF(AND(C19>=3,D19>=3),Onglet_SRR_Table!$B$14,IF(AND(C19>=2,D19>=2),Onglet_SRR_Table!$B$13,Onglet_SRR_Table!$B$12)),\"\")","v":"Low"},{"$f":"IFERROR((G8-1)/3*5,\"\")","v":""},"",{"$f":"IFERROR(IF(AND(C19>=3,H19>=3),Onglet_SRR_Table!$B$14,IF(AND(C19>=2,H19>=2),Onglet_SRR_Table!$B$13,Onglet_SRR_Table!$B$12)),\"\")","v":"Low"}]
["P2","Pillar 2",{"$f":"IFERROR((C9-1)/3*5,-1)","v":-1},{"$f":"IFERROR((D9-1)/3*5,\"\")","v":-1.6666666666666665},{"$f":"IFERROR(AVERAGE(C20:D20),\"\")","v":-1.3333333333333333},{"$f":"IFERROR(IF(AND(C20>=3,D20>=3),Onglet_SRR_Table!$B$14,IF(AND(C20>=2,D20>=2),Onglet_SRR_Table!$B$13,Onglet_SRR_Table!$B$12)),\"\")","v":"Low"},"","",{"$f":"IFERROR(IF(AND(C20>=3,H20>=3),Onglet_SRR_Table!$B$14,IF(AND(C20>=2,H20>=2),Onglet_SRR_Table!$B$13,Onglet_SRR_Table!$B$12)),\"\")","v":"Low"}]
["P3","Pillar 3",{"$f":"IFERROR((C10-1)/3*5,-1)","v":-1},{"$f":"IFERROR((D10-1)/3*5,\"\")","v":-1.6666666666666665},{"$f":"IFERROR(AVERAGE(C21:D21),\"\")","v":-1.3333333333333333},{"$f":"IFERROR(IF(AND(C21>=3,D21>=3),Onglet_SRR_Table!$B$14,IF(AND(C21>=2,D21>=2),Onglet_SRR_Table!$B$13,Onglet_SRR_Table!$B$12)),\"\")","v":"Low"},"","",{"$f":"IFERROR(IF(AND(C21>=3,H21>=3),Onglet_SRR_Table!$B$14,IF(AND(C21>=2,H21>=2),Onglet_SRR_Table!$B$13,Onglet_SRR_Table!$B$12)),\"\")","v":"Low"}]
[null,"Overall",{"$f":"IFERROR(AVERAGE(C19:C21),\"\")","v":-1},{"$f":"IFERROR(AVERAGE(D19:D21),\"\")","v":-1.6666666666666667},{"$f":"IFERROR(AVERAGE(C22:D22),\"\")","v":-1.3333333333333335},{"$f":"IFERROR(IF(AND(C22>=3,D22>=3),Onglet_SRR_Table!$B$14,IF(AND(C22>=2,D22>=2),Onglet_SRR_Table!$B$13,Onglet_SRR_Table!$B$12)),\"\")","v":"Low"},{"$f":"IFERROR(AVERAGE(G19:G21),\"\")","v":""},{"$f":"IFERROR(AVERAGE(H19:H21),\"\")","v":""},{"$f":"IFERROR(IF(AND(C22>=3,H22>=3),Onglet_SRR_Table!$B$14,IF(AND(C22>=2,H22>=2),Onglet_SRR_Table!$B$13,Onglet_SRR_Table!$B$12)),\"\")","v":"Low"}]
[]
[]
[]
[]
[]
[]
[]
[]
[]
[]
[null,null,null,null,null,null,null,null,"Graphs pour le rapport"]

{"sheet":"Onglet_SRR_Table","index":46,"n_rows":149,"n_cols":6,"rows_kept":149,"cut":false,"hidden":false,"merged":[]}
[]
[]
[]
[]
[]
[]
[]
[null,"Current",null,"English","French","Spanish"]
[]
[]
[null,{"$f":"_xlfn.IFS(Language=\"EN\",D11,Language=\"FR\",E11,Language=\"SP\",F11)","v":"SRR Matrix"},null,"SRR Matrix","Matrice SRR"]
[null,{"$f":"_xlfn.IFS(Language=\"EN\",D12,Language=\"FR\",E12,Language=\"SP\",F12)","v":"Low"},null,"Low","Faible"]
[null,{"$f":"_xlfn.IFS(Language=\"EN\",D13,Language=\"FR\",E13,Language=\"SP\",F13)","v":"Medium"},null,"Medium","Moyenne"]
[null,{"$f":"_xlfn.IFS(Language=\"EN\",D14,Language=\"FR\",E14,Language=\"SP\",F14)","v":"High"},null,"High","Élevée"]
[]
[null,{"$f":"_xlfn.IFS(Language=\"EN\",D16,Language=\"FR\",E16,Language=\"SP\",F16)","v":"Maturity levels"},null,"Maturity levels","Niveaux de maturité"]
[null,{"$f":"_xlfn.IFS(Language=\"EN\",D17,Language=\"FR\",E17,Language=\"SP\",F17)","v":"Not started"},null,"Not started","Non démarré"]
[null,{"$f":"_xlfn.IFS(Language=\"EN\",D18,Language=\"FR\",E18,Language=\"SP\",F18)","v":"Intermediate"},null,"Intermediate","Intermédiaire"]
[null,{"$f":"_xlfn.IFS(Language=\"EN\",D19,Language=\"FR\",E19,Language=\"SP\",F19)","v":"Mature"},null,"Mature","Mature"]
[null,{"$f":"_xlfn.IFS(Language=\"EN\",D20,Language=\"FR\",E20,Language=\"SP\",F20)","v":"Excellent"},null,"Excellent","Excellent"]
[]
[null,"Exposure levels"]
[null,{"$f":"_xlfn.IFS(Language=\"EN\",D23,Language=\"FR\",E23,Language=\"SP\",F23)","v":"Low"},null,"Low","Faible"]
[null,{"$f":"_xlfn.IFS(Language=\"EN\",D24,Language=\"FR\",E24,Language=\"SP\",F24)","v":"Medium"},null,"Medium","Moyenne"]
[null,{"$f":"_xlfn.IFS(Language=\"EN\",D25,Language=\"FR\",E25,Language=\"SP\",F25)","v":"High"},null,"High","Élevée"]
[null,{"$f":"_xlfn.IFS(Language=\"EN\",D26,Language=\"FR\",E26,Language=\"SP\",F26)","v":"Critical"},null,"Critical","Critique"]
[null,{"$f":"_xlfn.IFS(Language=\"EN\",D27,Language=\"FR\",E27,Language=\"SP\",F27)","v":"N/A"},null,"N/A","N/A"]
[]
[null,"Action levels"]
[null,{"$f":"_xlfn.IFS(Language=\"EN\",D30,Language=\"FR\",E30,Language=\"SP\",F30)","v":"Significant or critical risk before mitigation"},null,"Significant or critical risk before mitigation","Risque important ou critique avant mitigation"]
[null,{"$f":"_xlfn.IFS(Language=\"EN\",D31,Language=\"FR\",E31,Language=\"SP\",F31)","v":"Not assessed yet"},null,"Not assessed yet","Pas évalué"]
[null,{"$f":"_xlfn.IFS(Language=\"EN\",D32,Language=\"FR\",E32,Language=\"SP\",F32)","v":"No action required"},null,"No action required","Pas d'analyse supplémentaire"]
[null,{"$f":"_xlfn.IFS(Language=\"EN\",D33,Language=\"FR\",E33,Language=\"SP\",F33)","v":"Point of vigilance"},null,"Point of vigilance","Point de vigilance"]
[null,"Type of indicators"]
[null,{"$f":"_xlfn.IFS(Language=\"EN\",D35,Language=\"FR\",E35,Language=\"SP\",F35)","v":"Context"},null,"Context","Contexte"]
[null,{"$f":"_xlfn.IFS(Language=\"EN\",D36,Language=\"FR\",E36,Language=\"SP\",F36)","v":"Impact"},null,"Impact","Impact"]
[]
[null,"Pillars"]
["P1",{"$f":"_xlfn.IFS(Language=\"EN\",D39,Language=\"FR\",E39,Language=\"SP\",F39)","v":"Pillar 1 - Relationships & dialogue"},null,"Pillar 1 - Relationships & dialogue","Pilier 1 - Relations et dialogue"]
["P2",{"$f":"_xlfn.IFS(Language=\"EN\",D40,Language=\"FR\",E40,Language=\"SP\",F40)","v":"Pillar 2 - Negative impacts"},null,"Pillar 2 - Negative impacts","Pilier 2 - Impacts négatifs"]
["P3",{"$f":"_xlfn.IFS(Language=\"EN\",D41,Language=\"FR\",E41,Language=\"SP\",F41)","v":"Pillar 3 - Positive impacts"},null,"Pillar 3 - Positive impacts","Pilier 3 - Impacts positifs"]
["P4",{"$f":"_xlfn.IFS(Language=\"EN\",D42,Language=\"FR\",E42,Language=\"SP\",F42)","v":"SP Governance"},null,"SP Governance","Gouvernance sociétale"]
[]
[null,"Issues"]
["IS01_AUT",{"$f":"_xlfn.IFS(Language=\"EN\",D45,Language=\"FR\",E45,Language=\"SP\",F45)","v":"Relations with authorities"},null,"Relations with authorities","Relations avec les autorités"]
["IS01_BUS",{"$f":"_xlfn.IFS(Language=\"EN\",D46,Language=\"FR\",E46,Language=\"SP\",F46)","v":"Relations with business partners"},null,"Relations with business partners","Relations avec les partenaires business"]
["IS01_CIV",{"$f":"_xlfn.IFS(Language=\"EN\",D47,Language=\"FR\",E47,Language=\"SP\",F47)","v":"Relations with civil society"},null,"Relations with civil society","Relations avec la société civile"]
["IS01_COM",{"$f":"_xlfn.IFS(Language=\"EN\",D48,Language=\"FR\",E48,Language=\"SP\",F48)","v":"Relations with communities"},null,"Relations with communities","Relations avec les communautés"]
["IS01_STK",{"$f":"_xlfn.IFS(Language=\"EN\",D49,Language=\"FR\",E49,Language=\"SP\",F49)","v":"Relations with all stakeholders"},null,"Relations with all stakeholders","Relations avec toutes les parties prenantes"]
["IS03",{"$f":"_xlfn.IFS(Language=\"EN\",D50,Language=\"FR\",E50,Language=\"SP\",F50)","v":"Grievance mechanism"},null,"Grievance mechanism","Mécanisme de gestion des plaintes non commerciales"]
["IS04",{"$f":"_xlfn.IFS(Language=\"EN\",D51,Language=\"FR\",E51,Language=\"SP\",F51)","v":"Communication (Strategic outlook, Societal, Sustainability)"},null,"Communication (Strategic outlook, Societal, Sustainability)","Communication (perspectives stratégiques, Sociétal, Sustainability)"]
["IS05",{"$f":"_xlfn.IFS(Language=\"EN\",D52,Language=\"FR\",E52,Language=\"SP\",F52)","v":"HSE impacts"},null,"HSE impacts","Impacts HSE"]
["IS06",{"$f":"_xlfn.IFS(Language=\"EN\",D53,Language=\"FR\",E53,Language=\"SP\",F53)","v":"Human rights"},null,"Human rights","Droits humains"]
["IS07",{"$f":"_xlfn.IFS(Language=\"EN\",D54,Language=\"FR\",E54,Language=\"SP\",F54)","v":"Local jobs & capacity building"},null,"Local jobs & capacity building","Emploi local et renforcement des capacités locales"]
["IS08",{"$f":"_xlfn.IFS(Language=\"EN\",D55,Language=\"FR\",E55,Language=\"SP\",F55)","v":"Local content"},null,"Local content","Achats locaux et sous-traitance locale"]
["IS09",{"$f":"_xlfn.IFS(Language=\"EN\",D56,Language=\"FR\",E56,Language=\"SP\",F56)","v":"Social investments"},null,"Social investments","Investissements sociétaux"]
["IS10",{"$f":"_xlfn.IFS(Language=\"EN\",D57,Language=\"FR\",E57,Language=\"SP\",F57)","v":"Social Performance governance"},null,"Social Performance governance","Gouvernance sociétale"]
[]
[null,"Level of expectation"]
[null,{"$f":"Onglet_consult_translation!B121","v":"Maintain"},null,"Maintain","Maintenir"]
[null,{"$f":"Onglet_consult_translation!B122","v":"Could improve"},null,"Could improve","Peut s'améliorer"]
[null,{"$f":"Onglet_consult_translation!B123","v":"Should improve"},null,"Should improve","Devrait s'améliorer"]
[null,{"$f":"Onglet_consult_translation!B124","v":"Must improve"},null,"Must improve","Doit s'améliorer"]
[]
[null,"Level of concern"]
[null,{"$f":"_xlfn.IFS(Language=\"EN\",D66,Language=\"FR\",E66,Language=\"SP\",F66)","v":"Low"},null,"Low","Faible"]
[null,{"$f":"_xlfn.IFS(Language=\"EN\",D67,Language=\"FR\",E67,Language=\"SP\",F67)","v":"Medium"},null,"Medium","Moyenne"]
[null,{"$f":"_xlfn.IFS(Language=\"EN\",D68,Language=\"FR\",E68,Language=\"SP\",F68)","v":"High"},null,"High","Élevée"]
[null,{"$f":"_xlfn.IFS(Language=\"EN\",D69,Language=\"FR\",E69,Language=\"SP\",F69)","v":"Critical"},null,"Critical","Critique"]
[]
[null,"Action status"]
[null,{"$f":"_xlfn.IFS(Language=\"EN\",D72,Language=\"FR\",E72,Language=\"SP\",F72)","v":"Existing"},null,"Existing","Existant"]
[null,{"$f":"_xlfn.IFS(Language=\"EN\",D73,Language=\"FR\",E73,Language=\"SP\",F73)","v":"New"},null,"New","Nouveau"]
[]
["SH_short","Targeted stakeholders"]
["All",{"$f":"_xlfn.IFS(Language=\"EN\",D76,Language=\"FR\",E76,Language=\"SP\",F76)","v":"Global"},null,"Global","Global"]
["Int",{"$f":"_xlfn.IFS(Language=\"EN\",D77,Language=\"FR\",E77,Language=\"SP\",F77)","v":"Internal"},null,"Internal","Interne"]
[{"$f":"MID(B78,1,3)","v":"Aut"},{"$f":"_xlfn.IFS(Language=\"EN\",D78,Language=\"FR\",E78,Language=\"SP\",F78)","v":"Authorities"},null,"Authorities","Autorités"]
[{"$f":"MID(B79,1,3)","v":"Bus"},{"$f":"_xlfn.IFS(Language=\"EN\",D79,Language=\"FR\",E79,Language=\"SP\",F79)","v":"Business"},null,"Business","Business"]
[{"$f":"MID(B80,1,3)","v":"Civ"},{"$f":"_xlfn.IFS(Language=\"EN\",D80,Language=\"FR\",E80,Language=\"SP\",F80)","v":"Civil society"},null,"Civil society","Société civile"]
[{"$f":"MID(B81,1,3)","v":"Com"},{"$f":"_xlfn.IFS(Language=\"EN\",D81,Language=\"FR\",E81,Language=\"SP\",F81)","v":"Communities"},null,"Communities","Communautés"]
[]
[null,"Review status"]
[null,{"$f":"_xlfn.IFS(Language=\"EN\",D84,Language=\"FR\",E84,Language=\"SP\",F84)","v":"Not reviewed"},null,"Not reviewed","Non revu"]
[null,{"$f":"_xlfn.IFS(Language=\"EN\",D85,Language=\"FR\",E85,Language=\"SP\",F85)","v":"In progress"},null,"In progress","En cours"]
[null,{"$f":"_xlfn.IFS(Language=\"EN\",D86,Language=\"FR\",E86,Language=\"SP\",F86)","v":"Done"},null,"Done","Fait"]
[]
[null,"Geography"]
[null,{"$f":"_xlfn.IFS(Language=\"EN\",D89,Language=\"FR\",E89,Language=\"SP\",F89)","v":"Local"},null,"Local","Local"]
[null,{"$f":"_xlfn.IFS(Language=\"EN\",D90,Language=\"FR\",E90,Language=\"SP\",F90)","v":"Regional"},null,"Regional","Régional"]
[null,{"$f":"_xlfn.IFS(Language=\"EN\",D91,Language=\"FR\",E91,Language=\"SP\",F91)","v":"National"},null,"National","National"]
[null,{"$f":"_xlfn.IFS(Language=\"EN\",D92,Language=\"FR\",E92,Language=\"SP\",F92)","v":"International"},null,"International","International"]
[]
[null,{"$f":"_xlfn.IFS(Language=\"EN\",D94,Language=\"FR\",E94,Language=\"SP\",F94)","v":"VISUALIZE SOCIAL RISKS & PERFORMANCE REVIEW RESULTS"},null,"VISUALIZE SOCIAL RISKS & PERFORMANCE REVIEW RESULTS","VISUALISER LES RÉSULTATS DE LA REVUE DES RISQUES SOCIÉTAUX"]
[]
[null,{"$f":"_xlfn.IFS(Language=\"EN\",D96,Language=\"FR\",E96,Language=\"SP\",F96)","v":"Before risk mitigation"},null,"Before risk mitigation","Avant mitigation des risques"]
[]
[null,{"$f":"_xlfn.IFS(Language=\"EN\",D98,Language=\"FR\",E98,Language=\"SP\",F98)","v":"Your overall societal exposure is:"},null,"Your overall societal exposure is:","Votre exposition sociétale globale est de :"]
[]
[null,{"$f":"_xlfn.IFS(Language=\"EN\",D100,Language=\"FR\",E100,Language=\"SP\",F100)","v":"In order to mitigate your societal risks, action is required on:"},null,"In order to mitigate your societal risks, action is required on:","Les risques qui tirent l'exposition sociétale de votre entité : "]
[null,{"$f":"_xlfn.IFS(Language=\"EN\",D101,Language=\"FR\",E101,Language=\"SP\",F101)","v":"risks linked to societal context"},null,"risks linked to societal context","risques liés au contexte sociétal"]
[null,{"$f":"_xlfn.IFS(Language=\"EN\",D102,Language=\"FR\",E102,Language=\"SP\",F102)","v":"risks linked to impacts on people and/or environment"},null,"risks linked to impacts on people and/or environment","risques liés à l'impact sur les personnes et/ou l'environnement"]
[]
[null,{"$f":"_xlfn.IFS(Language=\"EN\",D104,Language=\"FR\",E104,Language=\"SP\",F104)","v":"SOCIETAL EXPOSURE"},null,"SOCIETAL EXPOSURE","EXPOSITION SOCIÉTALE"]
[null,{"$f":"_xlfn.IFS(Language=\"EN\",D105,Language=\"FR\",E105,Language=\"SP\",F105)","v":"Societal exposure"},null,"Societal exposure","Exposition sociétale"]
[null,{"$f":"_xlfn.IFS(Language=\"EN\",D106,Language=\"FR\",E106,Language=\"SP\",F106)","v":"Social Risks matrix"},null,"Social Risks matrix","Matrice des risques sociétaux"]
[null,{"$f":"_xlfn.IFS(Language=\"EN\",D107,Language=\"FR\",E107,Language=\"SP\",F107)","v":"Social Risks Radar"},null,"Social Risks Radar","Radar des risques sociétaux"]
[null,{"$f":"_xlfn.IFS(Language=\"EN\",D108,Language=\"FR\",E108,Language=\"SP\",F108)","v":"Risks"},null,"Risks","Risques"]
[null,{"$f":"_xlfn.IFS(Language=\"EN\",D109,Language=\"FR\",E109,Language=\"SP\",F109)","v":"Level"},null,"Level","Niveau"]
[null,{"$f":"_xlfn.IFS(Language=\"EN\",D110,Language=\"FR\",E110,Language=\"SP\",F110)","v":"Pillar"},null,"Pillar","Pilier"]
[null,{"$f":"_xlfn.IFS(Language=\"EN\",D111,Language=\"FR\",E111,Language=\"SP\",F111)","v":"Type"},null,"Type","Type de risque"]
[null,{"$f":"_xlfn.IFS(Language=\"EN\",D112,Language=\"FR\",E112,Language=\"SP\",F112)","v":"Risk mitigation"},null,"Risk mitigation","Atténuation des risques"]
[null,{"$f":"_xlfn.IFS(Language=\"EN\",D113,Language=\"FR\",E113,Language=\"SP\",F113)","v":"MATURITY OF YOUR CURRENT SOCIAL PERFORMANCE"},null,"MATURITY OF YOUR CURRENT SOCIAL PERFORMANCE","MATURITÉ DE VOTRE PERFORMANCE SOCIÉTALE ACTUELLE"]
[null,{"$f":"_xlfn.IFS(Language=\"EN\",D114,Language=\"FR\",E114,Language=\"SP\",F114)","v":"In order to meet minimum Social Performance requirements due to your social exposure, action is required on:"},null,"In order to meet minimum Social Performance requirements due to your social exposure, action is required on:","Le niveau d'exposition sociétale permet de déterminer un niveau minimum recommandé de performance sociétale"]
[null,{"$f":"_xlfn.IFS(Language=\"EN\",D115,Language=\"FR\",E115,Language=\"SP\",F115)","v":"social performance levers"},null,"social performance levers","leviers de performance sociétale sont en dessous du minimum recommandé"]
[null,{"$f":"_xlfn.IFS(Language=\"EN\",D116,Language=\"FR\",E116,Language=\"SP\",F116)","v":"Minimum required"},null,"Minimum required","Minimum recommandé"]
[null,{"$f":"_xlfn.IFS(Language=\"EN\",D117,Language=\"FR\",E117,Language=\"SP\",F117)","v":"Average maturity of Social Performance"},null,"Average maturity of Social Performance","Maturité moyenne de la performance sociétale"]
[null,{"$f":"_xlfn.IFS(Language=\"EN\",D118,Language=\"FR\",E118,Language=\"SP\",F118)","v":"Social performance governance"},null,"Social performance governance","Gouvernance de la performance sociétale"]
[null,{"$f":"_xlfn.IFS(Language=\"EN\",D119,Language=\"FR\",E119,Language=\"SP\",F119)","v":"Overall societal exposure"},null,"Overall societal exposure","Exposition sociétale globale"]
[]
[]
[null,"SI priorities"]
[null,{"$f":"_xlfn.IFS(Language=\"EN\",D123,Language=\"FR\",E123,Language=\"SP\",F123)","v":"Priority n°1"},null,"Priority n°1","Priorité n°1"]
[null,{"$f":"_xlfn.IFS(Language=\"EN\",D124,Language=\"FR\",E124,Language=\"SP\",F124)","v":"Priority n°2"},null,"Priority n°2","Priorité n°2"]
[null,{"$f":"_xlfn.IFS(Language=\"EN\",D125,Language=\"FR\",E125,Language=\"SP\",F125)","v":"Priority n°3"},null,"Priority n°3","Priorité n°3"]
[null,{"$f":"_xlfn.IFS(Language=\"EN\",D126,Language=\"FR\",E126,Language=\"SP\",F126)","v":"Priority n°4"},null,"Priority n°4","Priorité n°4"]
[]
[]
[]
[null,"Action levels (suite)"]
[null,{"$f":"_xlfn.IFS(Language=\"EN\",D131,Language=\"FR\",E131,Language=\"SP\",F131)","v":"⚠️ Under stakeholder scrutiny"},null,"⚠️ Under stakeholder scrutiny","⚠️ Point d'attention des parties prenantes"]
[null,{"$f":"_xlfn.IFS(Language=\"EN\",D132,Language=\"FR\",E132,Language=\"SP\",F132)","v":"⚠️ Current maturity level < Minimum recommended"},null,"⚠️ Current maturity level < Minimum recommended","⚠️ Niveau de maturité actuel < Minimum recommandé"]
[null,{"$f":"_xlfn.IFS(Language=\"EN\",D133,Language=\"FR\",E133,Language=\"SP\",F133)","v":"Priority to investigate"},null,"Priority to investigate","Priorité à investiguer"]
[]
[null,{"$f":"_xlfn.IFS(Language=\"EN\",D135,Language=\"FR\",E135,Language=\"SP\",F135)","v":"High impact"},null,"High impact","Impact élevé"]
[null,{"$f":"_xlfn.IFS(Language=\"EN\",D136,Language=\"FR\",E136,Language=\"SP\",F136)","v":"Medium impact"},null,"Medium impact","Impact moyen"]
[null,{"$f":"_xlfn.IFS(Language=\"EN\",D137,Language=\"FR\",E137,Language=\"SP\",F137)","v":"Low impact"},null,"Low impact","Impact faible"]
[]
[null,{"$f":"_xlfn.IFS(Language=\"EN\",D139,Language=\"FR\",E139,Language=\"SP\",F139)","v":"High effort"},null,"High effort","Effort élevé"]
[null,{"$f":"_xlfn.IFS(Language=\"EN\",D140,Language=\"FR\",E140,Language=\"SP\",F140)","v":"Medium effort"},null,"Medium effort","Effort moyen"]
[null,{"$f":"_xlfn.IFS(Language=\"EN\",D141,Language=\"FR\",E141,Language=\"SP\",F141)","v":"Low effort"},null,"Low effort","Effort faible"]
[]
[null,{"$f":"_xlfn.IFS(Language=\"EN\",D143,Language=\"FR\",E143,Language=\"SP\",F143)","v":"High priority"},null,"High priority","Priorité haute"]
[null,{"$f":"_xlfn.IFS(Language=\"EN\",D144,Language=\"FR\",E144,Language=\"SP\",F144)","v":"High priority"},null,"High priority","Priorité haute"]
[null,{"$f":"_xlfn.IFS(Language=\"EN\",D145,Language=\"FR\",E145,Language=\"SP\",F145)","v":"Medium priority"},null,"Medium priority","Priorité moyenne"]
[null,{"$f":"_xlfn.IFS(Language=\"EN\",D146,Language=\"FR\",E146,Language=\"SP\",F146)","v":"Low priority"},null,"Low priority","Priorité basse"]
[null,{"$f":"_xlfn.IFS(Language=\"EN\",D147,Language=\"FR\",E147,Language=\"SP\",F147)","v":"Undefined"},null,"Undefined","Indéfini"]
[]
[null,{"$f":"_xlfn.IFS(Language=\"EN\",D149,Language=\"FR\",E149,Language=\"SP\",F149)","v":"Action required"},null,"Action required","Action requise"]

{"sheet":"Onglet_texte_vba","index":47,"n_rows":2436,"n_cols":11,"rows_kept":2436,"cut":false,"hidden":false,"merged":[]}
[]
[null,"Nom du module","Texte en dur","Numéro de ligne","Nbcar","Suivi","Trad","FR","EN","SP","Commentaire"]
[null,"Feuil1","SRM",12,{"$f":"LEN(resultats_textes_durs[[#This Row],[Texte en dur]])","v":3},null,{"$f":"_xlfn.IFS(Language=\"EN\",I3,Language=\"FR\",H3,Language=\"SP\",J3)","v":0}]
[null,"Feuil1",":",40,{"$f":"LEN(resultats_textes_durs[[#This Row],[Texte en dur]])","v":1},null,{"$f":"_xlfn.IFS(Language=\"EN\",I4,Language=\"FR\",H4,Language=\"SP\",J4)","v":0}]
[null,"Feuil1","SRM",49,{"$f":"LEN(resultats_textes_durs[[#This Row],[Texte en dur]])","v":3},null,{"$f":"_xlfn.IFS(Language=\"EN\",I5,Language=\"FR\",H5,Language=\"SP\",J5)","v":0}]
[null,"Feuil1","SRM",55,{"$f":"LEN(resultats_textes_durs[[#This Row],[Texte en dur]])","v":3},null,{"$f":"_xlfn.IFS(Language=\"EN\",I6,Language=\"FR\",H6,Language=\"SP\",J6)","v":0}]
[null,"Feuil1","SRM",57,{"$f":"LEN(resultats_textes_durs[[#This Row],[Texte en dur]])","v":3},null,{"$f":"_xlfn.IFS(Language=\"EN\",I7,Language=\"FR\",H7,Language=\"SP\",J7)","v":0}]
[null,"Feuil1","SRM",65,{"$f":"LEN(resultats_textes_durs[[#This Row],[Texte en dur]])","v":3},null,{"$f":"_xlfn.IFS(Language=\"EN\",I8,Language=\"FR\",H8,Language=\"SP\",J8)","v":0}]
[null,"Feuil1","Onglet_AP_Database_actions",69,{"$f":"LEN(resultats_textes_durs[[#This Row],[Texte en dur]])","v":26},null,{"$f":"_xlfn.IFS(Language=\"EN\",I9,Language=\"FR\",H9,Language=\"SP\",J9)","v":0}]
[null,"Feuil1","SRM",73,{"$f":"LEN(resultats_textes_durs[[#This Row],[Texte en dur]])","v":3},null,{"$f":"_xlfn.IFS(Language=\"EN\",I10,Language=\"FR\",H10,Language=\"SP\",J10)","v":0}]
[null,"Feuil10","SRM",12,{"$f":"LEN(resultats_textes_durs[[#This Row],[Texte en dur]])","v":3},null,{"$f":"_xlfn.IFS(Language=\"EN\",I11,Language=\"FR\",H11,Language=\"SP\",J11)","v":0}]
[null,"Feuil10",":",40,{"$f":"LEN(resultats_textes_durs[[#This Row],[Texte en dur]])","v":1},null,{"$f":"_xlfn.IFS(Language=\"EN\",I12,Language=\"FR\",H12,Language=\"SP\",J12)","v":0}]
[null,"Feuil10","SRM",49,{"$f":"LEN(resultats_textes_durs[[#This Row],[Texte en dur]])","v":3},null,{"$f":"_xlfn.IFS(Language=\"EN\",I13,Language=\"FR\",H13,Language=\"SP\",J13)","v":0}]
[null,"Feuil10","SRM",53,{"$f":"LEN(resultats_textes_durs[[#This Row],[Texte en dur]])","v":3},null,{"$f":"_xlfn.IFS(Language=\"EN\",I14,Language=\"FR\",H14,Language=\"SP\",J14)","v":0}]
[null,"Feuil10","SRM",57,{"$f":"LEN(resultats_textes_durs[[#This Row],[Texte en dur]])","v":3},null,{"$f":"_xlfn.IFS(Language=\"EN\",I15,Language=\"FR\",H15,Language=\"SP\",J15)","v":0}]
[null,"Feuil10","SRM",61,{"$f":"LEN(resultats_textes_durs[[#This Row],[Texte en dur]])","v":3},null,{"$f":"_xlfn.IFS(Language=\"EN\",I16,Language=\"FR\",H16,Language=\"SP\",J16)","v":0}]
[null,"Feuil10","Onglet_AP_Database_actions",68,{"$f":"LEN(resultats_textes_durs[[#This Row],[Texte en dur]])","v":26},null,{"$f":"_xlfn.IFS(Language=\"EN\",I17,Language=\"FR\",H17,Language=\"SP\",J17)","v":0}]
[null,"Feuil10","SRM",73,{"$f":"LEN(resultats_textes_durs[[#This Row],[Texte en dur]])","v":3},null,{"$f":"_xlfn.IFS(Language=\"EN\",I18,Language=\"FR\",H18,Language=\"SP\",J18)","v":0}]
[null,"Feuil11","SRM",12,{"$f":"LEN(resultats_textes_durs[[#This Row],[Texte en dur]])","v":3},null,{"$f":"_xlfn.IFS(Language=\"EN\",I19,Language=\"FR\",H19,Language=\"SP\",J19)","v":0}]
[null,"Feuil11",":",40,{"$f":"LEN(resultats_textes_durs[[#This Row],[Texte en dur]])","v":1},null,{"$f":"_xlfn.IFS(Language=\"EN\",I20,Language=\"FR\",H20,Language=\"SP\",J20)","v":0}]
[null,"Feuil11","SRM",49,{"$f":"LEN(resultats_textes_durs[[#This Row],[Texte en dur]])","v":3},null,{"$f":"_xlfn.IFS(Language=\"EN\",I21,Language=\"FR\",H21,Language=\"SP\",J21)","v":0}]
[null,"Feuil11","SRM",54,{"$f":"LEN(resultats_textes_durs[[#This Row],[Texte en dur]])","v":3},null,{"$f":"_xlfn.IFS(Language=\"EN\",I22,Language=\"FR\",H22,Language=\"SP\",J22)","v":0}]
[null,"Feuil11","SRM",58,{"$f":"LEN(resultats_textes_durs[[#This Row],[Texte en dur]])","v":3},null,{"$f":"_xlfn.IFS(Language=\"EN\",I23,Language=\"FR\",H23,Language=\"SP\",J23)","v":0}]
[null,"Feuil11","SRM",62,{"$f":"LEN(resultats_textes_durs[[#This Row],[Texte en dur]])","v":3},null,{"$f":"_xlfn.IFS(Language=\"EN\",I24,Language=\"FR\",H24,Language=\"SP\",J24)","v":0}]
[null,"Feuil11","Onglet_AP_Database_actions",69,{"$f":"LEN(resultats_textes_durs[[#This Row],[Texte en dur]])","v":26},null,{"$f":"_xlfn.IFS(Language=\"EN\",I25,Language=\"FR\",H25,Language=\"SP\",J25)","v":0}]
[null,"Feuil11","SRM",74,{"$f":"LEN(resultats_textes_durs[[#This Row],[Texte en dur]])","v":3},null,{"$f":"_xlfn.IFS(Language=\"EN\",I26,Language=\"FR\",H26,Language=\"SP\",J26)","v":0}]
[null,"Feuil14","SRM",13,{"$f":"LEN(resultats_textes_durs[[#This Row],[Texte en dur]])","v":3},null,{"$f":"_xlfn.IFS(Language=\"EN\",I27,Language=\"FR\",H27,Language=\"SP\",J27)","v":0}]
[null,"Feuil14",":",42,{"$f":"LEN(resultats_textes_durs[[#This Row],[Texte en dur]])","v":1},null,{"$f":"_xlfn.IFS(Language=\"EN\",I28,Language=\"FR\",H28,Language=\"SP\",J28)","v":0}]
[null,"Feuil14","SRM",51,{"$f":"LEN(resultats_textes_durs[[#This Row],[Texte en dur]])","v":3},null,{"$f":"_xlfn.IFS(Language=\"EN\",I29,Language=\"FR\",H29,Language=\"SP\",J29)","v":0}]
[null,"Feuil14","SRM",55,{"$f":"LEN(resultats_textes_durs[[#This Row],[Texte en dur]])","v":3},null,{"$f":"_xlfn.IFS(Language=\"EN\",I30,Language=\"FR\",H30,Language=\"SP\",J30)","v":0}]
[null,"Feuil14","SRM",59,{"$f":"LEN(resultats_textes_durs[[#This Row],[Texte en dur]])","v":3},null,{"$f":"_xlfn.IFS(Language=\"EN\",I31,Language=\"FR\",H31,Language=\"SP\",J31)","v":0}]
[null,"Feuil14","SRM",64,{"$f":"LEN(resultats_textes_durs[[#This Row],[Texte en dur]])","v":3},null,{"$f":"_xlfn.IFS(Language=\"EN\",I32,Language=\"FR\",H32,Language=\"SP\",J32)","v":0}]
[null,"Feuil14","Onglet_AP_Database_actions",70,{"$f":"LEN(resultats_textes_durs[[#This Row],[Texte en dur]])","v":26},null,{"$f":"_xlfn.IFS(Language=\"EN\",I33,Language=\"FR\",H33,Language=\"SP\",J33)","v":0}]
[null,"Feuil14","SRM",75,{"$f":"LEN(resultats_textes_durs[[#This Row],[Texte en dur]])","v":3},null,{"$f":"_xlfn.IFS(Language=\"EN\",I34,Language=\"FR\",H34,Language=\"SP\",J34)","v":0}]
[null,"Feuil16","Rectangle*",9,{"$f":"LEN(resultats_textes_durs[[#This Row],[Texte en dur]])","v":10},null,{"$f":"_xlfn.IFS(Language=\"EN\",I35,Language=\"FR\",H35,Language=\"SP\",J35)","v":0}]
[null,"Feuil16","Onglet_AP_Action_plan",24,{"$f":"LEN(resultats_textes_durs[[#This Row],[Texte en dur]])","v":21},null,{"$f":"_xlfn.IFS(Language=\"EN\",I36,Language=\"FR\",H36,Language=\"SP\",J36)","v":0}]
[null,"Feuil16","Rectangle*",27,{"$f":"LEN(resultats_textes_durs[[#This Row],[Texte en dur]])","v":10},null,{"$f":"_xlfn.IFS(Language=\"EN\",I37,Language=\"FR\",H37,Language=\"SP\",J37)","v":0}]
[null,"Feuil16","Menus réaffichés !",32,{"$f":"LEN(resultats_textes_durs[[#This Row],[Texte en dur]])","v":18},null,{"$f":"_xlfn.IFS(Language=\"EN\",I38,Language=\"FR\",H38,Language=\"SP\",J38)","v":0}]
[null,"Feuil16","Onglet_AP_Action_plan",43,{"$f":"LEN(resultats_textes_durs[[#This Row],[Texte en dur]])","v":21},null,{"$f":"_xlfn.IFS(Language=\"EN\",I39,Language=\"FR\",H39,Language=\"SP\",J39)","v":0}]
[null,"Feuil16","Onglet_AP_Action_plan",44,{"$f":"LEN(resultats_textes_durs[[#This Row],[Texte en dur]])","v":21},null,{"$f":"_xlfn.IFS(Language=\"EN\",I40,Language=\"FR\",H40,Language=\"SP\",J40)","v":0}]
[null,"Feuil16","AUT_long",47,{"$f":"LEN(resultats_textes_durs[[#This Row],[Texte en dur]])","v":8},null,{"$f":"_xlfn.IFS(Language=\"EN\",I41,Language=\"FR\",H41,Language=\"SP\",J41)","v":0}]
[null,"Feuil16","BUS_long",48,{"$f":"LEN(resultats_textes_durs[[#This Row],[Texte en dur]])","v":8},null,{"$f":"_xlfn.IFS(Language=\"EN\",I42,Language=\"FR\",H42,Language=\"SP\",J42)","v":0}]
[null,"Feuil16","CIV_long",49,{"$f":"LEN(resultats_textes_durs[[#This Row],[Texte en dur]])","v":8},null,{"$f":"_xlfn.IFS(Language=\"EN\",I43,Language=\"FR\",H43,Language=\"SP\",J43)","v":0}]
[null,"Feuil16","COM_long",50,{"$f":"LEN(resultats_textes_durs[[#This Row],[Texte en dur]])","v":8},null,{"$f":"_xlfn.IFS(Language=\"EN\",I44,Language=\"FR\",H44,Language=\"SP\",J44)","v":0}]
[null,"Feuil16","*",53,{"$f":"LEN(resultats_textes_durs[[#This Row],[Texte en dur]])","v":1},null,{"$f":"_xlfn.IFS(Language=\"EN\",I45,Language=\"FR\",H45,Language=\"SP\",J45)","v":0}]
[null,"Feuil16","D2:D",59,{"$f":"LEN(resultats_textes_durs[[#This Row],[Texte en dur]])","v":4},null,{"$f":"_xlfn.IFS(Language=\"EN\",I46,Language=\"FR\",H46,Language=\"SP\",J46)","v":0}]
[null,"Feuil16","*Interne*",71,{"$f":"LEN(resultats_textes_durs[[#This Row],[Texte en dur]])","v":9},null,{"$f":"_xlfn.IFS(Language=\"EN\",I47,Language=\"FR\",H47,Language=\"SP\",J47)","v":0}]
[null,"Feuil16","*Tous*",72,{"$f":"LEN(resultats_textes_durs[[#This Row],[Texte en dur]])","v":6},null,{"$f":"_xlfn.IFS(Language=\"EN\",I48,Language=\"FR\",H48,Language=\"SP\",J48)","v":0}]
[null,"Feuil16","Tous",72,{"$f":"LEN(resultats_textes_durs[[#This Row],[Texte en dur]])","v":4},null,{"$f":"_xlfn.IFS(Language=\"EN\",I49,Language=\"FR\",H49,Language=\"SP\",J49)","v":0}]
[null,"Feuil18","I10",19,{"$f":"LEN(resultats_textes_durs[[#This Row],[Texte en dur]])","v":3},null,{"$f":"_xlfn.IFS(Language=\"EN\",I50,Language=\"FR\",H50,Language=\"SP\",J50)","v":0}]
[null,"Feuil18","E38:I46",20,{"$f":"LEN(resultats_textes_durs[[#This Row],[Texte en dur]])","v":7},null,{"$f":"_xlfn.IFS(Language=\"EN\",I51,Language=\"FR\",H51,Language=\"SP\",J51)","v":0}]
[null,"Feuil18","E95:I113",21,{"$f":"LEN(resultats_textes_durs[[#This Row],[Texte en dur]])","v":8},null,{"$f":"_xlfn.IFS(Language=\"EN\",I52,Language=\"FR\",H52,Language=\"SP\",J52)","v":0}]
[null,"Feuil18","Onglet_AP_Fiche_SPL",26,{"$f":"LEN(resultats_textes_durs[[#This Row],[Texte en dur]])","v":19},null,{"$f":"_xlfn.IFS(Language=\"EN\",I53,Language=\"FR\",H53,Language=\"SP\",J53)","v":0}]
[null,"Feuil18","SRM",27,{"$f":"LEN(resultats_textes_durs[[#This Row],[Texte en dur]])","v":3},null,{"$f":"_xlfn.IFS(Language=\"EN\",I54,Language=\"FR\",H54,Language=\"SP\",J54)","v":0}]
[null,"Feuil18","F55",29,{"$f":"LEN(resultats_textes_durs[[#This Row],[Texte en dur]])","v":3},null,{"$f":"_xlfn.IFS(Language=\"EN\",I55,Language=\"FR\",H55,Language=\"SP\",J55)","v":0}]
[null,"Feuil18","F55",31,{"$f":"LEN(resultats_textes_durs[[#This Row],[Texte en dur]])","v":3},null,{"$f":"_xlfn.IFS(Language=\"EN\",I56,Language=\"FR\",H56,Language=\"SP\",J56)","v":0}]
[null,"Feuil18","F55",34,{"$f":"LEN(resultats_textes_durs[[#This Row],[Texte en dur]])","v":3},null,{"$f":"_xlfn.IFS(Language=\"EN\",I57,Language=\"FR\",H57,Language=\"SP\",J57)","v":0}]
[null,"Feuil18","SRM",36,{"$f":"LEN(resultats_textes_durs[[#This Row],[Texte en dur]])","v":3},null,{"$f":"_xlfn.IFS(Language=\"EN\",I58,Language=\"FR\",H58,Language=\"SP\",J58)","v":0}]
[null,"Feuil18","La plage ou la collection initialValues n'est pas définie.",61,{"$f":"LEN(resultats_textes_durs[[#This Row],[Texte en dur]])","v":58},null,{"$f":"_xlfn.IFS(Language=\"EN\",I59,Language=\"FR\",H59,Language=\"SP\",J59)","v":0}]
[null,"Feuil18","I10",90,{"$f":"LEN(resultats_textes_durs[[#This Row],[Texte en dur]])","v":3},null,{"$f":"_xlfn.IFS(Language=\"EN\",I60,Language=\"FR\",H60,Language=\"SP\",J60)","v":0}]
[null,"Feuil18","E38:I46",95,{"$f":"LEN(resultats_textes_durs[[#This Row],[Texte en dur]])","v":7},null,{"$f":"_xlfn.IFS(Language=\"EN\",I61,Language=\"FR\",H61,Language=\"SP\",J61)","v":0}]
[null,"Feuil18","E95:I113",98,{"$f":"LEN(resultats_textes_durs[[#This Row],[Texte en dur]])","v":8},null,{"$f":"_xlfn.IFS(Language=\"EN\",I62,Language=\"FR\",H62,Language=\"SP\",J62)","v":0}]
[null,"Feuil18","G73",109,{"$f":"LEN(resultats_textes_durs[[#This Row],[Texte en dur]])","v":3},null,{"$f":"_xlfn.IFS(Language=\"EN\",I63,Language=\"FR\",H63,Language=\"SP\",J63)","v":0}]
[null,"Feuil18","E25",115,{"$f":"LEN(resultats_textes_durs[[#This Row],[Texte en dur]])","v":3},null,{"$f":"_xlfn.IFS(Language=\"EN\",I64,Language=\"FR\",H64,Language=\"SP\",J64)","v":0}]
[null,"Feuil18","SRM",116,{"$f":"LEN(resultats_textes_durs[[#This Row],[Texte en dur]])","v":3},null,{"$f":"_xlfn.IFS(Language=\"EN\",I65,Language=\"FR\",H65,Language=\"SP\",J65)","v":0}]
[null,"Feuil18","26:26",117,{"$f":"LEN(resultats_textes_durs[[#This Row],[Texte en dur]])","v":5},null,{"$f":"_xlfn.IFS(Language=\"EN\",I66,Language=\"FR\",H66,Language=\"SP\",J66)","v":0}]
[null,"Feuil18","SRM",118,{"$f":"LEN(resultats_textes_durs[[#This Row],[Texte en dur]])","v":3},null,{"$f":"_xlfn.IFS(Language=\"EN\",I67,Language=\"FR\",H67,Language=\"SP\",J67)","v":0}]
[null,"Feuil18","G73",122,{"$f":"LEN(resultats_textes_durs[[#This Row],[Texte en dur]])","v":3},null,{"$f":"_xlfn.IFS(Language=\"EN\",I68,Language=\"FR\",H68,Language=\"SP\",J68)","v":0}]
[null,"Feuil18","SRM",124,{"$f":"LEN(resultats_textes_durs[[#This Row],[Texte en dur]])","v":3},null,{"$f":"_xlfn.IFS(Language=\"EN\",I69,Language=\"FR\",H69,Language=\"SP\",J69)","v":0}]
[null,"Feuil18","76:85",125,{"$f":"LEN(resultats_textes_durs[[#This Row],[Texte en dur]])","v":5},null,{"$f":"_xlfn.IFS(Language=\"EN\",I70,Language=\"FR\",H70,Language=\"SP\",J70)","v":0}]
[null,"Feuil18","SRM",127,{"$f":"LEN(resultats_textes_durs[[#This Row],[Texte en dur]])","v":3},null,{"$f":"_xlfn.IFS(Language=\"EN\",I71,Language=\"FR\",H71,Language=\"SP\",J71)","v":0}]
[null,"Feuil18","Onglet_AP_Fiche_SPL",140,{"$f":"LEN(resultats_textes_durs[[#This Row],[Texte en dur]])","v":19},null,{"$f":"_xlfn.IFS(Language=\"EN\",I72,Language=\"FR\",H72,Language=\"SP\",J72)","v":0}]
[null,"Feuil18","SPL_code",142,{"$f":"LEN(resultats_textes_durs[[#This Row],[Texte en dur]])","v":8},null,{"$f":"_xlfn.IFS(Language=\"EN\",I73,Language=\"FR\",H73,Language=\"SP\",J73)","v":0}]
[null,"Feuil18","SPL_code",144,{"$f":"LEN(resultats_textes_durs[[#This Row],[Texte en dur]])","v":8},null,{"$f":"_xlfn.IFS(Language=\"EN\",I74,Language=\"FR\",H74,Language=\"SP\",J74)","v":0}]
[null,"Feuil18","La plage nommée 'SPL_code' n'existe pas ou est mal définie.",148,{"$f":"LEN(resultats_textes_durs[[#This Row],[Texte en dur]])","v":59},null,{"$f":"_xlfn.IFS(Language=\"EN\",I75,Language=\"FR\",H75,Language=\"SP\",J75)","v":0}]
[null,"Feuil18","SPL_code",152,{"$f":"LEN(resultats_textes_durs[[#This Row],[Texte en dur]])","v":8},null,{"$f":"_xlfn.IFS(Language=\"EN\",I76,Language=\"FR\",H76,Language=\"SP\",J76)","v":0}]
[null,"Feuil18","Fiche_SPL_type",155,{"$f":"LEN(resultats_textes_durs[[#This Row],[Texte en dur]])","v":14},null,{"$f":"_xlfn.IFS(Language=\"EN\",I77,Language=\"FR\",H77,Language=\"SP\",J77)","v":0}]
[null,"Feuil18","Fiche_SPL_type",157,{"$f":"LEN(resultats_textes_durs[[#This Row],[Texte en dur]])","v":14},null,{"$f":"_xlfn.IFS(Language=\"EN\",I78,Language=\"FR\",H78,Language=\"SP\",J78)","v":0}]
[null,"Feuil18","La plage nommée 'Fiche_SPL_type' n'existe pas ou est mal définie.",161,{"$f":"LEN(resultats_textes_durs[[#This Row],[Texte en dur]])","v":65},null,{"$f":"_xlfn.IFS(Language=\"EN\",I79,Language=\"FR\",H79,Language=\"SP\",J79)","v":0}]
[null,"Feuil18","B6",166,{"$f":"LEN(resultats_textes_durs[[#This Row],[Texte en dur]])","v":2},null,{"$f":"_xlfn.IFS(Language=\"EN\",I80,Language=\"FR\",H80,Language=\"SP\",J80)","v":0}]
[null,"Feuil18","SRM",168,{"$f":"LEN(resultats_textes_durs[[#This Row],[Texte en dur]])","v":3},null,{"$f":"_xlfn.IFS(Language=\"EN\",I81,Language=\"FR\",H81,Language=\"SP\",J81)","v":0}]
[null,"Feuil18","P",173,{"$f":"LEN(resultats_textes_durs[[#This Row],[Texte en dur]])","v":1},null,{"$f":"_xlfn.IFS(Language=\"EN\",I82,Language=\"FR\",H82,Language=\"SP\",J82)","v":0}]
[null,"Feuil18","C",175,{"$f":"LEN(resultats_textes_durs[[#This Row],[Texte en dur]])","v":1},null,{"$f":"_xlfn.IFS(Language=\"EN\",I83,Language=\"FR\",H83,Language=\"SP\",J83)","v":0}]
[null,"Feuil18","I",175,{"$f":"LEN(resultats_textes_durs[[#This Row],[Texte en dur]])","v":1},null,{"$f":"_xlfn.IFS(Language=\"EN\",I84,Language=\"FR\",H84,Language=\"SP\",J84)","v":0}]
[null,"Feuil18","S",177,{"$f":"LEN(resultats_textes_durs[[#This Row],[Texte en dur]])","v":1},null,{"$f":"_xlfn.IFS(Language=\"EN\",I85,Language=\"FR\",H85,Language=\"SP\",J85)","v":0}]
[null,"Feuil18","Le SPL_code ne correspond à aucun critère défini.",180,{"$f":"LEN(resultats_textes_durs[[#This Row],[Texte en dur]])","v":49},null,{"$f":"_xlfn.IFS(Language=\"EN\",I86,Language=\"FR\",H86,Language=\"SP\",J86)","v":0}]
[null,"Feuil18","La plage 'SPL_code' est vide ou invalide.",183,{"$f":"LEN(resultats_textes_durs[[#This Row],[Texte en dur]])","v":41},null,{"$f":"_xlfn.IFS(Language=\"EN\",I87,Language=\"FR\",H87,Language=\"SP\",J87)","v":0}]
[null,"Feuil18","SRM",185,{"$f":"LEN(resultats_textes_durs[[#This Row],[Texte en dur]])","v":3},null,{"$f":"_xlfn.IFS(Language=\"EN\",I88,Language=\"FR\",H88,Language=\"SP\",J88)","v":0}]
[null,"Feuil24","Onglet_mapping_database",18,{"$f":"LEN(resultats_textes_durs[[#This Row],[Texte en dur]])","v":23},null,{"$f":"_xlfn.IFS(Language=\"EN\",I89,Language=\"FR\",H89,Language=\"SP\",J89)","v":0}]
[null,"Feuil24","SRM",21,{"$f":"LEN(resultats_textes_durs[[#This Row],[Texte en dur]])","v":3},null,{"$f":"_xlfn.IFS(Language=\"EN\",I90,Language=\"FR\",H90,Language=\"SP\",J90)","v":0}]
[null,"Feuil24","C13:C",24,{"$f":"LEN(resultats_textes_durs[[#This Row],[Texte en dur]])","v":5},null,{"$f":"_xlfn.IFS(Language=\"EN\",I91,Language=\"FR\",H91,Language=\"SP\",J91)","v":0}]
[null,"Feuil24","Nom du stakeholder : ",34,{"$f":"LEN(resultats_textes_durs[[#This Row],[Texte en dur]])","v":21},null,{"$f":"_xlfn.IFS(Language=\"EN\",I92,Language=\"FR\",H92,Language=\"SP\",J92)","v":0}]
[null,"Feuil24","Type du stakeholder : ",34,{"$f":"LEN(resultats_textes_durs[[#This Row],[Texte en dur]])","v":22},null,{"$f":"_xlfn.IFS(Language=\"EN\",I93,Language=\"FR\",H93,Language=\"SP\",J93)","v":0}]
[null,"Feuil24","O13:O",42,{"$f":"LEN(resultats_textes_durs[[#This Row],[Texte en dur]])","v":5},null,{"$f":"_xlfn.IFS(Language=\"EN\",I94,Language=\"FR\",H94,Language=\"SP\",J94)","v":0}]
[null,"Feuil24","Voulez-vous vraiment supprimer cette partie prenante ? Toutes les infos (y compris une interview éventuelle) seront supprimées.",48,{"$f":"LEN(resultats_textes_durs[[#This Row],[Texte en dur]])","v":127},null,{"$f":"_xlfn.IFS(Language=\"EN\",I95,Language=\"FR\",H95,Language=\"SP\",J95)","v":0}]
[null,"Feuil24","Confirmation de suppression",48,{"$f":"LEN(resultats_textes_durs[[#This Row],[Texte en dur]])","v":27},null,{"$f":"_xlfn.IFS(Language=\"EN\",I96,Language=\"FR\",H96,Language=\"SP\",J96)","v":0}]
[null,"Feuil24","Onglet_mapping_SHlist",58,{"$f":"LEN(resultats_textes_durs[[#This Row],[Texte en dur]])","v":21},null,{"$f":"_xlfn.IFS(Language=\"EN\",I97,Language=\"FR\",H97,Language=\"SP\",J97)","v":0}]
[null,"Feuil24","Onglet_mapping_database",60,{"$f":"LEN(resultats_textes_durs[[#This Row],[Texte en dur]])","v":23},null,{"$f":"_xlfn.IFS(Language=\"EN\",I98,Language=\"FR\",H98,Language=\"SP\",J98)","v":0}]
[null,"Feuil24","La partie prenante a été supprimée avec succès.",69,{"$f":"LEN(resultats_textes_durs[[#This Row],[Texte en dur]])","v":47},null,{"$f":"_xlfn.IFS(Language=\"EN\",I99,Language=\"FR\",H99,Language=\"SP\",J99)","v":0}]
[null,"Feuil24","SRM",93,{"$f":"LEN(resultats_textes_durs[[#This Row],[Texte en dur]])","v":3},null,{"$f":"_xlfn.IFS(Language=\"EN\",I100,Language=\"FR\",H100,Language=\"SP\",J100)","v":0}]
[null,"Feuil24","Onglet_mapping_SHlist",115,{"$f":"LEN(resultats_textes_durs[[#This Row],[Texte en dur]])","v":21},null,{"$f":"_xlfn.IFS(Language=\"EN\",I101,Language=\"FR\",H101,Language=\"SP\",J101)","v":0}]
[null,"Feuil24","Tableau1",116,{"$f":"LEN(resultats_textes_durs[[#This Row],[Texte en dur]])","v":8},null,{"$f":"_xlfn.IFS(Language=\"EN\",I102,Language=\"FR\",H102,Language=\"SP\",J102)","v":0}]
[null,"Feuil24","Un changement a été détecté et changesMade a été activé.",122,{"$f":"LEN(resultats_textes_durs[[#This Row],[Texte en dur]])","v":56},null,{"$f":"_xlfn.IFS(Language=\"EN\",I103,Language=\"FR\",H103,Language=\"SP\",J103)","v":0}]
[null,"Feuil24","Assets",134,{"$f":"LEN(resultats_textes_durs[[#This Row],[Texte en dur]])","v":6},null,{"$f":"_xlfn.IFS(Language=\"EN\",I104,Language=\"FR\",H104,Language=\"SP\",J104)","v":0}]
[null,"Feuil24","Tableau1",135,{"$f":"LEN(resultats_textes_durs[[#This Row],[Texte en dur]])","v":8},null,{"$f":"_xlfn.IFS(Language=\"EN\",I105,Language=\"FR\",H105,Language=\"SP\",J105)","v":0}]
[null,"Feuil24","Asset",136,{"$f":"LEN(resultats_textes_durs[[#This Row],[Texte en dur]])","v":5},null,{"$f":"_xlfn.IFS(Language=\"EN\",I106,Language=\"FR\",H106,Language=\"SP\",J106)","v":0}]
[null,"Feuil24","Asset",136,{"$f":"LEN(resultats_textes_durs[[#This Row],[Texte en dur]])","v":5},null,{"$f":"_xlfn.IFS(Language=\"EN\",I107,Language=\"FR\",H107,Language=\"SP\",J107)","v":0}]
[null,"Feuil24","Asset",138,{"$f":"LEN(resultats_textes_durs[[#This Row],[Texte en dur]])","v":5},null,{"$f":"_xlfn.IFS(Language=\"EN\",I108,Language=\"FR\",H108,Language=\"SP\",J108)","v":0}]
[null,"Feuil24","Assets",154,{"$f":"LEN(resultats_textes_durs[[#This Row],[Texte en dur]])","v":6},null,{"$f":"_xlfn.IFS(Language=\"EN\",I109,Language=\"FR\",H109,Language=\"SP\",J109)","v":0}]
[null,"Feuil24","Sélectionnez les Assets",158,{"$f":"LEN(resultats_textes_durs[[#This Row],[Texte en dur]])","v":23},null,{"$f":"_xlfn.IFS(Language=\"EN\",I110,Language=\"FR\",H110,Language=\"SP\",J110)","v":0}]
[null,"Feuil24","Forms.CheckBox.1",164,{"$f":"LEN(resultats_textes_durs[[#This Row],[Texte en dur]])","v":16},null,{"$f":"_xlfn.IFS(Language=\"EN\",I111,Language=\"FR\",H111,Language=\"SP\",J111)","v":0}]
[null,"Feuil24","cb",164,{"$f":"LEN(resultats_textes_durs[[#This Row],[Texte en dur]])","v":2},null,{"$f":"_xlfn.IFS(Language=\"EN\",I112,Language=\"FR\",H112,Language=\"SP\",J112)","v":0}]
[null,"Feuil24","Onglet_mapping_SHlist",184,{"$f":"LEN(resultats_textes_durs[[#This Row],[Texte en dur]])","v":21},null,{"$f":"_xlfn.IFS(Language=\"EN\",I113,Language=\"FR\",H113,Language=\"SP\",J113)","v":0}]
[null,"Feuil24","",185,{"$f":"LEN(resultats_textes_durs[[#This Row],[Texte en dur]])","v":0},null,{"$f":"_xlfn.IFS(Language=\"EN\",I114,Language=\"FR\",H114,Language=\"SP\",J114)","v":0}]
[null,"Feuil24","CheckBox",189,{"$f":"LEN(resultats_textes_durs[[#This Row],[Texte en dur]])","v":8},null,{"$f":"_xlfn.IFS(Language=\"EN\",I115,Language=\"FR\",H115,Language=\"SP\",J115)","v":0}]
[null,"Feuil24","",190,{"$f":"LEN(resultats_textes_durs[[#This Row],[Texte en dur]])","v":0},null,{"$f":"_xlfn.IFS(Language=\"EN\",I116,Language=\"FR\",H116,Language=\"SP\",J116)","v":0}]
[null,"Feuil24","SRM",206,{"$f":"LEN(resultats_textes_durs[[#This Row],[Texte en dur]])","v":3},null,{"$f":"_xlfn.IFS(Language=\"EN\",I117,Language=\"FR\",H117,Language=\"SP\",J117)","v":0}]
[null,"Feuil27","CI",10,{"$f":"LEN(resultats_textes_durs[[#This Row],[Texte en dur]])","v":2},null,{"$f":"_xlfn.IFS(Language=\"EN\",I118,Language=\"FR\",H118,Language=\"SP\",J118)","v":0}]
[null,"Feuil27","SPL",10,{"$f":"LEN(resultats_textes_durs[[#This Row],[Texte en dur]])","v":3},null,{"$f":"_xlfn.IFS(Language=\"EN\",I119,Language=\"FR\",H119,Language=\"SP\",J119)","v":0}]
[null,"Feuil27","B27:C43",11,{"$f":"LEN(resultats_textes_durs[[#This Row],[Texte en dur]])","v":7},null,{"$f":"_xlfn.IFS(Language=\"EN\",I120,Language=\"FR\",H120,Language=\"SP\",J120)","v":0}]
[null,"Feuil27","B52:C55",12,{"$f":"LEN(resultats_textes_durs[[#This Row],[Texte en dur]])","v":7},null,{"$f":"_xlfn.IFS(Language=\"EN\",I121,Language=\"FR\",H121,Language=\"SP\",J121)","v":0}]
[null,"Feuil27","CI",14,{"$f":"LEN(resultats_textes_durs[[#This Row],[Texte en dur]])","v":2},null,{"$f":"_xlfn.IFS(Language=\"EN\",I122,Language=\"FR\",H122,Language=\"SP\",J122)","v":0}]
[null,"Feuil27","SPL",14,{"$f":"LEN(resultats_textes_durs[[#This Row],[Texte en dur]])","v":3},null,{"$f":"_xlfn.IFS(Language=\"EN\",I123,Language=\"FR\",H123,Language=\"SP\",J123)","v":0}]
[null,"Feuil27","Onglet_AP_Fiche_SPL",22,{"$f":"LEN(resultats_textes_durs[[#This Row],[Texte en dur]])","v":19},null,{"$f":"_xlfn.IFS(Language=\"EN\",I124,Language=\"FR\",H124,Language=\"SP\",J124)","v":0}]
[null,"Feuil27","Onglet_AP_Fiche_SPL",23,{"$f":"LEN(resultats_textes_durs[[#This Row],[Texte en dur]])","v":19},null,{"$f":"_xlfn.IFS(Language=\"EN\",I125,Language=\"FR\",H125,Language=\"SP\",J125)","v":0}]
[null,"Feuil27","SRM",24,{"$f":"LEN(resultats_textes_durs[[#This Row],[Texte en dur]])","v":3},null,{"$f":"_xlfn.IFS(Language=\"EN\",I126,Language=\"FR\",H126,Language=\"SP\",J126)","v":0}]
[null,"Feuil27","C7",25,{"$f":"LEN(resultats_textes_durs[[#This Row],[Texte en dur]])","v":2},null,{"$f":"_xlfn.IFS(Language=\"EN\",I127,Language=\"FR\",H127,Language=\"SP\",J127)","v":0}]
[null,"Feuil27","Onglet_AP_Fiche_SPL",26,{"$f":"LEN(resultats_textes_durs[[#This Row],[Texte en dur]])","v":19},null,{"$f":"_xlfn.IFS(Language=\"EN\",I128,Language=\"FR\",H128,Language=\"SP\",J128)","v":0}]
[null,"Feuil27","SRM",27,{"$f":"LEN(resultats_textes_durs[[#This Row],[Texte en dur]])","v":3},null,{"$f":"_xlfn.IFS(Language=\"EN\",I129,Language=\"FR\",H129,Language=\"SP\",J129)","v":0}]
[null,"Feuil27","Onglet_Gap_P2",38,{"$f":"LEN(resultats_textes_durs[[#This Row],[Texte en dur]])","v":13},null,{"$f":"_xlfn.IFS(Language=\"EN\",I130,Language=\"FR\",H130,Language=\"SP\",J130)","v":0}]
[null,"Feuil27","Onglet_SRR_rules",39,{"$f":"LEN(resultats_textes_durs[[#This Row],[Texte en dur]])","v":16},null,{"$f":"_xlfn.IFS(Language=\"EN\",I131,Language=\"FR\",H131,Language=\"SP\",J131)","v":0}]
[null,"Feuil27","B15:C18",42,{"$f":"LEN(resultats_textes_durs[[#This Row],[Texte en dur]])","v":7},null,{"$f":"_xlfn.IFS(Language=\"EN\",I132,Language=\"FR\",H132,Language=\"SP\",J132)","v":0}]
[null,"Feuil27","Answer_rate_threshold",45,{"$f":"LEN(resultats_textes_durs[[#This Row],[Texte en dur]])","v":21},null,{"$f":"_xlfn.IFS(Language=\"EN\",I133,Language=\"FR\",H133,Language=\"SP\",J133)","v":0}]
[null,"Feuil27","Gap_P2_impact_source",47,{"$f":"LEN(resultats_textes_durs[[#This Row],[Texte en dur]])","v":20},null,{"$f":"_xlfn.IFS(Language=\"EN\",I134,Language=\"FR\",H134,Language=\"SP\",J134)","v":0}]
[null,"Feuil27","Gap_P2_impact",47,{"$f":"LEN(resultats_textes_durs[[#This Row],[Texte en dur]])","v":13},null,{"$f":"_xlfn.IFS(Language=\"EN\",I135,Language=\"FR\",H135,Language=\"SP\",J135)","v":0}]
[null,"Feuil27","Gap_P2_impact_source",48,{"$f":"LEN(resultats_textes_durs[[#This Row],[Texte en dur]])","v":20},null,{"$f":"_xlfn.IFS(Language=\"EN\",I136,Language=\"FR\",H136,Language=\"SP\",J136)","v":0}]
[null,"Feuil27","Gap_P2_impact",49,{"$f":"LEN(resultats_textes_durs[[#This Row],[Texte en dur]])","v":13},null,{"$f":"_xlfn.IFS(Language=\"EN\",I137,Language=\"FR\",H137,Language=\"SP\",J137)","v":0}]
[null,"Feuil27","Gap_P2_impact_rate",50,{"$f":"LEN(resultats_textes_durs[[#This Row],[Texte en dur]])","v":18},null,{"$f":"_xlfn.IFS(Language=\"EN\",I138,Language=\"FR\",H138,Language=\"SP\",J138)","v":0}]
[null,"Feuil27","Gap_P2_performance_source",54,{"$f":"LEN(resultats_textes_durs[[#This Row],[Texte en dur]])","v":25},null,{"$f":"_xlfn.IFS(Language=\"EN\",I139,Language=\"FR\",H139,Language=\"SP\",J139)","v":0}]
[null,"Feuil27","Gap_P2_performance",54,{"$f":"LEN(resultats_textes_durs[[#This Row],[Texte en dur]])","v":18},null,{"$f":"_xlfn.IFS(Language=\"EN\",I140,Language=\"FR\",H140,Language=\"SP\",J140)","v":0}]
[null,"Feuil27","Gap_P2_performance_source",55,{"$f":"LEN(resultats_textes_durs[[#This Row],[Texte en dur]])","v":25},null,{"$f":"_xlfn.IFS(Language=\"EN\",I141,Language=\"FR\",H141,Language=\"SP\",J141)","v":0}]
[null,"Feuil27","Gap_P2_performance",56,{"$f":"LEN(resultats_textes_durs[[#This Row],[Texte en dur]])","v":18},null,{"$f":"_xlfn.IFS(Language=\"EN\",I142,Language=\"FR\",H142,Language=\"SP\",J142)","v":0}]
[null,"Feuil27","Gap_P2_performance_rate",57,{"$f":"LEN(resultats_textes_durs[[#This Row],[Texte en dur]])","v":23},null,{"$f":"_xlfn.IFS(Language=\"EN\",I143,Language=\"FR\",H143,Language=\"SP\",J143)","v":0}]
[null,"Feuil29","",3,{"$f":"LEN(resultats_textes_durs[[#This Row],[Texte en dur]])","v":0},null,{"$f":"_xlfn.IFS(Language=\"EN\",I144,Language=\"FR\",H144,Language=\"SP\",J144)","v":0}]
[null,"Feuil29","filter_category",4,{"$f":"LEN(resultats_textes_durs[[#This Row],[Texte en dur]])","v":15},null,{"$f":"_xlfn.IFS(Language=\"EN\",I145,Language=\"FR\",H145,Language=\"SP\",J145)","v":0}]
[null,"Feuil29","Filter_group",5,{"$f":"LEN(resultats_textes_durs[[#This Row],[Texte en dur]])","v":12},null,{"$f":"_xlfn.IFS(Language=\"EN\",I146,Language=\"FR\",H146,Language=\"SP\",J146)","v":0}]
[null,"Feuil29","",5,{"$f":"LEN(resultats_textes_durs[[#This Row],[Texte en dur]])","v":0},null,{"$f":"_xlfn.IFS(Language=\"EN\",I147,Language=\"FR\",H147,Language=\"SP\",J147)","v":0}]
[null,"Feuil29","",13,{"$f":"LEN(resultats_textes_durs[[#This Row],[Texte en dur]])","v":0},null,{"$f":"_xlfn.IFS(Language=\"EN\",I148,Language=\"FR\",H148,Language=\"SP\",J148)","v":0}]
[null,"Feuil29","Filter_group",14,{"$f":"LEN(resultats_textes_durs[[#This Row],[Texte en dur]])","v":12},null,{"$f":"_xlfn.IFS(Language=\"EN\",I149,Language=\"FR\",H149,Language=\"SP\",J149)","v":0}]
[null,"Feuil29","filter_category",15,{"$f":"LEN(resultats_textes_durs[[#This Row],[Texte en dur]])","v":15},null,{"$f":"_xlfn.IFS(Language=\"EN\",I150,Language=\"FR\",H150,Language=\"SP\",J150)","v":0}]
[null,"Feuil29","",15,{"$f":"LEN(resultats_textes_durs[[#This Row],[Texte en dur]])","v":0},null,{"$f":"_xlfn.IFS(Language=\"EN\",I151,Language=\"FR\",H151,Language=\"SP\",J151)","v":0}]
[null,"Feuil29","Données de parties prenantes chargées lors de l'activation de la feuille.",26,{"$f":"LEN(resultats_textes_durs[[#This Row],[Texte en dur]])","v":73},null,{"$f":"_xlfn.IFS(Language=\"EN\",I152,Language=\"FR\",H152,Language=\"SP\",J152)","v":0}]
[null,"Feuil30","Onglet_mapping_SHlist",20,{"$f":"LEN(resultats_textes_durs[[#This Row],[Texte en dur]])","v":21},"-",{"$f":"_xlfn.IFS(Language=\"EN\",I153,Language=\"FR\",H153,Language=\"SP\",J153)","v":0}]
[null,"Feuil30","C",23,{"$f":"LEN(resultats_textes_durs[[#This Row],[Texte en dur]])","v":1},"-",{"$f":"_xlfn.IFS(Language=\"EN\",I154,Language=\"FR\",H154,Language=\"SP\",J154)","v":0}]
[null,"Feuil30","E",25,{"$f":"LEN(resultats_textes_durs[[#This Row],[Texte en dur]])","v":1},"-",{"$f":"_xlfn.IFS(Language=\"EN\",I155,Language=\"FR\",H155,Language=\"SP\",J155)","v":0}]
[null,"Feuil30","C",26,{"$f":"LEN(resultats_textes_durs[[#This Row],[Texte en dur]])","v":1},"-",{"$f":"_xlfn.IFS(Language=\"EN\",I156,Language=\"FR\",H156,Language=\"SP\",J156)","v":0}]
[null,"Feuil30","J",27,{"$f":"LEN(resultats_textes_durs[[#This Row],[Texte en dur]])","v":1},"-",{"$f":"_xlfn.IFS(Language=\"EN\",I157,Language=\"FR\",H157,Language=\"SP\",J157)","v":0}]
[null,"Feuil30","",30,{"$f":"LEN(resultats_textes_durs[[#This Row],[Texte en dur]])","v":0},"-",{"$f":"_xlfn.IFS(Language=\"EN\",I158,Language=\"FR\",H158,Language=\"SP\",J158)","v":0}]
[null,"Feuil30","",33,{"$f":"LEN(resultats_textes_durs[[#This Row],[Texte en dur]])","v":0},"-",{"$f":"_xlfn.IFS(Language=\"EN\",I159,Language=\"FR\",H159,Language=\"SP\",J159)","v":0}]
[null,"Feuil30","|",35,{"$f":"LEN(resultats_textes_durs[[#This Row],[Texte en dur]])","v":1},"-",{"$f":"_xlfn.IFS(Language=\"EN\",I160,Language=\"FR\",H160,Language=\"SP\",J160)","v":0}]
[null,"Feuil30","|",35,{"$f":"LEN(resultats_textes_durs[[#This Row],[Texte en dur]])","v":1},"-",{"$f":"_xlfn.IFS(Language=\"EN\",I161,Language=\"FR\",H161,Language=\"SP\",J161)","v":0}]
[null,"Feuil30","|",35,{"$f":"LEN(resultats_textes_durs[[#This Row],[Texte en dur]])","v":1},"-",{"$f":"_xlfn.IFS(Language=\"EN\",I162,Language=\"FR\",H162,Language=\"SP\",J162)","v":0}]
[null,"Feuil30","|",35,{"$f":"LEN(resultats_textes_durs[[#This Row],[Texte en dur]])","v":1},"-",{"$f":"_xlfn.IFS(Language=\"EN\",I163,Language=\"FR\",H163,Language=\"SP\",J163)","v":0}]
[null,"Feuil30","Chargé : ",44,{"$f":"LEN(resultats_textes_durs[[#This Row],[Texte en dur]])","v":9},"-",{"$f":"_xlfn.IFS(Language=\"EN\",I164,Language=\"FR\",H164,Language=\"SP\",J164)","v":0}]
[null,"Feuil30","SEP_multiple",49,{"$f":"LEN(resultats_textes_durs[[#This Row],[Texte en dur]])","v":12},null,{"$f":"_xlfn.IFS(Language=\"EN\",I165,Language=\"FR\",H165,Language=\"SP\",J165)","v":0}]
[null,"Feuil30","SEP_multiple",51,{"$f":"LEN(resultats_textes_durs[[#This Row],[Texte en dur]])","v":12},"Cellule nommée",{"$f":"_xlfn.IFS(Language=\"EN\",I166,Language=\"FR\",H166,Language=\"SP\",J166)","v":0}]
[null,"Feuil30","SEP_all",58,{"$f":"LEN(resultats_textes_durs[[#This Row],[Texte en dur]])","v":7},"Cellule nommée",{"$f":"_xlfn.IFS(Language=\"EN\",I167,Language=\"FR\",H167,Language=\"SP\",J167)","v":0}]
[null,"Feuil30","E",70,{"$f":"LEN(resultats_textes_durs[[#This Row],[Texte en dur]])","v":1},"-",{"$f":"_xlfn.IFS(Language=\"EN\",I168,Language=\"FR\",H168,Language=\"SP\",J168)","v":0}]
[null,"Feuil30","F",70,{"$f":"LEN(resultats_textes_durs[[#This Row],[Texte en dur]])","v":1},"-",{"$f":"_xlfn.IFS(Language=\"EN\",I169,Language=\"FR\",H169,Language=\"SP\",J169)","v":0}]
[null,"Feuil30","D",72,{"$f":"LEN(resultats_textes_durs[[#This Row],[Texte en dur]])","v":1},"-",{"$f":"_xlfn.IFS(Language=\"EN\",I170,Language=\"FR\",H170,Language=\"SP\",J170)","v":0}]
[null,"Feuil30","D",74,{"$f":"LEN(resultats_textes_durs[[#This Row],[Texte en dur]])","v":1},"-",{"$f":"_xlfn.IFS(Language=\"EN\",I171,Language=\"FR\",H171,Language=\"SP\",J171)","v":0}]
[null,"Feuil30","E",78,{"$f":"LEN(resultats_textes_durs[[#This Row],[Texte en dur]])","v":1},"-",{"$f":"_xlfn.IFS(Language=\"EN\",I172,Language=\"FR\",H172,Language=\"SP\",J172)","v":0}]
[null,"Feuil30","F",81,{"$f":"LEN(resultats_textes_durs[[#This Row],[Texte en dur]])","v":1},"-",{"$f":"_xlfn.IFS(Language=\"EN\",I173,Language=\"FR\",H173,Language=\"SP\",J173)","v":0}]
[null,"Feuil30","E",83,{"$f":"LEN(resultats_textes_durs[[#This Row],[Texte en dur]])","v":1},"-",{"$f":"_xlfn.IFS(Language=\"EN\",I174,Language=\"FR\",H174,Language=\"SP\",J174)","v":0}]
[null,"Feuil30","E",85,{"$f":"LEN(resultats_textes_durs[[#This Row],[Texte en dur]])","v":1},"-",{"$f":"_xlfn.IFS(Language=\"EN\",I175,Language=\"FR\",H175,Language=\"SP\",J175)","v":0}]
[null,"Feuil30","Scripting.Dictionary",130,{"$f":"LEN(resultats_textes_durs[[#This Row],[Texte en dur]])","v":20},"-",{"$f":"_xlfn.IFS(Language=\"EN\",I176,Language=\"FR\",H176,Language=\"SP\",J176)","v":0}]
[null,"Feuil30","Scripting.Dictionary",131,{"$f":"LEN(resultats_textes_durs[[#This Row],[Texte en dur]])","v":20},"-",{"$f":"_xlfn.IFS(Language=\"EN\",I177,Language=\"FR\",H177,Language=\"SP\",J177)","v":0}]
[null,"Feuil30","F",135,{"$f":"LEN(resultats_textes_durs[[#This Row],[Texte en dur]])","v":1},"-",{"$f":"_xlfn.IFS(Language=\"EN\",I178,Language=\"FR\",H178,Language=\"SP\",J178)","v":0}]
[null,"Feuil30","Cellule de la colonne F déverrouillée sélectionnée.",136,{"$f":"LEN(resultats_textes_durs[[#This Row],[Texte en dur]])","v":51},"Message utilisateur",{"$f":"_xlfn.IFS(Language=\"EN\",I179,Language=\"FR\",H179,Language=\"SP\",J179)","v":0}]
[null,"Feuil30","CheckBox",140,{"$f":"LEN(resultats_textes_durs[[#This Row],[Texte en dur]])","v":8},"-",{"$f":"_xlfn.IFS(Language=\"EN\",I180,Language=\"FR\",H180,Language=\"SP\",J180)","v":0}]
[null,"Feuil30","Frame",140,{"$f":"LEN(resultats_textes_durs[[#This Row],[Texte en dur]])","v":5},"-",{"$f":"_xlfn.IFS(Language=\"EN\",I181,Language=\"FR\",H181,Language=\"SP\",J181)","v":0}]
[null,"Feuil30","Aucun groupe de stakeholders trouvé dans la cellule sélectionnée.",149,{"$f":"LEN(resultats_textes_durs[[#This Row],[Texte en dur]])","v":65},"Message utilisateur",{"$f":"_xlfn.IFS(Language=\"EN\",I182,Language=\"FR\",H182,Language=\"SP\",J182)","v":0}]
[null,"Feuil30","",166,{"$f":"LEN(resultats_textes_durs[[#This Row],[Texte en dur]])","v":0},"-",{"$f":"_xlfn.IFS(Language=\"EN\",I183,Language=\"FR\",H183,Language=\"SP\",J183)","v":0}]
[null,"Feuil30","Comparaison avec le groupe : ",167,{"$f":"LEN(resultats_textes_durs[[#This Row],[Texte en dur]])","v":29},"-",{"$f":"_xlfn.IFS(Language=\"EN\",I184,Language=\"FR\",H184,Language=\"SP\",J184)","v":0}]
[null,"Feuil30","|",171,{"$f":"LEN(resultats_textes_durs[[#This Row],[Texte en dur]])","v":1},"-",{"$f":"_xlfn.IFS(Language=\"EN\",I185,Language=\"FR\",H185,Language=\"SP\",J185)","v":0}]
[null,"Feuil30","Stakeholder correspondant : ",178,{"$f":"LEN(resultats_textes_durs[[#This Row],[Texte en dur]])","v":28},"-",{"$f":"_xlfn.IFS(Language=\"EN\",I186,Language=\"FR\",H186,Language=\"SP\",J186)","v":0}]
[null,"Feuil30"," dans la zone : ",178,{"$f":"LEN(resultats_textes_durs[[#This Row],[Texte en dur]])","v":16},"-",{"$f":"_xlfn.IFS(Language=\"EN\",I187,Language=\"FR\",H187,Language=\"SP\",J187)","v":0}]
[null,"Feuil30","|",187,{"$f":"LEN(resultats_textes_durs[[#This Row],[Texte en dur]])","v":1},"-",{"$f":"_xlfn.IFS(Language=\"EN\",I188,Language=\"FR\",H188,Language=\"SP\",J188)","v":0}]
[null,"Feuil30","|",187,{"$f":"LEN(resultats_textes_durs[[#This Row],[Texte en dur]])","v":1},"-",{"$f":"_xlfn.IFS(Language=\"EN\",I189,Language=\"FR\",H189,Language=\"SP\",J189)","v":0}]
[null,"Feuil30","Aucun stakeholder trouvé pour les groupes sélectionnés.",199,{"$f":"LEN(resultats_textes_durs[[#This Row],[Texte en dur]])","v":55},"Message utilisateur",{"$f":"_xlfn.IFS(Language=\"EN\",I190,Language=\"FR\",H190,Language=\"SP\",J190)","v":0}]
[null,"Feuil30","Not Rated",207,{"$f":"LEN(resultats_textes_durs[[#This Row],[Texte en dur]])","v":9},"-",{"$f":"_xlfn.IFS(Language=\"EN\",I191,Language=\"FR\",H191,Language=\"SP\",J191)","v":0}]
[null,"Feuil30","Zone *",216,{"$f":"LEN(resultats_textes_durs[[#This Row],[Texte en dur]])","v":6},"-",{"$f":"_xlfn.IFS(Language=\"EN\",I192,Language=\"FR\",H192,Language=\"SP\",J192)","v":0}]
[null,"Feuil30","Zone ",226,{"$f":"LEN(resultats_textes_durs[[#This Row],[Texte en dur]])","v":5},"-",{"$f":"_xlfn.IFS(Language=\"EN\",I193,Language=\"FR\",H193,Language=\"SP\",J193)","v":0}]
[null,"Feuil30","",226,{"$f":"LEN(resultats_textes_durs[[#This Row],[Texte en dur]])","v":0},"-",{"$f":"_xlfn.IFS(Language=\"EN\",I194,Language=\"FR\",H194,Language=\"SP\",J194)","v":0}]
[null,"Feuil30","Zone ",226,{"$f":"LEN(resultats_textes_durs[[#This Row],[Texte en dur]])","v":5},"-",{"$f":"_xlfn.IFS(Language=\"EN\",I195,Language=\"FR\",H195,Language=\"SP\",J195)","v":0}]
[null,"Feuil30","",226,{"$f":"LEN(resultats_textes_durs[[#This Row],[Texte en dur]])","v":0},"-",{"$f":"_xlfn.IFS(Language=\"EN\",I196,Language=\"FR\",H196,Language=\"SP\",J196)","v":0}]
[null,"Feuil30","Not Rated",236,{"$f":"LEN(resultats_textes_durs[[#This Row],[Texte en dur]])","v":9},"-",{"$f":"_xlfn.IFS(Language=\"EN\",I197,Language=\"FR\",H197,Language=\"SP\",J197)","v":0}]
[null,"Feuil30","",237,{"$f":"LEN(resultats_textes_durs[[#This Row],[Texte en dur]])","v":0},"-",{"$f":"_xlfn.IFS(Language=\"EN\",I198,Language=\"FR\",H198,Language=\"SP\",J198)","v":0}]
[null,"Feuil30","Not Rated",238,{"$f":"LEN(resultats_textes_durs[[#This Row],[Texte en dur]])","v":9},"TRAD",{"$f":"_xlfn.IFS(Language=\"EN\",I199,Language=\"FR\",H199,Language=\"SP\",J199)","v":"Not rated"},"Non scoré","Not rated"]
[null,"Feuil30","",248,{"$f":"LEN(resultats_textes_durs[[#This Row],[Texte en dur]])","v":0},"-",{"$f":"_xlfn.IFS(Language=\"EN\",I200,Language=\"FR\",H200,Language=\"SP\",J200)","v":0}]
[null,"Feuil30","Not Rated",248,{"$f":"LEN(resultats_textes_durs[[#This Row],[Texte en dur]])","v":9},"L199",{"$f":"_xlfn.IFS(Language=\"EN\",I201,Language=\"FR\",H201,Language=\"SP\",J201)","v":0}]
[null,"Feuil30","|",254,{"$f":"LEN(resultats_textes_durs[[#This Row],[Texte en dur]])","v":1},"-",{"$f":"_xlfn.IFS(Language=\"EN\",I202,Language=\"FR\",H202,Language=\"SP\",J202)","v":0}]
[null,"Feuil30","",255,{"$f":"LEN(resultats_textes_durs[[#This Row],[Texte en dur]])","v":0},"-",{"$f":"_xlfn.IFS(Language=\"EN\",I203,Language=\"FR\",H203,Language=\"SP\",J203)","v":0}]
[null,"Feuil30","Not Rated",255,{"$f":"LEN(resultats_textes_durs[[#This Row],[Texte en dur]])","v":9},"L199",{"$f":"_xlfn.IFS(Language=\"EN\",I204,Language=\"FR\",H204,Language=\"SP\",J204)","v":0}]
[null,"Feuil30","Forms.Frame.1",265,{"$f":"LEN(resultats_textes_durs[[#This Row],[Texte en dur]])","v":13},"-",{"$f":"_xlfn.IFS(Language=\"EN\",I205,Language=\"FR\",H205,Language=\"SP\",J205)","v":0}]
[null,"Feuil30","Frame",265,{"$f":"LEN(resultats_textes_durs[[#This Row],[Texte en dur]])","v":5},"-",{"$f":"_xlfn.IFS(Language=\"EN\",I206,Language=\"FR\",H206,Language=\"SP\",J206)","v":0}]
[null,"Feuil30","Zone 1",272,{"$f":"LEN(resultats_textes_durs[[#This Row],[Texte en dur]])","v":6},"-",{"$f":"_xlfn.IFS(Language=\"EN\",I207,Language=\"FR\",H207,Language=\"SP\",J207)","v":0}]
[null,"Feuil30","Zone 1",273,{"$f":"LEN(resultats_textes_durs[[#This Row],[Texte en dur]])","v":6},"-",{"$f":"_xlfn.IFS(Language=\"EN\",I208,Language=\"FR\",H208,Language=\"SP\",J208)","v":0}]
[null,"Feuil30","|",292,{"$f":"LEN(resultats_textes_durs[[#This Row],[Texte en dur]])","v":1},"-",{"$f":"_xlfn.IFS(Language=\"EN\",I209,Language=\"FR\",H209,Language=\"SP\",J209)","v":0}]
[null,"Feuil30","",296,{"$f":"LEN(resultats_textes_durs[[#This Row],[Texte en dur]])","v":0},"-",{"$f":"_xlfn.IFS(Language=\"EN\",I210,Language=\"FR\",H210,Language=\"SP\",J210)","v":0}]
[null,"Feuil30","Not Rated",296,{"$f":"LEN(resultats_textes_durs[[#This Row],[Texte en dur]])","v":9},"L199",{"$f":"_xlfn.IFS(Language=\"EN\",I211,Language=\"FR\",H211,Language=\"SP\",J211)","v":0}]
[null,"Feuil30","Ajout de la CheckBox pour : ",297,{"$f":"LEN(resultats_textes_durs[[#This Row],[Texte en dur]])","v":28},"-",{"$f":"_xlfn.IFS(Language=\"EN\",I212,Language=\"FR\",H212,Language=\"SP\",J212)","v":0}]
[null,"Feuil30"," dans la zone : ",297,{"$f":"LEN(resultats_textes_durs[[#This Row],[Texte en dur]])","v":16},"-",{"$f":"_xlfn.IFS(Language=\"EN\",I213,Language=\"FR\",H213,Language=\"SP\",J213)","v":0}]
[null,"Feuil30","Forms.CheckBox.1",299,{"$f":"LEN(resultats_textes_durs[[#This Row],[Texte en dur]])","v":16},"-",{"$f":"_xlfn.IFS(Language=\"EN\",I214,Language=\"FR\",H214,Language=\"SP\",J214)","v":0}]
[null,"Feuil30","CheckBox",299,{"$f":"LEN(resultats_textes_durs[[#This Row],[Texte en dur]])","v":8},"-",{"$f":"_xlfn.IFS(Language=\"EN\",I215,Language=\"FR\",H215,Language=\"SP\",J215)","v":0}]
[null,"Feuil30","Aucun stakeholder trouvé pour les groupes sélectionnés.",331,{"$f":"LEN(resultats_textes_durs[[#This Row],[Texte en dur]])","v":55},"Message utilisateur",{"$f":"_xlfn.IFS(Language=\"EN\",I216,Language=\"FR\",H216,Language=\"SP\",J216)","v":0}]
[null,"Feuil30","Une erreur est survenue. La liste des stakeholders sera rechargée.",337,{"$f":"LEN(resultats_textes_durs[[#This Row],[Texte en dur]])","v":66},"Message utilisateur",{"$f":"_xlfn.IFS(Language=\"EN\",I217,Language=\"FR\",H217,Language=\"SP\",J217)","v":0}]
[null,"Feuil30","Onglet_mapping_SEP",339,{"$f":"LEN(resultats_textes_durs[[#This Row],[Texte en dur]])","v":18},"-",{"$f":"_xlfn.IFS(Language=\"EN\",I218,Language=\"FR\",H218,Language=\"SP\",J218)","v":0}]
[null,"Feuil30","Cellule de la colonne E déverrouillée sélectionnée.",361,{"$f":"LEN(resultats_textes_durs[[#This Row],[Texte en dur]])","v":51},"-",{"$f":"_xlfn.IFS(Language=\"EN\",I219,Language=\"FR\",H219,Language=\"SP\",J219)","v":0}]
[null,"Feuil30","CheckBox",365,{"$f":"LEN(resultats_textes_durs[[#This Row],[Texte en dur]])","v":8},"-",{"$f":"_xlfn.IFS(Language=\"EN\",I220,Language=\"FR\",H220,Language=\"SP\",J220)","v":0}]
[null,"Feuil30","Stakeholder Category",370,{"$f":"LEN(resultats_textes_durs[[#This Row],[Texte en dur]])","v":20},"-",{"$f":"_xlfn.IFS(Language=\"EN\",I221,Language=\"FR\",H221,Language=\"SP\",J221)","v":0}]
[null,"Feuil30","Stakeholders",373,{"$f":"LEN(resultats_textes_durs[[#This Row],[Texte en dur]])","v":12},"-",{"$f":"_xlfn.IFS(Language=\"EN\",I222,Language=\"FR\",H222,Language=\"SP\",J222)","v":0}]
[null,"Feuil30","Ajout de la case à cocher pour : ",392,{"$f":"LEN(resultats_textes_durs[[#This Row],[Texte en dur]])","v":33},"-",{"$f":"_xlfn.IFS(Language=\"EN\",I223,Language=\"FR\",H223,Language=\"SP\",J223)","v":0}]
[null,"Feuil30","Forms.CheckBox.1",393,{"$f":"LEN(resultats_textes_durs[[#This Row],[Texte en dur]])","v":16},"-",{"$f":"_xlfn.IFS(Language=\"EN\",I224,Language=\"FR\",H224,Language=\"SP\",J224)","v":0}]
[null,"Feuil30","CheckBox",393,{"$f":"LEN(resultats_textes_durs[[#This Row],[Texte en dur]])","v":8},"-",{"$f":"_xlfn.IFS(Language=\"EN\",I225,Language=\"FR\",H225,Language=\"SP\",J225)","v":0}]
[null,"Feuil30","Une erreur est survenue. La liste des stakeholders sera rechargée.",415,{"$f":"LEN(resultats_textes_durs[[#This Row],[Texte en dur]])","v":66},"Message utilisateur",{"$f":"_xlfn.IFS(Language=\"EN\",I226,Language=\"FR\",H226,Language=\"SP\",J226)","v":0}]
[null,"Feuil30","Onglet_mapping_SEP",417,{"$f":"LEN(resultats_textes_durs[[#This Row],[Texte en dur]])","v":18},"-",{"$f":"_xlfn.IFS(Language=\"EN\",I227,Language=\"FR\",H227,Language=\"SP\",J227)","v":0}]
[null,"Feuil30","Onglet_mapping_parameters",432,{"$f":"LEN(resultats_textes_durs[[#This Row],[Texte en dur]])","v":25},"-",{"$f":"_xlfn.IFS(Language=\"EN\",I228,Language=\"FR\",H228,Language=\"SP\",J228)","v":0}]
[null,"Feuil30","Onglet_mapping_parameters",433,{"$f":"LEN(resultats_textes_durs[[#This Row],[Texte en dur]])","v":25},"-",{"$f":"_xlfn.IFS(Language=\"EN\",I229,Language=\"FR\",H229,Language=\"SP\",J229)","v":0}]
[null,"Feuil30","D",436,{"$f":"LEN(resultats_textes_durs[[#This Row],[Texte en dur]])","v":1},"-",{"$f":"_xlfn.IFS(Language=\"EN\",I230,Language=\"FR\",H230,Language=\"SP\",J230)","v":0}]
[null,"Feuil30","D",440,{"$f":"LEN(resultats_textes_durs[[#This Row],[Texte en dur]])","v":1},"-",{"$f":"_xlfn.IFS(Language=\"EN\",I231,Language=\"FR\",H231,Language=\"SP\",J231)","v":0}]
[null,"Feuil30","E",442,{"$f":"LEN(resultats_textes_durs[[#This Row],[Texte en dur]])","v":1},"-",{"$f":"_xlfn.IFS(Language=\"EN\",I232,Language=\"FR\",H232,Language=\"SP\",J232)","v":0}]
[null,"Feuil30","S",453,{"$f":"LEN(resultats_textes_durs[[#This Row],[Texte en dur]])","v":1},"-",{"$f":"_xlfn.IFS(Language=\"EN\",I233,Language=\"FR\",H233,Language=\"SP\",J233)","v":0}]
[null,"Feuil30","Tableau2",454,{"$f":"LEN(resultats_textes_durs[[#This Row],[Texte en dur]])","v":8},"-",{"$f":"_xlfn.IFS(Language=\"EN\",I234,Language=\"FR\",H234,Language=\"SP\",J234)","v":0}]
[null,"Feuil30","Tableau2",457,{"$f":"LEN(resultats_textes_durs[[#This Row],[Texte en dur]])","v":8},"-",{"$f":"_xlfn.IFS(Language=\"EN\",I235,Language=\"FR\",H235,Language=\"SP\",J235)","v":0}]
[null,"Feuil30","Voulez-vous supprimer la ligne ?",463,{"$f":"LEN(resultats_textes_durs[[#This Row],[Texte en dur]])","v":32},"Message utilisateur",{"$f":"_xlfn.IFS(Language=\"EN\",I236,Language=\"FR\",H236,Language=\"SP\",J236)","v":0}]
[null,"Feuil30","Confirmer la suppression",463,{"$f":"LEN(resultats_textes_durs[[#This Row],[Texte en dur]])","v":24},"Message utilisateur",{"$f":"_xlfn.IFS(Language=\"EN\",I237,Language=\"FR\",H237,Language=\"SP\",J237)","v":0}]
[null,"Feuil30","Me",486,{"$f":"LEN(resultats_textes_durs[[#This Row],[Texte en dur]])","v":2},"-",{"$f":"_xlfn.IFS(Language=\"EN\",I238,Language=\"FR\",H238,Language=\"SP\",J238)","v":0}]
[null,"Feuil30","Tableau2",487,{"$f":"LEN(resultats_textes_durs[[#This Row],[Texte en dur]])","v":8},"-",{"$f":"_xlfn.IFS(Language=\"EN\",I239,Language=\"FR\",H239,Language=\"SP\",J239)","v":0}]
[null,"Feuil30","Tableau2",487,{"$f":"LEN(resultats_textes_durs[[#This Row],[Texte en dur]])","v":8},"-",{"$f":"_xlfn.IFS(Language=\"EN\",I240,Language=\"FR\",H240,Language=\"SP\",J240)","v":0}]
[null,"Feuil30","La table 'Tableau2' n'existe pas sur la feuille : ",491,{"$f":"LEN(resultats_textes_durs[[#This Row],[Texte en dur]])","v":50},"-",{"$f":"_xlfn.IFS(Language=\"EN\",I241,Language=\"FR\",H241,Language=\"SP\",J241)","v":0}]
[null,"Feuil30","La table 'Tableau2' n'existe pas sur cette feuille.",492,{"$f":"LEN(resultats_textes_durs[[#This Row],[Texte en dur]])","v":51},"Message utilisateur",{"$f":"_xlfn.IFS(Language=\"EN\",I242,Language=\"FR\",H242,Language=\"SP\",J242)","v":0}]
[null,"Feuil30","Début du traitement : Ligne ",500,{"$f":"LEN(resultats_textes_durs[[#This Row],[Texte en dur]])","v":28},"-",{"$f":"_xlfn.IFS(Language=\"EN\",I243,Language=\"FR\",H243,Language=\"SP\",J243)","v":0}]
[null,"Feuil30"," à Ligne ",500,{"$f":"LEN(resultats_textes_durs[[#This Row],[Texte en dur]])","v":9},"-",{"$f":"_xlfn.IFS(Language=\"EN\",I244,Language=\"FR\",H244,Language=\"SP\",J244)","v":0}]
[null,"Feuil30","Traitement de la ligne ",505,{"$f":"LEN(resultats_textes_durs[[#This Row],[Texte en dur]])","v":23},"-",{"$f":"_xlfn.IFS(Language=\"EN\",I245,Language=\"FR\",H245,Language=\"SP\",J245)","v":0}]
[null,"Feuil30","R",508,{"$f":"LEN(resultats_textes_durs[[#This Row],[Texte en dur]])","v":1},"-",{"$f":"_xlfn.IFS(Language=\"EN\",I246,Language=\"FR\",H246,Language=\"SP\",J246)","v":0}]
[null,"Feuil30","",508,{"$f":"LEN(resultats_textes_durs[[#This Row],[Texte en dur]])","v":0},"-",{"$f":"_xlfn.IFS(Language=\"EN\",I247,Language=\"FR\",H247,Language=\"SP\",J247)","v":0}]
[null,"Feuil30","G",508,{"$f":"LEN(resultats_textes_durs[[#This Row],[Texte en dur]])","v":1},"-",{"$f":"_xlfn.IFS(Language=\"EN\",I248,Language=\"FR\",H248,Language=\"SP\",J248)","v":0}]
[null,"Feuil30","",508,{"$f":"LEN(resultats_textes_durs[[#This Row],[Texte en dur]])","v":0},"-",{"$f":"_xlfn.IFS(Language=\"EN\",I249,Language=\"FR\",H249,Language=\"SP\",J249)","v":0}]
[null,"Feuil30","C",509,{"$f":"LEN(resultats_textes_durs[[#This Row],[Texte en dur]])","v":1},"-",{"$f":"_xlfn.IFS(Language=\"EN\",I250,Language=\"FR\",H250,Language=\"SP\",J250)","v":0}]
[null,"Feuil30","Numéro d'action ajouté dans la colonne C : ",510,{"$f":"LEN(resultats_textes_durs[[#This Row],[Texte en dur]])","v":43},"-",{"$f":"_xlfn.IFS(Language=\"EN\",I251,Language=\"FR\",H251,Language=\"SP\",J251)","v":0}]
[null,"Feuil30","C",512,{"$f":"LEN(resultats_textes_durs[[#This Row],[Texte en dur]])","v":1},"-",{"$f":"_xlfn.IFS(Language=\"EN\",I252,Language=\"FR\",H252,Language=\"SP\",J252)","v":0}]
[null,"Feuil30","",512,{"$f":"LEN(resultats_textes_durs[[#This Row],[Texte en dur]])","v":0},"-",{"$f":"_xlfn.IFS(Language=\"EN\",I253,Language=\"FR\",H253,Language=\"SP\",J253)","v":0}]
[null,"Feuil30","G",512,{"$f":"LEN(resultats_textes_durs[[#This Row],[Texte en dur]])","v":1},"-",{"$f":"_xlfn.IFS(Language=\"EN\",I254,Language=\"FR\",H254,Language=\"SP\",J254)","v":0}]
[null,"Feuil30","",512,{"$f":"LEN(resultats_textes_durs[[#This Row],[Texte en dur]])","v":0},"-",{"$f":"_xlfn.IFS(Language=\"EN\",I255,Language=\"FR\",H255,Language=\"SP\",J255)","v":0}]
[null,"Feuil30","C",513,{"$f":"LEN(resultats_textes_durs[[#This Row],[Texte en dur]])","v":1},"-",{"$f":"_xlfn.IFS(Language=\"EN\",I256,Language=\"FR\",H256,Language=\"SP\",J256)","v":0}]
[null,"Feuil30","",513,{"$f":"LEN(resultats_textes_durs[[#This Row],[Texte en dur]])","v":0},"-",{"$f":"_xlfn.IFS(Language=\"EN\",I257,Language=\"FR\",H257,Language=\"SP\",J257)","v":0}]
[null,"Feuil30","Effacement du numéro d'action dans la colonne C pour la ligne ",514,{"$f":"LEN(resultats_textes_durs[[#This Row],[Texte en dur]])","v":62},"-",{"$f":"_xlfn.IFS(Language=\"EN\",I258,Language=\"FR\",H258,Language=\"SP\",J258)","v":0}]
[null,"Feuil30","Aucune modification pour la ligne ",516,{"$f":"LEN(resultats_textes_durs[[#This Row],[Texte en dur]])","v":34},"-",{"$f":"_xlfn.IFS(Language=\"EN\",I259,Language=\"FR\",H259,Language=\"SP\",J259)","v":0}]
[null,"Feuil30","Traitement terminé pour le tableau 'Tableau2'.",520,{"$f":"LEN(resultats_textes_durs[[#This Row],[Texte en dur]])","v":46},"-",{"$f":"_xlfn.IFS(Language=\"EN\",I260,Language=\"FR\",H260,Language=\"SP\",J260)","v":0}]
[null,"Feuil30","Onglet_mapping_SHlist",539,{"$f":"LEN(resultats_textes_durs[[#This Row],[Texte en dur]])","v":21},"-",{"$f":"_xlfn.IFS(Language=\"EN\",I261,Language=\"FR\",H261,Language=\"SP\",J261)","v":0}]
[null,"Feuil30","Onglet_mapping_SEP",540,{"$f":"LEN(resultats_textes_durs[[#This Row],[Texte en dur]])","v":18},"-",{"$f":"_xlfn.IFS(Language=\"EN\",I262,Language=\"FR\",H262,Language=\"SP\",J262)","v":0}]
[null,"Feuil30","F",543,{"$f":"LEN(resultats_textes_durs[[#This Row],[Texte en dur]])","v":1},"-",{"$f":"_xlfn.IFS(Language=\"EN\",I263,Language=\"FR\",H263,Language=\"SP\",J263)","v":0}]
[null,"Feuil30","F14:F",544,{"$f":"LEN(resultats_textes_durs[[#This Row],[Texte en dur]])","v":5},"-",{"$f":"_xlfn.IFS(Language=\"EN\",I264,Language=\"FR\",H264,Language=\"SP\",J264)","v":0}]
[null,"Feuil30","C",550,{"$f":"LEN(resultats_textes_durs[[#This Row],[Texte en dur]])","v":1},"-",{"$f":"_xlfn.IFS(Language=\"EN\",I265,Language=\"FR\",H265,Language=\"SP\",J265)","v":0}]
[null,"Feuil30","J",552,{"$f":"LEN(resultats_textes_durs[[#This Row],[Texte en dur]])","v":1},"-",{"$f":"_xlfn.IFS(Language=\"EN\",I266,Language=\"FR\",H266,Language=\"SP\",J266)","v":0}]
[null,"Feuil30","Zone 1",552,{"$f":"LEN(resultats_textes_durs[[#This Row],[Texte en dur]])","v":6},"-",{"$f":"_xlfn.IFS(Language=\"EN\",I267,Language=\"FR\",H267,Language=\"SP\",J267)","v":0}]
[null,"Feuil30","C",554,{"$f":"LEN(resultats_textes_durs[[#This Row],[Texte en dur]])","v":1},"-",{"$f":"_xlfn.IFS(Language=\"EN\",I268,Language=\"FR\",H268,Language=\"SP\",J268)","v":0}]
[null,"Feuil30","",555,{"$f":"LEN(resultats_textes_durs[[#This Row],[Texte en dur]])","v":0},"-",{"$f":"_xlfn.IFS(Language=\"EN\",I269,Language=\"FR\",H269,Language=\"SP\",J269)","v":0}]
[null,"Feuil30","Aucun stakeholder n'a été trouvé dans la Zone 1. Veuillez remplir votre liste de stakeholders.",565,{"$f":"LEN(resultats_textes_durs[[#This Row],[Texte en dur]])","v":94},"Message utilisateur",{"$f":"_xlfn.IFS(Language=\"EN\",I270,Language=\"FR\",H270,Language=\"SP\",J270)","v":0}]
[null,"Feuil30","Erreur",565,{"$f":"LEN(resultats_textes_durs[[#This Row],[Texte en dur]])","v":6},"Message utilisateur",{"$f":"_xlfn.IFS(Language=\"EN\",I271,Language=\"FR\",H271,Language=\"SP\",J271)","v":0}]
[null,"Feuil30","NOT OK",575,{"$f":"LEN(resultats_textes_durs[[#This Row],[Texte en dur]])","v":6},"?",{"$f":"_xlfn.IFS(Language=\"EN\",I272,Language=\"FR\",H272,Language=\"SP\",J272)","v":0}]
[null,"Feuil30","Unknown",582,{"$f":"LEN(resultats_textes_durs[[#This Row],[Texte en dur]])","v":7},"TRAD",{"$f":"_xlfn.IFS(Language=\"EN\",I273,Language=\"FR\",H273,Language=\"SP\",J273)","v":"Unknown"},"Inconnu","Unknown"]
[null,"Feuil30","OK",589,{"$f":"LEN(resultats_textes_durs[[#This Row],[Texte en dur]])","v":2},"-",{"$f":"_xlfn.IFS(Language=\"EN\",I274,Language=\"FR\",H274,Language=\"SP\",J274)","v":0}]
[null,"Feuil30","Forms.Frame.1",623,{"$f":"LEN(resultats_textes_durs[[#This Row],[Texte en dur]])","v":13},"-",{"$f":"_xlfn.IFS(Language=\"EN\",I275,Language=\"FR\",H275,Language=\"SP\",J275)","v":0}]
[null,"Feuil30","ScrollableFrame",623,{"$f":"LEN(resultats_textes_durs[[#This Row],[Texte en dur]])","v":15},"-",{"$f":"_xlfn.IFS(Language=\"EN\",I276,Language=\"FR\",H276,Language=\"SP\",J276)","v":0}]
[null,"Feuil30","Forms.Label.1",634,{"$f":"LEN(resultats_textes_durs[[#This Row],[Texte en dur]])","v":13},"-",{"$f":"_xlfn.IFS(Language=\"EN\",I277,Language=\"FR\",H277,Language=\"SP\",J277)","v":0}]
[null,"Feuil30","Header_Stakeholders",634,{"$f":"LEN(resultats_textes_durs[[#This Row],[Texte en dur]])","v":19},"-",{"$f":"_xlfn.IFS(Language=\"EN\",I278,Language=\"FR\",H278,Language=\"SP\",J278)","v":0}]
[null,"Feuil30","Zone 1 stakeholders",636,{"$f":"LEN(resultats_textes_durs[[#This Row],[Texte en dur]])","v":19},"TRAD",{"$f":"_xlfn.IFS(Language=\"EN\",I279,Language=\"FR\",H279,Language=\"SP\",J279)","v":"Zone 1 stakeholders"},"Parties prenantes de la zone 1","Zone 1 stakeholders"]
[null,"Feuil30","Forms.Label.1",643,{"$f":"LEN(resultats_textes_durs[[#This Row],[Texte en dur]])","v":13},"-",{"$f":"_xlfn.IFS(Language=\"EN\",I280,Language=\"FR\",H280,Language=\"SP\",J280)","v":0}]
[null,"Feuil30","Header_Action",643,{"$f":"LEN(resultats_textes_durs[[#This Row],[Texte en dur]])","v":13},"-",{"$f":"_xlfn.IFS(Language=\"EN\",I281,Language=\"FR\",H281,Language=\"SP\",J281)","v":0}]
[null,"Feuil30","Included in SEP",645,{"$f":"LEN(resultats_textes_durs[[#This Row],[Texte en dur]])","v":15},"TRAD",{"$f":"_xlfn.IFS(Language=\"EN\",I282,Language=\"FR\",H282,Language=\"SP\",J282)","v":"Included in SEP"},"Inclus dans le PEPP","Included in SEP"]
[null,"Feuil30","Forms.Label.1",653,{"$f":"LEN(resultats_textes_durs[[#This Row],[Texte en dur]])","v":13},"-",{"$f":"_xlfn.IFS(Language=\"EN\",I283,Language=\"FR\",H283,Language=\"SP\",J283)","v":0}]
[null,"Feuil30","Header_Line",653,{"$f":"LEN(resultats_textes_durs[[#This Row],[Texte en dur]])","v":11},"-",{"$f":"_xlfn.IFS(Language=\"EN\",I284,Language=\"FR\",H284,Language=\"SP\",J284)","v":0}]
[null,"Feuil30","",655,{"$f":"LEN(resultats_textes_durs[[#This Row],[Texte en dur]])","v":0},"-",{"$f":"_xlfn.IFS(Language=\"EN\",I285,Language=\"FR\",H285,Language=\"SP\",J285)","v":0}]
[null,"Feuil30","Forms.Label.1",670,{"$f":"LEN(resultats_textes_durs[[#This Row],[Texte en dur]])","v":13},"-",{"$f":"_xlfn.IFS(Language=\"EN\",I286,Language=\"FR\",H286,Language=\"SP\",J286)","v":0}]
[null,"Feuil30","Label_",670,{"$f":"LEN(resultats_textes_durs[[#This Row],[Texte en dur]])","v":6},"-",{"$f":"_xlfn.IFS(Language=\"EN\",I287,Language=\"FR\",H287,Language=\"SP\",J287)","v":0}]
[null,"Feuil30","Forms.Label.1",679,{"$f":"LEN(resultats_textes_durs[[#This Row],[Texte en dur]])","v":13},"-",{"$f":"_xlfn.IFS(Language=\"EN\",I288,Language=\"FR\",H288,Language=\"SP\",J288)","v":0}]
[null,"Feuil30","Icon_",679,{"$f":"LEN(resultats_textes_durs[[#This Row],[Texte en dur]])","v":5},"-",{"$f":"_xlfn.IFS(Language=\"EN\",I289,Language=\"FR\",H289,Language=\"SP\",J289)","v":0}]
[null,"Feuil30","Webdings",681,{"$f":"LEN(resultats_textes_durs[[#This Row],[Texte en dur]])","v":8},"-",{"$f":"_xlfn.IFS(Language=\"EN\",I290,Language=\"FR\",H290,Language=\"SP\",J290)","v":0}]
[null,"Feuil30","OK",682,{"$f":"LEN(resultats_textes_durs[[#This Row],[Texte en dur]])","v":2},"-",{"$f":"_xlfn.IFS(Language=\"EN\",I291,Language=\"FR\",H291,Language=\"SP\",J291)","v":0}]
[null,"Feuil30","a",683,{"$f":"LEN(resultats_textes_durs[[#This Row],[Texte en dur]])","v":1},"-",{"$f":"_xlfn.IFS(Language=\"EN\",I292,Language=\"FR\",H292,Language=\"SP\",J292)","v":0}]
[null,"Feuil30","Police utilisée : ",685,{"$f":"LEN(resultats_textes_durs[[#This Row],[Texte en dur]])","v":18},"-",{"$f":"_xlfn.IFS(Language=\"EN\",I293,Language=\"FR\",H293,Language=\"SP\",J293)","v":0}]
[null,"Feuil30","r",688,{"$f":"LEN(resultats_textes_durs[[#This Row],[Texte en dur]])","v":1},"-",{"$f":"_xlfn.IFS(Language=\"EN\",I294,Language=\"FR\",H294,Language=\"SP\",J294)","v":0}]
[null,"Feuil30","Police utilisée : ",690,{"$f":"LEN(resultats_textes_durs[[#This Row],[Texte en dur]])","v":18},"-",{"$f":"_xlfn.IFS(Language=\"EN\",I295,Language=\"FR\",H295,Language=\"SP\",J295)","v":0}]
[null,"Feuil30","Forms.Label.1",702,{"$f":"LEN(resultats_textes_durs[[#This Row],[Texte en dur]])","v":13},"-",{"$f":"_xlfn.IFS(Language=\"EN\",I296,Language=\"FR\",H296,Language=\"SP\",J296)","v":0}]
[null,"Feuil30","Line_",702,{"$f":"LEN(resultats_textes_durs[[#This Row],[Texte en dur]])","v":5},"-",{"$f":"_xlfn.IFS(Language=\"EN\",I297,Language=\"FR\",H297,Language=\"SP\",J297)","v":0}]
[null,"Feuil30","",704,{"$f":"LEN(resultats_textes_durs[[#This Row],[Texte en dur]])","v":0},"-",{"$f":"_xlfn.IFS(Language=\"EN\",I298,Language=\"FR\",H298,Language=\"SP\",J298)","v":0}]
[null,"Feuil30","I",724,{"$f":"LEN(resultats_textes_durs[[#This Row],[Texte en dur]])","v":1},"-",{"$f":"_xlfn.IFS(Language=\"EN\",I299,Language=\"FR\",H299,Language=\"SP\",J299)","v":0}]
[null,"Feuil30","I",726,{"$f":"LEN(resultats_textes_durs[[#This Row],[Texte en dur]])","v":1},"-",{"$f":"_xlfn.IFS(Language=\"EN\",I300,Language=\"FR\",H300,Language=\"SP\",J300)","v":0}]
[null,"Feuil30","L",733,{"$f":"LEN(resultats_textes_durs[[#This Row],[Texte en dur]])","v":1},"-",{"$f":"_xlfn.IFS(Language=\"EN\",I301,Language=\"FR\",H301,Language=\"SP\",J301)","v":0}]
[null,"Feuil30","L",735,{"$f":"LEN(resultats_textes_durs[[#This Row],[Texte en dur]])","v":1},"-",{"$f":"_xlfn.IFS(Language=\"EN\",I302,Language=\"FR\",H302,Language=\"SP\",J302)","v":0}]
[null,"Feuil30","P",742,{"$f":"LEN(resultats_textes_durs[[#This Row],[Texte en dur]])","v":1},"-",{"$f":"_xlfn.IFS(Language=\"EN\",I303,Language=\"FR\",H303,Language=\"SP\",J303)","v":0}]
[null,"Feuil30","P",744,{"$f":"LEN(resultats_textes_durs[[#This Row],[Texte en dur]])","v":1},"-",{"$f":"_xlfn.IFS(Language=\"EN\",I304,Language=\"FR\",H304,Language=\"SP\",J304)","v":0}]
[null,"Feuil30","Onglet_mapping_SEP",757,{"$f":"LEN(resultats_textes_durs[[#This Row],[Texte en dur]])","v":18},"-",{"$f":"_xlfn.IFS(Language=\"EN\",I305,Language=\"FR\",H305,Language=\"SP\",J305)","v":0}]
[null,"Feuil30","O",765,{"$f":"LEN(resultats_textes_durs[[#This Row],[Texte en dur]])","v":1},"-",{"$f":"_xlfn.IFS(Language=\"EN\",I306,Language=\"FR\",H306,Language=\"SP\",J306)","v":0}]
[null,"Feuil30","---- Début du parcours des lignes ----",774,{"$f":"LEN(resultats_textes_durs[[#This Row],[Texte en dur]])","v":38},"-",{"$f":"_xlfn.IFS(Language=\"EN\",I307,Language=\"FR\",H307,Language=\"SP\",J307)","v":0}]
[null,"Feuil30","O",777,{"$f":"LEN(resultats_textes_durs[[#This Row],[Texte en dur]])","v":1},"-",{"$f":"_xlfn.IFS(Language=\"EN\",I308,Language=\"FR\",H308,Language=\"SP\",J308)","v":0}]
[null,"Feuil30","",780,{"$f":"LEN(resultats_textes_durs[[#This Row],[Texte en dur]])","v":0},"-",{"$f":"_xlfn.IFS(Language=\"EN\",I309,Language=\"FR\",H309,Language=\"SP\",J309)","v":0}]
[null,"Feuil30","Completed",781,{"$f":"LEN(resultats_textes_durs[[#This Row],[Texte en dur]])","v":9},"TRAD",{"$f":"_xlfn.IFS(Language=\"EN\",I310,Language=\"FR\",H310,Language=\"SP\",J310)","v":"Completed"},"Terminé","Completed"]
[null,"Feuil30","Ongoing",782,{"$f":"LEN(resultats_textes_durs[[#This Row],[Texte en dur]])","v":7},"TRAD",{"$f":"_xlfn.IFS(Language=\"EN\",I311,Language=\"FR\",H311,Language=\"SP\",J311)","v":"Ongoing"},"En cours","Ongoing"]
[null,"Feuil30","Not started",783,{"$f":"LEN(resultats_textes_durs[[#This Row],[Texte en dur]])","v":11},"TRAD",{"$f":"_xlfn.IFS(Language=\"EN\",I312,Language=\"FR\",H312,Language=\"SP\",J312)","v":"Not started"},"Non lancé","Not started"]
[null,"Feuil30","Ligne réelle : ",785,{"$f":"LEN(resultats_textes_durs[[#This Row],[Texte en dur]])","v":15},"-",{"$f":"_xlfn.IFS(Language=\"EN\",I313,Language=\"FR\",H313,Language=\"SP\",J313)","v":0}]
[null,"Feuil30"," - Valeur colonne O : ",785,{"$f":"LEN(resultats_textes_durs[[#This Row],[Texte en dur]])","v":22},"-",{"$f":"_xlfn.IFS(Language=\"EN\",I314,Language=\"FR\",H314,Language=\"SP\",J314)","v":0}]
[null,"Feuil30"," -> Ligne affichée",785,{"$f":"LEN(resultats_textes_durs[[#This Row],[Texte en dur]])","v":18},"-",{"$f":"_xlfn.IFS(Language=\"EN\",I315,Language=\"FR\",H315,Language=\"SP\",J315)","v":0}]
[null,"Feuil30","Ligne réelle : ",789,{"$f":"LEN(resultats_textes_durs[[#This Row],[Texte en dur]])","v":15},"-",{"$f":"_xlfn.IFS(Language=\"EN\",I316,Language=\"FR\",H316,Language=\"SP\",J316)","v":0}]
[null,"Feuil30"," - Valeur colonne O : ",789,{"$f":"LEN(resultats_textes_durs[[#This Row],[Texte en dur]])","v":22},"-",{"$f":"_xlfn.IFS(Language=\"EN\",I317,Language=\"FR\",H317,Language=\"SP\",J317)","v":0}]
[null,"Feuil30"," -> Ligne masquée",789,{"$f":"LEN(resultats_textes_durs[[#This Row],[Texte en dur]])","v":17},"-",{"$f":"_xlfn.IFS(Language=\"EN\",I318,Language=\"FR\",H318,Language=\"SP\",J318)","v":0}]
[null,"Feuil30","---- Fin du parcours des lignes ----",792,{"$f":"LEN(resultats_textes_durs[[#This Row],[Texte en dur]])","v":36},"-",{"$f":"_xlfn.IFS(Language=\"EN\",I319,Language=\"FR\",H319,Language=\"SP\",J319)","v":0}]
[null,"Feuil30",">>> SEP_CB_Completed modifiée",800,{"$f":"LEN(resultats_textes_durs[[#This Row],[Texte en dur]])","v":29},"-",{"$f":"_xlfn.IFS(Language=\"EN\",I320,Language=\"FR\",H320,Language=\"SP\",J320)","v":0}]
[null,"Feuil30",">>> SEP_CB_Ongoing modifiée",805,{"$f":"LEN(resultats_textes_durs[[#This Row],[Texte en dur]])","v":27},"-",{"$f":"_xlfn.IFS(Language=\"EN\",I321,Language=\"FR\",H321,Language=\"SP\",J321)","v":0}]
[null,"Feuil30",">>> SEP_CB_Notstarted modifiée",810,{"$f":"LEN(resultats_textes_durs[[#This Row],[Texte en dur]])","v":30},"-",{"$f":"_xlfn.IFS(Language=\"EN\",I322,Language=\"FR\",H322,Language=\"SP\",J322)","v":0}]
[null,"Feuil30","Onglet_mapping_SHlist",827,{"$f":"LEN(resultats_textes_durs[[#This Row],[Texte en dur]])","v":21},"-",{"$f":"_xlfn.IFS(Language=\"EN\",I323,Language=\"FR\",H323,Language=\"SP\",J323)","v":0}]
[null,"Feuil30","Onglet_mapping_SEP",828,{"$f":"LEN(resultats_textes_durs[[#This Row],[Texte en dur]])","v":18},"-",{"$f":"_xlfn.IFS(Language=\"EN\",I324,Language=\"FR\",H324,Language=\"SP\",J324)","v":0}]
[null,"Feuil30","Scripting.Dictionary",837,{"$f":"LEN(resultats_textes_durs[[#This Row],[Texte en dur]])","v":20},"-",{"$f":"_xlfn.IFS(Language=\"EN\",I325,Language=\"FR\",H325,Language=\"SP\",J325)","v":0}]
[null,"Feuil30","C",840,{"$f":"LEN(resultats_textes_durs[[#This Row],[Texte en dur]])","v":1},"-",{"$f":"_xlfn.IFS(Language=\"EN\",I326,Language=\"FR\",H326,Language=\"SP\",J326)","v":0}]
[null,"Feuil30","C",843,{"$f":"LEN(resultats_textes_durs[[#This Row],[Texte en dur]])","v":1},"-",{"$f":"_xlfn.IFS(Language=\"EN\",I327,Language=\"FR\",H327,Language=\"SP\",J327)","v":0}]
[null,"Feuil30","J",844,{"$f":"LEN(resultats_textes_durs[[#This Row],[Texte en dur]])","v":1},"-",{"$f":"_xlfn.IFS(Language=\"EN\",I328,Language=\"FR\",H328,Language=\"SP\",J328)","v":0}]
[null,"Feuil30","",846,{"$f":"LEN(resultats_textes_durs[[#This Row],[Texte en dur]])","v":0},"-",{"$f":"_xlfn.IFS(Language=\"EN\",I329,Language=\"FR\",H329,Language=\"SP\",J329)","v":0}]
[null,"Feuil30","",846,{"$f":"LEN(resultats_textes_durs[[#This Row],[Texte en dur]])","v":0},"-",{"$f":"_xlfn.IFS(Language=\"EN\",I330,Language=\"FR\",H330,Language=\"SP\",J330)","v":0}]
[null,"Feuil30","Scripting.Dictionary",848,{"$f":"LEN(resultats_textes_durs[[#This Row],[Texte en dur]])","v":20},"-",{"$f":"_xlfn.IFS(Language=\"EN\",I331,Language=\"FR\",H331,Language=\"SP\",J331)","v":0}]
[null,"Feuil30","F",855,{"$f":"LEN(resultats_textes_durs[[#This Row],[Texte en dur]])","v":1},"-",{"$f":"_xlfn.IFS(Language=\"EN\",I332,Language=\"FR\",H332,Language=\"SP\",J332)","v":0}]
[null,"Feuil30","F21:F",856,{"$f":"LEN(resultats_textes_durs[[#This Row],[Texte en dur]])","v":5},"-",{"$f":"_xlfn.IFS(Language=\"EN\",I333,Language=\"FR\",H333,Language=\"SP\",J333)","v":0}]
[null,"Feuil30","---- Début du parcours des lignes SEP ----",862,{"$f":"LEN(resultats_textes_durs[[#This Row],[Texte en dur]])","v":42},"-",{"$f":"_xlfn.IFS(Language=\"EN\",I334,Language=\"FR\",H334,Language=\"SP\",J334)","v":0}]
[null,"Feuil30","Ligne ",869,{"$f":"LEN(resultats_textes_durs[[#This Row],[Texte en dur]])","v":6},"-",{"$f":"_xlfn.IFS(Language=\"EN\",I335,Language=\"FR\",H335,Language=\"SP\",J335)","v":0}]
[null,"Feuil30"," : Visible (Cellule vide)",869,{"$f":"LEN(resultats_textes_durs[[#This Row],[Texte en dur]])","v":25},"-",{"$f":"_xlfn.IFS(Language=\"EN\",I336,Language=\"FR\",H336,Language=\"SP\",J336)","v":0}]
[null,"Feuil30","Zone 1",877,{"$f":"LEN(resultats_textes_durs[[#This Row],[Texte en dur]])","v":6},"-",{"$f":"_xlfn.IFS(Language=\"EN\",I337,Language=\"FR\",H337,Language=\"SP\",J337)","v":0}]
[null,"Feuil30","Zone 1",878,{"$f":"LEN(resultats_textes_durs[[#This Row],[Texte en dur]])","v":6},"-",{"$f":"_xlfn.IFS(Language=\"EN\",I338,Language=\"FR\",H338,Language=\"SP\",J338)","v":0}]
[null,"Feuil30","Zone 2",880,{"$f":"LEN(resultats_textes_durs[[#This Row],[Texte en dur]])","v":6},"-",{"$f":"_xlfn.IFS(Language=\"EN\",I339,Language=\"FR\",H339,Language=\"SP\",J339)","v":0}]
[null,"Feuil30","Zone 2",881,{"$f":"LEN(resultats_textes_durs[[#This Row],[Texte en dur]])","v":6},"-",{"$f":"_xlfn.IFS(Language=\"EN\",I340,Language=\"FR\",H340,Language=\"SP\",J340)","v":0}]
[null,"Feuil30","Zone 3",883,{"$f":"LEN(resultats_textes_durs[[#This Row],[Texte en dur]])","v":6},"-",{"$f":"_xlfn.IFS(Language=\"EN\",I341,Language=\"FR\",H341,Language=\"SP\",J341)","v":0}]
[null,"Feuil30","Zone 3",884,{"$f":"LEN(resultats_textes_durs[[#This Row],[Texte en dur]])","v":6},"-",{"$f":"_xlfn.IFS(Language=\"EN\",I342,Language=\"FR\",H342,Language=\"SP\",J342)","v":0}]
[null,"Feuil30","Zone 4",886,{"$f":"LEN(resultats_textes_durs[[#This Row],[Texte en dur]])","v":6},"-",{"$f":"_xlfn.IFS(Language=\"EN\",I343,Language=\"FR\",H343,Language=\"SP\",J343)","v":0}]
[null,"Feuil30","Zone 4",887,{"$f":"LEN(resultats_textes_durs[[#This Row],[Texte en dur]])","v":6},"-",{"$f":"_xlfn.IFS(Language=\"EN\",I344,Language=\"FR\",H344,Language=\"SP\",J344)","v":0}]
[null,"Feuil30","Ligne ",898,{"$f":"LEN(resultats_textes_durs[[#This Row],[Texte en dur]])","v":6},"-",{"$f":"_xlfn.IFS(Language=\"EN\",I345,Language=\"FR\",H345,Language=\"SP\",J345)","v":0}]
[null,"Feuil30"," : Visible (Stakeholders : ",898,{"$f":"LEN(resultats_textes_durs[[#This Row],[Texte en dur]])","v":27},"-",{"$f":"_xlfn.IFS(Language=\"EN\",I346,Language=\"FR\",H346,Language=\"SP\",J346)","v":0}]
[null,"Feuil30",")",898,{"$f":"LEN(resultats_textes_durs[[#This Row],[Texte en dur]])","v":1},"-",{"$f":"_xlfn.IFS(Language=\"EN\",I347,Language=\"FR\",H347,Language=\"SP\",J347)","v":0}]
[null,"Feuil30","Ligne ",901,{"$f":"LEN(resultats_textes_durs[[#This Row],[Texte en dur]])","v":6},"-",{"$f":"_xlfn.IFS(Language=\"EN\",I348,Language=\"FR\",H348,Language=\"SP\",J348)","v":0}]
[null,"Feuil30"," : Masquée (Stakeholders : ",901,{"$f":"LEN(resultats_textes_durs[[#This Row],[Texte en dur]])","v":27},"-",{"$f":"_xlfn.IFS(Language=\"EN\",I349,Language=\"FR\",H349,Language=\"SP\",J349)","v":0}]
[null,"Feuil30",")",901,{"$f":"LEN(resultats_textes_durs[[#This Row],[Texte en dur]])","v":1},"-",{"$f":"_xlfn.IFS(Language=\"EN\",I350,Language=\"FR\",H350,Language=\"SP\",J350)","v":0}]
[null,"Feuil30","---- Fin du parcours des lignes SEP ----",909,{"$f":"LEN(resultats_textes_durs[[#This Row],[Texte en dur]])","v":40},"-",{"$f":"_xlfn.IFS(Language=\"EN\",I351,Language=\"FR\",H351,Language=\"SP\",J351)","v":0}]
[null,"Feuil30","K",932,{"$f":"LEN(resultats_textes_durs[[#This Row],[Texte en dur]])","v":1},"-",{"$f":"_xlfn.IFS(Language=\"EN\",I352,Language=\"FR\",H352,Language=\"SP\",J352)","v":0}]
[null,"Feuil37","CI",10,{"$f":"LEN(resultats_textes_durs[[#This Row],[Texte en dur]])","v":2},null,{"$f":"_xlfn.IFS(Language=\"EN\",I353,Language=\"FR\",H353,Language=\"SP\",J353)","v":0}]
[null,"Feuil37","SPL",10,{"$f":"LEN(resultats_textes_durs[[#This Row],[Texte en dur]])","v":3},null,{"$f":"_xlfn.IFS(Language=\"EN\",I354,Language=\"FR\",H354,Language=\"SP\",J354)","v":0}]
[null,"Feuil37","B27:C33",11,{"$f":"LEN(resultats_textes_durs[[#This Row],[Texte en dur]])","v":7},null,{"$f":"_xlfn.IFS(Language=\"EN\",I355,Language=\"FR\",H355,Language=\"SP\",J355)","v":0}]
[null,"Feuil37","B42:C48",12,{"$f":"LEN(resultats_textes_durs[[#This Row],[Texte en dur]])","v":7},null,{"$f":"_xlfn.IFS(Language=\"EN\",I356,Language=\"FR\",H356,Language=\"SP\",J356)","v":0}]
[null,"Feuil37","B57:C63",13,{"$f":"LEN(resultats_textes_durs[[#This Row],[Texte en dur]])","v":7},null,{"$f":"_xlfn.IFS(Language=\"EN\",I357,Language=\"FR\",H357,Language=\"SP\",J357)","v":0}]
[null,"Feuil37","CI",15,{"$f":"LEN(resultats_textes_durs[[#This Row],[Texte en dur]])","v":2},null,{"$f":"_xlfn.IFS(Language=\"EN\",I358,Language=\"FR\",H358,Language=\"SP\",J358)","v":0}]
[null,"Feuil37","SPL",15,{"$f":"LEN(resultats_textes_durs[[#This Row],[Texte en dur]])","v":3},null,{"$f":"_xlfn.IFS(Language=\"EN\",I359,Language=\"FR\",H359,Language=\"SP\",J359)","v":0}]
[null,"Feuil37","Onglet_AP_Fiche_SPL",23,{"$f":"LEN(resultats_textes_durs[[#This Row],[Texte en dur]])","v":19},null,{"$f":"_xlfn.IFS(Language=\"EN\",I360,Language=\"FR\",H360,Language=\"SP\",J360)","v":0}]
[null,"Feuil37","Onglet_AP_Fiche_SPL",24,{"$f":"LEN(resultats_textes_durs[[#This Row],[Texte en dur]])","v":19},null,{"$f":"_xlfn.IFS(Language=\"EN\",I361,Language=\"FR\",H361,Language=\"SP\",J361)","v":0}]
[null,"Feuil37","SRM",25,{"$f":"LEN(resultats_textes_durs[[#This Row],[Texte en dur]])","v":3},null,{"$f":"_xlfn.IFS(Language=\"EN\",I362,Language=\"FR\",H362,Language=\"SP\",J362)","v":0}]
[null,"Feuil37","C7",26,{"$f":"LEN(resultats_textes_durs[[#This Row],[Texte en dur]])","v":2},null,{"$f":"_xlfn.IFS(Language=\"EN\",I363,Language=\"FR\",H363,Language=\"SP\",J363)","v":0}]
[null,"Feuil37","Onglet_AP_Fiche_SPL",27,{"$f":"LEN(resultats_textes_durs[[#This Row],[Texte en dur]])","v":19},null,{"$f":"_xlfn.IFS(Language=\"EN\",I364,Language=\"FR\",H364,Language=\"SP\",J364)","v":0}]
[null,"Feuil37","SRM",28,{"$f":"LEN(resultats_textes_durs[[#This Row],[Texte en dur]])","v":3},null,{"$f":"_xlfn.IFS(Language=\"EN\",I365,Language=\"FR\",H365,Language=\"SP\",J365)","v":0}]
[null,"Feuil37","Onglet_Gap_P3",39,{"$f":"LEN(resultats_textes_durs[[#This Row],[Texte en dur]])","v":13},null,{"$f":"_xlfn.IFS(Language=\"EN\",I366,Language=\"FR\",H366,Language=\"SP\",J366)","v":0}]
[null,"Feuil37","Onglet_SRR_rules",40,{"$f":"LEN(resultats_textes_durs[[#This Row],[Texte en dur]])","v":16},null,{"$f":"_xlfn.IFS(Language=\"EN\",I367,Language=\"FR\",H367,Language=\"SP\",J367)","v":0}]
[null,"Feuil37","B15:C18",43,{"$f":"LEN(resultats_textes_durs[[#This Row],[Texte en dur]])","v":7},null,{"$f":"_xlfn.IFS(Language=\"EN\",I368,Language=\"FR\",H368,Language=\"SP\",J368)","v":0}]
[null,"Feuil37","Answer_rate_threshold",46,{"$f":"LEN(resultats_textes_durs[[#This Row],[Texte en dur]])","v":21},null,{"$f":"_xlfn.IFS(Language=\"EN\",I369,Language=\"FR\",H369,Language=\"SP\",J369)","v":0}]
[null,"Feuil37","Gap_P3_impact_source",48,{"$f":"LEN(resultats_textes_durs[[#This Row],[Texte en dur]])","v":20},null,{"$f":"_xlfn.IFS(Language=\"EN\",I370,Language=\"FR\",H370,Language=\"SP\",J370)","v":0}]
[null,"Feuil37","Gap_P3_impact",48,{"$f":"LEN(resultats_textes_durs[[#This Row],[Texte en dur]])","v":13},null,{"$f":"_xlfn.IFS(Language=\"EN\",I371,Language=\"FR\",H371,Language=\"SP\",J371)","v":0}]
[null,"Feuil37","Gap_P3_impact_source",49,{"$f":"LEN(resultats_textes_durs[[#This Row],[Texte en dur]])","v":20},null,{"$f":"_xlfn.IFS(Language=\"EN\",I372,Language=\"FR\",H372,Language=\"SP\",J372)","v":0}]
[null,"Feuil37","Gap_P3_impact",50,{"$f":"LEN(resultats_textes_durs[[#This Row],[Texte en dur]])","v":13},null,{"$f":"_xlfn.IFS(Language=\"EN\",I373,Language=\"FR\",H373,Language=\"SP\",J373)","v":0}]
[null,"Feuil37","Gap_P3_impact_rate",51,{"$f":"LEN(resultats_textes_durs[[#This Row],[Texte en dur]])","v":18},null,{"$f":"_xlfn.IFS(Language=\"EN\",I374,Language=\"FR\",H374,Language=\"SP\",J374)","v":0}]
[null,"Feuil37","Gap_P3_performance_source",55,{"$f":"LEN(resultats_textes_durs[[#This Row],[Texte en dur]])","v":25},null,{"$f":"_xlfn.IFS(Language=\"EN\",I375,Language=\"FR\",H375,Language=\"SP\",J375)","v":0}]
[null,"Feuil37","Gap_P3_performance",55,{"$f":"LEN(resultats_textes_durs[[#This Row],[Texte en dur]])","v":18},null,{"$f":"_xlfn.IFS(Language=\"EN\",I376,Language=\"FR\",H376,Language=\"SP\",J376)","v":0}]
[null,"Feuil37","Gap_P3_performance_source",56,{"$f":"LEN(resultats_textes_durs[[#This Row],[Texte en dur]])","v":25},null,{"$f":"_xlfn.IFS(Language=\"EN\",I377,Language=\"FR\",H377,Language=\"SP\",J377)","v":0}]
[null,"Feuil37","Gap_P3_performance",57,{"$f":"LEN(resultats_textes_durs[[#This Row],[Texte en dur]])","v":18},null,{"$f":"_xlfn.IFS(Language=\"EN\",I378,Language=\"FR\",H378,Language=\"SP\",J378)","v":0}]
[null,"Feuil37","Gap_P3_performance_rate",58,{"$f":"LEN(resultats_textes_durs[[#This Row],[Texte en dur]])","v":23},null,{"$f":"_xlfn.IFS(Language=\"EN\",I379,Language=\"FR\",H379,Language=\"SP\",J379)","v":0}]
[null,"Feuil37","Gap_P3_SI_source",62,{"$f":"LEN(resultats_textes_durs[[#This Row],[Texte en dur]])","v":16},null,{"$f":"_xlfn.IFS(Language=\"EN\",I380,Language=\"FR\",H380,Language=\"SP\",J380)","v":0}]
[null,"Feuil37","Gap_P3_SI",62,{"$f":"LEN(resultats_textes_durs[[#This Row],[Texte en dur]])","v":9},null,{"$f":"_xlfn.IFS(Language=\"EN\",I381,Language=\"FR\",H381,Language=\"SP\",J381)","v":0}]
[null,"Feuil37","Gap_P3_SI_source",63,{"$f":"LEN(resultats_textes_durs[[#This Row],[Texte en dur]])","v":16},null,{"$f":"_xlfn.IFS(Language=\"EN\",I382,Language=\"FR\",H382,Language=\"SP\",J382)","v":0}]
[null,"Feuil37","Gap_P3_SI",64,{"$f":"LEN(resultats_textes_durs[[#This Row],[Texte en dur]])","v":9},null,{"$f":"_xlfn.IFS(Language=\"EN\",I383,Language=\"FR\",H383,Language=\"SP\",J383)","v":0}]
[null,"Feuil37","Gap_P3_SI_rate",65,{"$f":"LEN(resultats_textes_durs[[#This Row],[Texte en dur]])","v":14},null,{"$f":"_xlfn.IFS(Language=\"EN\",I384,Language=\"FR\",H384,Language=\"SP\",J384)","v":0}]
[null,"Feuil4","Onglet_SRR_Table",15,{"$f":"LEN(resultats_textes_durs[[#This Row],[Texte en dur]])","v":16},null,{"$f":"_xlfn.IFS(Language=\"EN\",I385,Language=\"FR\",H385,Language=\"SP\",J385)","v":0}]
[null,"Feuil4","Onglet_SRR_Rules",16,{"$f":"LEN(resultats_textes_durs[[#This Row],[Texte en dur]])","v":16},null,{"$f":"_xlfn.IFS(Language=\"EN\",I386,Language=\"FR\",H386,Language=\"SP\",J386)","v":0}]
[null,"Feuil4","Onglet_SRR_dataset",17,{"$f":"LEN(resultats_textes_durs[[#This Row],[Texte en dur]])","v":18},null,{"$f":"_xlfn.IFS(Language=\"EN\",I387,Language=\"FR\",H387,Language=\"SP\",J387)","v":0}]
[null,"Feuil4","SRM",22,{"$f":"LEN(resultats_textes_durs[[#This Row],[Texte en dur]])","v":3},null,{"$f":"_xlfn.IFS(Language=\"EN\",I388,Language=\"FR\",H388,Language=\"SP\",J388)","v":0}]
[null,"Feuil4","B25",25,{"$f":"LEN(resultats_textes_durs[[#This Row],[Texte en dur]])","v":3},null,{"$f":"_xlfn.IFS(Language=\"EN\",I389,Language=\"FR\",H389,Language=\"SP\",J389)","v":0}]
[null,"Feuil4","B26",26,{"$f":"LEN(resultats_textes_durs[[#This Row],[Texte en dur]])","v":3},null,{"$f":"_xlfn.IFS(Language=\"EN\",I390,Language=\"FR\",H390,Language=\"SP\",J390)","v":0}]
[null,"Feuil4","F",30,{"$f":"LEN(resultats_textes_durs[[#This Row],[Texte en dur]])","v":1},null,{"$f":"_xlfn.IFS(Language=\"EN\",I391,Language=\"FR\",H391,Language=\"SP\",J391)","v":0}]
[null,"Feuil4","F",30,{"$f":"LEN(resultats_textes_durs[[#This Row],[Texte en dur]])","v":1},null,{"$f":"_xlfn.IFS(Language=\"EN\",I392,Language=\"FR\",H392,Language=\"SP\",J392)","v":0}]
[null,"Feuil4","Min_P1",39,{"$f":"LEN(resultats_textes_durs[[#This Row],[Texte en dur]])","v":6},null,{"$f":"_xlfn.IFS(Language=\"EN\",I393,Language=\"FR\",H393,Language=\"SP\",J393)","v":0}]
[null,"Feuil4","Min_Maturity_Initiate",39,{"$f":"LEN(resultats_textes_durs[[#This Row],[Texte en dur]])","v":21},null,{"$f":"_xlfn.IFS(Language=\"EN\",I394,Language=\"FR\",H394,Language=\"SP\",J394)","v":0}]
[null,"Feuil4","Rect_N2_P1",40,{"$f":"LEN(resultats_textes_durs[[#This Row],[Texte en dur]])","v":10},null,{"$f":"_xlfn.IFS(Language=\"EN\",I395,Language=\"FR\",H395,Language=\"SP\",J395)","v":0}]
[null,"Feuil4","Rect_N3_P1",41,{"$f":"LEN(resultats_textes_durs[[#This Row],[Texte en dur]])","v":10},null,{"$f":"_xlfn.IFS(Language=\"EN\",I396,Language=\"FR\",H396,Language=\"SP\",J396)","v":0}]
[null,"Feuil4","Rect_N4_P1",42,{"$f":"LEN(resultats_textes_durs[[#This Row],[Texte en dur]])","v":10},null,{"$f":"_xlfn.IFS(Language=\"EN\",I397,Language=\"FR\",H397,Language=\"SP\",J397)","v":0}]
[null,"Feuil4","Min_Maturity_N2_Seuilbas",43,{"$f":"LEN(resultats_textes_durs[[#This Row],[Texte en dur]])","v":24},null,{"$f":"_xlfn.IFS(Language=\"EN\",I398,Language=\"FR\",H398,Language=\"SP\",J398)","v":0}]
[null,"Feuil4","Min_P1",44,{"$f":"LEN(resultats_textes_durs[[#This Row],[Texte en dur]])","v":6},null,{"$f":"_xlfn.IFS(Language=\"EN\",I399,Language=\"FR\",H399,Language=\"SP\",J399)","v":0}]
[null,"Feuil4","Min_Maturity_Mature",44,{"$f":"LEN(resultats_textes_durs[[#This Row],[Texte en dur]])","v":19},null,{"$f":"_xlfn.IFS(Language=\"EN\",I400,Language=\"FR\",H400,Language=\"SP\",J400)","v":0}]
[null,"Feuil4","Rect_N3_P1",45,{"$f":"LEN(resultats_textes_durs[[#This Row],[Texte en dur]])","v":10},null,{"$f":"_xlfn.IFS(Language=\"EN\",I401,Language=\"FR\",H401,Language=\"SP\",J401)","v":0}]
[null,"Feuil4","Rect_N2_P1",46,{"$f":"LEN(resultats_textes_durs[[#This Row],[Texte en dur]])","v":10},null,{"$f":"_xlfn.IFS(Language=\"EN\",I402,Language=\"FR\",H402,Language=\"SP\",J402)","v":0}]
[null,"Feuil4","Rect_N4_P1",47,{"$f":"LEN(resultats_textes_durs[[#This Row],[Texte en dur]])","v":10},null,{"$f":"_xlfn.IFS(Language=\"EN\",I403,Language=\"FR\",H403,Language=\"SP\",J403)","v":0}]
[null,"Feuil4","Min_Maturity_N3_Seuilbas",48,{"$f":"LEN(resultats_textes_durs[[#This Row],[Texte en dur]])","v":24},null,{"$f":"_xlfn.IFS(Language=\"EN\",I404,Language=\"FR\",H404,Language=\"SP\",J404)","v":0}]
[null,"Feuil4","Min_P1",49,{"$f":"LEN(resultats_textes_durs[[#This Row],[Texte en dur]])","v":6},null,{"$f":"_xlfn.IFS(Language=\"EN\",I405,Language=\"FR\",H405,Language=\"SP\",J405)","v":0}]
[null,"Feuil4","Min_Maturity_Excellent",49,{"$f":"LEN(resultats_textes_durs[[#This Row],[Texte en dur]])","v":22},null,{"$f":"_xlfn.IFS(Language=\"EN\",I406,Language=\"FR\",H406,Language=\"SP\",J406)","v":0}]
[null,"Feuil4","Rect_N4_P1",50,{"$f":"LEN(resultats_textes_durs[[#This Row],[Texte en dur]])","v":10},null,{"$f":"_xlfn.IFS(Language=\"EN\",I407,Language=\"FR\",H407,Language=\"SP\",J407)","v":0}]
[null,"Feuil4","Rect_N3_P1",51,{"$f":"LEN(resultats_textes_durs[[#This Row],[Texte en dur]])","v":10},null,{"$f":"_xlfn.IFS(Language=\"EN\",I408,Language=\"FR\",H408,Language=\"SP\",J408)","v":0}]
[null,"Feuil4","Rect_N2_P1",52,{"$f":"LEN(resultats_textes_durs[[#This Row],[Texte en dur]])","v":10},null,{"$f":"_xlfn.IFS(Language=\"EN\",I409,Language=\"FR\",H409,Language=\"SP\",J409)","v":0}]
[null,"Feuil4","Min_Maturity_N4_Seuilbas",53,{"$f":"LEN(resultats_textes_durs[[#This Row],[Texte en dur]])","v":24},null,{"$f":"_xlfn.IFS(Language=\"EN\",I410,Language=\"FR\",H410,Language=\"SP\",J410)","v":0}]
[null,"Feuil4","Min_P1",54,{"$f":"LEN(resultats_textes_durs[[#This Row],[Texte en dur]])","v":6},null,{"$f":"_xlfn.IFS(Language=\"EN\",I411,Language=\"FR\",H411,Language=\"SP\",J411)","v":0}]
[null,"Feuil4","",54,{"$f":"LEN(resultats_textes_durs[[#This Row],[Texte en dur]])","v":0},null,{"$f":"_xlfn.IFS(Language=\"EN\",I412,Language=\"FR\",H412,Language=\"SP\",J412)","v":0}]
[null,"Feuil4","Rect_N4_P1",55,{"$f":"LEN(resultats_textes_durs[[#This Row],[Texte en dur]])","v":10},null,{"$f":"_xlfn.IFS(Language=\"EN\",I413,Language=\"FR\",H413,Language=\"SP\",J413)","v":0}]
[null,"Feuil4","Rect_N3_P1",56,{"$f":"LEN(resultats_textes_durs[[#This Row],[Texte en dur]])","v":10},null,{"$f":"_xlfn.IFS(Language=\"EN\",I414,Language=\"FR\",H414,Language=\"SP\",J414)","v":0}]
[null,"Feuil4","Rect_N2_P1",57,{"$f":"LEN(resultats_textes_durs[[#This Row],[Texte en dur]])","v":10},null,{"$f":"_xlfn.IFS(Language=\"EN\",I415,Language=\"FR\",H415,Language=\"SP\",J415)","v":0}]
[null,"Feuil4","Min_Maturity_N4_Seuilbas",58,{"$f":"LEN(resultats_textes_durs[[#This Row],[Texte en dur]])","v":24},null,{"$f":"_xlfn.IFS(Language=\"EN\",I416,Language=\"FR\",H416,Language=\"SP\",J416)","v":0}]
[null,"Feuil4","Graph_SRR_Maturity_P1",62,{"$f":"LEN(resultats_textes_durs[[#This Row],[Texte en dur]])","v":21},null,{"$f":"_xlfn.IFS(Language=\"EN\",I417,Language=\"FR\",H417,Language=\"SP\",J417)","v":0}]
[null,"Feuil4","Min_P1",64,{"$f":"LEN(resultats_textes_durs[[#This Row],[Texte en dur]])","v":6},null,{"$f":"_xlfn.IFS(Language=\"EN\",I418,Language=\"FR\",H418,Language=\"SP\",J418)","v":0}]
[null,"Feuil4","",64,{"$f":"LEN(resultats_textes_durs[[#This Row],[Texte en dur]])","v":0},null,{"$f":"_xlfn.IFS(Language=\"EN\",I419,Language=\"FR\",H419,Language=\"SP\",J419)","v":0}]
[null,"Feuil4","Cellule testée : ",70,{"$f":"LEN(resultats_textes_durs[[#This Row],[Texte en dur]])","v":17},null,{"$f":"_xlfn.IFS(Language=\"EN\",I420,Language=\"FR\",H420,Language=\"SP\",J420)","v":0}]
[null,"Feuil4","E",70,{"$f":"LEN(resultats_textes_durs[[#This Row],[Texte en dur]])","v":1},null,{"$f":"_xlfn.IFS(Language=\"EN\",I421,Language=\"FR\",H421,Language=\"SP\",J421)","v":0}]
[null,"Feuil4","E",73,{"$f":"LEN(resultats_textes_durs[[#This Row],[Texte en dur]])","v":1},null,{"$f":"_xlfn.IFS(Language=\"EN\",I422,Language=\"FR\",H422,Language=\"SP\",J422)","v":0}]
[null,"Feuil4","Erreur dans la cellule : E",74,{"$f":"LEN(resultats_textes_durs[[#This Row],[Texte en dur]])","v":26},null,{"$f":"_xlfn.IFS(Language=\"EN\",I423,Language=\"FR\",H423,Language=\"SP\",J423)","v":0}]
[null,"Feuil4",". Valeur ignorée.",74,{"$f":"LEN(resultats_textes_durs[[#This Row],[Texte en dur]])","v":17},null,{"$f":"_xlfn.IFS(Language=\"EN\",I424,Language=\"FR\",H424,Language=\"SP\",J424)","v":0}]
[null,"Feuil4","E",78,{"$f":"LEN(resultats_textes_durs[[#This Row],[Texte en dur]])","v":1},null,{"$f":"_xlfn.IFS(Language=\"EN\",I425,Language=\"FR\",H425,Language=\"SP\",J425)","v":0}]
[null,"Feuil4","Min_P2",91,{"$f":"LEN(resultats_textes_durs[[#This Row],[Texte en dur]])","v":6},null,{"$f":"_xlfn.IFS(Language=\"EN\",I426,Language=\"FR\",H426,Language=\"SP\",J426)","v":0}]
[null,"Feuil4","Min_Maturity_Initiate",91,{"$f":"LEN(resultats_textes_durs[[#This Row],[Texte en dur]])","v":21},null,{"$f":"_xlfn.IFS(Language=\"EN\",I427,Language=\"FR\",H427,Language=\"SP\",J427)","v":0}]
[null,"Feuil4","Rect_N2_P2",92,{"$f":"LEN(resultats_textes_durs[[#This Row],[Texte en dur]])","v":10},null,{"$f":"_xlfn.IFS(Language=\"EN\",I428,Language=\"FR\",H428,Language=\"SP\",J428)","v":0}]
[null,"Feuil4","Rect_N3_P2",93,{"$f":"LEN(resultats_textes_durs[[#This Row],[Texte en dur]])","v":10},null,{"$f":"_xlfn.IFS(Language=\"EN\",I429,Language=\"FR\",H429,Language=\"SP\",J429)","v":0}]
[null,"Feuil4","Rect_N4_P2",94,{"$f":"LEN(resultats_textes_durs[[#This Row],[Texte en dur]])","v":10},null,{"$f":"_xlfn.IFS(Language=\"EN\",I430,Language=\"FR\",H430,Language=\"SP\",J430)","v":0}]
[null,"Feuil4","Min_Maturity_N2_Seuilbas",95,{"$f":"LEN(resultats_textes_durs[[#This Row],[Texte en dur]])","v":24},null,{"$f":"_xlfn.IFS(Language=\"EN\",I431,Language=\"FR\",H431,Language=\"SP\",J431)","v":0}]
[null,"Feuil4","Min_P2",96,{"$f":"LEN(resultats_textes_durs[[#This Row],[Texte en dur]])","v":6},null,{"$f":"_xlfn.IFS(Language=\"EN\",I432,Language=\"FR\",H432,Language=\"SP\",J432)","v":0}]
[null,"Feuil4","Min_Maturity_Mature",96,{"$f":"LEN(resultats_textes_durs[[#This Row],[Texte en dur]])","v":19},null,{"$f":"_xlfn.IFS(Language=\"EN\",I433,Language=\"FR\",H433,Language=\"SP\",J433)","v":0}]
[null,"Feuil4","Rect_N3_P2",97,{"$f":"LEN(resultats_textes_durs[[#This Row],[Texte en dur]])","v":10},null,{"$f":"_xlfn.IFS(Language=\"EN\",I434,Language=\"FR\",H434,Language=\"SP\",J434)","v":0}]
[null,"Feuil4","Rect_N2_P2",98,{"$f":"LEN(resultats_textes_durs[[#This Row],[Texte en dur]])","v":10},null,{"$f":"_xlfn.IFS(Language=\"EN\",I435,Language=\"FR\",H435,Language=\"SP\",J435)","v":0}]
[null,"Feuil4","Rect_N4_P2",99,{"$f":"LEN(resultats_textes_durs[[#This Row],[Texte en dur]])","v":10},null,{"$f":"_xlfn.IFS(Language=\"EN\",I436,Language=\"FR\",H436,Language=\"SP\",J436)","v":0}]
[null,"Feuil4","Min_Maturity_N3_Seuilbas",100,{"$f":"LEN(resultats_textes_durs[[#This Row],[Texte en dur]])","v":24},null,{"$f":"_xlfn.IFS(Language=\"EN\",I437,Language=\"FR\",H437,Language=\"SP\",J437)","v":0}]
[null,"Feuil4","Min_P2",101,{"$f":"LEN(resultats_textes_durs[[#This Row],[Texte en dur]])","v":6},null,{"$f":"_xlfn.IFS(Language=\"EN\",I438,Language=\"FR\",H438,Language=\"SP\",J438)","v":0}]
[null,"Feuil4","Min_Maturity_Excellent",101,{"$f":"LEN(resultats_textes_durs[[#This Row],[Texte en dur]])","v":22},null,{"$f":"_xlfn.IFS(Language=\"EN\",I439,Language=\"FR\",H439,Language=\"SP\",J439)","v":0}]
[null,"Feuil4","Rect_N4_P2",102,{"$f":"LEN(resultats_textes_durs[[#This Row],[Texte en dur]])","v":10},null,{"$f":"_xlfn.IFS(Language=\"EN\",I440,Language=\"FR\",H440,Language=\"SP\",J440)","v":0}]
[null,"Feuil4","Rect_N3_P2",103,{"$f":"LEN(resultats_textes_durs[[#This Row],[Texte en dur]])","v":10},null,{"$f":"_xlfn.IFS(Language=\"EN\",I441,Language=\"FR\",H441,Language=\"SP\",J441)","v":0}]
[null,"Feuil4","Rect_N2_P2",104,{"$f":"LEN(resultats_textes_durs[[#This Row],[Texte en dur]])","v":10},null,{"$f":"_xlfn.IFS(Language=\"EN\",I442,Language=\"FR\",H442,Language=\"SP\",J442)","v":0}]
[null,"Feuil4","Min_Maturity_N4_Seuilbas",105,{"$f":"LEN(resultats_textes_durs[[#This Row],[Texte en dur]])","v":24},null,{"$f":"_xlfn.IFS(Language=\"EN\",I443,Language=\"FR\",H443,Language=\"SP\",J443)","v":0}]
[null,"Feuil4","Min_P2",106,{"$f":"LEN(resultats_textes_durs[[#This Row],[Texte en dur]])","v":6},null,{"$f":"_xlfn.IFS(Language=\"EN\",I444,Language=\"FR\",H444,Language=\"SP\",J444)","v":0}]
[null,"Feuil4","",106,{"$f":"LEN(resultats_textes_durs[[#This Row],[Texte en dur]])","v":0},null,{"$f":"_xlfn.IFS(Language=\"EN\",I445,Language=\"FR\",H445,Language=\"SP\",J445)","v":0}]
[null,"Feuil4","Rect_N4_P2",107,{"$f":"LEN(resultats_textes_durs[[#This Row],[Texte en dur]])","v":10},null,{"$f":"_xlfn.IFS(Language=\"EN\",I446,Language=\"FR\",H446,Language=\"SP\",J446)","v":0}]
[null,"Feuil4","Rect_N3_P2",108,{"$f":"LEN(resultats_textes_durs[[#This Row],[Texte en dur]])","v":10},null,{"$f":"_xlfn.IFS(Language=\"EN\",I447,Language=\"FR\",H447,Language=\"SP\",J447)","v":0}]
[null,"Feuil4","Rect_N2_P2",109,{"$f":"LEN(resultats_textes_durs[[#This Row],[Texte en dur]])","v":10},null,{"$f":"_xlfn.IFS(Language=\"EN\",I448,Language=\"FR\",H448,Language=\"SP\",J448)","v":0}]
[null,"Feuil4","Min_Maturity_N4_Seuilbas",110,{"$f":"LEN(resultats_textes_durs[[#This Row],[Texte en dur]])","v":24},null,{"$f":"_xlfn.IFS(Language=\"EN\",I449,Language=\"FR\",H449,Language=\"SP\",J449)","v":0}]
[null,"Feuil4","Graph_SRR_Maturity_P2",114,{"$f":"LEN(resultats_textes_durs[[#This Row],[Texte en dur]])","v":21},null,{"$f":"_xlfn.IFS(Language=\"EN\",I450,Language=\"FR\",H450,Language=\"SP\",J450)","v":0}]
[null,"Feuil4","Min_P2",116,{"$f":"LEN(resultats_textes_durs[[#This Row],[Texte en dur]])","v":6},null,{"$f":"_xlfn.IFS(Language=\"EN\",I451,Language=\"FR\",H451,Language=\"SP\",J451)","v":0}]
[null,"Feuil4","",116,{"$f":"LEN(resultats_textes_durs[[#This Row],[Texte en dur]])","v":0},null,{"$f":"_xlfn.IFS(Language=\"EN\",I452,Language=\"FR\",H452,Language=\"SP\",J452)","v":0}]
[null,"Feuil4","Erreur : wsDataset n'est pas défini.",121,{"$f":"LEN(resultats_textes_durs[[#This Row],[Texte en dur]])","v":36},null,{"$f":"_xlfn.IFS(Language=\"EN\",I453,Language=\"FR\",H453,Language=\"SP\",J453)","v":0}]
[null,"Feuil4","SRM",122,{"$f":"LEN(resultats_textes_durs[[#This Row],[Texte en dur]])","v":3},null,{"$f":"_xlfn.IFS(Language=\"EN\",I454,Language=\"FR\",H454,Language=\"SP\",J454)","v":0}]
[null,"Feuil4","Cellule testée : ",129,{"$f":"LEN(resultats_textes_durs[[#This Row],[Texte en dur]])","v":17},null,{"$f":"_xlfn.IFS(Language=\"EN\",I455,Language=\"FR\",H455,Language=\"SP\",J455)","v":0}]
[null,"Feuil4","E",129,{"$f":"LEN(resultats_textes_durs[[#This Row],[Texte en dur]])","v":1},null,{"$f":"_xlfn.IFS(Language=\"EN\",I456,Language=\"FR\",H456,Language=\"SP\",J456)","v":0}]
[null,"Feuil4","E",132,{"$f":"LEN(resultats_textes_durs[[#This Row],[Texte en dur]])","v":1},null,{"$f":"_xlfn.IFS(Language=\"EN\",I457,Language=\"FR\",H457,Language=\"SP\",J457)","v":0}]
[null,"Feuil4","Erreur dans la cellule : E",133,{"$f":"LEN(resultats_textes_durs[[#This Row],[Texte en dur]])","v":26},null,{"$f":"_xlfn.IFS(Language=\"EN\",I458,Language=\"FR\",H458,Language=\"SP\",J458)","v":0}]
[null,"Feuil4",". Valeur ignorée.",133,{"$f":"LEN(resultats_textes_durs[[#This Row],[Texte en dur]])","v":17},null,{"$f":"_xlfn.IFS(Language=\"EN\",I459,Language=\"FR\",H459,Language=\"SP\",J459)","v":0}]
[null,"Feuil4","E",137,{"$f":"LEN(resultats_textes_durs[[#This Row],[Texte en dur]])","v":1},null,{"$f":"_xlfn.IFS(Language=\"EN\",I460,Language=\"FR\",H460,Language=\"SP\",J460)","v":0}]
[null,"Feuil4","Min_P3",151,{"$f":"LEN(resultats_textes_durs[[#This Row],[Texte en dur]])","v":6},null,{"$f":"_xlfn.IFS(Language=\"EN\",I461,Language=\"FR\",H461,Language=\"SP\",J461)","v":0}]
[null,"Feuil4","Min_Maturity_Initiate",151,{"$f":"LEN(resultats_textes_durs[[#This Row],[Texte en dur]])","v":21},null,{"$f":"_xlfn.IFS(Language=\"EN\",I462,Language=\"FR\",H462,Language=\"SP\",J462)","v":0}]
[null,"Feuil4","Rect_N2_P3",152,{"$f":"LEN(resultats_textes_durs[[#This Row],[Texte en dur]])","v":10},null,{"$f":"_xlfn.IFS(Language=\"EN\",I463,Language=\"FR\",H463,Language=\"SP\",J463)","v":0}]
[null,"Feuil4","Rect_N3_P3",153,{"$f":"LEN(resultats_textes_durs[[#This Row],[Texte en dur]])","v":10},null,{"$f":"_xlfn.IFS(Language=\"EN\",I464,Language=\"FR\",H464,Language=\"SP\",J464)","v":0}]
[null,"Feuil4","Rect_N4_P3",154,{"$f":"LEN(resultats_textes_durs[[#This Row],[Texte en dur]])","v":10},null,{"$f":"_xlfn.IFS(Language=\"EN\",I465,Language=\"FR\",H465,Language=\"SP\",J465)","v":0}]
[null,"Feuil4","Min_Maturity_N2_Seuilbas",155,{"$f":"LEN(resultats_textes_durs[[#This Row],[Texte en dur]])","v":24},null,{"$f":"_xlfn.IFS(Language=\"EN\",I466,Language=\"FR\",H466,Language=\"SP\",J466)","v":0}]
[null,"Feuil4","Min_P3",156,{"$f":"LEN(resultats_textes_durs[[#This Row],[Texte en dur]])","v":6},null,{"$f":"_xlfn.IFS(Language=\"EN\",I467,Language=\"FR\",H467,Language=\"SP\",J467)","v":0}]
[null,"Feuil4","Min_Maturity_Mature",156,{"$f":"LEN(resultats_textes_durs[[#This Row],[Texte en dur]])","v":19},null,{"$f":"_xlfn.IFS(Language=\"EN\",I468,Language=\"FR\",H468,Language=\"SP\",J468)","v":0}]
[null,"Feuil4","Rect_N3_P3",157,{"$f":"LEN(resultats_textes_durs[[#This Row],[Texte en dur]])","v":10},null,{"$f":"_xlfn.IFS(Language=\"EN\",I469,Language=\"FR\",H469,Language=\"SP\",J469)","v":0}]
[null,"Feuil4","Rect_N2_P3",158,{"$f":"LEN(resultats_textes_durs[[#This Row],[Texte en dur]])","v":10},null,{"$f":"_xlfn.IFS(Language=\"EN\",I470,Language=\"FR\",H470,Language=\"SP\",J470)","v":0}]
[null,"Feuil4","Rect_N4_P3",159,{"$f":"LEN(resultats_textes_durs[[#This Row],[Texte en dur]])","v":10},null,{"$f":"_xlfn.IFS(Language=\"EN\",I471,Language=\"FR\",H471,Language=\"SP\",J471)","v":0}]
[null,"Feuil4","Min_Maturity_N3_Seuilbas",160,{"$f":"LEN(resultats_textes_durs[[#This Row],[Texte en dur]])","v":24},null,{"$f":"_xlfn.IFS(Language=\"EN\",I472,Language=\"FR\",H472,Language=\"SP\",J472)","v":0}]
[null,"Feuil4","Min_P3",161,{"$f":"LEN(resultats_textes_durs[[#This Row],[Texte en dur]])","v":6},null,{"$f":"_xlfn.IFS(Language=\"EN\",I473,Language=\"FR\",H473,Language=\"SP\",J473)","v":0}]
[null,"Feuil4","Min_Maturity_Excellent",161,{"$f":"LEN(resultats_textes_durs[[#This Row],[Texte en dur]])","v":22},null,{"$f":"_xlfn.IFS(Language=\"EN\",I474,Language=\"FR\",H474,Language=\"SP\",J474)","v":0}]
[null,"Feuil4","Rect_N4_P3",162,{"$f":"LEN(resultats_textes_durs[[#This Row],[Texte en dur]])","v":10},null,{"$f":"_xlfn.IFS(Language=\"EN\",I475,Language=\"FR\",H475,Language=\"SP\",J475)","v":0}]
[null,"Feuil4","Rect_N3_P3",163,{"$f":"LEN(resultats_textes_durs[[#This Row],[Texte en dur]])","v":10},null,{"$f":"_xlfn.IFS(Language=\"EN\",I476,Language=\"FR\",H476,Language=\"SP\",J476)","v":0}]
[null,"Feuil4","Rect_N2_P3",164,{"$f":"LEN(resultats_textes_durs[[#This Row],[Texte en dur]])","v":10},null,{"$f":"_xlfn.IFS(Language=\"EN\",I477,Language=\"FR\",H477,Language=\"SP\",J477)","v":0}]
[null,"Feuil4","Min_Maturity_N4_Seuilbas",165,{"$f":"LEN(resultats_textes_durs[[#This Row],[Texte en dur]])","v":24},null,{"$f":"_xlfn.IFS(Language=\"EN\",I478,Language=\"FR\",H478,Language=\"SP\",J478)","v":0}]
[null,"Feuil4","Min_P3",166,{"$f":"LEN(resultats_textes_durs[[#This Row],[Texte en dur]])","v":6},null,{"$f":"_xlfn.IFS(Language=\"EN\",I479,Language=\"FR\",H479,Language=\"SP\",J479)","v":0}]
[null,"Feuil4","",166,{"$f":"LEN(resultats_textes_durs[[#This Row],[Texte en dur]])","v":0},null,{"$f":"_xlfn.IFS(Language=\"EN\",I480,Language=\"FR\",H480,Language=\"SP\",J480)","v":0}]
[null,"Feuil4","Rect_N4_P3",167,{"$f":"LEN(resultats_textes_durs[[#This Row],[Texte en dur]])","v":10},null,{"$f":"_xlfn.IFS(Language=\"EN\",I481,Language=\"FR\",H481,Language=\"SP\",J481)","v":0}]
[null,"Feuil4","Rect_N3_P3",168,{"$f":"LEN(resultats_textes_durs[[#This Row],[Texte en dur]])","v":10},null,{"$f":"_xlfn.IFS(Language=\"EN\",I482,Language=\"FR\",H482,Language=\"SP\",J482)","v":0}]
[null,"Feuil4","Rect_N2_P3",169,{"$f":"LEN(resultats_textes_durs[[#This Row],[Texte en dur]])","v":10},null,{"$f":"_xlfn.IFS(Language=\"EN\",I483,Language=\"FR\",H483,Language=\"SP\",J483)","v":0}]
[null,"Feuil4","Min_Maturity_N4_Seuilbas",170,{"$f":"LEN(resultats_textes_durs[[#This Row],[Texte en dur]])","v":24},null,{"$f":"_xlfn.IFS(Language=\"EN\",I484,Language=\"FR\",H484,Language=\"SP\",J484)","v":0}]
[null,"Feuil4","Graph_SRR_Maturity_P3",174,{"$f":"LEN(resultats_textes_durs[[#This Row],[Texte en dur]])","v":21},null,{"$f":"_xlfn.IFS(Language=\"EN\",I485,Language=\"FR\",H485,Language=\"SP\",J485)","v":0}]
[null,"Feuil4","Min_P3",179,{"$f":"LEN(resultats_textes_durs[[#This Row],[Texte en dur]])","v":6},null,{"$f":"_xlfn.IFS(Language=\"EN\",I486,Language=\"FR\",H486,Language=\"SP\",J486)","v":0}]
[null,"Feuil4","",179,{"$f":"LEN(resultats_textes_durs[[#This Row],[Texte en dur]])","v":0},null,{"$f":"_xlfn.IFS(Language=\"EN\",I487,Language=\"FR\",H487,Language=\"SP\",J487)","v":0}]
[null,"Feuil4","Erreur : wsDataset n'est pas défini.",185,{"$f":"LEN(resultats_textes_durs[[#This Row],[Texte en dur]])","v":36},null,{"$f":"_xlfn.IFS(Language=\"EN\",I488,Language=\"FR\",H488,Language=\"SP\",J488)","v":0}]
[null,"Feuil4","SRM",186,{"$f":"LEN(resultats_textes_durs[[#This Row],[Texte en dur]])","v":3},null,{"$f":"_xlfn.IFS(Language=\"EN\",I489,Language=\"FR\",H489,Language=\"SP\",J489)","v":0}]
[null,"Feuil4","Cellule testée : ",194,{"$f":"LEN(resultats_textes_durs[[#This Row],[Texte en dur]])","v":17},null,{"$f":"_xlfn.IFS(Language=\"EN\",I490,Language=\"FR\",H490,Language=\"SP\",J490)","v":0}]
[null,"Feuil4","E",194,{"$f":"LEN(resultats_textes_durs[[#This Row],[Texte en dur]])","v":1},null,{"$f":"_xlfn.IFS(Language=\"EN\",I491,Language=\"FR\",H491,Language=\"SP\",J491)","v":0}]
[null,"Feuil4","E",197,{"$f":"LEN(resultats_textes_durs[[#This Row],[Texte en dur]])","v":1},null,{"$f":"_xlfn.IFS(Language=\"EN\",I492,Language=\"FR\",H492,Language=\"SP\",J492)","v":0}]
[null,"Feuil4","Erreur dans la cellule : E",198,{"$f":"LEN(resultats_textes_durs[[#This Row],[Texte en dur]])","v":26},null,{"$f":"_xlfn.IFS(Language=\"EN\",I493,Language=\"FR\",H493,Language=\"SP\",J493)","v":0}]
[null,"Feuil4",". Valeur ignorée.",198,{"$f":"LEN(resultats_textes_durs[[#This Row],[Texte en dur]])","v":17},null,{"$f":"_xlfn.IFS(Language=\"EN\",I494,Language=\"FR\",H494,Language=\"SP\",J494)","v":0}]
[null,"Feuil4","E",202,{"$f":"LEN(resultats_textes_durs[[#This Row],[Texte en dur]])","v":1},null,{"$f":"_xlfn.IFS(Language=\"EN\",I495,Language=\"FR\",H495,Language=\"SP\",J495)","v":0}]
[null,"Feuil4","Min_P4",221,{"$f":"LEN(resultats_textes_durs[[#This Row],[Texte en dur]])","v":6},null,{"$f":"_xlfn.IFS(Language=\"EN\",I496,Language=\"FR\",H496,Language=\"SP\",J496)","v":0}]
[null,"Feuil4","Min_Maturity_Initiate",221,{"$f":"LEN(resultats_textes_durs[[#This Row],[Texte en dur]])","v":21},null,{"$f":"_xlfn.IFS(Language=\"EN\",I497,Language=\"FR\",H497,Language=\"SP\",J497)","v":0}]
[null,"Feuil4","Rect_N2_P4",222,{"$f":"LEN(resultats_textes_durs[[#This Row],[Texte en dur]])","v":10},null,{"$f":"_xlfn.IFS(Language=\"EN\",I498,Language=\"FR\",H498,Language=\"SP\",J498)","v":0}]
[null,"Feuil4","Rect_N3_P4",223,{"$f":"LEN(resultats_textes_durs[[#This Row],[Texte en dur]])","v":10},null,{"$f":"_xlfn.IFS(Language=\"EN\",I499,Language=\"FR\",H499,Language=\"SP\",J499)","v":0}]
[null,"Feuil4","Rect_N4_P4",224,{"$f":"LEN(resultats_textes_durs[[#This Row],[Texte en dur]])","v":10},null,{"$f":"_xlfn.IFS(Language=\"EN\",I500,Language=\"FR\",H500,Language=\"SP\",J500)","v":0}]
[null,"Feuil4","Min_Maturity_N2_Seuilbas",225,{"$f":"LEN(resultats_textes_durs[[#This Row],[Texte en dur]])","v":24},null,{"$f":"_xlfn.IFS(Language=\"EN\",I501,Language=\"FR\",H501,Language=\"SP\",J501)","v":0}]
[null,"Feuil4","Min_P4",226,{"$f":"LEN(resultats_textes_durs[[#This Row],[Texte en dur]])","v":6},null,{"$f":"_xlfn.IFS(Language=\"EN\",I502,Language=\"FR\",H502,Language=\"SP\",J502)","v":0}]
[null,"Feuil4","Min_Maturity_Mature",226,{"$f":"LEN(resultats_textes_durs[[#This Row],[Texte en dur]])","v":19},null,{"$f":"_xlfn.IFS(Language=\"EN\",I503,Language=\"FR\",H503,Language=\"SP\",J503)","v":0}]
[null,"Feuil4","Rect_N3_P4",227,{"$f":"LEN(resultats_textes_durs[[#This Row],[Texte en dur]])","v":10},null,{"$f":"_xlfn.IFS(Language=\"EN\",I504,Language=\"FR\",H504,Language=\"SP\",J504)","v":0}]
[null,"Feuil4","Rect_N2_P4",228,{"$f":"LEN(resultats_textes_durs[[#This Row],[Texte en dur]])","v":10},null,{"$f":"_xlfn.IFS(Language=\"EN\",I505,Language=\"FR\",H505,Language=\"SP\",J505)","v":0}]
[null,"Feuil4","Rect_N4_P4",229,{"$f":"LEN(resultats_textes_durs[[#This Row],[Texte en dur]])","v":10},null,{"$f":"_xlfn.IFS(Language=\"EN\",I506,Language=\"FR\",H506,Language=\"SP\",J506)","v":0}]
[null,"Feuil4","Min_Maturity_N3_Seuilbas",230,{"$f":"LEN(resultats_textes_durs[[#This Row],[Texte en dur]])","v":24},null,{"$f":"_xlfn.IFS(Language=\"EN\",I507,Language=\"FR\",H507,Language=\"SP\",J507)","v":0}]
[null,"Feuil4","Min_P4",231,{"$f":"LEN(resultats_textes_durs[[#This Row],[Texte en dur]])","v":6},null,{"$f":"_xlfn.IFS(Language=\"EN\",I508,Language=\"FR\",H508,Language=\"SP\",J508)","v":0}]
[null,"Feuil4","Min_Maturity_Excellent",231,{"$f":"LEN(resultats_textes_durs[[#This Row],[Texte en dur]])","v":22},null,{"$f":"_xlfn.IFS(Language=\"EN\",I509,Language=\"FR\",H509,Language=\"SP\",J509)","v":0}]
[null,"Feuil4","Rect_N4_P4",232,{"$f":"LEN(resultats_textes_durs[[#This Row],[Texte en dur]])","v":10},null,{"$f":"_xlfn.IFS(Language=\"EN\",I510,Language=\"FR\",H510,Language=\"SP\",J510)","v":0}]
[null,"Feuil4","Rect_N3_P4",233,{"$f":"LEN(resultats_textes_durs[[#This Row],[Texte en dur]])","v":10},null,{"$f":"_xlfn.IFS(Language=\"EN\",I511,Language=\"FR\",H511,Language=\"SP\",J511)","v":0}]
[null,"Feuil4","Rect_N2_P4",234,{"$f":"LEN(resultats_textes_durs[[#This Row],[Texte en dur]])","v":10},null,{"$f":"_xlfn.IFS(Language=\"EN\",I512,Language=\"FR\",H512,Language=\"SP\",J512)","v":0}]
[null,"Feuil4","Min_Maturity_N4_Seuilbas",235,{"$f":"LEN(resultats_textes_durs[[#This Row],[Texte en dur]])","v":24},null,{"$f":"_xlfn.IFS(Language=\"EN\",I513,Language=\"FR\",H513,Language=\"SP\",J513)","v":0}]
[null,"Feuil4","Min_P4",236,{"$f":"LEN(resultats_textes_durs[[#This Row],[Texte en dur]])","v":6},null,{"$f":"_xlfn.IFS(Language=\"EN\",I514,Language=\"FR\",H514,Language=\"SP\",J514)","v":0}]
[null,"Feuil4","",236,{"$f":"LEN(resultats_textes_durs[[#This Row],[Texte en dur]])","v":0},null,{"$f":"_xlfn.IFS(Language=\"EN\",I515,Language=\"FR\",H515,Language=\"SP\",J515)","v":0}]
[null,"Feuil4","Rect_N4_P4",237,{"$f":"LEN(resultats_textes_durs[[#This Row],[Texte en dur]])","v":10},null,{"$f":"_xlfn.IFS(Language=\"EN\",I516,Language=\"FR\",H516,Language=\"SP\",J516)","v":0}]
[null,"Feuil4","Rect_N3_P4",238,{"$f":"LEN(resultats_textes_durs[[#This Row],[Texte en dur]])","v":10},null,{"$f":"_xlfn.IFS(Language=\"EN\",I517,Language=\"FR\",H517,Language=\"SP\",J517)","v":0}]
[null,"Feuil4","Rect_N2_P4",239,{"$f":"LEN(resultats_textes_durs[[#This Row],[Texte en dur]])","v":10},null,{"$f":"_xlfn.IFS(Language=\"EN\",I518,Language=\"FR\",H518,Language=\"SP\",J518)","v":0}]
[null,"Feuil4","Min_Maturity_N4_Seuilbas",240,{"$f":"LEN(resultats_textes_durs[[#This Row],[Texte en dur]])","v":24},null,{"$f":"_xlfn.IFS(Language=\"EN\",I519,Language=\"FR\",H519,Language=\"SP\",J519)","v":0}]
[null,"Feuil4","Graph_SRR_Maturity_P4",244,{"$f":"LEN(resultats_textes_durs[[#This Row],[Texte en dur]])","v":21},null,{"$f":"_xlfn.IFS(Language=\"EN\",I520,Language=\"FR\",H520,Language=\"SP\",J520)","v":0}]
[null,"Feuil4","Min_P4",246,{"$f":"LEN(resultats_textes_durs[[#This Row],[Texte en dur]])","v":6},null,{"$f":"_xlfn.IFS(Language=\"EN\",I521,Language=\"FR\",H521,Language=\"SP\",J521)","v":0}]
[null,"Feuil4","",246,{"$f":"LEN(resultats_textes_durs[[#This Row],[Texte en dur]])","v":0},null,{"$f":"_xlfn.IFS(Language=\"EN\",I522,Language=\"FR\",H522,Language=\"SP\",J522)","v":0}]
[null,"Feuil4","SRM",247,{"$f":"LEN(resultats_textes_durs[[#This Row],[Texte en dur]])","v":3},null,{"$f":"_xlfn.IFS(Language=\"EN\",I523,Language=\"FR\",H523,Language=\"SP\",J523)","v":0}]
[null,"Feuil4","Erreur : wsDataset n'est pas défini.",254,{"$f":"LEN(resultats_textes_durs[[#This Row],[Texte en dur]])","v":36},null,{"$f":"_xlfn.IFS(Language=\"EN\",I524,Language=\"FR\",H524,Language=\"SP\",J524)","v":0}]
[null,"Feuil4","SRM",255,{"$f":"LEN(resultats_textes_durs[[#This Row],[Texte en dur]])","v":3},null,{"$f":"_xlfn.IFS(Language=\"EN\",I525,Language=\"FR\",H525,Language=\"SP\",J525)","v":0}]
[null,"Feuil4","Cellule testée : ",262,{"$f":"LEN(resultats_textes_durs[[#This Row],[Texte en dur]])","v":17},null,{"$f":"_xlfn.IFS(Language=\"EN\",I526,Language=\"FR\",H526,Language=\"SP\",J526)","v":0}]
[null,"Feuil4","E",262,{"$f":"LEN(resultats_textes_durs[[#This Row],[Texte en dur]])","v":1},null,{"$f":"_xlfn.IFS(Language=\"EN\",I527,Language=\"FR\",H527,Language=\"SP\",J527)","v":0}]
[null,"Feuil4","E",265,{"$f":"LEN(resultats_textes_durs[[#This Row],[Texte en dur]])","v":1},null,{"$f":"_xlfn.IFS(Language=\"EN\",I528,Language=\"FR\",H528,Language=\"SP\",J528)","v":0}]
[null,"Feuil4","Erreur dans la cellule : E",266,{"$f":"LEN(resultats_textes_durs[[#This Row],[Texte en dur]])","v":26},null,{"$f":"_xlfn.IFS(Language=\"EN\",I529,Language=\"FR\",H529,Language=\"SP\",J529)","v":0}]
[null,"Feuil4",". Valeur ignorée.",266,{"$f":"LEN(resultats_textes_durs[[#This Row],[Texte en dur]])","v":17},null,{"$f":"_xlfn.IFS(Language=\"EN\",I530,Language=\"FR\",H530,Language=\"SP\",J530)","v":0}]
[null,"Feuil4","E",270,{"$f":"LEN(resultats_textes_durs[[#This Row],[Texte en dur]])","v":1},null,{"$f":"_xlfn.IFS(Language=\"EN\",I531,Language=\"FR\",H531,Language=\"SP\",J531)","v":0}]
[null,"Feuil4","SRM",281,{"$f":"LEN(resultats_textes_durs[[#This Row],[Texte en dur]])","v":3},null,{"$f":"_xlfn.IFS(Language=\"EN\",I532,Language=\"FR\",H532,Language=\"SP\",J532)","v":0}]
[null,"Feuil47","CI",10,{"$f":"LEN(resultats_textes_durs[[#This Row],[Texte en dur]])","v":2},null,{"$f":"_xlfn.IFS(Language=\"EN\",I533,Language=\"FR\",H533,Language=\"SP\",J533)","v":0}]
[null,"Feuil47","SPL",10,{"$f":"LEN(resultats_textes_durs[[#This Row],[Texte en dur]])","v":3},null,{"$f":"_xlfn.IFS(Language=\"EN\",I534,Language=\"FR\",H534,Language=\"SP\",J534)","v":0}]
[null,"Feuil47","B28:C36",12,{"$f":"LEN(resultats_textes_durs[[#This Row],[Texte en dur]])","v":7},null,{"$f":"_xlfn.IFS(Language=\"EN\",I535,Language=\"FR\",H535,Language=\"SP\",J535)","v":0}]
[null,"Feuil47","CI",14,{"$f":"LEN(resultats_textes_durs[[#This Row],[Texte en dur]])","v":2},null,{"$f":"_xlfn.IFS(Language=\"EN\",I536,Language=\"FR\",H536,Language=\"SP\",J536)","v":0}]
[null,"Feuil47","SPL",14,{"$f":"LEN(resultats_textes_durs[[#This Row],[Texte en dur]])","v":3},null,{"$f":"_xlfn.IFS(Language=\"EN\",I537,Language=\"FR\",H537,Language=\"SP\",J537)","v":0}]
[null,"Feuil47","Onglet_AP_Fiche_SPL",22,{"$f":"LEN(resultats_textes_durs[[#This Row],[Texte en dur]])","v":19},null,{"$f":"_xlfn.IFS(Language=\"EN\",I538,Language=\"FR\",H538,Language=\"SP\",J538)","v":0}]
[null,"Feuil47","Onglet_AP_Fiche_SPL",23,{"$f":"LEN(resultats_textes_durs[[#This Row],[Texte en dur]])","v":19},null,{"$f":"_xlfn.IFS(Language=\"EN\",I539,Language=\"FR\",H539,Language=\"SP\",J539)","v":0}]
[null,"Feuil47","SRM",24,{"$f":"LEN(resultats_textes_durs[[#This Row],[Texte en dur]])","v":3},null,{"$f":"_xlfn.IFS(Language=\"EN\",I540,Language=\"FR\",H540,Language=\"SP\",J540)","v":0}]
[null,"Feuil47","C7",25,{"$f":"LEN(resultats_textes_durs[[#This Row],[Texte en dur]])","v":2},null,{"$f":"_xlfn.IFS(Language=\"EN\",I541,Language=\"FR\",H541,Language=\"SP\",J541)","v":0}]
[null,"Feuil47","Onglet_AP_Fiche_SPL",26,{"$f":"LEN(resultats_textes_durs[[#This Row],[Texte en dur]])","v":19},null,{"$f":"_xlfn.IFS(Language=\"EN\",I542,Language=\"FR\",H542,Language=\"SP\",J542)","v":0}]
[null,"Feuil47","SRM",27,{"$f":"LEN(resultats_textes_durs[[#This Row],[Texte en dur]])","v":3},null,{"$f":"_xlfn.IFS(Language=\"EN\",I543,Language=\"FR\",H543,Language=\"SP\",J543)","v":0}]
[null,"Feuil5","CI",10,{"$f":"LEN(resultats_textes_durs[[#This Row],[Texte en dur]])","v":2},null,{"$f":"_xlfn.IFS(Language=\"EN\",I544,Language=\"FR\",H544,Language=\"SP\",J544)","v":0}]
[null,"Feuil5","SPL",10,{"$f":"LEN(resultats_textes_durs[[#This Row],[Texte en dur]])","v":3},null,{"$f":"_xlfn.IFS(Language=\"EN\",I545,Language=\"FR\",H545,Language=\"SP\",J545)","v":0}]
[null,"Feuil5","B27:C36",11,{"$f":"LEN(resultats_textes_durs[[#This Row],[Texte en dur]])","v":7},null,{"$f":"_xlfn.IFS(Language=\"EN\",I546,Language=\"FR\",H546,Language=\"SP\",J546)","v":0}]
[null,"Feuil5","B45:C48",12,{"$f":"LEN(resultats_textes_durs[[#This Row],[Texte en dur]])","v":7},null,{"$f":"_xlfn.IFS(Language=\"EN\",I547,Language=\"FR\",H547,Language=\"SP\",J547)","v":0}]
[null,"Feuil5","CI",14,{"$f":"LEN(resultats_textes_durs[[#This Row],[Texte en dur]])","v":2},null,{"$f":"_xlfn.IFS(Language=\"EN\",I548,Language=\"FR\",H548,Language=\"SP\",J548)","v":0}]
[null,"Feuil5","SPL",14,{"$f":"LEN(resultats_textes_durs[[#This Row],[Texte en dur]])","v":3},null,{"$f":"_xlfn.IFS(Language=\"EN\",I549,Language=\"FR\",H549,Language=\"SP\",J549)","v":0}]
[null,"Feuil5","Onglet_AP_Fiche_SPL",22,{"$f":"LEN(resultats_textes_durs[[#This Row],[Texte en dur]])","v":19},null,{"$f":"_xlfn.IFS(Language=\"EN\",I550,Language=\"FR\",H550,Language=\"SP\",J550)","v":0}]
[null,"Feuil5","Onglet_AP_Fiche_SPL",23,{"$f":"LEN(resultats_textes_durs[[#This Row],[Texte en dur]])","v":19},null,{"$f":"_xlfn.IFS(Language=\"EN\",I551,Language=\"FR\",H551,Language=\"SP\",J551)","v":0}]
[null,"Feuil5","SRM",24,{"$f":"LEN(resultats_textes_durs[[#This Row],[Texte en dur]])","v":3},null,{"$f":"_xlfn.IFS(Language=\"EN\",I552,Language=\"FR\",H552,Language=\"SP\",J552)","v":0}]
[null,"Feuil5","C7",25,{"$f":"LEN(resultats_textes_durs[[#This Row],[Texte en dur]])","v":2},null,{"$f":"_xlfn.IFS(Language=\"EN\",I553,Language=\"FR\",H553,Language=\"SP\",J553)","v":0}]
[null,"Feuil5","Onglet_AP_Fiche_SPL",26,{"$f":"LEN(resultats_textes_durs[[#This Row],[Texte en dur]])","v":19},null,{"$f":"_xlfn.IFS(Language=\"EN\",I554,Language=\"FR\",H554,Language=\"SP\",J554)","v":0}]
[null,"Feuil5","SRM",27,{"$f":"LEN(resultats_textes_durs[[#This Row],[Texte en dur]])","v":3},null,{"$f":"_xlfn.IFS(Language=\"EN\",I555,Language=\"FR\",H555,Language=\"SP\",J555)","v":0}]
[null,"Feuil5","Onglet_Gap_P1",38,{"$f":"LEN(resultats_textes_durs[[#This Row],[Texte en dur]])","v":13},null,{"$f":"_xlfn.IFS(Language=\"EN\",I556,Language=\"FR\",H556,Language=\"SP\",J556)","v":0}]
[null,"Feuil5","Onglet_SRR_rules",39,{"$f":"LEN(resultats_textes_durs[[#This Row],[Texte en dur]])","v":16},null,{"$f":"_xlfn.IFS(Language=\"EN\",I557,Language=\"FR\",H557,Language=\"SP\",J557)","v":0}]
[null,"Feuil5","B15:C18",42,{"$f":"LEN(resultats_textes_durs[[#This Row],[Texte en dur]])","v":7},null,{"$f":"_xlfn.IFS(Language=\"EN\",I558,Language=\"FR\",H558,Language=\"SP\",J558)","v":0}]
[null,"Feuil5","Answer_rate_threshold",45,{"$f":"LEN(resultats_textes_durs[[#This Row],[Texte en dur]])","v":21},null,{"$f":"_xlfn.IFS(Language=\"EN\",I559,Language=\"FR\",H559,Language=\"SP\",J559)","v":0}]
[null,"Feuil5","Gap_P1_impact_source",47,{"$f":"LEN(resultats_textes_durs[[#This Row],[Texte en dur]])","v":20},null,{"$f":"_xlfn.IFS(Language=\"EN\",I560,Language=\"FR\",H560,Language=\"SP\",J560)","v":0}]
[null,"Feuil5","Gap_P1_impact",47,{"$f":"LEN(resultats_textes_durs[[#This Row],[Texte en dur]])","v":13},null,{"$f":"_xlfn.IFS(Language=\"EN\",I561,Language=\"FR\",H561,Language=\"SP\",J561)","v":0}]
[null,"Feuil5","Gap_P1_impact_source",48,{"$f":"LEN(resultats_textes_durs[[#This Row],[Texte en dur]])","v":20},null,{"$f":"_xlfn.IFS(Language=\"EN\",I562,Language=\"FR\",H562,Language=\"SP\",J562)","v":0}]
[null,"Feuil5","Gap_P1_impact",49,{"$f":"LEN(resultats_textes_durs[[#This Row],[Texte en dur]])","v":13},null,{"$f":"_xlfn.IFS(Language=\"EN\",I563,Language=\"FR\",H563,Language=\"SP\",J563)","v":0}]
[null,"Feuil5","Gap_P1_impact_rate",50,{"$f":"LEN(resultats_textes_durs[[#This Row],[Texte en dur]])","v":18},null,{"$f":"_xlfn.IFS(Language=\"EN\",I564,Language=\"FR\",H564,Language=\"SP\",J564)","v":0}]
[null,"Feuil5","Gap_P1_performance_source",54,{"$f":"LEN(resultats_textes_durs[[#This Row],[Texte en dur]])","v":25},null,{"$f":"_xlfn.IFS(Language=\"EN\",I565,Language=\"FR\",H565,Language=\"SP\",J565)","v":0}]
[null,"Feuil5","Gap_P1_performance",54,{"$f":"LEN(resultats_textes_durs[[#This Row],[Texte en dur]])","v":18},null,{"$f":"_xlfn.IFS(Language=\"EN\",I566,Language=\"FR\",H566,Language=\"SP\",J566)","v":0}]
[null,"Feuil5","Gap_P1_performance_source",55,{"$f":"LEN(resultats_textes_durs[[#This Row],[Texte en dur]])","v":25},null,{"$f":"_xlfn.IFS(Language=\"EN\",I567,Language=\"FR\",H567,Language=\"SP\",J567)","v":0}]
[null,"Feuil5","Gap_P1_performance",56,{"$f":"LEN(resultats_textes_durs[[#This Row],[Texte en dur]])","v":18},null,{"$f":"_xlfn.IFS(Language=\"EN\",I568,Language=\"FR\",H568,Language=\"SP\",J568)","v":0}]
[null,"Feuil5","Gap_P1_performance_rate",57,{"$f":"LEN(resultats_textes_durs[[#This Row],[Texte en dur]])","v":23},null,{"$f":"_xlfn.IFS(Language=\"EN\",I569,Language=\"FR\",H569,Language=\"SP\",J569)","v":0}]
[null,"frmAssets","",5,{"$f":"LEN(resultats_textes_durs[[#This Row],[Texte en dur]])","v":0},null,{"$f":"_xlfn.IFS(Language=\"EN\",I570,Language=\"FR\",H570,Language=\"SP\",J570)","v":0}]
[null,"frmAssets","CheckBox",9,{"$f":"LEN(resultats_textes_durs[[#This Row],[Texte en dur]])","v":8},null,{"$f":"_xlfn.IFS(Language=\"EN\",I571,Language=\"FR\",H571,Language=\"SP\",J571)","v":0}]
[null,"frmAssets","",10,{"$f":"LEN(resultats_textes_durs[[#This Row],[Texte en dur]])","v":0},null,{"$f":"_xlfn.IFS(Language=\"EN\",I572,Language=\"FR\",H572,Language=\"SP\",J572)","v":0}]
[null,"frm_assetlist","Assets",9,{"$f":"LEN(resultats_textes_durs[[#This Row],[Texte en dur]])","v":6},null,{"$f":"_xlfn.IFS(Language=\"EN\",I573,Language=\"FR\",H573,Language=\"SP\",J573)","v":0}]
[null,"frm_assetlist","Assets",11,{"$f":"LEN(resultats_textes_durs[[#This Row],[Texte en dur]])","v":6},null,{"$f":"_xlfn.IFS(Language=\"EN\",I574,Language=\"FR\",H574,Language=\"SP\",J574)","v":0}]
[null,"frm_assetlist","La plage nommée 'Assets' est introuvable.",15,{"$f":"LEN(resultats_textes_durs[[#This Row],[Texte en dur]])","v":41},null,{"$f":"_xlfn.IFS(Language=\"EN\",I575,Language=\"FR\",H575,Language=\"SP\",J575)","v":0}]
[null,"frm_assetlist","Forms.Label.1",25,{"$f":"LEN(resultats_textes_durs[[#This Row],[Texte en dur]])","v":13},null,{"$f":"_xlfn.IFS(Language=\"EN\",I576,Language=\"FR\",H576,Language=\"SP\",J576)","v":0}]
[null,"frm_assetlist","lblAsset",25,{"$f":"LEN(resultats_textes_durs[[#This Row],[Texte en dur]])","v":8},null,{"$f":"_xlfn.IFS(Language=\"EN\",I577,Language=\"FR\",H577,Language=\"SP\",J577)","v":0}]
[null,"frm_assetlist","Asset ",26,{"$f":"LEN(resultats_textes_durs[[#This Row],[Texte en dur]])","v":6},null,{"$f":"_xlfn.IFS(Language=\"EN\",I578,Language=\"FR\",H578,Language=\"SP\",J578)","v":0}]
[null,"frm_assetlist","Forms.TextBox.1",32,{"$f":"LEN(resultats_textes_durs[[#This Row],[Texte en dur]])","v":15},null,{"$f":"_xlfn.IFS(Language=\"EN\",I579,Language=\"FR\",H579,Language=\"SP\",J579)","v":0}]
[null,"frm_assetlist","txtAsset",32,{"$f":"LEN(resultats_textes_durs[[#This Row],[Texte en dur]])","v":8},null,{"$f":"_xlfn.IFS(Language=\"EN\",I580,Language=\"FR\",H580,Language=\"SP\",J580)","v":0}]
[null,"frm_assetlist","Assets",49,{"$f":"LEN(resultats_textes_durs[[#This Row],[Texte en dur]])","v":6},null,{"$f":"_xlfn.IFS(Language=\"EN\",I581,Language=\"FR\",H581,Language=\"SP\",J581)","v":0}]
[null,"frm_assetlist","Assets",51,{"$f":"LEN(resultats_textes_durs[[#This Row],[Texte en dur]])","v":6},null,{"$f":"_xlfn.IFS(Language=\"EN\",I582,Language=\"FR\",H582,Language=\"SP\",J582)","v":0}]
[null,"frm_assetlist","La plage nommée 'Assets' est introuvable.",55,{"$f":"LEN(resultats_textes_durs[[#This Row],[Texte en dur]])","v":41},null,{"$f":"_xlfn.IFS(Language=\"EN\",I583,Language=\"FR\",H583,Language=\"SP\",J583)","v":0}]
[null,"frm_assetlist","txtAsset",61,{"$f":"LEN(resultats_textes_durs[[#This Row],[Texte en dur]])","v":8},null,{"$f":"_xlfn.IFS(Language=\"EN\",I584,Language=\"FR\",H584,Language=\"SP\",J584)","v":0}]
[null,"frm_contacts","Onglet_mapping_database",39,{"$f":"LEN(resultats_textes_durs[[#This Row],[Texte en dur]])","v":23},null,{"$f":"_xlfn.IFS(Language=\"EN\",I585,Language=\"FR\",H585,Language=\"SP\",J585)","v":0}]
[null,"frm_contacts","C",48,{"$f":"LEN(resultats_textes_durs[[#This Row],[Texte en dur]])","v":1},null,{"$f":"_xlfn.IFS(Language=\"EN\",I586,Language=\"FR\",H586,Language=\"SP\",J586)","v":0}]
[null,"frm_contacts","Ajouté à ComboBox_SH_name: ",52,{"$f":"LEN(resultats_textes_durs[[#This Row],[Texte en dur]])","v":27},null,{"$f":"_xlfn.IFS(Language=\"EN\",I587,Language=\"FR\",H587,Language=\"SP\",J587)","v":0}]
[null,"frm_contacts","Stakeholder sélectionné: ",64,{"$f":"LEN(resultats_textes_durs[[#This Row],[Texte en dur]])","v":25},null,{"$f":"_xlfn.IFS(Language=\"EN\",I588,Language=\"FR\",H588,Language=\"SP\",J588)","v":0}]
[null,"frm_contacts","Aucun stakeholder de type '",66,{"$f":"LEN(resultats_textes_durs[[#This Row],[Texte en dur]])","v":27},null,{"$f":"_xlfn.IFS(Language=\"EN\",I589,Language=\"FR\",H589,Language=\"SP\",J589)","v":0}]
[null,"frm_contacts","' trouvé.",66,{"$f":"LEN(resultats_textes_durs[[#This Row],[Texte en dur]])","v":9},null,{"$f":"_xlfn.IFS(Language=\"EN\",I590,Language=\"FR\",H590,Language=\"SP\",J590)","v":0}]
[null,"frm_contacts","",88,{"$f":"LEN(resultats_textes_durs[[#This Row],[Texte en dur]])","v":0},null,{"$f":"_xlfn.IFS(Language=\"EN\",I591,Language=\"FR\",H591,Language=\"SP\",J591)","v":0}]
[null,"frm_contacts","Would you like to save the changes for the following stakeholder: ",90,{"$f":"LEN(resultats_textes_durs[[#This Row],[Texte en dur]])","v":66},null,{"$f":"_xlfn.IFS(Language=\"EN\",I592,Language=\"FR\",H592,Language=\"SP\",J592)","v":0}]
[null,"frm_contacts","?",90,{"$f":"LEN(resultats_textes_durs[[#This Row],[Texte en dur]])","v":1},null,{"$f":"_xlfn.IFS(Language=\"EN\",I593,Language=\"FR\",H593,Language=\"SP\",J593)","v":0}]
[null,"frm_contacts","Save Changes",90,{"$f":"LEN(resultats_textes_durs[[#This Row],[Texte en dur]])","v":12},null,{"$f":"_xlfn.IFS(Language=\"EN\",I594,Language=\"FR\",H594,Language=\"SP\",J594)","v":0}]
[null,"frm_contacts","Onglet_mapping_database",116,{"$f":"LEN(resultats_textes_durs[[#This Row],[Texte en dur]])","v":23},null,{"$f":"_xlfn.IFS(Language=\"EN\",I595,Language=\"FR\",H595,Language=\"SP\",J595)","v":0}]
[null,"frm_contacts","Onglet_mapping_matrix_single",117,{"$f":"LEN(resultats_textes_durs[[#This Row],[Texte en dur]])","v":28},null,{"$f":"_xlfn.IFS(Language=\"EN\",I596,Language=\"FR\",H596,Language=\"SP\",J596)","v":0}]
[null,"frm_contacts","table",118,{"$f":"LEN(resultats_textes_durs[[#This Row],[Texte en dur]])","v":5},null,{"$f":"_xlfn.IFS(Language=\"EN\",I597,Language=\"FR\",H597,Language=\"SP\",J597)","v":0}]
[null,"frm_contacts","C",123,{"$f":"LEN(resultats_textes_durs[[#This Row],[Texte en dur]])","v":1},null,{"$f":"_xlfn.IFS(Language=\"EN\",I598,Language=\"FR\",H598,Language=\"SP\",J598)","v":0}]
[null,"frm_contacts","https://",168,{"$f":"LEN(resultats_textes_durs[[#This Row],[Texte en dur]])","v":8},null,{"$f":"_xlfn.IFS(Language=\"EN\",I599,Language=\"FR\",H599,Language=\"SP\",J599)","v":0}]
[null,"frm_contacts","",168,{"$f":"LEN(resultats_textes_durs[[#This Row],[Texte en dur]])","v":0},null,{"$f":"_xlfn.IFS(Language=\"EN\",I600,Language=\"FR\",H600,Language=\"SP\",J600)","v":0}]
[null,"frm_contacts","TEMP",170,{"$f":"LEN(resultats_textes_durs[[#This Row],[Texte en dur]])","v":4},null,{"$f":"_xlfn.IFS(Language=\"EN\",I601,Language=\"FR\",H601,Language=\"SP\",J601)","v":0}]
[null,"frm_contacts","\\GraphiqueTemp.jpg",170,{"$f":"LEN(resultats_textes_durs[[#This Row],[Texte en dur]])","v":18},null,{"$f":"_xlfn.IFS(Language=\"EN\",I602,Language=\"FR\",H602,Language=\"SP\",J602)","v":0}]
[null,"frm_contacts","\\GraphiqueTemp.jpg",173,{"$f":"LEN(resultats_textes_durs[[#This Row],[Texte en dur]])","v":18},null,{"$f":"_xlfn.IFS(Language=\"EN\",I603,Language=\"FR\",H603,Language=\"SP\",J603)","v":0}]
[null,"frm_contacts","",177,{"$f":"LEN(resultats_textes_durs[[#This Row],[Texte en dur]])","v":0},null,{"$f":"_xlfn.IFS(Language=\"EN\",I604,Language=\"FR\",H604,Language=\"SP\",J604)","v":0}]
[null,"frm_contacts","Erreur : Le fichier image est introuvable à : ",178,{"$f":"LEN(resultats_textes_durs[[#This Row],[Texte en dur]])","v":46},null,{"$f":"_xlfn.IFS(Language=\"EN\",I605,Language=\"FR\",H605,Language=\"SP\",J605)","v":0}]
[null,"frm_contacts","Détails mis à jour pour: ",203,{"$f":"LEN(resultats_textes_durs[[#This Row],[Texte en dur]])","v":25},null,{"$f":"_xlfn.IFS(Language=\"EN\",I606,Language=\"FR\",H606,Language=\"SP\",J606)","v":0}]
[null,"frm_contacts","Onglet_mapping_database",231,{"$f":"LEN(resultats_textes_durs[[#This Row],[Texte en dur]])","v":23},null,{"$f":"_xlfn.IFS(Language=\"EN\",I607,Language=\"FR\",H607,Language=\"SP\",J607)","v":0}]
[null,"frm_contacts","C",234,{"$f":"LEN(resultats_textes_durs[[#This Row],[Texte en dur]])","v":1},null,{"$f":"_xlfn.IFS(Language=\"EN\",I608,Language=\"FR\",H608,Language=\"SP\",J608)","v":0}]
[null,"frm_importITW","Onglet_consult_Panel",25,{"$f":"LEN(resultats_textes_durs[[#This Row],[Texte en dur]])","v":20},null,{"$f":"_xlfn.IFS(Language=\"EN\",I609,Language=\"FR\",H609,Language=\"SP\",J609)","v":0}]
[null,"frm_importITW","D5:D",26,{"$f":"LEN(resultats_textes_durs[[#This Row],[Texte en dur]])","v":4},null,{"$f":"_xlfn.IFS(Language=\"EN\",I610,Language=\"FR\",H610,Language=\"SP\",J610)","v":0}]
[null,"frm_importITW","D",26,{"$f":"LEN(resultats_textes_durs[[#This Row],[Texte en dur]])","v":1},null,{"$f":"_xlfn.IFS(Language=\"EN\",I611,Language=\"FR\",H611,Language=\"SP\",J611)","v":0}]
[null,"frm_importITW","E5:E",27,{"$f":"LEN(resultats_textes_durs[[#This Row],[Texte en dur]])","v":4},null,{"$f":"_xlfn.IFS(Language=\"EN\",I612,Language=\"FR\",H612,Language=\"SP\",J612)","v":0}]
[null,"frm_importITW","E",27,{"$f":"LEN(resultats_textes_durs[[#This Row],[Texte en dur]])","v":1},null,{"$f":"_xlfn.IFS(Language=\"EN\",I613,Language=\"FR\",H613,Language=\"SP\",J613)","v":0}]
[null,"frm_importITW","F5:F",28,{"$f":"LEN(resultats_textes_durs[[#This Row],[Texte en dur]])","v":4},null,{"$f":"_xlfn.IFS(Language=\"EN\",I614,Language=\"FR\",H614,Language=\"SP\",J614)","v":0}]
[null,"frm_importITW","F",28,{"$f":"LEN(resultats_textes_durs[[#This Row],[Texte en dur]])","v":1},null,{"$f":"_xlfn.IFS(Language=\"EN\",I615,Language=\"FR\",H615,Language=\"SP\",J615)","v":0}]
[null,"frm_importITW","H5:H",29,{"$f":"LEN(resultats_textes_durs[[#This Row],[Texte en dur]])","v":4},null,{"$f":"_xlfn.IFS(Language=\"EN\",I616,Language=\"FR\",H616,Language=\"SP\",J616)","v":0}]
[null,"frm_importITW","H",29,{"$f":"LEN(resultats_textes_durs[[#This Row],[Texte en dur]])","v":1},null,{"$f":"_xlfn.IFS(Language=\"EN\",I617,Language=\"FR\",H617,Language=\"SP\",J617)","v":0}]
[null,"frm_importITW","AUT_long",33,{"$f":"LEN(resultats_textes_durs[[#This Row],[Texte en dur]])","v":8},null,{"$f":"_xlfn.IFS(Language=\"EN\",I618,Language=\"FR\",H618,Language=\"SP\",J618)","v":0}]
[null,"frm_importITW","BUS_long",34,{"$f":"LEN(resultats_textes_durs[[#This Row],[Texte en dur]])","v":8},null,{"$f":"_xlfn.IFS(Language=\"EN\",I619,Language=\"FR\",H619,Language=\"SP\",J619)","v":0}]
[null,"frm_importITW","CIV_long",35,{"$f":"LEN(resultats_textes_durs[[#This Row],[Texte en dur]])","v":8},null,{"$f":"_xlfn.IFS(Language=\"EN\",I620,Language=\"FR\",H620,Language=\"SP\",J620)","v":0}]
[null,"frm_importITW","COM_long",36,{"$f":"LEN(resultats_textes_durs[[#This Row],[Texte en dur]])","v":8},null,{"$f":"_xlfn.IFS(Language=\"EN\",I621,Language=\"FR\",H621,Language=\"SP\",J621)","v":0}]
[null,"frm_importITW","Forms.Frame.1",42,{"$f":"LEN(resultats_textes_durs[[#This Row],[Texte en dur]])","v":13},null,{"$f":"_xlfn.IFS(Language=\"EN\",I622,Language=\"FR\",H622,Language=\"SP\",J622)","v":0}]
[null,"frm_importITW","frame_",42,{"$f":"LEN(resultats_textes_durs[[#This Row],[Texte en dur]])","v":6},null,{"$f":"_xlfn.IFS(Language=\"EN\",I623,Language=\"FR\",H623,Language=\"SP\",J623)","v":0}]
[null,"frm_importITW","Forms.Label.1",62,{"$f":"LEN(resultats_textes_durs[[#This Row],[Texte en dur]])","v":13},null,{"$f":"_xlfn.IFS(Language=\"EN\",I624,Language=\"FR\",H624,Language=\"SP\",J624)","v":0}]
[null,"frm_importITW","lblName_",62,{"$f":"LEN(resultats_textes_durs[[#This Row],[Texte en dur]])","v":8},null,{"$f":"_xlfn.IFS(Language=\"EN\",I625,Language=\"FR\",H625,Language=\"SP\",J625)","v":0}]
[null,"frm_importITW","_",62,{"$f":"LEN(resultats_textes_durs[[#This Row],[Texte en dur]])","v":1},null,{"$f":"_xlfn.IFS(Language=\"EN\",I626,Language=\"FR\",H626,Language=\"SP\",J626)","v":0}]
[null,"frm_importITW","Comparaison : SHID = ",74,{"$f":"LEN(resultats_textes_durs[[#This Row],[Texte en dur]])","v":21},null,{"$f":"_xlfn.IFS(Language=\"EN\",I627,Language=\"FR\",H627,Language=\"SP\",J627)","v":0}]
[null,"frm_importITW",", SHID trouvé dans validatedInterviews = Vrai, shStatus = ",74,{"$f":"LEN(resultats_textes_durs[[#This Row],[Texte en dur]])","v":58},null,{"$f":"_xlfn.IFS(Language=\"EN\",I628,Language=\"FR\",H628,Language=\"SP\",J628)","v":0}]
[null,"frm_importITW","Forms.ComboBox.1",79,{"$f":"LEN(resultats_textes_durs[[#This Row],[Texte en dur]])","v":16},null,{"$f":"_xlfn.IFS(Language=\"EN\",I629,Language=\"FR\",H629,Language=\"SP\",J629)","v":0}]
[null,"frm_importITW","cmbAction_",79,{"$f":"LEN(resultats_textes_durs[[#This Row],[Texte en dur]])","v":10},null,{"$f":"_xlfn.IFS(Language=\"EN\",I630,Language=\"FR\",H630,Language=\"SP\",J630)","v":0}]
[null,"frm_importITW","_",79,{"$f":"LEN(resultats_textes_durs[[#This Row],[Texte en dur]])","v":1},null,{"$f":"_xlfn.IFS(Language=\"EN\",I631,Language=\"FR\",H631,Language=\"SP\",J631)","v":0}]
[null,"frm_importITW","Done",82,{"$f":"LEN(resultats_textes_durs[[#This Row],[Texte en dur]])","v":4},null,{"$f":"_xlfn.IFS(Language=\"EN\",I632,Language=\"FR\",H632,Language=\"SP\",J632)","v":0}]
[null,"frm_importITW","Remplacer",83,{"$f":"LEN(resultats_textes_durs[[#This Row],[Texte en dur]])","v":9},null,{"$f":"_xlfn.IFS(Language=\"EN\",I633,Language=\"FR\",H633,Language=\"SP\",J633)","v":0}]
[null,"frm_importITW","Ne pas importer",84,{"$f":"LEN(resultats_textes_durs[[#This Row],[Texte en dur]])","v":15},null,{"$f":"_xlfn.IFS(Language=\"EN\",I634,Language=\"FR\",H634,Language=\"SP\",J634)","v":0}]
[null,"frm_importITW","Remplacer",85,{"$f":"LEN(resultats_textes_durs[[#This Row],[Texte en dur]])","v":9},null,{"$f":"_xlfn.IFS(Language=\"EN\",I635,Language=\"FR\",H635,Language=\"SP\",J635)","v":0}]
[null,"frm_importITW","Importer",88,{"$f":"LEN(resultats_textes_durs[[#This Row],[Texte en dur]])","v":8},null,{"$f":"_xlfn.IFS(Language=\"EN\",I636,Language=\"FR\",H636,Language=\"SP\",J636)","v":0}]
[null,"frm_importITW","Ne pas importer",89,{"$f":"LEN(resultats_textes_durs[[#This Row],[Texte en dur]])","v":15},null,{"$f":"_xlfn.IFS(Language=\"EN\",I637,Language=\"FR\",H637,Language=\"SP\",J637)","v":0}]
[null,"frm_importITW","Importer",90,{"$f":"LEN(resultats_textes_durs[[#This Row],[Texte en dur]])","v":8},null,{"$f":"_xlfn.IFS(Language=\"EN\",I638,Language=\"FR\",H638,Language=\"SP\",J638)","v":0}]
[null,"frm_importITW","Comparaison : SHID = ",99,{"$f":"LEN(resultats_textes_durs[[#This Row],[Texte en dur]])","v":21},null,{"$f":"_xlfn.IFS(Language=\"EN\",I639,Language=\"FR\",H639,Language=\"SP\",J639)","v":0}]
[null,"frm_importITW",", SHID trouvé dans validatedInterviews = Faux, shStatus = ",99,{"$f":"LEN(resultats_textes_durs[[#This Row],[Texte en dur]])","v":58},null,{"$f":"_xlfn.IFS(Language=\"EN\",I640,Language=\"FR\",H640,Language=\"SP\",J640)","v":0}]
[null,"frm_importITW"," => Condition non remplie",99,{"$f":"LEN(resultats_textes_durs[[#This Row],[Texte en dur]])","v":25},null,{"$f":"_xlfn.IFS(Language=\"EN\",I641,Language=\"FR\",H641,Language=\"SP\",J641)","v":0}]
[null,"frm_importITW","Forms.Label.1",103,{"$f":"LEN(resultats_textes_durs[[#This Row],[Texte en dur]])","v":13},null,{"$f":"_xlfn.IFS(Language=\"EN\",I642,Language=\"FR\",H642,Language=\"SP\",J642)","v":0}]
[null,"frm_importITW","lblNoMatch_",103,{"$f":"LEN(resultats_textes_durs[[#This Row],[Texte en dur]])","v":11},null,{"$f":"_xlfn.IFS(Language=\"EN\",I643,Language=\"FR\",H643,Language=\"SP\",J643)","v":0}]
[null,"frm_importITW","_",103,{"$f":"LEN(resultats_textes_durs[[#This Row],[Texte en dur]])","v":1},null,{"$f":"_xlfn.IFS(Language=\"EN\",I644,Language=\"FR\",H644,Language=\"SP\",J644)","v":0}]
[null,"frm_importITW","Aucune correspondance",105,{"$f":"LEN(resultats_textes_durs[[#This Row],[Texte en dur]])","v":21},null,{"$f":"_xlfn.IFS(Language=\"EN\",I645,Language=\"FR\",H645,Language=\"SP\",J645)","v":0}]
[null,"frm_importSH","Onglet_mapping_import_param",25,{"$f":"LEN(resultats_textes_durs[[#This Row],[Texte en dur]])","v":27},null,{"$f":"_xlfn.IFS(Language=\"EN\",I646,Language=\"FR\",H646,Language=\"SP\",J646)","v":0}]
[null,"frm_importSH","Onglet_mapping_parameters",26,{"$f":"LEN(resultats_textes_durs[[#This Row],[Texte en dur]])","v":25},null,{"$f":"_xlfn.IFS(Language=\"EN\",I647,Language=\"FR\",H647,Language=\"SP\",J647)","v":0}]
[null,"frm_importSH","E58",27,{"$f":"LEN(resultats_textes_durs[[#This Row],[Texte en dur]])","v":3},null,{"$f":"_xlfn.IFS(Language=\"EN\",I648,Language=\"FR\",H648,Language=\"SP\",J648)","v":0}]
[null,"frm_importSH","",34,{"$f":"LEN(resultats_textes_durs[[#This Row],[Texte en dur]])","v":0},null,{"$f":"_xlfn.IFS(Language=\"EN\",I649,Language=\"FR\",H649,Language=\"SP\",J649)","v":0}]
[null,"frm_importSH","Données validées et reportées dans 'Onglet_mapping_import_param'.",43,{"$f":"LEN(resultats_textes_durs[[#This Row],[Texte en dur]])","v":65},null,{"$f":"_xlfn.IFS(Language=\"EN\",I650,Language=\"FR\",H650,Language=\"SP\",J650)","v":0}]
[null,"frm_importSH","Opération annulée.",53,{"$f":"LEN(resultats_textes_durs[[#This Row],[Texte en dur]])","v":18},null,{"$f":"_xlfn.IFS(Language=\"EN\",I651,Language=\"FR\",H651,Language=\"SP\",J651)","v":0}]
[null,"frm_info","Forms.MultiPage.1",14,{"$f":"LEN(resultats_textes_durs[[#This Row],[Texte en dur]])","v":17},null,{"$f":"_xlfn.IFS(Language=\"EN\",I652,Language=\"FR\",H652,Language=\"SP\",J652)","v":0}]
[null,"frm_info","MultiPage1",16,{"$f":"LEN(resultats_textes_durs[[#This Row],[Texte en dur]])","v":10},null,{"$f":"_xlfn.IFS(Language=\"EN\",I653,Language=\"FR\",H653,Language=\"SP\",J653)","v":0}]
[null,"frm_info","Introduction",28,{"$f":"LEN(resultats_textes_durs[[#This Row],[Texte en dur]])","v":12},null,{"$f":"_xlfn.IFS(Language=\"EN\",I654,Language=\"FR\",H654,Language=\"SP\",J654)","v":0}]
[null,"frm_info","Methodology",31,{"$f":"LEN(resultats_textes_durs[[#This Row],[Texte en dur]])","v":11},null,{"$f":"_xlfn.IFS(Language=\"EN\",I655,Language=\"FR\",H655,Language=\"SP\",J655)","v":0}]
[null,"frm_info","Checklist",34,{"$f":"LEN(resultats_textes_durs[[#This Row],[Texte en dur]])","v":9},null,{"$f":"_xlfn.IFS(Language=\"EN\",I656,Language=\"FR\",H656,Language=\"SP\",J656)","v":0}]
[null,"frm_info","Forms.TextBox.1",42,{"$f":"LEN(resultats_textes_durs[[#This Row],[Texte en dur]])","v":15},null,{"$f":"_xlfn.IFS(Language=\"EN\",I657,Language=\"FR\",H657,Language=\"SP\",J657)","v":0}]
[null,"frm_info","TextBoxGM",44,{"$f":"LEN(resultats_textes_durs[[#This Row],[Texte en dur]])","v":9},null,{"$f":"_xlfn.IFS(Language=\"EN\",I658,Language=\"FR\",H658,Language=\"SP\",J658)","v":0}]
[null,"frm_info","info_mapping_GM",53,{"$f":"LEN(resultats_textes_durs[[#This Row],[Texte en dur]])","v":15},null,{"$f":"_xlfn.IFS(Language=\"EN\",I659,Language=\"FR\",H659,Language=\"SP\",J659)","v":0}]
[null,"frm_info","Definitions",54,{"$f":"LEN(resultats_textes_durs[[#This Row],[Texte en dur]])","v":11},null,{"$f":"_xlfn.IFS(Language=\"EN\",I660,Language=\"FR\",H660,Language=\"SP\",J660)","v":0}]
[null,"frm_info","info_mapping_GM",54,{"$f":"LEN(resultats_textes_durs[[#This Row],[Texte en dur]])","v":15},null,{"$f":"_xlfn.IFS(Language=\"EN\",I661,Language=\"FR\",H661,Language=\"SP\",J661)","v":0}]
[null,"frm_info","Forms.TextBox.1",58,{"$f":"LEN(resultats_textes_durs[[#This Row],[Texte en dur]])","v":15},null,{"$f":"_xlfn.IFS(Language=\"EN\",I662,Language=\"FR\",H662,Language=\"SP\",J662)","v":0}]
[null,"frm_info","TextBoxMethodo",60,{"$f":"LEN(resultats_textes_durs[[#This Row],[Texte en dur]])","v":14},null,{"$f":"_xlfn.IFS(Language=\"EN\",I663,Language=\"FR\",H663,Language=\"SP\",J663)","v":0}]
[null,"frm_info","info_mapping_methodo",69,{"$f":"LEN(resultats_textes_durs[[#This Row],[Texte en dur]])","v":20},null,{"$f":"_xlfn.IFS(Language=\"EN\",I664,Language=\"FR\",H664,Language=\"SP\",J664)","v":0}]
[null,"frm_info","Definitions",70,{"$f":"LEN(resultats_textes_durs[[#This Row],[Texte en dur]])","v":11},null,{"$f":"_xlfn.IFS(Language=\"EN\",I665,Language=\"FR\",H665,Language=\"SP\",J665)","v":0}]
[null,"frm_info","info_mapping_methodo",70,{"$f":"LEN(resultats_textes_durs[[#This Row],[Texte en dur]])","v":20},null,{"$f":"_xlfn.IFS(Language=\"EN\",I666,Language=\"FR\",H666,Language=\"SP\",J666)","v":0}]
[null,"frm_info","Forms.TextBox.1",74,{"$f":"LEN(resultats_textes_durs[[#This Row],[Texte en dur]])","v":15},null,{"$f":"_xlfn.IFS(Language=\"EN\",I667,Language=\"FR\",H667,Language=\"SP\",J667)","v":0}]
[null,"frm_info","TextBoxChecklist",76,{"$f":"LEN(resultats_textes_durs[[#This Row],[Texte en dur]])","v":16},null,{"$f":"_xlfn.IFS(Language=\"EN\",I668,Language=\"FR\",H668,Language=\"SP\",J668)","v":0}]
[null,"frm_info","info_mapping_checklist",85,{"$f":"LEN(resultats_textes_durs[[#This Row],[Texte en dur]])","v":22},null,{"$f":"_xlfn.IFS(Language=\"EN\",I669,Language=\"FR\",H669,Language=\"SP\",J669)","v":0}]
[null,"frm_info","Definitions",86,{"$f":"LEN(resultats_textes_durs[[#This Row],[Texte en dur]])","v":11},null,{"$f":"_xlfn.IFS(Language=\"EN\",I670,Language=\"FR\",H670,Language=\"SP\",J670)","v":0}]
[null,"frm_info","info_mapping_checklist",86,{"$f":"LEN(resultats_textes_durs[[#This Row],[Texte en dur]])","v":22},null,{"$f":"_xlfn.IFS(Language=\"EN\",I671,Language=\"FR\",H671,Language=\"SP\",J671)","v":0}]
[null,"frm_panel","Type de stakeholder utilisé : ",16,{"$f":"LEN(resultats_textes_durs[[#This Row],[Texte en dur]])","v":30},null,{"$f":"_xlfn.IFS(Language=\"EN\",I672,Language=\"FR\",H672,Language=\"SP\",J672)","v":0}]
[null,"frm_panel","Onglet_mapping_SHlist",19,{"$f":"LEN(resultats_textes_durs[[#This Row],[Texte en dur]])","v":21},null,{"$f":"_xlfn.IFS(Language=\"EN\",I673,Language=\"FR\",H673,Language=\"SP\",J673)","v":0}]
[null,"frm_panel","Onglet_consult_Panel",20,{"$f":"LEN(resultats_textes_durs[[#This Row],[Texte en dur]])","v":20},null,{"$f":"_xlfn.IFS(Language=\"EN\",I674,Language=\"FR\",H674,Language=\"SP\",J674)","v":0}]
[null,"frm_panel","Onglet_consult_Panel",25,{"$f":"LEN(resultats_textes_durs[[#This Row],[Texte en dur]])","v":20},null,{"$f":"_xlfn.IFS(Language=\"EN\",I675,Language=\"FR\",H675,Language=\"SP\",J675)","v":0}]
[null,"frm_panel","",30,{"$f":"LEN(resultats_textes_durs[[#This Row],[Texte en dur]])","v":0},null,{"$f":"_xlfn.IFS(Language=\"EN\",I676,Language=\"FR\",H676,Language=\"SP\",J676)","v":0}]
[null,"frm_panel","Onglet_mapping_SHlist",38,{"$f":"LEN(resultats_textes_durs[[#This Row],[Texte en dur]])","v":21},null,{"$f":"_xlfn.IFS(Language=\"EN\",I677,Language=\"FR\",H677,Language=\"SP\",J677)","v":0}]
[null,"frm_panel","",43,{"$f":"LEN(resultats_textes_durs[[#This Row],[Texte en dur]])","v":0},null,{"$f":"_xlfn.IFS(Language=\"EN\",I678,Language=\"FR\",H678,Language=\"SP\",J678)","v":0}]
[null,"frm_panel","Ajout de ",75,{"$f":"LEN(resultats_textes_durs[[#This Row],[Texte en dur]])","v":9},null,{"$f":"_xlfn.IFS(Language=\"EN\",I679,Language=\"FR\",H679,Language=\"SP\",J679)","v":0}]
[null,"frm_panel"," à ListBox2.",75,{"$f":"LEN(resultats_textes_durs[[#This Row],[Texte en dur]])","v":12},null,{"$f":"_xlfn.IFS(Language=\"EN\",I680,Language=\"FR\",H680,Language=\"SP\",J680)","v":0}]
[null,"frm_panel","Suppression de ",90,{"$f":"LEN(resultats_textes_durs[[#This Row],[Texte en dur]])","v":15},null,{"$f":"_xlfn.IFS(Language=\"EN\",I681,Language=\"FR\",H681,Language=\"SP\",J681)","v":0}]
[null,"frm_panel"," de ListBox2 et retour à ListBox1.",90,{"$f":"LEN(resultats_textes_durs[[#This Row],[Texte en dur]])","v":34},null,{"$f":"_xlfn.IFS(Language=\"EN\",I682,Language=\"FR\",H682,Language=\"SP\",J682)","v":0}]
[null,"frm_panel","Onglet_consult_Panel",122,{"$f":"LEN(resultats_textes_durs[[#This Row],[Texte en dur]])","v":20},null,{"$f":"_xlfn.IFS(Language=\"EN\",I683,Language=\"FR\",H683,Language=\"SP\",J683)","v":0}]
[null,"frm_panel","Onglet_consult_Panel",123,{"$f":"LEN(resultats_textes_durs[[#This Row],[Texte en dur]])","v":20},null,{"$f":"_xlfn.IFS(Language=\"EN\",I684,Language=\"FR\",H684,Language=\"SP\",J684)","v":0}]
[null,"frm_panel","Tableau4",124,{"$f":"LEN(resultats_textes_durs[[#This Row],[Texte en dur]])","v":8},null,{"$f":"_xlfn.IFS(Language=\"EN\",I685,Language=\"FR\",H685,Language=\"SP\",J685)","v":0}]
[null,"frm_panel","Scripting.Dictionary",127,{"$f":"LEN(resultats_textes_durs[[#This Row],[Texte en dur]])","v":20},null,{"$f":"_xlfn.IFS(Language=\"EN\",I686,Language=\"FR\",H686,Language=\"SP\",J686)","v":0}]
[null,"frm_panel","D",130,{"$f":"LEN(resultats_textes_durs[[#This Row],[Texte en dur]])","v":1},null,{"$f":"_xlfn.IFS(Language=\"EN\",I687,Language=\"FR\",H687,Language=\"SP\",J687)","v":0}]
[null,"frm_panel","D",134,{"$f":"LEN(resultats_textes_durs[[#This Row],[Texte en dur]])","v":1},null,{"$f":"_xlfn.IFS(Language=\"EN\",I688,Language=\"FR\",H688,Language=\"SP\",J688)","v":0}]
[null,"frm_panel","",134,{"$f":"LEN(resultats_textes_durs[[#This Row],[Texte en dur]])","v":0},null,{"$f":"_xlfn.IFS(Language=\"EN\",I689,Language=\"FR\",H689,Language=\"SP\",J689)","v":0}]
[null,"frm_panel","D",135,{"$f":"LEN(resultats_textes_durs[[#This Row],[Texte en dur]])","v":1},null,{"$f":"_xlfn.IFS(Language=\"EN\",I690,Language=\"FR\",H690,Language=\"SP\",J690)","v":0}]
[null,"frm_panel","H",136,{"$f":"LEN(resultats_textes_durs[[#This Row],[Texte en dur]])","v":1},null,{"$f":"_xlfn.IFS(Language=\"EN\",I691,Language=\"FR\",H691,Language=\"SP\",J691)","v":0}]
[null,"frm_panel","Onglet_consult_Panel",142,{"$f":"LEN(resultats_textes_durs[[#This Row],[Texte en dur]])","v":20},null,{"$f":"_xlfn.IFS(Language=\"EN\",I692,Language=\"FR\",H692,Language=\"SP\",J692)","v":0}]
[null,"frm_panel","Onglet_consult_Panel",156,{"$f":"LEN(resultats_textes_durs[[#This Row],[Texte en dur]])","v":20},null,{"$f":"_xlfn.IFS(Language=\"EN\",I693,Language=\"FR\",H693,Language=\"SP\",J693)","v":0}]
[null,"frm_panel","Category",171,{"$f":"LEN(resultats_textes_durs[[#This Row],[Texte en dur]])","v":8},null,{"$f":"_xlfn.IFS(Language=\"EN\",I694,Language=\"FR\",H694,Language=\"SP\",J694)","v":0}]
[null,"frm_panel","D",179,{"$f":"LEN(resultats_textes_durs[[#This Row],[Texte en dur]])","v":1},null,{"$f":"_xlfn.IFS(Language=\"EN\",I695,Language=\"FR\",H695,Language=\"SP\",J695)","v":0}]
[null,"frm_panel","",179,{"$f":"LEN(resultats_textes_durs[[#This Row],[Texte en dur]])","v":0},null,{"$f":"_xlfn.IFS(Language=\"EN\",I696,Language=\"FR\",H696,Language=\"SP\",J696)","v":0}]
[null,"frm_panel","D",180,{"$f":"LEN(resultats_textes_durs[[#This Row],[Texte en dur]])","v":1},null,{"$f":"_xlfn.IFS(Language=\"EN\",I697,Language=\"FR\",H697,Language=\"SP\",J697)","v":0}]
[null,"frm_panel","H",182,{"$f":"LEN(resultats_textes_durs[[#This Row],[Texte en dur]])","v":1},null,{"$f":"_xlfn.IFS(Language=\"EN\",I698,Language=\"FR\",H698,Language=\"SP\",J698)","v":0}]
[null,"frm_panel","Les statuts import_statut ont été stockés et reportés avec succès!",187,{"$f":"LEN(resultats_textes_durs[[#This Row],[Texte en dur]])","v":66},null,{"$f":"_xlfn.IFS(Language=\"EN\",I699,Language=\"FR\",H699,Language=\"SP\",J699)","v":0}]
[null,"frm_panel","Onglet_consult_Panel",197,{"$f":"LEN(resultats_textes_durs[[#This Row],[Texte en dur]])","v":20},null,{"$f":"_xlfn.IFS(Language=\"EN\",I700,Language=\"FR\",H700,Language=\"SP\",J700)","v":0}]
[null,"frm_panel","Onglet_consult_Panel",198,{"$f":"LEN(resultats_textes_durs[[#This Row],[Texte en dur]])","v":20},null,{"$f":"_xlfn.IFS(Language=\"EN\",I701,Language=\"FR\",H701,Language=\"SP\",J701)","v":0}]
[null,"frm_panel","D",201,{"$f":"LEN(resultats_textes_durs[[#This Row],[Texte en dur]])","v":1},null,{"$f":"_xlfn.IFS(Language=\"EN\",I702,Language=\"FR\",H702,Language=\"SP\",J702)","v":0}]
[null,"frm_panel","J13",204,{"$f":"LEN(resultats_textes_durs[[#This Row],[Texte en dur]])","v":3},null,{"$f":"_xlfn.IFS(Language=\"EN\",I703,Language=\"FR\",H703,Language=\"SP\",J703)","v":0}]
[null,"frm_panel","=SOMME.SI.ENS(Onglet_Consult_Database!$E:$E;Onglet_Consult_Database!$F:$F;Onglet_consult_Panel!$E13;Onglet_Consult_Database!$B:$B;K13)",204,{"$f":"LEN(resultats_textes_durs[[#This Row],[Texte en dur]])","v":134},null,{"$f":"_xlfn.IFS(Language=\"EN\",I704,Language=\"FR\",H704,Language=\"SP\",J704)","v":0}]
[null,"frm_panel","K13",207,{"$f":"LEN(resultats_textes_durs[[#This Row],[Texte en dur]])","v":3},null,{"$f":"_xlfn.IFS(Language=\"EN\",I705,Language=\"FR\",H705,Language=\"SP\",J705)","v":0}]
[null,"frm_panel","=SI.CONDITIONS(F13=$K$3;",207,{"$f":"LEN(resultats_textes_durs[[#This Row],[Texte en dur]])","v":24},null,{"$f":"_xlfn.IFS(Language=\"EN\",I706,Language=\"FR\",H706,Language=\"SP\",J706)","v":0}]
[null,"frm_panel","I01",207,{"$f":"LEN(resultats_textes_durs[[#This Row],[Texte en dur]])","v":3},null,{"$f":"_xlfn.IFS(Language=\"EN\",I707,Language=\"FR\",H707,Language=\"SP\",J707)","v":0}]
[null,"frm_panel",";F13=$K$4;",207,{"$f":"LEN(resultats_textes_durs[[#This Row],[Texte en dur]])","v":10},null,{"$f":"_xlfn.IFS(Language=\"EN\",I708,Language=\"FR\",H708,Language=\"SP\",J708)","v":0}]
[null,"frm_panel","I02",207,{"$f":"LEN(resultats_textes_durs[[#This Row],[Texte en dur]])","v":3},null,{"$f":"_xlfn.IFS(Language=\"EN\",I709,Language=\"FR\",H709,Language=\"SP\",J709)","v":0}]
[null,"frm_panel",";F13=$K$5;",207,{"$f":"LEN(resultats_textes_durs[[#This Row],[Texte en dur]])","v":10},null,{"$f":"_xlfn.IFS(Language=\"EN\",I710,Language=\"FR\",H710,Language=\"SP\",J710)","v":0}]
[null,"frm_panel","I03",207,{"$f":"LEN(resultats_textes_durs[[#This Row],[Texte en dur]])","v":3},null,{"$f":"_xlfn.IFS(Language=\"EN\",I711,Language=\"FR\",H711,Language=\"SP\",J711)","v":0}]
[null,"frm_panel",";F13=$K$6;",207,{"$f":"LEN(resultats_textes_durs[[#This Row],[Texte en dur]])","v":10},null,{"$f":"_xlfn.IFS(Language=\"EN\",I712,Language=\"FR\",H712,Language=\"SP\",J712)","v":0}]
[null,"frm_panel","I04",207,{"$f":"LEN(resultats_textes_durs[[#This Row],[Texte en dur]])","v":3},null,{"$f":"_xlfn.IFS(Language=\"EN\",I713,Language=\"FR\",H713,Language=\"SP\",J713)","v":0}]
[null,"frm_panel",")",207,{"$f":"LEN(resultats_textes_durs[[#This Row],[Texte en dur]])","v":1},null,{"$f":"_xlfn.IFS(Language=\"EN\",I714,Language=\"FR\",H714,Language=\"SP\",J714)","v":0}]
[null,"frm_panel","M13",208,{"$f":"LEN(resultats_textes_durs[[#This Row],[Texte en dur]])","v":3},null,{"$f":"_xlfn.IFS(Language=\"EN\",I715,Language=\"FR\",H715,Language=\"SP\",J715)","v":0}]
[null,"frm_panel","=SIERREUR(RECHERCHEV(E13;SH_list;8;FAUX);",208,{"$f":"LEN(resultats_textes_durs[[#This Row],[Texte en dur]])","v":41},null,{"$f":"_xlfn.IFS(Language=\"EN\",I716,Language=\"FR\",H716,Language=\"SP\",J716)","v":0}]
[null,"frm_panel","",208,{"$f":"LEN(resultats_textes_durs[[#This Row],[Texte en dur]])","v":0},null,{"$f":"_xlfn.IFS(Language=\"EN\",I717,Language=\"FR\",H717,Language=\"SP\",J717)","v":0}]
[null,"frm_panel",")",208,{"$f":"LEN(resultats_textes_durs[[#This Row],[Texte en dur]])","v":1},null,{"$f":"_xlfn.IFS(Language=\"EN\",I718,Language=\"FR\",H718,Language=\"SP\",J718)","v":0}]
[null,"frm_panel","N13",209,{"$f":"LEN(resultats_textes_durs[[#This Row],[Texte en dur]])","v":3},null,{"$f":"_xlfn.IFS(Language=\"EN\",I719,Language=\"FR\",H719,Language=\"SP\",J719)","v":0}]
[null,"frm_panel","=SIERREUR(RECHERCHEV(E13;SH_list;6;FAUX);",209,{"$f":"LEN(resultats_textes_durs[[#This Row],[Texte en dur]])","v":41},null,{"$f":"_xlfn.IFS(Language=\"EN\",I720,Language=\"FR\",H720,Language=\"SP\",J720)","v":0}]
[null,"frm_panel","",209,{"$f":"LEN(resultats_textes_durs[[#This Row],[Texte en dur]])","v":0},null,{"$f":"_xlfn.IFS(Language=\"EN\",I721,Language=\"FR\",H721,Language=\"SP\",J721)","v":0}]
[null,"frm_panel",")",209,{"$f":"LEN(resultats_textes_durs[[#This Row],[Texte en dur]])","v":1},null,{"$f":"_xlfn.IFS(Language=\"EN\",I722,Language=\"FR\",H722,Language=\"SP\",J722)","v":0}]
[null,"frm_panel","D",213,{"$f":"LEN(resultats_textes_durs[[#This Row],[Texte en dur]])","v":1},null,{"$f":"_xlfn.IFS(Language=\"EN\",I723,Language=\"FR\",H723,Language=\"SP\",J723)","v":0}]
[null,"frm_panel","",213,{"$f":"LEN(resultats_textes_durs[[#This Row],[Texte en dur]])","v":0},null,{"$f":"_xlfn.IFS(Language=\"EN\",I724,Language=\"FR\",H724,Language=\"SP\",J724)","v":0}]
[null,"frm_panel","J13:N13",214,{"$f":"LEN(resultats_textes_durs[[#This Row],[Texte en dur]])","v":7},null,{"$f":"_xlfn.IFS(Language=\"EN\",I725,Language=\"FR\",H725,Language=\"SP\",J725)","v":0}]
[null,"frm_panel","J",214,{"$f":"LEN(resultats_textes_durs[[#This Row],[Texte en dur]])","v":1},null,{"$f":"_xlfn.IFS(Language=\"EN\",I726,Language=\"FR\",H726,Language=\"SP\",J726)","v":0}]
[null,"frm_panel",":N",214,{"$f":"LEN(resultats_textes_durs[[#This Row],[Texte en dur]])","v":2},null,{"$f":"_xlfn.IFS(Language=\"EN\",I727,Language=\"FR\",H727,Language=\"SP\",J727)","v":0}]
[null,"frm_panel","Consult_SH_panel",218,{"$f":"LEN(resultats_textes_durs[[#This Row],[Texte en dur]])","v":16},null,{"$f":"_xlfn.IFS(Language=\"EN\",I728,Language=\"FR\",H728,Language=\"SP\",J728)","v":0}]
[null,"frm_panel","D13:G",219,{"$f":"LEN(resultats_textes_durs[[#This Row],[Texte en dur]])","v":5},null,{"$f":"_xlfn.IFS(Language=\"EN\",I729,Language=\"FR\",H729,Language=\"SP\",J729)","v":0}]
[null,"frm_panel","Consult_SH_panel",223,{"$f":"LEN(resultats_textes_durs[[#This Row],[Texte en dur]])","v":16},null,{"$f":"_xlfn.IFS(Language=\"EN\",I730,Language=\"FR\",H730,Language=\"SP\",J730)","v":0}]
[null,"frm_panel","Consult_SH_panel",227,{"$f":"LEN(resultats_textes_durs[[#This Row],[Texte en dur]])","v":16},null,{"$f":"_xlfn.IFS(Language=\"EN\",I731,Language=\"FR\",H731,Language=\"SP\",J731)","v":0}]
[null,"frm_panel","Formules appliquées et plage nommée avec succès !",229,{"$f":"LEN(resultats_textes_durs[[#This Row],[Texte en dur]])","v":49},null,{"$f":"_xlfn.IFS(Language=\"EN\",I732,Language=\"FR\",H732,Language=\"SP\",J732)","v":0}]
[null,"frm_panel","Les stakeholders ont été mis à jour avec succès.",234,{"$f":"LEN(resultats_textes_durs[[#This Row],[Texte en dur]])","v":48},null,{"$f":"_xlfn.IFS(Language=\"EN\",I733,Language=\"FR\",H733,Language=\"SP\",J733)","v":0}]
[null,"frm_SEPmode","Initialisation du UserForm...",8,{"$f":"LEN(resultats_textes_durs[[#This Row],[Texte en dur]])","v":29},null,{"$f":"_xlfn.IFS(Language=\"EN\",I734,Language=\"FR\",H734,Language=\"SP\",J734)","v":0}]
[null,"frm_SEPmode","Onglet_mapping_parameters",10,{"$f":"LEN(resultats_textes_durs[[#This Row],[Texte en dur]])","v":25},null,{"$f":"_xlfn.IFS(Language=\"EN\",I735,Language=\"FR\",H735,Language=\"SP\",J735)","v":0}]
[null,"frm_SEPmode","Onglet_mapping_parameters",11,{"$f":"LEN(resultats_textes_durs[[#This Row],[Texte en dur]])","v":25},null,{"$f":"_xlfn.IFS(Language=\"EN\",I736,Language=\"FR\",H736,Language=\"SP\",J736)","v":0}]
[null,"frm_SEPmode","Feuille Onglet_mapping_parameters définie.",12,{"$f":"LEN(resultats_textes_durs[[#This Row],[Texte en dur]])","v":42},null,{"$f":"_xlfn.IFS(Language=\"EN\",I737,Language=\"FR\",H737,Language=\"SP\",J737)","v":0}]
[null,"frm_SEPmode","E164",15,{"$f":"LEN(resultats_textes_durs[[#This Row],[Texte en dur]])","v":4},null,{"$f":"_xlfn.IFS(Language=\"EN\",I738,Language=\"FR\",H738,Language=\"SP\",J738)","v":0}]
[null,"frm_SEPmode","E165",15,{"$f":"LEN(resultats_textes_durs[[#This Row],[Texte en dur]])","v":4},null,{"$f":"_xlfn.IFS(Language=\"EN\",I739,Language=\"FR\",H739,Language=\"SP\",J739)","v":0}]
[null,"frm_SEPmode","E166",15,{"$f":"LEN(resultats_textes_durs[[#This Row],[Texte en dur]])","v":4},null,{"$f":"_xlfn.IFS(Language=\"EN\",I740,Language=\"FR\",H740,Language=\"SP\",J740)","v":0}]
[null,"frm_SEPmode","Captions récupérées : ",16,{"$f":"LEN(resultats_textes_durs[[#This Row],[Texte en dur]])","v":22},null,{"$f":"_xlfn.IFS(Language=\"EN\",I741,Language=\"FR\",H741,Language=\"SP\",J741)","v":0}]
[null,"frm_SEPmode",", ",16,{"$f":"LEN(resultats_textes_durs[[#This Row],[Texte en dur]])","v":2},null,{"$f":"_xlfn.IFS(Language=\"EN\",I742,Language=\"FR\",H742,Language=\"SP\",J742)","v":0}]
[null,"frm_SEPmode","Captions assignées : ",22,{"$f":"LEN(resultats_textes_durs[[#This Row],[Texte en dur]])","v":21},null,{"$f":"_xlfn.IFS(Language=\"EN\",I743,Language=\"FR\",H743,Language=\"SP\",J743)","v":0}]
[null,"frm_SEPmode",", ",22,{"$f":"LEN(resultats_textes_durs[[#This Row],[Texte en dur]])","v":2},null,{"$f":"_xlfn.IFS(Language=\"EN\",I744,Language=\"FR\",H744,Language=\"SP\",J744)","v":0}]
[null,"frm_SEPmode",", ",22,{"$f":"LEN(resultats_textes_durs[[#This Row],[Texte en dur]])","v":2},null,{"$f":"_xlfn.IFS(Language=\"EN\",I745,Language=\"FR\",H745,Language=\"SP\",J745)","v":0}]
[null,"frm_SEPmode","Valeur de la cellule cliquée : ",27,{"$f":"LEN(resultats_textes_durs[[#This Row],[Texte en dur]])","v":31},null,{"$f":"_xlfn.IFS(Language=\"EN\",I746,Language=\"FR\",H746,Language=\"SP\",J746)","v":0}]
[null,"frm_SEPmode","",29,{"$f":"LEN(resultats_textes_durs[[#This Row],[Texte en dur]])","v":0},null,{"$f":"_xlfn.IFS(Language=\"EN\",I747,Language=\"FR\",H747,Language=\"SP\",J747)","v":0}]
[null,"frm_SEPmode","Aucune cellule active trouvée.",30,{"$f":"LEN(resultats_textes_durs[[#This Row],[Texte en dur]])","v":30},null,{"$f":"_xlfn.IFS(Language=\"EN\",I748,Language=\"FR\",H748,Language=\"SP\",J748)","v":0}]
[null,"frm_SEPmode","",34,{"$f":"LEN(resultats_textes_durs[[#This Row],[Texte en dur]])","v":0},null,{"$f":"_xlfn.IFS(Language=\"EN\",I749,Language=\"FR\",H749,Language=\"SP\",J749)","v":0}]
[null,"frm_SEPmode","Aucune valeur dans la cellule cliquée. Tous les CheckBoxes décochés.",38,{"$f":"LEN(resultats_textes_durs[[#This Row],[Texte en dur]])","v":68},null,{"$f":"_xlfn.IFS(Language=\"EN\",I750,Language=\"FR\",H750,Language=\"SP\",J750)","v":0}]
[null,"frm_SEPmode","; ",42,{"$f":"LEN(resultats_textes_durs[[#This Row],[Texte en dur]])","v":2},null,{"$f":"_xlfn.IFS(Language=\"EN\",I751,Language=\"FR\",H751,Language=\"SP\",J751)","v":0}]
[null,"frm_SEPmode","; ",43,{"$f":"LEN(resultats_textes_durs[[#This Row],[Texte en dur]])","v":2},null,{"$f":"_xlfn.IFS(Language=\"EN\",I752,Language=\"FR\",H752,Language=\"SP\",J752)","v":0}]
[null,"frm_SEPmode","Valeurs sélectionnées : ",44,{"$f":"LEN(resultats_textes_durs[[#This Row],[Texte en dur]])","v":24},null,{"$f":"_xlfn.IFS(Language=\"EN\",I753,Language=\"FR\",H753,Language=\"SP\",J753)","v":0}]
[null,"frm_SEPmode",", ",44,{"$f":"LEN(resultats_textes_durs[[#This Row],[Texte en dur]])","v":2},null,{"$f":"_xlfn.IFS(Language=\"EN\",I754,Language=\"FR\",H754,Language=\"SP\",J754)","v":0}]
[null,"frm_SEPmode","chkEngagement1 initialisé avec valeur : ",50,{"$f":"LEN(resultats_textes_durs[[#This Row],[Texte en dur]])","v":40},null,{"$f":"_xlfn.IFS(Language=\"EN\",I755,Language=\"FR\",H755,Language=\"SP\",J755)","v":0}]
[null,"frm_SEPmode","chkEngagement2 initialisé avec valeur : ",54,{"$f":"LEN(resultats_textes_durs[[#This Row],[Texte en dur]])","v":40},null,{"$f":"_xlfn.IFS(Language=\"EN\",I756,Language=\"FR\",H756,Language=\"SP\",J756)","v":0}]
[null,"frm_SEPmode","chkEngagement3 initialisé avec valeur : ",58,{"$f":"LEN(resultats_textes_durs[[#This Row],[Texte en dur]])","v":40},null,{"$f":"_xlfn.IFS(Language=\"EN\",I757,Language=\"FR\",H757,Language=\"SP\",J757)","v":0}]
[null,"frm_SEPmode","Enregistrement des choix...",73,{"$f":"LEN(resultats_textes_durs[[#This Row],[Texte en dur]])","v":27},null,{"$f":"_xlfn.IFS(Language=\"EN\",I758,Language=\"FR\",H758,Language=\"SP\",J758)","v":0}]
[null,"frm_SEPmode","",76,{"$f":"LEN(resultats_textes_durs[[#This Row],[Texte en dur]])","v":0},null,{"$f":"_xlfn.IFS(Language=\"EN\",I759,Language=\"FR\",H759,Language=\"SP\",J759)","v":0}]
[null,"frm_SEPmode","; ",78,{"$f":"LEN(resultats_textes_durs[[#This Row],[Texte en dur]])","v":2},null,{"$f":"_xlfn.IFS(Language=\"EN\",I760,Language=\"FR\",H760,Language=\"SP\",J760)","v":0}]
[null,"frm_SEPmode","chkEngagement1 sélectionné : ",79,{"$f":"LEN(resultats_textes_durs[[#This Row],[Texte en dur]])","v":29},null,{"$f":"_xlfn.IFS(Language=\"EN\",I761,Language=\"FR\",H761,Language=\"SP\",J761)","v":0}]
[null,"frm_SEPmode","; ",82,{"$f":"LEN(resultats_textes_durs[[#This Row],[Texte en dur]])","v":2},null,{"$f":"_xlfn.IFS(Language=\"EN\",I762,Language=\"FR\",H762,Language=\"SP\",J762)","v":0}]
[null,"frm_SEPmode","chkEngagement2 sélectionné : ",83,{"$f":"LEN(resultats_textes_durs[[#This Row],[Texte en dur]])","v":29},null,{"$f":"_xlfn.IFS(Language=\"EN\",I763,Language=\"FR\",H763,Language=\"SP\",J763)","v":0}]
[null,"frm_SEPmode","; ",86,{"$f":"LEN(resultats_textes_durs[[#This Row],[Texte en dur]])","v":2},null,{"$f":"_xlfn.IFS(Language=\"EN\",I764,Language=\"FR\",H764,Language=\"SP\",J764)","v":0}]
[null,"frm_SEPmode","chkEngagement3 sélectionné : ",87,{"$f":"LEN(resultats_textes_durs[[#This Row],[Texte en dur]])","v":29},null,{"$f":"_xlfn.IFS(Language=\"EN\",I765,Language=\"FR\",H765,Language=\"SP\",J765)","v":0}]
[null,"frm_SEPmode","; ",90,{"$f":"LEN(resultats_textes_durs[[#This Row],[Texte en dur]])","v":2},null,{"$f":"_xlfn.IFS(Language=\"EN\",I766,Language=\"FR\",H766,Language=\"SP\",J766)","v":0}]
[null,"frm_SEPmode","Valeur finale à enregistrer : ",93,{"$f":"LEN(resultats_textes_durs[[#This Row],[Texte en dur]])","v":30},null,{"$f":"_xlfn.IFS(Language=\"EN\",I767,Language=\"FR\",H767,Language=\"SP\",J767)","v":0}]
[null,"frm_SEPmode","Valeur enregistrée dans la cellule active.",99,{"$f":"LEN(resultats_textes_durs[[#This Row],[Texte en dur]])","v":42},null,{"$f":"_xlfn.IFS(Language=\"EN\",I768,Language=\"FR\",H768,Language=\"SP\",J768)","v":0}]
[null,"frm_SEPmode","Aucune cellule active pour enregistrer la valeur.",101,{"$f":"LEN(resultats_textes_durs[[#This Row],[Texte en dur]])","v":49},null,{"$f":"_xlfn.IFS(Language=\"EN\",I769,Language=\"FR\",H769,Language=\"SP\",J769)","v":0}]
[null,"frm_SHGroups","CheckBox",9,{"$f":"LEN(resultats_textes_durs[[#This Row],[Texte en dur]])","v":8},"-",{"$f":"_xlfn.IFS(Language=\"EN\",I770,Language=\"FR\",H770,Language=\"SP\",J770)","v":0}]
[null,"frm_SHGroups","Onglet_mapping_SEP",21,{"$f":"LEN(resultats_textes_durs[[#This Row],[Texte en dur]])","v":18},"-",{"$f":"_xlfn.IFS(Language=\"EN\",I771,Language=\"FR\",H771,Language=\"SP\",J771)","v":0}]
[null,"frm_SHGroups","E",21,{"$f":"LEN(resultats_textes_durs[[#This Row],[Texte en dur]])","v":1},"-",{"$f":"_xlfn.IFS(Language=\"EN\",I772,Language=\"FR\",H772,Language=\"SP\",J772)","v":0}]
[null,"frm_shlist","Onglet_mapping_SEP",17,{"$f":"LEN(resultats_textes_durs[[#This Row],[Texte en dur]])","v":18},"-",{"$f":"_xlfn.IFS(Language=\"EN\",I773,Language=\"FR\",H773,Language=\"SP\",J773)","v":0}]
[null,"frm_shlist","Tableau2",22,{"$f":"LEN(resultats_textes_durs[[#This Row],[Texte en dur]])","v":8},"-",{"$f":"_xlfn.IFS(Language=\"EN\",I774,Language=\"FR\",H774,Language=\"SP\",J774)","v":0}]
[null,"frm_shlist","Le tableau 'Tableau2' n'existe pas.",26,{"$f":"LEN(resultats_textes_durs[[#This Row],[Texte en dur]])","v":35},"Message utilisateur",{"$f":"_xlfn.IFS(Language=\"EN\",I775,Language=\"FR\",H775,Language=\"SP\",J775)","v":0}]
[null,"frm_shlist","Erreur",26,{"$f":"LEN(resultats_textes_durs[[#This Row],[Texte en dur]])","v":6},"Message utilisateur",{"$f":"_xlfn.IFS(Language=\"EN\",I776,Language=\"FR\",H776,Language=\"SP\",J776)","v":0}]
[null,"frm_shlist","Stakeholder Name",31,{"$f":"LEN(resultats_textes_durs[[#This Row],[Texte en dur]])","v":16},"TRAD",{"$f":"_xlfn.IFS(Language=\"EN\",I777,Language=\"FR\",H777,Language=\"SP\",J777)","v":"Stakeholder Name"},"Nom de la partie prenante","Stakeholder Name"]
[null,"frm_shlist","Veuillez sélectionner une cellule dans la colonne F de 'Tableau2'.",32,{"$f":"LEN(resultats_textes_durs[[#This Row],[Texte en dur]])","v":66},"Message utilisateur",{"$f":"_xlfn.IFS(Language=\"EN\",I778,Language=\"FR\",H778,Language=\"SP\",J778)","v":0}]
[null,"frm_shlist","Erreur",32,{"$f":"LEN(resultats_textes_durs[[#This Row],[Texte en dur]])","v":6},"Message utilisateur",{"$f":"_xlfn.IFS(Language=\"EN\",I779,Language=\"FR\",H779,Language=\"SP\",J779)","v":0}]
[null,"frm_shlist","",37,{"$f":"LEN(resultats_textes_durs[[#This Row],[Texte en dur]])","v":0},"-",{"$f":"_xlfn.IFS(Language=\"EN\",I780,Language=\"FR\",H780,Language=\"SP\",J780)","v":0}]
[null,"frm_shlist","",38,{"$f":"LEN(resultats_textes_durs[[#This Row],[Texte en dur]])","v":0},"-",{"$f":"_xlfn.IFS(Language=\"EN\",I781,Language=\"FR\",H781,Language=\"SP\",J781)","v":0}]
[null,"frm_shlist","CheckBox",47,{"$f":"LEN(resultats_textes_durs[[#This Row],[Texte en dur]])","v":8},"-",{"$f":"_xlfn.IFS(Language=\"EN\",I782,Language=\"FR\",H782,Language=\"SP\",J782)","v":0}]
[null,"frm_shlist","Zone 1",52,{"$f":"LEN(resultats_textes_durs[[#This Row],[Texte en dur]])","v":6},"-",{"$f":"_xlfn.IFS(Language=\"EN\",I783,Language=\"FR\",H783,Language=\"SP\",J783)","v":0}]
[null,"frm_shlist","Zone 1",53,{"$f":"LEN(resultats_textes_durs[[#This Row],[Texte en dur]])","v":6},"-",{"$f":"_xlfn.IFS(Language=\"EN\",I784,Language=\"FR\",H784,Language=\"SP\",J784)","v":0}]
[null,"frm_stakeholderlist","Scripting.Dictionary",19,{"$f":"LEN(resultats_textes_durs[[#This Row],[Texte en dur]])","v":20},null,{"$f":"_xlfn.IFS(Language=\"EN\",I785,Language=\"FR\",H785,Language=\"SP\",J785)","v":0}]
[null,"frm_stakeholderlist","Onglet_mapping_parameters",22,{"$f":"LEN(resultats_textes_durs[[#This Row],[Texte en dur]])","v":25},null,{"$f":"_xlfn.IFS(Language=\"EN\",I786,Language=\"FR\",H786,Language=\"SP\",J786)","v":0}]
[null,"frm_stakeholderlist","Onglet_mapping_parameters",24,{"$f":"LEN(resultats_textes_durs[[#This Row],[Texte en dur]])","v":25},null,{"$f":"_xlfn.IFS(Language=\"EN\",I787,Language=\"FR\",H787,Language=\"SP\",J787)","v":0}]
[null,"frm_stakeholderlist","",30,{"$f":"LEN(resultats_textes_durs[[#This Row],[Texte en dur]])","v":0},null,{"$f":"_xlfn.IFS(Language=\"EN\",I788,Language=\"FR\",H788,Language=\"SP\",J788)","v":0}]
[null,"frm_stakeholderlist","K5",39,{"$f":"LEN(resultats_textes_durs[[#This Row],[Texte en dur]])","v":2},null,{"$f":"_xlfn.IFS(Language=\"EN\",I789,Language=\"FR\",H789,Language=\"SP\",J789)","v":0}]
[null,"frm_stakeholderlist","Scripting.Dictionary",63,{"$f":"LEN(resultats_textes_durs[[#This Row],[Texte en dur]])","v":20},null,{"$f":"_xlfn.IFS(Language=\"EN\",I790,Language=\"FR\",H790,Language=\"SP\",J790)","v":0}]
[null,"frm_stakeholderlist","Onglet_Mapping_SHlist",66,{"$f":"LEN(resultats_textes_durs[[#This Row],[Texte en dur]])","v":21},null,{"$f":"_xlfn.IFS(Language=\"EN\",I791,Language=\"FR\",H791,Language=\"SP\",J791)","v":0}]
[null,"frm_stakeholderlist","",76,{"$f":"LEN(resultats_textes_durs[[#This Row],[Texte en dur]])","v":0},null,{"$f":"_xlfn.IFS(Language=\"EN\",I792,Language=\"FR\",H792,Language=\"SP\",J792)","v":0}]
[null,"frm_stakeholderlist","Traitement de la ligne ",77,{"$f":"LEN(resultats_textes_durs[[#This Row],[Texte en dur]])","v":23},null,{"$f":"_xlfn.IFS(Language=\"EN\",I793,Language=\"FR\",H793,Language=\"SP\",J793)","v":0}]
[null,"frm_stakeholderlist"," - Question_ID : ",77,{"$f":"LEN(resultats_textes_durs[[#This Row],[Texte en dur]])","v":17},null,{"$f":"_xlfn.IFS(Language=\"EN\",I794,Language=\"FR\",H794,Language=\"SP\",J794)","v":0}]
[null,"frm_stakeholderlist","Scripting.Dictionary",81,{"$f":"LEN(resultats_textes_durs[[#This Row],[Texte en dur]])","v":20},null,{"$f":"_xlfn.IFS(Language=\"EN\",I795,Language=\"FR\",H795,Language=\"SP\",J795)","v":0}]
[null,"frm_stakeholderlist","Nouvelle clé ajoutée : ",82,{"$f":"LEN(resultats_textes_durs[[#This Row],[Texte en dur]])","v":23},null,{"$f":"_xlfn.IFS(Language=\"EN\",I796,Language=\"FR\",H796,Language=\"SP\",J796)","v":0}]
[null,"frm_stakeholderlist","Données ajoutées pour Question_ID : ",94,{"$f":"LEN(resultats_textes_durs[[#This Row],[Texte en dur]])","v":36},null,{"$f":"_xlfn.IFS(Language=\"EN\",I797,Language=\"FR\",H797,Language=\"SP\",J797)","v":0}]
[null,"frm_stakeholderlist"," - ",94,{"$f":"LEN(resultats_textes_durs[[#This Row],[Texte en dur]])","v":3},null,{"$f":"_xlfn.IFS(Language=\"EN\",I798,Language=\"FR\",H798,Language=\"SP\",J798)","v":0}]
[null,"frm_stakeholderlist",", ",94,{"$f":"LEN(resultats_textes_durs[[#This Row],[Texte en dur]])","v":2},null,{"$f":"_xlfn.IFS(Language=\"EN\",I799,Language=\"FR\",H799,Language=\"SP\",J799)","v":0}]
[null,"frm_stakeholderlist",", ",94,{"$f":"LEN(resultats_textes_durs[[#This Row],[Texte en dur]])","v":2},null,{"$f":"_xlfn.IFS(Language=\"EN\",I800,Language=\"FR\",H800,Language=\"SP\",J800)","v":0}]
[null,"frm_stakeholderlist",", ",94,{"$f":"LEN(resultats_textes_durs[[#This Row],[Texte en dur]])","v":2},null,{"$f":"_xlfn.IFS(Language=\"EN\",I801,Language=\"FR\",H801,Language=\"SP\",J801)","v":0}]
[null,"frm_stakeholderlist",", SH_ID: ",94,{"$f":"LEN(resultats_textes_durs[[#This Row],[Texte en dur]])","v":9},null,{"$f":"_xlfn.IFS(Language=\"EN\",I802,Language=\"FR\",H802,Language=\"SP\",J802)","v":0}]
[null,"frm_stakeholderlist","Avertissement : Question_ID manquant à la ligne ",96,{"$f":"LEN(resultats_textes_durs[[#This Row],[Texte en dur]])","v":48},null,{"$f":"_xlfn.IFS(Language=\"EN\",I803,Language=\"FR\",H803,Language=\"SP\",J803)","v":0}]
[null,"frm_stakeholderlist","Chargement des données terminé.",100,{"$f":"LEN(resultats_textes_durs[[#This Row],[Texte en dur]])","v":31},null,{"$f":"_xlfn.IFS(Language=\"EN\",I804,Language=\"FR\",H804,Language=\"SP\",J804)","v":0}]
[null,"frm_stakeholderlist","Onglet_mapping_parameters",113,{"$f":"LEN(resultats_textes_durs[[#This Row],[Texte en dur]])","v":25},null,{"$f":"_xlfn.IFS(Language=\"EN\",I805,Language=\"FR\",H805,Language=\"SP\",J805)","v":0}]
[null,"frm_stakeholderlist","",116,{"$f":"LEN(resultats_textes_durs[[#This Row],[Texte en dur]])","v":0},null,{"$f":"_xlfn.IFS(Language=\"EN\",I806,Language=\"FR\",H806,Language=\"SP\",J806)","v":0}]
[null,"frm_stakeholderlist","Erreur : Question_ID manquant pour la question ",117,{"$f":"LEN(resultats_textes_durs[[#This Row],[Texte en dur]])","v":47},null,{"$f":"_xlfn.IFS(Language=\"EN\",I807,Language=\"FR\",H807,Language=\"SP\",J807)","v":0}]
[null,"frm_stakeholderlist","Question : ",122,{"$f":"LEN(resultats_textes_durs[[#This Row],[Texte en dur]])","v":11},null,{"$f":"_xlfn.IFS(Language=\"EN\",I808,Language=\"FR\",H808,Language=\"SP\",J808)","v":0}]
[null,"frm_stakeholderlist","Onglet_mapping_parameters",125,{"$f":"LEN(resultats_textes_durs[[#This Row],[Texte en dur]])","v":25},null,{"$f":"_xlfn.IFS(Language=\"EN\",I809,Language=\"FR\",H809,Language=\"SP\",J809)","v":0}]
[null,"frm_stakeholderlist","Onglet_mapping_parameters",128,{"$f":"LEN(resultats_textes_durs[[#This Row],[Texte en dur]])","v":25},null,{"$f":"_xlfn.IFS(Language=\"EN\",I810,Language=\"FR\",H810,Language=\"SP\",J810)","v":0}]
[null,"frm_stakeholderlist","Onglet_mapping_parameters",129,{"$f":"LEN(resultats_textes_durs[[#This Row],[Texte en dur]])","v":25},null,{"$f":"_xlfn.IFS(Language=\"EN\",I811,Language=\"FR\",H811,Language=\"SP\",J811)","v":0}]
[null,"frm_stakeholderlist","Q",132,{"$f":"LEN(resultats_textes_durs[[#This Row],[Texte en dur]])","v":1},null,{"$f":"_xlfn.IFS(Language=\"EN\",I812,Language=\"FR\",H812,Language=\"SP\",J812)","v":0}]
[null,"frm_stakeholderlist","Q5",132,{"$f":"LEN(resultats_textes_durs[[#This Row],[Texte en dur]])","v":2},null,{"$f":"_xlfn.IFS(Language=\"EN\",I813,Language=\"FR\",H813,Language=\"SP\",J813)","v":0}]
[null,"frm_stakeholderlist","5",132,{"$f":"LEN(resultats_textes_durs[[#This Row],[Texte en dur]])","v":1},null,{"$f":"_xlfn.IFS(Language=\"EN\",I814,Language=\"FR\",H814,Language=\"SP\",J814)","v":0}]
[null,"frm_stakeholderlist","Onglet_mapping_parameters",136,{"$f":"LEN(resultats_textes_durs[[#This Row],[Texte en dur]])","v":25},null,{"$f":"_xlfn.IFS(Language=\"EN\",I815,Language=\"FR\",H815,Language=\"SP\",J815)","v":0}]
[null,"frm_stakeholderlist","E218",136,{"$f":"LEN(resultats_textes_durs[[#This Row],[Texte en dur]])","v":4},null,{"$f":"_xlfn.IFS(Language=\"EN\",I816,Language=\"FR\",H816,Language=\"SP\",J816)","v":0}]
[null,"frm_stakeholderlist","Onglet_mapping_parameters",137,{"$f":"LEN(resultats_textes_durs[[#This Row],[Texte en dur]])","v":25},null,{"$f":"_xlfn.IFS(Language=\"EN\",I817,Language=\"FR\",H817,Language=\"SP\",J817)","v":0}]
[null,"frm_stakeholderlist","E220",137,{"$f":"LEN(resultats_textes_durs[[#This Row],[Texte en dur]])","v":4},null,{"$f":"_xlfn.IFS(Language=\"EN\",I818,Language=\"FR\",H818,Language=\"SP\",J818)","v":0}]
[null,"frm_stakeholderlist","Onglet_mapping_parameters",138,{"$f":"LEN(resultats_textes_durs[[#This Row],[Texte en dur]])","v":25},null,{"$f":"_xlfn.IFS(Language=\"EN\",I819,Language=\"FR\",H819,Language=\"SP\",J819)","v":0}]
[null,"frm_stakeholderlist","E71",138,{"$f":"LEN(resultats_textes_durs[[#This Row],[Texte en dur]])","v":3},null,{"$f":"_xlfn.IFS(Language=\"EN\",I820,Language=\"FR\",H820,Language=\"SP\",J820)","v":0}]
[null,"frm_stakeholderlist","Onglet_mapping_parameters",139,{"$f":"LEN(resultats_textes_durs[[#This Row],[Texte en dur]])","v":25},null,{"$f":"_xlfn.IFS(Language=\"EN\",I821,Language=\"FR\",H821,Language=\"SP\",J821)","v":0}]
[null,"frm_stakeholderlist","E74",139,{"$f":"LEN(resultats_textes_durs[[#This Row],[Texte en dur]])","v":3},null,{"$f":"_xlfn.IFS(Language=\"EN\",I822,Language=\"FR\",H822,Language=\"SP\",J822)","v":0}]
[null,"frm_stakeholderlist","Onglet_mapping_parameters",140,{"$f":"LEN(resultats_textes_durs[[#This Row],[Texte en dur]])","v":25},null,{"$f":"_xlfn.IFS(Language=\"EN\",I823,Language=\"FR\",H823,Language=\"SP\",J823)","v":0}]
[null,"frm_stakeholderlist","E75",140,{"$f":"LEN(resultats_textes_durs[[#This Row],[Texte en dur]])","v":3},null,{"$f":"_xlfn.IFS(Language=\"EN\",I824,Language=\"FR\",H824,Language=\"SP\",J824)","v":0}]
[null,"frm_stakeholderlist","Onglet_mapping_parameters",141,{"$f":"LEN(resultats_textes_durs[[#This Row],[Texte en dur]])","v":25},null,{"$f":"_xlfn.IFS(Language=\"EN\",I825,Language=\"FR\",H825,Language=\"SP\",J825)","v":0}]
[null,"frm_stakeholderlist","E76",141,{"$f":"LEN(resultats_textes_durs[[#This Row],[Texte en dur]])","v":3},null,{"$f":"_xlfn.IFS(Language=\"EN\",I826,Language=\"FR\",H826,Language=\"SP\",J826)","v":0}]
[null,"frm_stakeholderlist","Yes/No",143,{"$f":"LEN(resultats_textes_durs[[#This Row],[Texte en dur]])","v":6},null,{"$f":"_xlfn.IFS(Language=\"EN\",I827,Language=\"FR\",H827,Language=\"SP\",J827)","v":0}]
[null,"frm_stakeholderlist","Onglet_mapping_parameters",143,{"$f":"LEN(resultats_textes_durs[[#This Row],[Texte en dur]])","v":25},null,{"$f":"_xlfn.IFS(Language=\"EN\",I828,Language=\"FR\",H828,Language=\"SP\",J828)","v":0}]
[null,"frm_stakeholderlist","Onglet_mapping_parameters",144,{"$f":"LEN(resultats_textes_durs[[#This Row],[Texte en dur]])","v":25},null,{"$f":"_xlfn.IFS(Language=\"EN\",I829,Language=\"FR\",H829,Language=\"SP\",J829)","v":0}]
[null,"frm_stakeholderlist","Yes",144,{"$f":"LEN(resultats_textes_durs[[#This Row],[Texte en dur]])","v":3},null,{"$f":"_xlfn.IFS(Language=\"EN\",I830,Language=\"FR\",H830,Language=\"SP\",J830)","v":0}]
[null,"frm_stakeholderlist","Onglet_mapping_parameters",147,{"$f":"LEN(resultats_textes_durs[[#This Row],[Texte en dur]])","v":25},null,{"$f":"_xlfn.IFS(Language=\"EN\",I831,Language=\"FR\",H831,Language=\"SP\",J831)","v":0}]
[null,"frm_stakeholderlist","No",147,{"$f":"LEN(resultats_textes_durs[[#This Row],[Texte en dur]])","v":2},null,{"$f":"_xlfn.IFS(Language=\"EN\",I832,Language=\"FR\",H832,Language=\"SP\",J832)","v":0}]
[null,"frm_stakeholderlist","Next",165,{"$f":"LEN(resultats_textes_durs[[#This Row],[Texte en dur]])","v":4},null,{"$f":"_xlfn.IFS(Language=\"EN\",I833,Language=\"FR\",H833,Language=\"SP\",J833)","v":0}]
[null,"frm_stakeholderlist","Previous",165,{"$f":"LEN(resultats_textes_durs[[#This Row],[Texte en dur]])","v":8},null,{"$f":"_xlfn.IFS(Language=\"EN\",I834,Language=\"FR\",H834,Language=\"SP\",J834)","v":0}]
[null,"frm_stakeholderlist","authorities",177,{"$f":"LEN(resultats_textes_durs[[#This Row],[Texte en dur]])","v":11},null,{"$f":"_xlfn.IFS(Language=\"EN\",I835,Language=\"FR\",H835,Language=\"SP\",J835)","v":0}]
[null,"frm_stakeholderlist","business",181,{"$f":"LEN(resultats_textes_durs[[#This Row],[Texte en dur]])","v":8},null,{"$f":"_xlfn.IFS(Language=\"EN\",I836,Language=\"FR\",H836,Language=\"SP\",J836)","v":0}]
[null,"frm_stakeholderlist","civil society",185,{"$f":"LEN(resultats_textes_durs[[#This Row],[Texte en dur]])","v":13},null,{"$f":"_xlfn.IFS(Language=\"EN\",I837,Language=\"FR\",H837,Language=\"SP\",J837)","v":0}]
[null,"frm_stakeholderlist","communities",189,{"$f":"LEN(resultats_textes_durs[[#This Row],[Texte en dur]])","v":11},null,{"$f":"_xlfn.IFS(Language=\"EN\",I838,Language=\"FR\",H838,Language=\"SP\",J838)","v":0}]
[null,"frm_stakeholderlist","Onglet_mapping_parameters",247,{"$f":"LEN(resultats_textes_durs[[#This Row],[Texte en dur]])","v":25},null,{"$f":"_xlfn.IFS(Language=\"EN\",I839,Language=\"FR\",H839,Language=\"SP\",J839)","v":0}]
[null,"frm_stakeholderlist","Yes",270,{"$f":"LEN(resultats_textes_durs[[#This Row],[Texte en dur]])","v":3},null,{"$f":"_xlfn.IFS(Language=\"EN\",I840,Language=\"FR\",H840,Language=\"SP\",J840)","v":0}]
[null,"frm_stakeholderlist","Onglet_mapping_parameters",271,{"$f":"LEN(resultats_textes_durs[[#This Row],[Texte en dur]])","v":25},null,{"$f":"_xlfn.IFS(Language=\"EN\",I841,Language=\"FR\",H841,Language=\"SP\",J841)","v":0}]
[null,"frm_stakeholderlist","Yes",271,{"$f":"LEN(resultats_textes_durs[[#This Row],[Texte en dur]])","v":3},null,{"$f":"_xlfn.IFS(Language=\"EN\",I842,Language=\"FR\",H842,Language=\"SP\",J842)","v":0}]
[null,"frm_stakeholderlist","",287,{"$f":"LEN(resultats_textes_durs[[#This Row],[Texte en dur]])","v":0},null,{"$f":"_xlfn.IFS(Language=\"EN\",I843,Language=\"FR\",H843,Language=\"SP\",J843)","v":0}]
[null,"frm_stakeholderlist","",288,{"$f":"LEN(resultats_textes_durs[[#This Row],[Texte en dur]])","v":0},null,{"$f":"_xlfn.IFS(Language=\"EN\",I844,Language=\"FR\",H844,Language=\"SP\",J844)","v":0}]
[null,"frm_stakeholderlist","",289,{"$f":"LEN(resultats_textes_durs[[#This Row],[Texte en dur]])","v":0},null,{"$f":"_xlfn.IFS(Language=\"EN\",I845,Language=\"FR\",H845,Language=\"SP\",J845)","v":0}]
[null,"frm_stakeholderlist","",290,{"$f":"LEN(resultats_textes_durs[[#This Row],[Texte en dur]])","v":0},null,{"$f":"_xlfn.IFS(Language=\"EN\",I846,Language=\"FR\",H846,Language=\"SP\",J846)","v":0}]
[null,"frm_stakeholderlist","lblgeography",298,{"$f":"LEN(resultats_textes_durs[[#This Row],[Texte en dur]])","v":12},null,{"$f":"_xlfn.IFS(Language=\"EN\",I847,Language=\"FR\",H847,Language=\"SP\",J847)","v":0}]
[null,"frm_stakeholderlist","lblgeography",298,{"$f":"LEN(resultats_textes_durs[[#This Row],[Texte en dur]])","v":12},null,{"$f":"_xlfn.IFS(Language=\"EN\",I848,Language=\"FR\",H848,Language=\"SP\",J848)","v":0}]
[null,"frm_stakeholderlist","lblname",299,{"$f":"LEN(resultats_textes_durs[[#This Row],[Texte en dur]])","v":7},null,{"$f":"_xlfn.IFS(Language=\"EN\",I849,Language=\"FR\",H849,Language=\"SP\",J849)","v":0}]
[null,"frm_stakeholderlist","lblname",299,{"$f":"LEN(resultats_textes_durs[[#This Row],[Texte en dur]])","v":7},null,{"$f":"_xlfn.IFS(Language=\"EN\",I850,Language=\"FR\",H850,Language=\"SP\",J850)","v":0}]
[null,"frm_stakeholderlist","lblinfluence",300,{"$f":"LEN(resultats_textes_durs[[#This Row],[Texte en dur]])","v":12},null,{"$f":"_xlfn.IFS(Language=\"EN\",I851,Language=\"FR\",H851,Language=\"SP\",J851)","v":0}]
[null,"frm_stakeholderlist","lblinfluence",300,{"$f":"LEN(resultats_textes_durs[[#This Row],[Texte en dur]])","v":12},null,{"$f":"_xlfn.IFS(Language=\"EN\",I852,Language=\"FR\",H852,Language=\"SP\",J852)","v":0}]
[null,"frm_stakeholderlist","lblinterest",301,{"$f":"LEN(resultats_textes_durs[[#This Row],[Texte en dur]])","v":11},null,{"$f":"_xlfn.IFS(Language=\"EN\",I853,Language=\"FR\",H853,Language=\"SP\",J853)","v":0}]
[null,"frm_stakeholderlist","lblinterest",301,{"$f":"LEN(resultats_textes_durs[[#This Row],[Texte en dur]])","v":11},null,{"$f":"_xlfn.IFS(Language=\"EN\",I854,Language=\"FR\",H854,Language=\"SP\",J854)","v":0}]
[null,"frm_stakeholderlist","lblgeography",302,{"$f":"LEN(resultats_textes_durs[[#This Row],[Texte en dur]])","v":12},null,{"$f":"_xlfn.IFS(Language=\"EN\",I855,Language=\"FR\",H855,Language=\"SP\",J855)","v":0}]
[null,"frm_stakeholderlist","lblgeography",302,{"$f":"LEN(resultats_textes_durs[[#This Row],[Texte en dur]])","v":12},null,{"$f":"_xlfn.IFS(Language=\"EN\",I856,Language=\"FR\",H856,Language=\"SP\",J856)","v":0}]
[null,"frm_stakeholderlist","lblname",306,{"$f":"LEN(resultats_textes_durs[[#This Row],[Texte en dur]])","v":7},null,{"$f":"_xlfn.IFS(Language=\"EN\",I857,Language=\"FR\",H857,Language=\"SP\",J857)","v":0}]
[null,"frm_stakeholderlist","lblinfluence",307,{"$f":"LEN(resultats_textes_durs[[#This Row],[Texte en dur]])","v":12},null,{"$f":"_xlfn.IFS(Language=\"EN\",I858,Language=\"FR\",H858,Language=\"SP\",J858)","v":0}]
[null,"frm_stakeholderlist","lblinterest",308,{"$f":"LEN(resultats_textes_durs[[#This Row],[Texte en dur]])","v":11},null,{"$f":"_xlfn.IFS(Language=\"EN\",I859,Language=\"FR\",H859,Language=\"SP\",J859)","v":0}]
[null,"frm_stakeholderlist","lblgeography",309,{"$f":"LEN(resultats_textes_durs[[#This Row],[Texte en dur]])","v":12},null,{"$f":"_xlfn.IFS(Language=\"EN\",I860,Language=\"FR\",H860,Language=\"SP\",J860)","v":0}]
[null,"frm_stakeholderlist","SHname",313,{"$f":"LEN(resultats_textes_durs[[#This Row],[Texte en dur]])","v":6},null,{"$f":"_xlfn.IFS(Language=\"EN\",I861,Language=\"FR\",H861,Language=\"SP\",J861)","v":0}]
[null,"frm_stakeholderlist","Forms.TextBox.1",315,{"$f":"LEN(resultats_textes_durs[[#This Row],[Texte en dur]])","v":15},null,{"$f":"_xlfn.IFS(Language=\"EN\",I862,Language=\"FR\",H862,Language=\"SP\",J862)","v":0}]
[null,"frm_stakeholderlist","txtSHname",315,{"$f":"LEN(resultats_textes_durs[[#This Row],[Texte en dur]])","v":9},null,{"$f":"_xlfn.IFS(Language=\"EN\",I863,Language=\"FR\",H863,Language=\"SP\",J863)","v":0}]
[null,"frm_stakeholderlist","lblname",317,{"$f":"LEN(resultats_textes_durs[[#This Row],[Texte en dur]])","v":7},null,{"$f":"_xlfn.IFS(Language=\"EN\",I864,Language=\"FR\",H864,Language=\"SP\",J864)","v":0}]
[null,"frm_stakeholderlist","lblname",318,{"$f":"LEN(resultats_textes_durs[[#This Row],[Texte en dur]])","v":7},null,{"$f":"_xlfn.IFS(Language=\"EN\",I865,Language=\"FR\",H865,Language=\"SP\",J865)","v":0}]
[null,"frm_stakeholderlist","SHinfluence",321,{"$f":"LEN(resultats_textes_durs[[#This Row],[Texte en dur]])","v":11},null,{"$f":"_xlfn.IFS(Language=\"EN\",I866,Language=\"FR\",H866,Language=\"SP\",J866)","v":0}]
[null,"frm_stakeholderlist","Forms.ComboBox.1",323,{"$f":"LEN(resultats_textes_durs[[#This Row],[Texte en dur]])","v":16},null,{"$f":"_xlfn.IFS(Language=\"EN\",I867,Language=\"FR\",H867,Language=\"SP\",J867)","v":0}]
[null,"frm_stakeholderlist","cboSHinfluence",323,{"$f":"LEN(resultats_textes_durs[[#This Row],[Texte en dur]])","v":14},null,{"$f":"_xlfn.IFS(Language=\"EN\",I868,Language=\"FR\",H868,Language=\"SP\",J868)","v":0}]
[null,"frm_stakeholderlist","txtSHname",324,{"$f":"LEN(resultats_textes_durs[[#This Row],[Texte en dur]])","v":9},null,{"$f":"_xlfn.IFS(Language=\"EN\",I869,Language=\"FR\",H869,Language=\"SP\",J869)","v":0}]
[null,"frm_stakeholderlist","lblinfluence",325,{"$f":"LEN(resultats_textes_durs[[#This Row],[Texte en dur]])","v":12},null,{"$f":"_xlfn.IFS(Language=\"EN\",I870,Language=\"FR\",H870,Language=\"SP\",J870)","v":0}]
[null,"frm_stakeholderlist","lblinfluence",326,{"$f":"LEN(resultats_textes_durs[[#This Row],[Texte en dur]])","v":12},null,{"$f":"_xlfn.IFS(Language=\"EN\",I871,Language=\"FR\",H871,Language=\"SP\",J871)","v":0}]
[null,"frm_stakeholderlist","SHinfluence",329,{"$f":"LEN(resultats_textes_durs[[#This Row],[Texte en dur]])","v":11},null,{"$f":"_xlfn.IFS(Language=\"EN\",I872,Language=\"FR\",H872,Language=\"SP\",J872)","v":0}]
[null,"frm_stakeholderlist","1",332,{"$f":"LEN(resultats_textes_durs[[#This Row],[Texte en dur]])","v":1},null,{"$f":"_xlfn.IFS(Language=\"EN\",I873,Language=\"FR\",H873,Language=\"SP\",J873)","v":0}]
[null,"frm_stakeholderlist","2",333,{"$f":"LEN(resultats_textes_durs[[#This Row],[Texte en dur]])","v":1},null,{"$f":"_xlfn.IFS(Language=\"EN\",I874,Language=\"FR\",H874,Language=\"SP\",J874)","v":0}]
[null,"frm_stakeholderlist","3",334,{"$f":"LEN(resultats_textes_durs[[#This Row],[Texte en dur]])","v":1},null,{"$f":"_xlfn.IFS(Language=\"EN\",I875,Language=\"FR\",H875,Language=\"SP\",J875)","v":0}]
[null,"frm_stakeholderlist","4",335,{"$f":"LEN(resultats_textes_durs[[#This Row],[Texte en dur]])","v":1},null,{"$f":"_xlfn.IFS(Language=\"EN\",I876,Language=\"FR\",H876,Language=\"SP\",J876)","v":0}]
[null,"frm_stakeholderlist","SHinterest",339,{"$f":"LEN(resultats_textes_durs[[#This Row],[Texte en dur]])","v":10},null,{"$f":"_xlfn.IFS(Language=\"EN\",I877,Language=\"FR\",H877,Language=\"SP\",J877)","v":0}]
[null,"frm_stakeholderlist","Forms.ComboBox.1",341,{"$f":"LEN(resultats_textes_durs[[#This Row],[Texte en dur]])","v":16},null,{"$f":"_xlfn.IFS(Language=\"EN\",I878,Language=\"FR\",H878,Language=\"SP\",J878)","v":0}]
[null,"frm_stakeholderlist","cboSHinterest",341,{"$f":"LEN(resultats_textes_durs[[#This Row],[Texte en dur]])","v":13},null,{"$f":"_xlfn.IFS(Language=\"EN\",I879,Language=\"FR\",H879,Language=\"SP\",J879)","v":0}]
[null,"frm_stakeholderlist","txtSHname",342,{"$f":"LEN(resultats_textes_durs[[#This Row],[Texte en dur]])","v":9},null,{"$f":"_xlfn.IFS(Language=\"EN\",I880,Language=\"FR\",H880,Language=\"SP\",J880)","v":0}]
[null,"frm_stakeholderlist","lblinterest",343,{"$f":"LEN(resultats_textes_durs[[#This Row],[Texte en dur]])","v":11},null,{"$f":"_xlfn.IFS(Language=\"EN\",I881,Language=\"FR\",H881,Language=\"SP\",J881)","v":0}]
[null,"frm_stakeholderlist","lblinterest",344,{"$f":"LEN(resultats_textes_durs[[#This Row],[Texte en dur]])","v":11},null,{"$f":"_xlfn.IFS(Language=\"EN\",I882,Language=\"FR\",H882,Language=\"SP\",J882)","v":0}]
[null,"frm_stakeholderlist","SHinterest",347,{"$f":"LEN(resultats_textes_durs[[#This Row],[Texte en dur]])","v":10},null,{"$f":"_xlfn.IFS(Language=\"EN\",I883,Language=\"FR\",H883,Language=\"SP\",J883)","v":0}]
[null,"frm_stakeholderlist","1",350,{"$f":"LEN(resultats_textes_durs[[#This Row],[Texte en dur]])","v":1},null,{"$f":"_xlfn.IFS(Language=\"EN\",I884,Language=\"FR\",H884,Language=\"SP\",J884)","v":0}]
[null,"frm_stakeholderlist","2",351,{"$f":"LEN(resultats_textes_durs[[#This Row],[Texte en dur]])","v":1},null,{"$f":"_xlfn.IFS(Language=\"EN\",I885,Language=\"FR\",H885,Language=\"SP\",J885)","v":0}]
[null,"frm_stakeholderlist","3",352,{"$f":"LEN(resultats_textes_durs[[#This Row],[Texte en dur]])","v":1},null,{"$f":"_xlfn.IFS(Language=\"EN\",I886,Language=\"FR\",H886,Language=\"SP\",J886)","v":0}]
[null,"frm_stakeholderlist","4",353,{"$f":"LEN(resultats_textes_durs[[#This Row],[Texte en dur]])","v":1},null,{"$f":"_xlfn.IFS(Language=\"EN\",I887,Language=\"FR\",H887,Language=\"SP\",J887)","v":0}]
[null,"frm_stakeholderlist","SHgeography",357,{"$f":"LEN(resultats_textes_durs[[#This Row],[Texte en dur]])","v":11},null,{"$f":"_xlfn.IFS(Language=\"EN\",I888,Language=\"FR\",H888,Language=\"SP\",J888)","v":0}]
[null,"frm_stakeholderlist","Forms.ComboBox.1",359,{"$f":"LEN(resultats_textes_durs[[#This Row],[Texte en dur]])","v":16},null,{"$f":"_xlfn.IFS(Language=\"EN\",I889,Language=\"FR\",H889,Language=\"SP\",J889)","v":0}]
[null,"frm_stakeholderlist","cboSHgeography",359,{"$f":"LEN(resultats_textes_durs[[#This Row],[Texte en dur]])","v":14},null,{"$f":"_xlfn.IFS(Language=\"EN\",I890,Language=\"FR\",H890,Language=\"SP\",J890)","v":0}]
[null,"frm_stakeholderlist","txtSHname",360,{"$f":"LEN(resultats_textes_durs[[#This Row],[Texte en dur]])","v":9},null,{"$f":"_xlfn.IFS(Language=\"EN\",I891,Language=\"FR\",H891,Language=\"SP\",J891)","v":0}]
[null,"frm_stakeholderlist","lblgeography",361,{"$f":"LEN(resultats_textes_durs[[#This Row],[Texte en dur]])","v":12},null,{"$f":"_xlfn.IFS(Language=\"EN\",I892,Language=\"FR\",H892,Language=\"SP\",J892)","v":0}]
[null,"frm_stakeholderlist","lblgeography",362,{"$f":"LEN(resultats_textes_durs[[#This Row],[Texte en dur]])","v":12},null,{"$f":"_xlfn.IFS(Language=\"EN\",I893,Language=\"FR\",H893,Language=\"SP\",J893)","v":0}]
[null,"frm_stakeholderlist","SHgeography",365,{"$f":"LEN(resultats_textes_durs[[#This Row],[Texte en dur]])","v":11},null,{"$f":"_xlfn.IFS(Language=\"EN\",I894,Language=\"FR\",H894,Language=\"SP\",J894)","v":0}]
[null,"frm_stakeholderlist","Mapping_Geography",365,{"$f":"LEN(resultats_textes_durs[[#This Row],[Texte en dur]])","v":17},null,{"$f":"_xlfn.IFS(Language=\"EN\",I895,Language=\"FR\",H895,Language=\"SP\",J895)","v":0}]
[null,"frm_stakeholderlist","Mapping_Geography",370,{"$f":"LEN(resultats_textes_durs[[#This Row],[Texte en dur]])","v":17},null,{"$f":"_xlfn.IFS(Language=\"EN\",I896,Language=\"FR\",H896,Language=\"SP\",J896)","v":0}]
[null,"frm_stakeholderlist","Onglet_mapping_parameters",396,{"$f":"LEN(resultats_textes_durs[[#This Row],[Texte en dur]])","v":25},null,{"$f":"_xlfn.IFS(Language=\"EN\",I897,Language=\"FR\",H897,Language=\"SP\",J897)","v":0}]
[null,"frm_stakeholderlist","",398,{"$f":"LEN(resultats_textes_durs[[#This Row],[Texte en dur]])","v":0},null,{"$f":"_xlfn.IFS(Language=\"EN\",I898,Language=\"FR\",H898,Language=\"SP\",J898)","v":0}]
[null,"frm_stakeholderlist","Erreur : Question_ID manquant pour la question ",399,{"$f":"LEN(resultats_textes_durs[[#This Row],[Texte en dur]])","v":47},null,{"$f":"_xlfn.IFS(Language=\"EN\",I899,Language=\"FR\",H899,Language=\"SP\",J899)","v":0}]
[null,"frm_stakeholderlist","Yes",403,{"$f":"LEN(resultats_textes_durs[[#This Row],[Texte en dur]])","v":3},null,{"$f":"_xlfn.IFS(Language=\"EN\",I900,Language=\"FR\",H900,Language=\"SP\",J900)","v":0}]
[null,"frm_stakeholderlist","No",403,{"$f":"LEN(resultats_textes_durs[[#This Row],[Texte en dur]])","v":2},null,{"$f":"_xlfn.IFS(Language=\"EN\",I901,Language=\"FR\",H901,Language=\"SP\",J901)","v":0}]
[null,"frm_stakeholderlist","Onglet_mapping_parameters",403,{"$f":"LEN(resultats_textes_durs[[#This Row],[Texte en dur]])","v":25},null,{"$f":"_xlfn.IFS(Language=\"EN\",I902,Language=\"FR\",H902,Language=\"SP\",J902)","v":0}]
[null,"frm_stakeholderlist","Onglet_mapping_parameters",405,{"$f":"LEN(resultats_textes_durs[[#This Row],[Texte en dur]])","v":25},null,{"$f":"_xlfn.IFS(Language=\"EN\",I903,Language=\"FR\",H903,Language=\"SP\",J903)","v":0}]
[null,"frm_stakeholderlist","Yes",408,{"$f":"LEN(resultats_textes_durs[[#This Row],[Texte en dur]])","v":3},null,{"$f":"_xlfn.IFS(Language=\"EN\",I904,Language=\"FR\",H904,Language=\"SP\",J904)","v":0}]
[null,"frm_stakeholderlist","No",410,{"$f":"LEN(resultats_textes_durs[[#This Row],[Texte en dur]])","v":2},null,{"$f":"_xlfn.IFS(Language=\"EN\",I905,Language=\"FR\",H905,Language=\"SP\",J905)","v":0}]
[null,"frm_stakeholderlist","",412,{"$f":"LEN(resultats_textes_durs[[#This Row],[Texte en dur]])","v":0},null,{"$f":"_xlfn.IFS(Language=\"EN\",I906,Language=\"FR\",H906,Language=\"SP\",J906)","v":0}]
[null,"frm_stakeholderlist","Scripting.Dictionary",417,{"$f":"LEN(resultats_textes_durs[[#This Row],[Texte en dur]])","v":20},null,{"$f":"_xlfn.IFS(Language=\"EN\",I907,Language=\"FR\",H907,Language=\"SP\",J907)","v":0}]
[null,"frm_stakeholderlist","ID",445,{"$f":"LEN(resultats_textes_durs[[#This Row],[Texte en dur]])","v":2},null,{"$f":"_xlfn.IFS(Language=\"EN\",I908,Language=\"FR\",H908,Language=\"SP\",J908)","v":0}]
[null,"frm_stakeholderlist","00",445,{"$f":"LEN(resultats_textes_durs[[#This Row],[Texte en dur]])","v":2},null,{"$f":"_xlfn.IFS(Language=\"EN\",I909,Language=\"FR\",H909,Language=\"SP\",J909)","v":0}]
[null,"frm_stakeholderlist","",451,{"$f":"LEN(resultats_textes_durs[[#This Row],[Texte en dur]])","v":0},null,{"$f":"_xlfn.IFS(Language=\"EN\",I910,Language=\"FR\",H910,Language=\"SP\",J910)","v":0}]
[null,"frm_stakeholderlist","SH_ID avant écriture : ",458,{"$f":"LEN(resultats_textes_durs[[#This Row],[Texte en dur]])","v":23},null,{"$f":"_xlfn.IFS(Language=\"EN\",I911,Language=\"FR\",H911,Language=\"SP\",J911)","v":0}]
[null,"frm_stakeholderlist","ID",467,{"$f":"LEN(resultats_textes_durs[[#This Row],[Texte en dur]])","v":2},null,{"$f":"_xlfn.IFS(Language=\"EN\",I912,Language=\"FR\",H912,Language=\"SP\",J912)","v":0}]
[null,"frm_stakeholderlist","00",467,{"$f":"LEN(resultats_textes_durs[[#This Row],[Texte en dur]])","v":2},null,{"$f":"_xlfn.IFS(Language=\"EN\",I913,Language=\"FR\",H913,Language=\"SP\",J913)","v":0}]
[null,"frm_stakeholderlist","Nouveau SH_ID attribué : ",470,{"$f":"LEN(resultats_textes_durs[[#This Row],[Texte en dur]])","v":25},null,{"$f":"_xlfn.IFS(Language=\"EN\",I914,Language=\"FR\",H914,Language=\"SP\",J914)","v":0}]
[null,"frm_stakeholderlist","Onglet_Mapping_SHlist",561,{"$f":"LEN(resultats_textes_durs[[#This Row],[Texte en dur]])","v":21},null,{"$f":"_xlfn.IFS(Language=\"EN\",I915,Language=\"FR\",H915,Language=\"SP\",J915)","v":0}]
[null,"frm_stakeholderlist","Onglet_Mapping_SHlist",563,{"$f":"LEN(resultats_textes_durs[[#This Row],[Texte en dur]])","v":21},null,{"$f":"_xlfn.IFS(Language=\"EN\",I916,Language=\"FR\",H916,Language=\"SP\",J916)","v":0}]
[null,"frm_stakeholderlist","SRM",566,{"$f":"LEN(resultats_textes_durs[[#This Row],[Texte en dur]])","v":3},null,{"$f":"_xlfn.IFS(Language=\"EN\",I917,Language=\"FR\",H917,Language=\"SP\",J917)","v":0}]
[null,"frm_stakeholderlist","C13:I200,K13:K200,M13:N200",576,{"$f":"LEN(resultats_textes_durs[[#This Row],[Texte en dur]])","v":26},null,{"$f":"_xlfn.IFS(Language=\"EN\",I918,Language=\"FR\",H918,Language=\"SP\",J918)","v":0}]
[null,"frm_stakeholderlist","Données enregistrées pour Question_ID : ",601,{"$f":"LEN(resultats_textes_durs[[#This Row],[Texte en dur]])","v":40},null,{"$f":"_xlfn.IFS(Language=\"EN\",I919,Language=\"FR\",H919,Language=\"SP\",J919)","v":0}]
[null,"frm_stakeholderlist"," - ",601,{"$f":"LEN(resultats_textes_durs[[#This Row],[Texte en dur]])","v":3},null,{"$f":"_xlfn.IFS(Language=\"EN\",I920,Language=\"FR\",H920,Language=\"SP\",J920)","v":0}]
[null,"frm_stakeholderlist",", ",601,{"$f":"LEN(resultats_textes_durs[[#This Row],[Texte en dur]])","v":2},null,{"$f":"_xlfn.IFS(Language=\"EN\",I921,Language=\"FR\",H921,Language=\"SP\",J921)","v":0}]
[null,"frm_stakeholderlist",", ",601,{"$f":"LEN(resultats_textes_durs[[#This Row],[Texte en dur]])","v":2},null,{"$f":"_xlfn.IFS(Language=\"EN\",I922,Language=\"FR\",H922,Language=\"SP\",J922)","v":0}]
[null,"frm_stakeholderlist",", ",601,{"$f":"LEN(resultats_textes_durs[[#This Row],[Texte en dur]])","v":2},null,{"$f":"_xlfn.IFS(Language=\"EN\",I923,Language=\"FR\",H923,Language=\"SP\",J923)","v":0}]
[null,"frm_stakeholderlist",", ",601,{"$f":"LEN(resultats_textes_durs[[#This Row],[Texte en dur]])","v":2},null,{"$f":"_xlfn.IFS(Language=\"EN\",I924,Language=\"FR\",H924,Language=\"SP\",J924)","v":0}]
[null,"frm_stakeholderlist",", ",601,{"$f":"LEN(resultats_textes_durs[[#This Row],[Texte en dur]])","v":2},null,{"$f":"_xlfn.IFS(Language=\"EN\",I925,Language=\"FR\",H925,Language=\"SP\",J925)","v":0}]
[null,"frm_stakeholderlist",", SH_ID: ",601,{"$f":"LEN(resultats_textes_durs[[#This Row],[Texte en dur]])","v":9},null,{"$f":"_xlfn.IFS(Language=\"EN\",I926,Language=\"FR\",H926,Language=\"SP\",J926)","v":0}]
[null,"frm_stakeholderlist","Les données ont été sauvegardées avec succès dans la feuille.",619,{"$f":"LEN(resultats_textes_durs[[#This Row],[Texte en dur]])","v":61},null,{"$f":"_xlfn.IFS(Language=\"EN\",I927,Language=\"FR\",H927,Language=\"SP\",J927)","v":0}]
[null,"frm_stakeholderlist","ID",641,{"$f":"LEN(resultats_textes_durs[[#This Row],[Texte en dur]])","v":2},null,{"$f":"_xlfn.IFS(Language=\"EN\",I928,Language=\"FR\",H928,Language=\"SP\",J928)","v":0}]
[null,"frm_stakeholderlist","ID",654,{"$f":"LEN(resultats_textes_durs[[#This Row],[Texte en dur]])","v":2},null,{"$f":"_xlfn.IFS(Language=\"EN\",I929,Language=\"FR\",H929,Language=\"SP\",J929)","v":0}]
[null,"frm_stakeholderlist","00",654,{"$f":"LEN(resultats_textes_durs[[#This Row],[Texte en dur]])","v":2},null,{"$f":"_xlfn.IFS(Language=\"EN\",I930,Language=\"FR\",H930,Language=\"SP\",J930)","v":0}]
[null,"frm_stakeholderlist","Lecture de SH_ID en mémoire : ",674,{"$f":"LEN(resultats_textes_durs[[#This Row],[Texte en dur]])","v":30},null,{"$f":"_xlfn.IFS(Language=\"EN\",I931,Language=\"FR\",H931,Language=\"SP\",J931)","v":0}]
[null,"frm_stakeholderlist","ID",677,{"$f":"LEN(resultats_textes_durs[[#This Row],[Texte en dur]])","v":2},null,{"$f":"_xlfn.IFS(Language=\"EN\",I932,Language=\"FR\",H932,Language=\"SP\",J932)","v":0}]
[null,"frm_stakeholderlist","Dernier SH_ID trouvé en mémoire : ID",692,{"$f":"LEN(resultats_textes_durs[[#This Row],[Texte en dur]])","v":36},null,{"$f":"_xlfn.IFS(Language=\"EN\",I933,Language=\"FR\",H933,Language=\"SP\",J933)","v":0}]
[null,"frm_stakeholderlist","00",692,{"$f":"LEN(resultats_textes_durs[[#This Row],[Texte en dur]])","v":2},null,{"$f":"_xlfn.IFS(Language=\"EN\",I934,Language=\"FR\",H934,Language=\"SP\",J934)","v":0}]
[null,"frm_TutoInfluence","Onglet_mapping_parameters",4,{"$f":"LEN(resultats_textes_durs[[#This Row],[Texte en dur]])","v":25},null,{"$f":"_xlfn.IFS(Language=\"EN\",I935,Language=\"FR\",H935,Language=\"SP\",J935)","v":0}]
[null,"frm_TutoInfluence","E85",8,{"$f":"LEN(resultats_textes_durs[[#This Row],[Texte en dur]])","v":3},null,{"$f":"_xlfn.IFS(Language=\"EN\",I936,Language=\"FR\",H936,Language=\"SP\",J936)","v":0}]
[null,"frm_TutoInfluence","E96",9,{"$f":"LEN(resultats_textes_durs[[#This Row],[Texte en dur]])","v":3},null,{"$f":"_xlfn.IFS(Language=\"EN\",I937,Language=\"FR\",H937,Language=\"SP\",J937)","v":0}]
[null,"frm_TutoInfluence","E97",10,{"$f":"LEN(resultats_textes_durs[[#This Row],[Texte en dur]])","v":3},null,{"$f":"_xlfn.IFS(Language=\"EN\",I938,Language=\"FR\",H938,Language=\"SP\",J938)","v":0}]
[null,"frm_TutoInfluence","E98",11,{"$f":"LEN(resultats_textes_durs[[#This Row],[Texte en dur]])","v":3},null,{"$f":"_xlfn.IFS(Language=\"EN\",I939,Language=\"FR\",H939,Language=\"SP\",J939)","v":0}]
[null,"frm_TutoInfluence","E99",12,{"$f":"LEN(resultats_textes_durs[[#This Row],[Texte en dur]])","v":3},null,{"$f":"_xlfn.IFS(Language=\"EN\",I940,Language=\"FR\",H940,Language=\"SP\",J940)","v":0}]
[null,"frm_TutoInfluence","E91",14,{"$f":"LEN(resultats_textes_durs[[#This Row],[Texte en dur]])","v":3},null,{"$f":"_xlfn.IFS(Language=\"EN\",I941,Language=\"FR\",H941,Language=\"SP\",J941)","v":0}]
[null,"frm_TutoInfluence","E92",15,{"$f":"LEN(resultats_textes_durs[[#This Row],[Texte en dur]])","v":3},null,{"$f":"_xlfn.IFS(Language=\"EN\",I942,Language=\"FR\",H942,Language=\"SP\",J942)","v":0}]
[null,"frm_TutoInfluence","E93",16,{"$f":"LEN(resultats_textes_durs[[#This Row],[Texte en dur]])","v":3},null,{"$f":"_xlfn.IFS(Language=\"EN\",I943,Language=\"FR\",H943,Language=\"SP\",J943)","v":0}]
[null,"frm_TutoInfluence","E94",17,{"$f":"LEN(resultats_textes_durs[[#This Row],[Texte en dur]])","v":3},null,{"$f":"_xlfn.IFS(Language=\"EN\",I944,Language=\"FR\",H944,Language=\"SP\",J944)","v":0}]
[null,"frm_TutoInfluence","E86",19,{"$f":"LEN(resultats_textes_durs[[#This Row],[Texte en dur]])","v":3},null,{"$f":"_xlfn.IFS(Language=\"EN\",I945,Language=\"FR\",H945,Language=\"SP\",J945)","v":0}]
[null,"frm_TutoInfluence","E87",20,{"$f":"LEN(resultats_textes_durs[[#This Row],[Texte en dur]])","v":3},null,{"$f":"_xlfn.IFS(Language=\"EN\",I946,Language=\"FR\",H946,Language=\"SP\",J946)","v":0}]
[null,"frm_TutoInfluence","E88",21,{"$f":"LEN(resultats_textes_durs[[#This Row],[Texte en dur]])","v":3},null,{"$f":"_xlfn.IFS(Language=\"EN\",I947,Language=\"FR\",H947,Language=\"SP\",J947)","v":0}]
[null,"frm_TutoInfluence","E89",22,{"$f":"LEN(resultats_textes_durs[[#This Row],[Texte en dur]])","v":3},null,{"$f":"_xlfn.IFS(Language=\"EN\",I948,Language=\"FR\",H948,Language=\"SP\",J948)","v":0}]
[null,"frm_TutoInterest","Onglet_mapping_parameters",6,{"$f":"LEN(resultats_textes_durs[[#This Row],[Texte en dur]])","v":25},null,{"$f":"_xlfn.IFS(Language=\"EN\",I949,Language=\"FR\",H949,Language=\"SP\",J949)","v":0}]
[null,"frm_TutoInterest","E107",10,{"$f":"LEN(resultats_textes_durs[[#This Row],[Texte en dur]])","v":4},null,{"$f":"_xlfn.IFS(Language=\"EN\",I950,Language=\"FR\",H950,Language=\"SP\",J950)","v":0}]
[null,"frm_TutoInterest","E96",11,{"$f":"LEN(resultats_textes_durs[[#This Row],[Texte en dur]])","v":3},null,{"$f":"_xlfn.IFS(Language=\"EN\",I951,Language=\"FR\",H951,Language=\"SP\",J951)","v":0}]
[null,"frm_TutoInterest","E97",12,{"$f":"LEN(resultats_textes_durs[[#This Row],[Texte en dur]])","v":3},null,{"$f":"_xlfn.IFS(Language=\"EN\",I952,Language=\"FR\",H952,Language=\"SP\",J952)","v":0}]
[null,"frm_TutoInterest","E98",13,{"$f":"LEN(resultats_textes_durs[[#This Row],[Texte en dur]])","v":3},null,{"$f":"_xlfn.IFS(Language=\"EN\",I953,Language=\"FR\",H953,Language=\"SP\",J953)","v":0}]
[null,"frm_TutoInterest","E99",14,{"$f":"LEN(resultats_textes_durs[[#This Row],[Texte en dur]])","v":3},null,{"$f":"_xlfn.IFS(Language=\"EN\",I954,Language=\"FR\",H954,Language=\"SP\",J954)","v":0}]
[null,"frm_TutoInterest","E91",16,{"$f":"LEN(resultats_textes_durs[[#This Row],[Texte en dur]])","v":3},null,{"$f":"_xlfn.IFS(Language=\"EN\",I955,Language=\"FR\",H955,Language=\"SP\",J955)","v":0}]
[null,"frm_TutoInterest","E92",17,{"$f":"LEN(resultats_textes_durs[[#This Row],[Texte en dur]])","v":3},null,{"$f":"_xlfn.IFS(Language=\"EN\",I956,Language=\"FR\",H956,Language=\"SP\",J956)","v":0}]
[null,"frm_TutoInterest","E93",18,{"$f":"LEN(resultats_textes_durs[[#This Row],[Texte en dur]])","v":3},null,{"$f":"_xlfn.IFS(Language=\"EN\",I957,Language=\"FR\",H957,Language=\"SP\",J957)","v":0}]
[null,"frm_TutoInterest","E94",19,{"$f":"LEN(resultats_textes_durs[[#This Row],[Texte en dur]])","v":3},null,{"$f":"_xlfn.IFS(Language=\"EN\",I958,Language=\"FR\",H958,Language=\"SP\",J958)","v":0}]
[null,"frm_TutoInterest","E108",21,{"$f":"LEN(resultats_textes_durs[[#This Row],[Texte en dur]])","v":4},null,{"$f":"_xlfn.IFS(Language=\"EN\",I959,Language=\"FR\",H959,Language=\"SP\",J959)","v":0}]
[null,"frm_TutoInterest","E109",22,{"$f":"LEN(resultats_textes_durs[[#This Row],[Texte en dur]])","v":4},null,{"$f":"_xlfn.IFS(Language=\"EN\",I960,Language=\"FR\",H960,Language=\"SP\",J960)","v":0}]
[null,"frm_TutoInterest","E110",23,{"$f":"LEN(resultats_textes_durs[[#This Row],[Texte en dur]])","v":4},null,{"$f":"_xlfn.IFS(Language=\"EN\",I961,Language=\"FR\",H961,Language=\"SP\",J961)","v":0}]
[null,"frm_TutoInterest","E111",24,{"$f":"LEN(resultats_textes_durs[[#This Row],[Texte en dur]])","v":4},null,{"$f":"_xlfn.IFS(Language=\"EN\",I962,Language=\"FR\",H962,Language=\"SP\",J962)","v":0}]
[null,"JsonConverter","AS IS",34,{"$f":"LEN(resultats_textes_durs[[#This Row],[Texte en dur]])","v":5},null,{"$f":"_xlfn.IFS(Language=\"EN\",I963,Language=\"FR\",H963,Language=\"SP\",J963)","v":0}]
[null,"JsonConverter","/usr/lib/libc.dylib",53,{"$f":"LEN(resultats_textes_durs[[#This Row],[Texte en dur]])","v":19},null,{"$f":"_xlfn.IFS(Language=\"EN\",I964,Language=\"FR\",H964,Language=\"SP\",J964)","v":0}]
[null,"JsonConverter","popen",53,{"$f":"LEN(resultats_textes_durs[[#This Row],[Texte en dur]])","v":5},null,{"$f":"_xlfn.IFS(Language=\"EN\",I965,Language=\"FR\",H965,Language=\"SP\",J965)","v":0}]
[null,"JsonConverter","/usr/lib/libc.dylib",55,{"$f":"LEN(resultats_textes_durs[[#This Row],[Texte en dur]])","v":19},null,{"$f":"_xlfn.IFS(Language=\"EN\",I966,Language=\"FR\",H966,Language=\"SP\",J966)","v":0}]
[null,"JsonConverter","pclose",55,{"$f":"LEN(resultats_textes_durs[[#This Row],[Texte en dur]])","v":6},null,{"$f":"_xlfn.IFS(Language=\"EN\",I967,Language=\"FR\",H967,Language=\"SP\",J967)","v":0}]
[null,"JsonConverter","/usr/lib/libc.dylib",57,{"$f":"LEN(resultats_textes_durs[[#This Row],[Texte en dur]])","v":19},null,{"$f":"_xlfn.IFS(Language=\"EN\",I968,Language=\"FR\",H968,Language=\"SP\",J968)","v":0}]
[null,"JsonConverter","fread",57,{"$f":"LEN(resultats_textes_durs[[#This Row],[Texte en dur]])","v":5},null,{"$f":"_xlfn.IFS(Language=\"EN\",I969,Language=\"FR\",H969,Language=\"SP\",J969)","v":0}]
[null,"JsonConverter","/usr/lib/libc.dylib",59,{"$f":"LEN(resultats_textes_durs[[#This Row],[Texte en dur]])","v":19},null,{"$f":"_xlfn.IFS(Language=\"EN\",I970,Language=\"FR\",H970,Language=\"SP\",J970)","v":0}]
[null,"JsonConverter","feof",59,{"$f":"LEN(resultats_textes_durs[[#This Row],[Texte en dur]])","v":4},null,{"$f":"_xlfn.IFS(Language=\"EN\",I971,Language=\"FR\",H971,Language=\"SP\",J971)","v":0}]
[null,"JsonConverter","libc.dylib",65,{"$f":"LEN(resultats_textes_durs[[#This Row],[Texte en dur]])","v":10},null,{"$f":"_xlfn.IFS(Language=\"EN\",I972,Language=\"FR\",H972,Language=\"SP\",J972)","v":0}]
[null,"JsonConverter","popen",65,{"$f":"LEN(resultats_textes_durs[[#This Row],[Texte en dur]])","v":5},null,{"$f":"_xlfn.IFS(Language=\"EN\",I973,Language=\"FR\",H973,Language=\"SP\",J973)","v":0}]
[null,"JsonConverter","libc.dylib",67,{"$f":"LEN(resultats_textes_durs[[#This Row],[Texte en dur]])","v":10},null,{"$f":"_xlfn.IFS(Language=\"EN\",I974,Language=\"FR\",H974,Language=\"SP\",J974)","v":0}]
[null,"JsonConverter","pclose",67,{"$f":"LEN(resultats_textes_durs[[#This Row],[Texte en dur]])","v":6},null,{"$f":"_xlfn.IFS(Language=\"EN\",I975,Language=\"FR\",H975,Language=\"SP\",J975)","v":0}]
[null,"JsonConverter","libc.dylib",69,{"$f":"LEN(resultats_textes_durs[[#This Row],[Texte en dur]])","v":10},null,{"$f":"_xlfn.IFS(Language=\"EN\",I976,Language=\"FR\",H976,Language=\"SP\",J976)","v":0}]
[null,"JsonConverter","fread",69,{"$f":"LEN(resultats_textes_durs[[#This Row],[Texte en dur]])","v":5},null,{"$f":"_xlfn.IFS(Language=\"EN\",I977,Language=\"FR\",H977,Language=\"SP\",J977)","v":0}]
[null,"JsonConverter","libc.dylib",71,{"$f":"LEN(resultats_textes_durs[[#This Row],[Texte en dur]])","v":10},null,{"$f":"_xlfn.IFS(Language=\"EN\",I978,Language=\"FR\",H978,Language=\"SP\",J978)","v":0}]
[null,"JsonConverter","feof",71,{"$f":"LEN(resultats_textes_durs[[#This Row],[Texte en dur]])","v":4},null,{"$f":"_xlfn.IFS(Language=\"EN\",I979,Language=\"FR\",H979,Language=\"SP\",J979)","v":0}]
[null,"JsonConverter","kernel32",81,{"$f":"LEN(resultats_textes_durs[[#This Row],[Texte en dur]])","v":8},null,{"$f":"_xlfn.IFS(Language=\"EN\",I980,Language=\"FR\",H980,Language=\"SP\",J980)","v":0}]
[null,"JsonConverter","GetTimeZoneInformation",81,{"$f":"LEN(resultats_textes_durs[[#This Row],[Texte en dur]])","v":22},null,{"$f":"_xlfn.IFS(Language=\"EN\",I981,Language=\"FR\",H981,Language=\"SP\",J981)","v":0}]
[null,"JsonConverter","kernel32",83,{"$f":"LEN(resultats_textes_durs[[#This Row],[Texte en dur]])","v":8},null,{"$f":"_xlfn.IFS(Language=\"EN\",I982,Language=\"FR\",H982,Language=\"SP\",J982)","v":0}]
[null,"JsonConverter","SystemTimeToTzSpecificLocalTime",83,{"$f":"LEN(resultats_textes_durs[[#This Row],[Texte en dur]])","v":31},null,{"$f":"_xlfn.IFS(Language=\"EN\",I983,Language=\"FR\",H983,Language=\"SP\",J983)","v":0}]
[null,"JsonConverter","kernel32",85,{"$f":"LEN(resultats_textes_durs[[#This Row],[Texte en dur]])","v":8},null,{"$f":"_xlfn.IFS(Language=\"EN\",I984,Language=\"FR\",H984,Language=\"SP\",J984)","v":0}]
[null,"JsonConverter","TzSpecificLocalTimeToSystemTime",85,{"$f":"LEN(resultats_textes_durs[[#This Row],[Texte en dur]])","v":31},null,{"$f":"_xlfn.IFS(Language=\"EN\",I985,Language=\"FR\",H985,Language=\"SP\",J985)","v":0}]
[null,"JsonConverter","kernel32",90,{"$f":"LEN(resultats_textes_durs[[#This Row],[Texte en dur]])","v":8},null,{"$f":"_xlfn.IFS(Language=\"EN\",I986,Language=\"FR\",H986,Language=\"SP\",J986)","v":0}]
[null,"JsonConverter","GetTimeZoneInformation",90,{"$f":"LEN(resultats_textes_durs[[#This Row],[Texte en dur]])","v":22},null,{"$f":"_xlfn.IFS(Language=\"EN\",I987,Language=\"FR\",H987,Language=\"SP\",J987)","v":0}]
[null,"JsonConverter","kernel32",92,{"$f":"LEN(resultats_textes_durs[[#This Row],[Texte en dur]])","v":8},null,{"$f":"_xlfn.IFS(Language=\"EN\",I988,Language=\"FR\",H988,Language=\"SP\",J988)","v":0}]
[null,"JsonConverter","SystemTimeToTzSpecificLocalTime",92,{"$f":"LEN(resultats_textes_durs[[#This Row],[Texte en dur]])","v":31},null,{"$f":"_xlfn.IFS(Language=\"EN\",I989,Language=\"FR\",H989,Language=\"SP\",J989)","v":0}]
[null,"JsonConverter","kernel32",94,{"$f":"LEN(resultats_textes_durs[[#This Row],[Texte en dur]])","v":8},null,{"$f":"_xlfn.IFS(Language=\"EN\",I990,Language=\"FR\",H990,Language=\"SP\",J990)","v":0}]
[null,"JsonConverter","TzSpecificLocalTimeToSystemTime",94,{"$f":"LEN(resultats_textes_durs[[#This Row],[Texte en dur]])","v":31},null,{"$f":"_xlfn.IFS(Language=\"EN\",I991,Language=\"FR\",H991,Language=\"SP\",J991)","v":0}]
[null,"JsonConverter","",176,{"$f":"LEN(resultats_textes_durs[[#This Row],[Texte en dur]])","v":0},null,{"$f":"_xlfn.IFS(Language=\"EN\",I992,Language=\"FR\",H992,Language=\"SP\",J992)","v":0}]
[null,"JsonConverter","",176,{"$f":"LEN(resultats_textes_durs[[#This Row],[Texte en dur]])","v":0},null,{"$f":"_xlfn.IFS(Language=\"EN\",I993,Language=\"FR\",H993,Language=\"SP\",J993)","v":0}]
[null,"JsonConverter","",176,{"$f":"LEN(resultats_textes_durs[[#This Row],[Texte en dur]])","v":0},null,{"$f":"_xlfn.IFS(Language=\"EN\",I994,Language=\"FR\",H994,Language=\"SP\",J994)","v":0}]
[null,"JsonConverter","{",180,{"$f":"LEN(resultats_textes_durs[[#This Row],[Texte en dur]])","v":1},null,{"$f":"_xlfn.IFS(Language=\"EN\",I995,Language=\"FR\",H995,Language=\"SP\",J995)","v":0}]
[null,"JsonConverter","[",182,{"$f":"LEN(resultats_textes_durs[[#This Row],[Texte en dur]])","v":1},null,{"$f":"_xlfn.IFS(Language=\"EN\",I996,Language=\"FR\",H996,Language=\"SP\",J996)","v":0}]
[null,"JsonConverter","JSONConverter",186,{"$f":"LEN(resultats_textes_durs[[#This Row],[Texte en dur]])","v":13},null,{"$f":"_xlfn.IFS(Language=\"EN\",I997,Language=\"FR\",H997,Language=\"SP\",J997)","v":0}]
[null,"JsonConverter","Expecting '{' or '['",186,{"$f":"LEN(resultats_textes_durs[[#This Row],[Texte en dur]])","v":20},null,{"$f":"_xlfn.IFS(Language=\"EN\",I998,Language=\"FR\",H998,Language=\"SP\",J998)","v":0}]
[null,"JsonConverter","Pretty",195,{"$f":"LEN(resultats_textes_durs[[#This Row],[Texte en dur]])","v":6},null,{"$f":"_xlfn.IFS(Language=\"EN\",I999,Language=\"FR\",H999,Language=\"SP\",J999)","v":0}]
[null,"JsonConverter","null",229,{"$f":"LEN(resultats_textes_durs[[#This Row],[Texte en dur]])","v":4},null,{"$f":"_xlfn.IFS(Language=\"EN\",I1000,Language=\"FR\",H1000,Language=\"SP\",J1000)","v":0}]
[null,"JsonConverter","",234,{"$f":"LEN(resultats_textes_durs[[#This Row],[Texte en dur]])","v":0},null,{"$f":"_xlfn.IFS(Language=\"EN\",I1001,Language=\"FR\",H1001,Language=\"SP\",J1001)","v":0}]
[null,"JsonConverter","",234,{"$f":"LEN(resultats_textes_durs[[#This Row],[Texte en dur]])","v":0},null,{"$f":"_xlfn.IFS(Language=\"EN\",I1002,Language=\"FR\",H1002,Language=\"SP\",J1002)","v":0}]
[null,"JsonConverter","",234,{"$f":"LEN(resultats_textes_durs[[#This Row],[Texte en dur]])","v":0},null,{"$f":"_xlfn.IFS(Language=\"EN\",I1003,Language=\"FR\",H1003,Language=\"SP\",J1003)","v":0}]
[null,"JsonConverter","",234,{"$f":"LEN(resultats_textes_durs[[#This Row],[Texte en dur]])","v":0},null,{"$f":"_xlfn.IFS(Language=\"EN\",I1004,Language=\"FR\",H1004,Language=\"SP\",J1004)","v":0}]
[null,"JsonConverter","",240,{"$f":"LEN(resultats_textes_durs[[#This Row],[Texte en dur]])","v":0},null,{"$f":"_xlfn.IFS(Language=\"EN\",I1005,Language=\"FR\",H1005,Language=\"SP\",J1005)","v":0}]
[null,"JsonConverter","",240,{"$f":"LEN(resultats_textes_durs[[#This Row],[Texte en dur]])","v":0},null,{"$f":"_xlfn.IFS(Language=\"EN\",I1006,Language=\"FR\",H1006,Language=\"SP\",J1006)","v":0}]
[null,"JsonConverter","",240,{"$f":"LEN(resultats_textes_durs[[#This Row],[Texte en dur]])","v":0},null,{"$f":"_xlfn.IFS(Language=\"EN\",I1007,Language=\"FR\",H1007,Language=\"SP\",J1007)","v":0}]
[null,"JsonConverter","",240,{"$f":"LEN(resultats_textes_durs[[#This Row],[Texte en dur]])","v":0},null,{"$f":"_xlfn.IFS(Language=\"EN\",I1008,Language=\"FR\",H1008,Language=\"SP\",J1008)","v":0}]
[null,"JsonConverter","true",244,{"$f":"LEN(resultats_textes_durs[[#This Row],[Texte en dur]])","v":4},null,{"$f":"_xlfn.IFS(Language=\"EN\",I1009,Language=\"FR\",H1009,Language=\"SP\",J1009)","v":0}]
[null,"JsonConverter","false",246,{"$f":"LEN(resultats_textes_durs[[#This Row],[Texte en dur]])","v":5},null,{"$f":"_xlfn.IFS(Language=\"EN\",I1010,Language=\"FR\",H1010,Language=\"SP\",J1010)","v":0}]
[null,"JsonConverter","[",260,{"$f":"LEN(resultats_textes_durs[[#This Row],[Texte en dur]])","v":1},null,{"$f":"_xlfn.IFS(Language=\"EN\",I1011,Language=\"FR\",H1011,Language=\"SP\",J1011)","v":0}]
[null,"JsonConverter",",",275,{"$f":"LEN(resultats_textes_durs[[#This Row],[Texte en dur]])","v":1},null,{"$f":"_xlfn.IFS(Language=\"EN\",I1012,Language=\"FR\",H1012,Language=\"SP\",J1012)","v":0}]
[null,"JsonConverter","[",283,{"$f":"LEN(resultats_textes_durs[[#This Row],[Texte en dur]])","v":1},null,{"$f":"_xlfn.IFS(Language=\"EN\",I1013,Language=\"FR\",H1013,Language=\"SP\",J1013)","v":0}]
[null,"JsonConverter",",",289,{"$f":"LEN(resultats_textes_durs[[#This Row],[Texte en dur]])","v":1},null,{"$f":"_xlfn.IFS(Language=\"EN\",I1014,Language=\"FR\",H1014,Language=\"SP\",J1014)","v":0}]
[null,"JsonConverter","",295,{"$f":"LEN(resultats_textes_durs[[#This Row],[Texte en dur]])","v":0},null,{"$f":"_xlfn.IFS(Language=\"EN\",I1015,Language=\"FR\",H1015,Language=\"SP\",J1015)","v":0}]
[null,"JsonConverter","",296,{"$f":"LEN(resultats_textes_durs[[#This Row],[Texte en dur]])","v":0},null,{"$f":"_xlfn.IFS(Language=\"EN\",I1016,Language=\"FR\",H1016,Language=\"SP\",J1016)","v":0}]
[null,"JsonConverter","null",298,{"$f":"LEN(resultats_textes_durs[[#This Row],[Texte en dur]])","v":4},null,{"$f":"_xlfn.IFS(Language=\"EN\",I1017,Language=\"FR\",H1017,Language=\"SP\",J1017)","v":0}]
[null,"JsonConverter","]",313,{"$f":"LEN(resultats_textes_durs[[#This Row],[Texte en dur]])","v":1},null,{"$f":"_xlfn.IFS(Language=\"EN\",I1018,Language=\"FR\",H1018,Language=\"SP\",J1018)","v":0}]
[null,"JsonConverter","",320,{"$f":"LEN(resultats_textes_durs[[#This Row],[Texte en dur]])","v":0},null,{"$f":"_xlfn.IFS(Language=\"EN\",I1019,Language=\"FR\",H1019,Language=\"SP\",J1019)","v":0}]
[null,"JsonConverter","",321,{"$f":"LEN(resultats_textes_durs[[#This Row],[Texte en dur]])","v":0},null,{"$f":"_xlfn.IFS(Language=\"EN\",I1020,Language=\"FR\",H1020,Language=\"SP\",J1020)","v":0}]
[null,"JsonConverter","null",323,{"$f":"LEN(resultats_textes_durs[[#This Row],[Texte en dur]])","v":4},null,{"$f":"_xlfn.IFS(Language=\"EN\",I1021,Language=\"FR\",H1021,Language=\"SP\",J1021)","v":0}]
[null,"JsonConverter","]",348,{"$f":"LEN(resultats_textes_durs[[#This Row],[Texte en dur]])","v":1},null,{"$f":"_xlfn.IFS(Language=\"EN\",I1022,Language=\"FR\",H1022,Language=\"SP\",J1022)","v":0}]
[null,"JsonConverter","Dictionary",363,{"$f":"LEN(resultats_textes_durs[[#This Row],[Texte en dur]])","v":10},null,{"$f":"_xlfn.IFS(Language=\"EN\",I1023,Language=\"FR\",H1023,Language=\"SP\",J1023)","v":0}]
[null,"JsonConverter","{",364,{"$f":"LEN(resultats_textes_durs[[#This Row],[Texte en dur]])","v":1},null,{"$f":"_xlfn.IFS(Language=\"EN\",I1024,Language=\"FR\",H1024,Language=\"SP\",J1024)","v":0}]
[null,"JsonConverter","",368,{"$f":"LEN(resultats_textes_durs[[#This Row],[Texte en dur]])","v":0},null,{"$f":"_xlfn.IFS(Language=\"EN\",I1025,Language=\"FR\",H1025,Language=\"SP\",J1025)","v":0}]
[null,"JsonConverter",",",378,{"$f":"LEN(resultats_textes_durs[[#This Row],[Texte en dur]])","v":1},null,{"$f":"_xlfn.IFS(Language=\"EN\",I1026,Language=\"FR\",H1026,Language=\"SP\",J1026)","v":0}]
[null,"JsonConverter","",382,{"$f":"LEN(resultats_textes_durs[[#This Row],[Texte en dur]])","v":0},null,{"$f":"_xlfn.IFS(Language=\"EN\",I1027,Language=\"FR\",H1027,Language=\"SP\",J1027)","v":0}]
[null,"JsonConverter","",382,{"$f":"LEN(resultats_textes_durs[[#This Row],[Texte en dur]])","v":0},null,{"$f":"_xlfn.IFS(Language=\"EN\",I1028,Language=\"FR\",H1028,Language=\"SP\",J1028)","v":0}]
[null,"JsonConverter","",382,{"$f":"LEN(resultats_textes_durs[[#This Row],[Texte en dur]])","v":0},null,{"$f":"_xlfn.IFS(Language=\"EN\",I1029,Language=\"FR\",H1029,Language=\"SP\",J1029)","v":0}]
[null,"JsonConverter",": ",382,{"$f":"LEN(resultats_textes_durs[[#This Row],[Texte en dur]])","v":2},null,{"$f":"_xlfn.IFS(Language=\"EN\",I1030,Language=\"FR\",H1030,Language=\"SP\",J1030)","v":0}]
[null,"JsonConverter","",384,{"$f":"LEN(resultats_textes_durs[[#This Row],[Texte en dur]])","v":0},null,{"$f":"_xlfn.IFS(Language=\"EN\",I1031,Language=\"FR\",H1031,Language=\"SP\",J1031)","v":0}]
[null,"JsonConverter","",384,{"$f":"LEN(resultats_textes_durs[[#This Row],[Texte en dur]])","v":0},null,{"$f":"_xlfn.IFS(Language=\"EN\",I1032,Language=\"FR\",H1032,Language=\"SP\",J1032)","v":0}]
[null,"JsonConverter","",384,{"$f":"LEN(resultats_textes_durs[[#This Row],[Texte en dur]])","v":0},null,{"$f":"_xlfn.IFS(Language=\"EN\",I1033,Language=\"FR\",H1033,Language=\"SP\",J1033)","v":0}]
[null,"JsonConverter",":",384,{"$f":"LEN(resultats_textes_durs[[#This Row],[Texte en dur]])","v":1},null,{"$f":"_xlfn.IFS(Language=\"EN\",I1034,Language=\"FR\",H1034,Language=\"SP\",J1034)","v":0}]
[null,"JsonConverter","}",401,{"$f":"LEN(resultats_textes_durs[[#This Row],[Texte en dur]])","v":1},null,{"$f":"_xlfn.IFS(Language=\"EN\",I1035,Language=\"FR\",H1035,Language=\"SP\",J1035)","v":0}]
[null,"JsonConverter","Collection",404,{"$f":"LEN(resultats_textes_durs[[#This Row],[Texte en dur]])","v":10},null,{"$f":"_xlfn.IFS(Language=\"EN\",I1036,Language=\"FR\",H1036,Language=\"SP\",J1036)","v":0}]
[null,"JsonConverter","[",405,{"$f":"LEN(resultats_textes_durs[[#This Row],[Texte en dur]])","v":1},null,{"$f":"_xlfn.IFS(Language=\"EN\",I1037,Language=\"FR\",H1037,Language=\"SP\",J1037)","v":0}]
[null,"JsonConverter",",",410,{"$f":"LEN(resultats_textes_durs[[#This Row],[Texte en dur]])","v":1},null,{"$f":"_xlfn.IFS(Language=\"EN\",I1038,Language=\"FR\",H1038,Language=\"SP\",J1038)","v":0}]
[null,"JsonConverter","",416,{"$f":"LEN(resultats_textes_durs[[#This Row],[Texte en dur]])","v":0},null,{"$f":"_xlfn.IFS(Language=\"EN\",I1039,Language=\"FR\",H1039,Language=\"SP\",J1039)","v":0}]
[null,"JsonConverter","",417,{"$f":"LEN(resultats_textes_durs[[#This Row],[Texte en dur]])","v":0},null,{"$f":"_xlfn.IFS(Language=\"EN\",I1040,Language=\"FR\",H1040,Language=\"SP\",J1040)","v":0}]
[null,"JsonConverter","null",419,{"$f":"LEN(resultats_textes_durs[[#This Row],[Texte en dur]])","v":4},null,{"$f":"_xlfn.IFS(Language=\"EN\",I1041,Language=\"FR\",H1041,Language=\"SP\",J1041)","v":0}]
[null,"JsonConverter","]",440,{"$f":"LEN(resultats_textes_durs[[#This Row],[Texte en dur]])","v":1},null,{"$f":"_xlfn.IFS(Language=\"EN\",I1042,Language=\"FR\",H1042,Language=\"SP\",J1042)","v":0}]
[null,"JsonConverter",",",446,{"$f":"LEN(resultats_textes_durs[[#This Row],[Texte en dur]])","v":1},null,{"$f":"_xlfn.IFS(Language=\"EN\",I1043,Language=\"FR\",H1043,Language=\"SP\",J1043)","v":0}]
[null,"JsonConverter",".",446,{"$f":"LEN(resultats_textes_durs[[#This Row],[Texte en dur]])","v":1},null,{"$f":"_xlfn.IFS(Language=\"EN\",I1044,Language=\"FR\",H1044,Language=\"SP\",J1044)","v":0}]
[null,"JsonConverter","Scripting.Dictionary",466,{"$f":"LEN(resultats_textes_durs[[#This Row],[Texte en dur]])","v":20},null,{"$f":"_xlfn.IFS(Language=\"EN\",I1045,Language=\"FR\",H1045,Language=\"SP\",J1045)","v":0}]
[null,"JsonConverter","{",469,{"$f":"LEN(resultats_textes_durs[[#This Row],[Texte en dur]])","v":1},null,{"$f":"_xlfn.IFS(Language=\"EN\",I1046,Language=\"FR\",H1046,Language=\"SP\",J1046)","v":0}]
[null,"JsonConverter","JSONConverter",470,{"$f":"LEN(resultats_textes_durs[[#This Row],[Texte en dur]])","v":13},null,{"$f":"_xlfn.IFS(Language=\"EN\",I1047,Language=\"FR\",H1047,Language=\"SP\",J1047)","v":0}]
[null,"JsonConverter","Expecting '{'",470,{"$f":"LEN(resultats_textes_durs[[#This Row],[Texte en dur]])","v":13},null,{"$f":"_xlfn.IFS(Language=\"EN\",I1048,Language=\"FR\",H1048,Language=\"SP\",J1048)","v":0}]
[null,"JsonConverter","}",476,{"$f":"LEN(resultats_textes_durs[[#This Row],[Texte en dur]])","v":1},null,{"$f":"_xlfn.IFS(Language=\"EN\",I1049,Language=\"FR\",H1049,Language=\"SP\",J1049)","v":0}]
[null,"JsonConverter",",",480,{"$f":"LEN(resultats_textes_durs[[#This Row],[Texte en dur]])","v":1},null,{"$f":"_xlfn.IFS(Language=\"EN\",I1050,Language=\"FR\",H1050,Language=\"SP\",J1050)","v":0}]
[null,"JsonConverter","[",487,{"$f":"LEN(resultats_textes_durs[[#This Row],[Texte en dur]])","v":1},null,{"$f":"_xlfn.IFS(Language=\"EN\",I1051,Language=\"FR\",H1051,Language=\"SP\",J1051)","v":0}]
[null,"JsonConverter","{",487,{"$f":"LEN(resultats_textes_durs[[#This Row],[Texte en dur]])","v":1},null,{"$f":"_xlfn.IFS(Language=\"EN\",I1052,Language=\"FR\",H1052,Language=\"SP\",J1052)","v":0}]
[null,"JsonConverter","[",500,{"$f":"LEN(resultats_textes_durs[[#This Row],[Texte en dur]])","v":1},null,{"$f":"_xlfn.IFS(Language=\"EN\",I1053,Language=\"FR\",H1053,Language=\"SP\",J1053)","v":0}]
[null,"JsonConverter","JSONConverter",501,{"$f":"LEN(resultats_textes_durs[[#This Row],[Texte en dur]])","v":13},null,{"$f":"_xlfn.IFS(Language=\"EN\",I1054,Language=\"FR\",H1054,Language=\"SP\",J1054)","v":0}]
[null,"JsonConverter","Expecting '['",501,{"$f":"LEN(resultats_textes_durs[[#This Row],[Texte en dur]])","v":13},null,{"$f":"_xlfn.IFS(Language=\"EN\",I1055,Language=\"FR\",H1055,Language=\"SP\",J1055)","v":0}]
[null,"JsonConverter","]",507,{"$f":"LEN(resultats_textes_durs[[#This Row],[Texte en dur]])","v":1},null,{"$f":"_xlfn.IFS(Language=\"EN\",I1056,Language=\"FR\",H1056,Language=\"SP\",J1056)","v":0}]
[null,"JsonConverter",",",510,{"$f":"LEN(resultats_textes_durs[[#This Row],[Texte en dur]])","v":1},null,{"$f":"_xlfn.IFS(Language=\"EN\",I1057,Language=\"FR\",H1057,Language=\"SP\",J1057)","v":0}]
[null,"JsonConverter","{",523,{"$f":"LEN(resultats_textes_durs[[#This Row],[Texte en dur]])","v":1},null,{"$f":"_xlfn.IFS(Language=\"EN\",I1058,Language=\"FR\",H1058,Language=\"SP\",J1058)","v":0}]
[null,"JsonConverter","[",525,{"$f":"LEN(resultats_textes_durs[[#This Row],[Texte en dur]])","v":1},null,{"$f":"_xlfn.IFS(Language=\"EN\",I1059,Language=\"FR\",H1059,Language=\"SP\",J1059)","v":0}]
[null,"JsonConverter","",527,{"$f":"LEN(resultats_textes_durs[[#This Row],[Texte en dur]])","v":0},null,{"$f":"_xlfn.IFS(Language=\"EN\",I1060,Language=\"FR\",H1060,Language=\"SP\",J1060)","v":0}]
[null,"JsonConverter","",527,{"$f":"LEN(resultats_textes_durs[[#This Row],[Texte en dur]])","v":0},null,{"$f":"_xlfn.IFS(Language=\"EN\",I1061,Language=\"FR\",H1061,Language=\"SP\",J1061)","v":0}]
[null,"JsonConverter","'",527,{"$f":"LEN(resultats_textes_durs[[#This Row],[Texte en dur]])","v":1},null,{"$f":"_xlfn.IFS(Language=\"EN\",I1062,Language=\"FR\",H1062,Language=\"SP\",J1062)","v":0}]
[null,"JsonConverter","true",530,{"$f":"LEN(resultats_textes_durs[[#This Row],[Texte en dur]])","v":4},null,{"$f":"_xlfn.IFS(Language=\"EN\",I1063,Language=\"FR\",H1063,Language=\"SP\",J1063)","v":0}]
[null,"JsonConverter","false",533,{"$f":"LEN(resultats_textes_durs[[#This Row],[Texte en dur]])","v":5},null,{"$f":"_xlfn.IFS(Language=\"EN\",I1064,Language=\"FR\",H1064,Language=\"SP\",J1064)","v":0}]
[null,"JsonConverter","null",536,{"$f":"LEN(resultats_textes_durs[[#This Row],[Texte en dur]])","v":4},null,{"$f":"_xlfn.IFS(Language=\"EN\",I1065,Language=\"FR\",H1065,Language=\"SP\",J1065)","v":0}]
[null,"JsonConverter","+-0123456789",539,{"$f":"LEN(resultats_textes_durs[[#This Row],[Texte en dur]])","v":12},null,{"$f":"_xlfn.IFS(Language=\"EN\",I1066,Language=\"FR\",H1066,Language=\"SP\",J1066)","v":0}]
[null,"JsonConverter","JSONConverter",542,{"$f":"LEN(resultats_textes_durs[[#This Row],[Texte en dur]])","v":13},null,{"$f":"_xlfn.IFS(Language=\"EN\",I1067,Language=\"FR\",H1067,Language=\"SP\",J1067)","v":0}]
[null,"JsonConverter","Expecting 'STRING', 'NUMBER', null, true, false, '{', or '['",542,{"$f":"LEN(resultats_textes_durs[[#This Row],[Texte en dur]])","v":60},null,{"$f":"_xlfn.IFS(Language=\"EN\",I1068,Language=\"FR\",H1068,Language=\"SP\",J1068)","v":0}]
[null,"JsonConverter","\\",565,{"$f":"LEN(resultats_textes_durs[[#This Row],[Texte en dur]])","v":1},null,{"$f":"_xlfn.IFS(Language=\"EN\",I1069,Language=\"FR\",H1069,Language=\"SP\",J1069)","v":0}]
[null,"JsonConverter","",571,{"$f":"LEN(resultats_textes_durs[[#This Row],[Texte en dur]])","v":0},null,{"$f":"_xlfn.IFS(Language=\"EN\",I1070,Language=\"FR\",H1070,Language=\"SP\",J1070)","v":0}]
[null,"JsonConverter","",571,{"$f":"LEN(resultats_textes_durs[[#This Row],[Texte en dur]])","v":0},null,{"$f":"_xlfn.IFS(Language=\"EN\",I1071,Language=\"FR\",H1071,Language=\"SP\",J1071)","v":0}]
[null,"JsonConverter","\\",571,{"$f":"LEN(resultats_textes_durs[[#This Row],[Texte en dur]])","v":1},null,{"$f":"_xlfn.IFS(Language=\"EN\",I1072,Language=\"FR\",H1072,Language=\"SP\",J1072)","v":0}]
[null,"JsonConverter","/",571,{"$f":"LEN(resultats_textes_durs[[#This Row],[Texte en dur]])","v":1},null,{"$f":"_xlfn.IFS(Language=\"EN\",I1073,Language=\"FR\",H1073,Language=\"SP\",J1073)","v":0}]
[null,"JsonConverter","'",571,{"$f":"LEN(resultats_textes_durs[[#This Row],[Texte en dur]])","v":1},null,{"$f":"_xlfn.IFS(Language=\"EN\",I1074,Language=\"FR\",H1074,Language=\"SP\",J1074)","v":0}]
[null,"JsonConverter","b",574,{"$f":"LEN(resultats_textes_durs[[#This Row],[Texte en dur]])","v":1},null,{"$f":"_xlfn.IFS(Language=\"EN\",I1075,Language=\"FR\",H1075,Language=\"SP\",J1075)","v":0}]
[null,"JsonConverter","f",577,{"$f":"LEN(resultats_textes_durs[[#This Row],[Texte en dur]])","v":1},null,{"$f":"_xlfn.IFS(Language=\"EN\",I1076,Language=\"FR\",H1076,Language=\"SP\",J1076)","v":0}]
[null,"JsonConverter","n",580,{"$f":"LEN(resultats_textes_durs[[#This Row],[Texte en dur]])","v":1},null,{"$f":"_xlfn.IFS(Language=\"EN\",I1077,Language=\"FR\",H1077,Language=\"SP\",J1077)","v":0}]
[null,"JsonConverter","r",583,{"$f":"LEN(resultats_textes_durs[[#This Row],[Texte en dur]])","v":1},null,{"$f":"_xlfn.IFS(Language=\"EN\",I1078,Language=\"FR\",H1078,Language=\"SP\",J1078)","v":0}]
[null,"JsonConverter","t",586,{"$f":"LEN(resultats_textes_durs[[#This Row],[Texte en dur]])","v":1},null,{"$f":"_xlfn.IFS(Language=\"EN\",I1079,Language=\"FR\",H1079,Language=\"SP\",J1079)","v":0}]
[null,"JsonConverter","u",589,{"$f":"LEN(resultats_textes_durs[[#This Row],[Texte en dur]])","v":1},null,{"$f":"_xlfn.IFS(Language=\"EN\",I1080,Language=\"FR\",H1080,Language=\"SP\",J1080)","v":0}]
[null,"JsonConverter","&h",593,{"$f":"LEN(resultats_textes_durs[[#This Row],[Texte en dur]])","v":2},null,{"$f":"_xlfn.IFS(Language=\"EN\",I1081,Language=\"FR\",H1081,Language=\"SP\",J1081)","v":0}]
[null,"JsonConverter","+-0123456789.eE",617,{"$f":"LEN(resultats_textes_durs[[#This Row],[Texte en dur]])","v":15},null,{"$f":"_xlfn.IFS(Language=\"EN\",I1082,Language=\"FR\",H1082,Language=\"SP\",J1082)","v":0}]
[null,"JsonConverter",".",628,{"$f":"LEN(resultats_textes_durs[[#This Row],[Texte en dur]])","v":1},null,{"$f":"_xlfn.IFS(Language=\"EN\",I1083,Language=\"FR\",H1083,Language=\"SP\",J1083)","v":0}]
[null,"JsonConverter","",642,{"$f":"LEN(resultats_textes_durs[[#This Row],[Texte en dur]])","v":0},null,{"$f":"_xlfn.IFS(Language=\"EN\",I1084,Language=\"FR\",H1084,Language=\"SP\",J1084)","v":0}]
[null,"JsonConverter","",642,{"$f":"LEN(resultats_textes_durs[[#This Row],[Texte en dur]])","v":0},null,{"$f":"_xlfn.IFS(Language=\"EN\",I1085,Language=\"FR\",H1085,Language=\"SP\",J1085)","v":0}]
[null,"JsonConverter","'",642,{"$f":"LEN(resultats_textes_durs[[#This Row],[Texte en dur]])","v":1},null,{"$f":"_xlfn.IFS(Language=\"EN\",I1086,Language=\"FR\",H1086,Language=\"SP\",J1086)","v":0}]
[null,"JsonConverter"," ",648,{"$f":"LEN(resultats_textes_durs[[#This Row],[Texte en dur]])","v":1},null,{"$f":"_xlfn.IFS(Language=\"EN\",I1087,Language=\"FR\",H1087,Language=\"SP\",J1087)","v":0}]
[null,"JsonConverter",":",648,{"$f":"LEN(resultats_textes_durs[[#This Row],[Texte en dur]])","v":1},null,{"$f":"_xlfn.IFS(Language=\"EN\",I1088,Language=\"FR\",H1088,Language=\"SP\",J1088)","v":0}]
[null,"JsonConverter","JSONConverter",656,{"$f":"LEN(resultats_textes_durs[[#This Row],[Texte en dur]])","v":13},null,{"$f":"_xlfn.IFS(Language=\"EN\",I1089,Language=\"FR\",H1089,Language=\"SP\",J1089)","v":0}]
[null,"JsonConverter","Expecting '",656,{"$f":"LEN(resultats_textes_durs[[#This Row],[Texte en dur]])","v":11},null,{"$f":"_xlfn.IFS(Language=\"EN\",I1090,Language=\"FR\",H1090,Language=\"SP\",J1090)","v":0}]
[null,"JsonConverter","' or '''",656,{"$f":"LEN(resultats_textes_durs[[#This Row],[Texte en dur]])","v":8},null,{"$f":"_xlfn.IFS(Language=\"EN\",I1091,Language=\"FR\",H1091,Language=\"SP\",J1091)","v":0}]
[null,"JsonConverter",":",661,{"$f":"LEN(resultats_textes_durs[[#This Row],[Texte en dur]])","v":1},null,{"$f":"_xlfn.IFS(Language=\"EN\",I1092,Language=\"FR\",H1092,Language=\"SP\",J1092)","v":0}]
[null,"JsonConverter","JSONConverter",662,{"$f":"LEN(resultats_textes_durs[[#This Row],[Texte en dur]])","v":13},null,{"$f":"_xlfn.IFS(Language=\"EN\",I1093,Language=\"FR\",H1093,Language=\"SP\",J1093)","v":0}]
[null,"JsonConverter","Expecting ':'",662,{"$f":"LEN(resultats_textes_durs[[#This Row],[Texte en dur]])","v":13},null,{"$f":"_xlfn.IFS(Language=\"EN\",I1094,Language=\"FR\",H1094,Language=\"SP\",J1094)","v":0}]
[null,"JsonConverter","Empty",675,{"$f":"LEN(resultats_textes_durs[[#This Row],[Texte en dur]])","v":5},null,{"$f":"_xlfn.IFS(Language=\"EN\",I1095,Language=\"FR\",H1095,Language=\"SP\",J1095)","v":0}]
[null,"JsonConverter","Nothing",675,{"$f":"LEN(resultats_textes_durs[[#This Row],[Texte en dur]])","v":7},null,{"$f":"_xlfn.IFS(Language=\"EN\",I1096,Language=\"FR\",H1096,Language=\"SP\",J1096)","v":0}]
[null,"JsonConverter"," -> 34 -> \\",706,{"$f":"LEN(resultats_textes_durs[[#This Row],[Texte en dur]])","v":11},null,{"$f":"_xlfn.IFS(Language=\"EN\",I1097,Language=\"FR\",H1097,Language=\"SP\",J1097)","v":0}]
[null,"JsonConverter","\\",707,{"$f":"LEN(resultats_textes_durs[[#This Row],[Texte en dur]])","v":1},null,{"$f":"_xlfn.IFS(Language=\"EN\",I1098,Language=\"FR\",H1098,Language=\"SP\",J1098)","v":0}]
[null,"JsonConverter","",707,{"$f":"LEN(resultats_textes_durs[[#This Row],[Texte en dur]])","v":0},null,{"$f":"_xlfn.IFS(Language=\"EN\",I1099,Language=\"FR\",H1099,Language=\"SP\",J1099)","v":0}]
[null,"JsonConverter","\\\\",710,{"$f":"LEN(resultats_textes_durs[[#This Row],[Texte en dur]])","v":2},null,{"$f":"_xlfn.IFS(Language=\"EN\",I1100,Language=\"FR\",H1100,Language=\"SP\",J1100)","v":0}]
[null,"JsonConverter","\\/",714,{"$f":"LEN(resultats_textes_durs[[#This Row],[Texte en dur]])","v":2},null,{"$f":"_xlfn.IFS(Language=\"EN\",I1101,Language=\"FR\",H1101,Language=\"SP\",J1101)","v":0}]
[null,"JsonConverter","\\b",718,{"$f":"LEN(resultats_textes_durs[[#This Row],[Texte en dur]])","v":2},null,{"$f":"_xlfn.IFS(Language=\"EN\",I1102,Language=\"FR\",H1102,Language=\"SP\",J1102)","v":0}]
[null,"JsonConverter","\\f",721,{"$f":"LEN(resultats_textes_durs[[#This Row],[Texte en dur]])","v":2},null,{"$f":"_xlfn.IFS(Language=\"EN\",I1103,Language=\"FR\",H1103,Language=\"SP\",J1103)","v":0}]
[null,"JsonConverter","\\n",724,{"$f":"LEN(resultats_textes_durs[[#This Row],[Texte en dur]])","v":2},null,{"$f":"_xlfn.IFS(Language=\"EN\",I1104,Language=\"FR\",H1104,Language=\"SP\",J1104)","v":0}]
[null,"JsonConverter","\\r",727,{"$f":"LEN(resultats_textes_durs[[#This Row],[Texte en dur]])","v":2},null,{"$f":"_xlfn.IFS(Language=\"EN\",I1105,Language=\"FR\",H1105,Language=\"SP\",J1105)","v":0}]
[null,"JsonConverter","\\t",730,{"$f":"LEN(resultats_textes_durs[[#This Row],[Texte en dur]])","v":2},null,{"$f":"_xlfn.IFS(Language=\"EN\",I1106,Language=\"FR\",H1106,Language=\"SP\",J1106)","v":0}]
[null,"JsonConverter","\\u",733,{"$f":"LEN(resultats_textes_durs[[#This Row],[Texte en dur]])","v":2},null,{"$f":"_xlfn.IFS(Language=\"EN\",I1107,Language=\"FR\",H1107,Language=\"SP\",J1107)","v":0}]
[null,"JsonConverter","0000",733,{"$f":"LEN(resultats_textes_durs[[#This Row],[Texte en dur]])","v":4},null,{"$f":"_xlfn.IFS(Language=\"EN\",I1108,Language=\"FR\",H1108,Language=\"SP\",J1108)","v":0}]
[null,"JsonConverter","Peek",743,{"$f":"LEN(resultats_textes_durs[[#This Row],[Texte en dur]])","v":4},null,{"$f":"_xlfn.IFS(Language=\"EN\",I1109,Language=\"FR\",H1109,Language=\"SP\",J1109)","v":0}]
[null,"JsonConverter"," ",750,{"$f":"LEN(resultats_textes_durs[[#This Row],[Texte en dur]])","v":1},null,{"$f":"_xlfn.IFS(Language=\"EN\",I1110,Language=\"FR\",H1110,Language=\"SP\",J1110)","v":0}]
[null,"JsonConverter","large number",756,{"$f":"LEN(resultats_textes_durs[[#This Row],[Texte en dur]])","v":12},null,{"$f":"_xlfn.IFS(Language=\"EN\",I1111,Language=\"FR\",H1111,Language=\"SP\",J1111)","v":0}]
[null,"JsonConverter","abcde",788,{"$f":"LEN(resultats_textes_durs[[#This Row],[Texte en dur]])","v":5},null,{"$f":"_xlfn.IFS(Language=\"EN\",I1112,Language=\"FR\",H1112,Language=\"SP\",J1112)","v":0}]
[null,"JsonConverter","Error parsing JSON:",805,{"$f":"LEN(resultats_textes_durs[[#This Row],[Texte en dur]])","v":19},null,{"$f":"_xlfn.IFS(Language=\"EN\",I1113,Language=\"FR\",H1113,Language=\"SP\",J1113)","v":0}]
[null,"JsonConverter","^",807,{"$f":"LEN(resultats_textes_durs[[#This Row],[Texte en dur]])","v":1},null,{"$f":"_xlfn.IFS(Language=\"EN\",I1114,Language=\"FR\",H1114,Language=\"SP\",J1114)","v":0}]
[null,"JsonConverter","abc  ",819,{"$f":"LEN(resultats_textes_durs[[#This Row],[Texte en dur]])","v":5},null,{"$f":"_xlfn.IFS(Language=\"EN\",I1115,Language=\"FR\",H1115,Language=\"SP\",J1115)","v":0}]
[null,"JsonConverter","def",820,{"$f":"LEN(resultats_textes_durs[[#This Row],[Texte en dur]])","v":3},null,{"$f":"_xlfn.IFS(Language=\"EN\",I1116,Language=\"FR\",H1116,Language=\"SP\",J1116)","v":0}]
[null,"JsonConverter","abc       ",825,{"$f":"LEN(resultats_textes_durs[[#This Row],[Texte en dur]])","v":10},null,{"$f":"_xlfn.IFS(Language=\"EN\",I1117,Language=\"FR\",H1117,Language=\"SP\",J1117)","v":0}]
[null,"JsonConverter","def",828,{"$f":"LEN(resultats_textes_durs[[#This Row],[Texte en dur]])","v":3},null,{"$f":"_xlfn.IFS(Language=\"EN\",I1118,Language=\"FR\",H1118,Language=\"SP\",J1118)","v":0}]
[null,"JsonConverter","abcdef    ",829,{"$f":"LEN(resultats_textes_durs[[#This Row],[Texte en dur]])","v":10},null,{"$f":"_xlfn.IFS(Language=\"EN\",I1119,Language=\"FR\",H1119,Language=\"SP\",J1119)","v":0}]
[null,"JsonConverter","UtcConverter.ParseUtc",914,{"$f":"LEN(resultats_textes_durs[[#This Row],[Texte en dur]])","v":21},null,{"$f":"_xlfn.IFS(Language=\"EN\",I1120,Language=\"FR\",H1120,Language=\"SP\",J1120)","v":0}]
[null,"JsonConverter","UTC parsing error: ",914,{"$f":"LEN(resultats_textes_durs[[#This Row],[Texte en dur]])","v":19},null,{"$f":"_xlfn.IFS(Language=\"EN\",I1121,Language=\"FR\",H1121,Language=\"SP\",J1121)","v":0}]
[null,"JsonConverter"," - ",914,{"$f":"LEN(resultats_textes_durs[[#This Row],[Texte en dur]])","v":3},null,{"$f":"_xlfn.IFS(Language=\"EN\",I1122,Language=\"FR\",H1122,Language=\"SP\",J1122)","v":0}]
[null,"JsonConverter","UtcConverter.ConvertToUtc",943,{"$f":"LEN(resultats_textes_durs[[#This Row],[Texte en dur]])","v":25},null,{"$f":"_xlfn.IFS(Language=\"EN\",I1123,Language=\"FR\",H1123,Language=\"SP\",J1123)","v":0}]
[null,"JsonConverter","UTC conversion error: ",943,{"$f":"LEN(resultats_textes_durs[[#This Row],[Texte en dur]])","v":22},null,{"$f":"_xlfn.IFS(Language=\"EN\",I1124,Language=\"FR\",H1124,Language=\"SP\",J1124)","v":0}]
[null,"JsonConverter"," - ",943,{"$f":"LEN(resultats_textes_durs[[#This Row],[Texte en dur]])","v":3},null,{"$f":"_xlfn.IFS(Language=\"EN\",I1125,Language=\"FR\",H1125,Language=\"SP\",J1125)","v":0}]
[null,"JsonConverter","T",966,{"$f":"LEN(resultats_textes_durs[[#This Row],[Texte en dur]])","v":1},null,{"$f":"_xlfn.IFS(Language=\"EN\",I1126,Language=\"FR\",H1126,Language=\"SP\",J1126)","v":0}]
[null,"JsonConverter","-",967,{"$f":"LEN(resultats_textes_durs[[#This Row],[Texte en dur]])","v":1},null,{"$f":"_xlfn.IFS(Language=\"EN\",I1127,Language=\"FR\",H1127,Language=\"SP\",J1127)","v":0}]
[null,"JsonConverter","Z",971,{"$f":"LEN(resultats_textes_durs[[#This Row],[Texte en dur]])","v":1},null,{"$f":"_xlfn.IFS(Language=\"EN\",I1128,Language=\"FR\",H1128,Language=\"SP\",J1128)","v":0}]
[null,"JsonConverter","Z",972,{"$f":"LEN(resultats_textes_durs[[#This Row],[Texte en dur]])","v":1},null,{"$f":"_xlfn.IFS(Language=\"EN\",I1129,Language=\"FR\",H1129,Language=\"SP\",J1129)","v":0}]
[null,"JsonConverter","",972,{"$f":"LEN(resultats_textes_durs[[#This Row],[Texte en dur]])","v":0},null,{"$f":"_xlfn.IFS(Language=\"EN\",I1130,Language=\"FR\",H1130,Language=\"SP\",J1130)","v":0}]
[null,"JsonConverter",":",972,{"$f":"LEN(resultats_textes_durs[[#This Row],[Texte en dur]])","v":1},null,{"$f":"_xlfn.IFS(Language=\"EN\",I1131,Language=\"FR\",H1131,Language=\"SP\",J1131)","v":0}]
[null,"JsonConverter","+",974,{"$f":"LEN(resultats_textes_durs[[#This Row],[Texte en dur]])","v":1},null,{"$f":"_xlfn.IFS(Language=\"EN\",I1132,Language=\"FR\",H1132,Language=\"SP\",J1132)","v":0}]
[null,"JsonConverter","-",977,{"$f":"LEN(resultats_textes_durs[[#This Row],[Texte en dur]])","v":1},null,{"$f":"_xlfn.IFS(Language=\"EN\",I1133,Language=\"FR\",H1133,Language=\"SP\",J1133)","v":0}]
[null,"JsonConverter",":",982,{"$f":"LEN(resultats_textes_durs[[#This Row],[Texte en dur]])","v":1},null,{"$f":"_xlfn.IFS(Language=\"EN\",I1134,Language=\"FR\",H1134,Language=\"SP\",J1134)","v":0}]
[null,"JsonConverter",":",983,{"$f":"LEN(resultats_textes_durs[[#This Row],[Texte en dur]])","v":1},null,{"$f":"_xlfn.IFS(Language=\"EN\",I1135,Language=\"FR\",H1135,Language=\"SP\",J1135)","v":0}]
[null,"JsonConverter",":",997,{"$f":"LEN(resultats_textes_durs[[#This Row],[Texte en dur]])","v":1},null,{"$f":"_xlfn.IFS(Language=\"EN\",I1136,Language=\"FR\",H1136,Language=\"SP\",J1136)","v":0}]
[null,"JsonConverter","UtcConverter.ParseIso",1021,{"$f":"LEN(resultats_textes_durs[[#This Row],[Texte en dur]])","v":21},null,{"$f":"_xlfn.IFS(Language=\"EN\",I1137,Language=\"FR\",H1137,Language=\"SP\",J1137)","v":0}]
[null,"JsonConverter","ISO 8601 parsing error for ",1021,{"$f":"LEN(resultats_textes_durs[[#This Row],[Texte en dur]])","v":27},null,{"$f":"_xlfn.IFS(Language=\"EN\",I1138,Language=\"FR\",H1138,Language=\"SP\",J1138)","v":0}]
[null,"JsonConverter",": ",1021,{"$f":"LEN(resultats_textes_durs[[#This Row],[Texte en dur]])","v":2},null,{"$f":"_xlfn.IFS(Language=\"EN\",I1139,Language=\"FR\",H1139,Language=\"SP\",J1139)","v":0}]
[null,"JsonConverter"," - ",1021,{"$f":"LEN(resultats_textes_durs[[#This Row],[Texte en dur]])","v":3},null,{"$f":"_xlfn.IFS(Language=\"EN\",I1140,Language=\"FR\",H1140,Language=\"SP\",J1140)","v":0}]
[null,"JsonConverter","yyyy-mm-ddTHH:mm:ss.000Z",1035,{"$f":"LEN(resultats_textes_durs[[#This Row],[Texte en dur]])","v":24},null,{"$f":"_xlfn.IFS(Language=\"EN\",I1141,Language=\"FR\",H1141,Language=\"SP\",J1141)","v":0}]
[null,"JsonConverter","UtcConverter.ConvertToIso",1040,{"$f":"LEN(resultats_textes_durs[[#This Row],[Texte en dur]])","v":25},null,{"$f":"_xlfn.IFS(Language=\"EN\",I1142,Language=\"FR\",H1142,Language=\"SP\",J1142)","v":0}]
[null,"JsonConverter","ISO 8601 conversion error: ",1040,{"$f":"LEN(resultats_textes_durs[[#This Row],[Texte en dur]])","v":27},null,{"$f":"_xlfn.IFS(Language=\"EN\",I1143,Language=\"FR\",H1143,Language=\"SP\",J1143)","v":0}]
[null,"JsonConverter"," - ",1040,{"$f":"LEN(resultats_textes_durs[[#This Row],[Texte en dur]])","v":3},null,{"$f":"_xlfn.IFS(Language=\"EN\",I1144,Language=\"FR\",H1144,Language=\"SP\",J1144)","v":0}]
[null,"JsonConverter","date -ur `date -jf '%Y-%m-%d %H:%M:%S' ",1057,{"$f":"LEN(resultats_textes_durs[[#This Row],[Texte en dur]])","v":39},null,{"$f":"_xlfn.IFS(Language=\"EN\",I1145,Language=\"FR\",H1145,Language=\"SP\",J1145)","v":0}]
[null,"JsonConverter","'",1058,{"$f":"LEN(resultats_textes_durs[[#This Row],[Texte en dur]])","v":1},null,{"$f":"_xlfn.IFS(Language=\"EN\",I1146,Language=\"FR\",H1146,Language=\"SP\",J1146)","v":0}]
[null,"JsonConverter","yyyy-mm-dd HH:mm:ss",1058,{"$f":"LEN(resultats_textes_durs[[#This Row],[Texte en dur]])","v":19},null,{"$f":"_xlfn.IFS(Language=\"EN\",I1147,Language=\"FR\",H1147,Language=\"SP\",J1147)","v":0}]
[null,"JsonConverter","' ",1058,{"$f":"LEN(resultats_textes_durs[[#This Row],[Texte en dur]])","v":2},null,{"$f":"_xlfn.IFS(Language=\"EN\",I1148,Language=\"FR\",H1148,Language=\"SP\",J1148)","v":0}]
[null,"JsonConverter"," +'%s'` +'%Y-%m-%d %H:%M:%S'",1059,{"$f":"LEN(resultats_textes_durs[[#This Row],[Texte en dur]])","v":28},null,{"$f":"_xlfn.IFS(Language=\"EN\",I1149,Language=\"FR\",H1149,Language=\"SP\",J1149)","v":0}]
[null,"JsonConverter","date -jf '%Y-%m-%d %H:%M:%S %z' ",1061,{"$f":"LEN(resultats_textes_durs[[#This Row],[Texte en dur]])","v":32},null,{"$f":"_xlfn.IFS(Language=\"EN\",I1150,Language=\"FR\",H1150,Language=\"SP\",J1150)","v":0}]
[null,"JsonConverter","'",1062,{"$f":"LEN(resultats_textes_durs[[#This Row],[Texte en dur]])","v":1},null,{"$f":"_xlfn.IFS(Language=\"EN\",I1151,Language=\"FR\",H1151,Language=\"SP\",J1151)","v":0}]
[null,"JsonConverter","yyyy-mm-dd HH:mm:ss",1062,{"$f":"LEN(resultats_textes_durs[[#This Row],[Texte en dur]])","v":19},null,{"$f":"_xlfn.IFS(Language=\"EN\",I1152,Language=\"FR\",H1152,Language=\"SP\",J1152)","v":0}]
[null,"JsonConverter"," +0000' ",1062,{"$f":"LEN(resultats_textes_durs[[#This Row],[Texte en dur]])","v":8},null,{"$f":"_xlfn.IFS(Language=\"EN\",I1153,Language=\"FR\",H1153,Language=\"SP\",J1153)","v":0}]
[null,"JsonConverter","+'%Y-%m-%d %H:%M:%S'",1063,{"$f":"LEN(resultats_textes_durs[[#This Row],[Texte en dur]])","v":20},null,{"$f":"_xlfn.IFS(Language=\"EN\",I1154,Language=\"FR\",H1154,Language=\"SP\",J1154)","v":0}]
[null,"JsonConverter","",1068,{"$f":"LEN(resultats_textes_durs[[#This Row],[Texte en dur]])","v":0},null,{"$f":"_xlfn.IFS(Language=\"EN\",I1155,Language=\"FR\",H1155,Language=\"SP\",J1155)","v":0}]
[null,"JsonConverter","UtcConverter.utc_ConvertDate",1069,{"$f":"LEN(resultats_textes_durs[[#This Row],[Texte en dur]])","v":28},null,{"$f":"_xlfn.IFS(Language=\"EN\",I1156,Language=\"FR\",H1156,Language=\"SP\",J1156)","v":0}]
[null,"JsonConverter","'date' command failed",1069,{"$f":"LEN(resultats_textes_durs[[#This Row],[Texte en dur]])","v":21},null,{"$f":"_xlfn.IFS(Language=\"EN\",I1157,Language=\"FR\",H1157,Language=\"SP\",J1157)","v":0}]
[null,"JsonConverter"," ",1071,{"$f":"LEN(resultats_textes_durs[[#This Row],[Texte en dur]])","v":1},null,{"$f":"_xlfn.IFS(Language=\"EN\",I1158,Language=\"FR\",H1158,Language=\"SP\",J1158)","v":0}]
[null,"JsonConverter","-",1072,{"$f":"LEN(resultats_textes_durs[[#This Row],[Texte en dur]])","v":1},null,{"$f":"_xlfn.IFS(Language=\"EN\",I1159,Language=\"FR\",H1159,Language=\"SP\",J1159)","v":0}]
[null,"JsonConverter",":",1073,{"$f":"LEN(resultats_textes_durs[[#This Row],[Texte en dur]])","v":1},null,{"$f":"_xlfn.IFS(Language=\"EN\",I1160,Language=\"FR\",H1160,Language=\"SP\",J1160)","v":0}]
[null,"JsonConverter","r",1092,{"$f":"LEN(resultats_textes_durs[[#This Row],[Texte en dur]])","v":1},null,{"$f":"_xlfn.IFS(Language=\"EN\",I1161,Language=\"FR\",H1161,Language=\"SP\",J1161)","v":0}]
[null,"Module1","Onglet_Gap_P1",7,{"$f":"LEN(resultats_textes_durs[[#This Row],[Texte en dur]])","v":13},null,{"$f":"_xlfn.IFS(Language=\"EN\",I1162,Language=\"FR\",H1162,Language=\"SP\",J1162)","v":0}]
[null,"Module1","D47",7,{"$f":"LEN(resultats_textes_durs[[#This Row],[Texte en dur]])","v":3},null,{"$f":"_xlfn.IFS(Language=\"EN\",I1163,Language=\"FR\",H1163,Language=\"SP\",J1163)","v":0}]
[null,"Module1","Onglet_AP_Fiche_SPL",8,{"$f":"LEN(resultats_textes_durs[[#This Row],[Texte en dur]])","v":19},null,{"$f":"_xlfn.IFS(Language=\"EN\",I1164,Language=\"FR\",H1164,Language=\"SP\",J1164)","v":0}]
[null,"Module1","I15",8,{"$f":"LEN(resultats_textes_durs[[#This Row],[Texte en dur]])","v":3},null,{"$f":"_xlfn.IFS(Language=\"EN\",I1165,Language=\"FR\",H1165,Language=\"SP\",J1165)","v":0}]
[null,"Module1","[",25,{"$f":"LEN(resultats_textes_durs[[#This Row],[Texte en dur]])","v":1},null,{"$f":"_xlfn.IFS(Language=\"EN\",I1166,Language=\"FR\",H1166,Language=\"SP\",J1166)","v":0}]
[null,"Module1","Lien externe trouvé dans ",26,{"$f":"LEN(resultats_textes_durs[[#This Row],[Texte en dur]])","v":25},null,{"$f":"_xlfn.IFS(Language=\"EN\",I1167,Language=\"FR\",H1167,Language=\"SP\",J1167)","v":0}]
[null,"Module1"," à la cellule ",26,{"$f":"LEN(resultats_textes_durs[[#This Row],[Texte en dur]])","v":14},null,{"$f":"_xlfn.IFS(Language=\"EN\",I1168,Language=\"FR\",H1168,Language=\"SP\",J1168)","v":0}]
[null,"Module1","Aucun lien externe trouvé dans ce classeur.",33,{"$f":"LEN(resultats_textes_durs[[#This Row],[Texte en dur]])","v":43},null,{"$f":"_xlfn.IFS(Language=\"EN\",I1169,Language=\"FR\",H1169,Language=\"SP\",J1169)","v":0}]
[null,"Module1","Rect_N2_P1",56,{"$f":"LEN(resultats_textes_durs[[#This Row],[Texte en dur]])","v":10},null,{"$f":"_xlfn.IFS(Language=\"EN\",I1170,Language=\"FR\",H1170,Language=\"SP\",J1170)","v":0}]
[null,"Module1","Rect_N3_P1",57,{"$f":"LEN(resultats_textes_durs[[#This Row],[Texte en dur]])","v":10},null,{"$f":"_xlfn.IFS(Language=\"EN\",I1171,Language=\"FR\",H1171,Language=\"SP\",J1171)","v":0}]
[null,"Module1","Rect_N4_P1",58,{"$f":"LEN(resultats_textes_durs[[#This Row],[Texte en dur]])","v":10},null,{"$f":"_xlfn.IFS(Language=\"EN\",I1172,Language=\"FR\",H1172,Language=\"SP\",J1172)","v":0}]
[null,"Module2","=INDIRECT(L13)",10,{"$f":"LEN(resultats_textes_durs[[#This Row],[Texte en dur]])","v":14},null,{"$f":"_xlfn.IFS(Language=\"EN\",I1173,Language=\"FR\",H1173,Language=\"SP\",J1173)","v":0}]
[null,"Module2","",13,{"$f":"LEN(resultats_textes_durs[[#This Row],[Texte en dur]])","v":0},null,{"$f":"_xlfn.IFS(Language=\"EN\",I1174,Language=\"FR\",H1174,Language=\"SP\",J1174)","v":0}]
[null,"Module2","",14,{"$f":"LEN(resultats_textes_durs[[#This Row],[Texte en dur]])","v":0},null,{"$f":"_xlfn.IFS(Language=\"EN\",I1175,Language=\"FR\",H1175,Language=\"SP\",J1175)","v":0}]
[null,"Module2","",15,{"$f":"LEN(resultats_textes_durs[[#This Row],[Texte en dur]])","v":0},null,{"$f":"_xlfn.IFS(Language=\"EN\",I1176,Language=\"FR\",H1176,Language=\"SP\",J1176)","v":0}]
[null,"Module2","",16,{"$f":"LEN(resultats_textes_durs[[#This Row],[Texte en dur]])","v":0},null,{"$f":"_xlfn.IFS(Language=\"EN\",I1177,Language=\"FR\",H1177,Language=\"SP\",J1177)","v":0}]
[null,"Module2","=INDIRECT(L13)",31,{"$f":"LEN(resultats_textes_durs[[#This Row],[Texte en dur]])","v":14},null,{"$f":"_xlfn.IFS(Language=\"EN\",I1178,Language=\"FR\",H1178,Language=\"SP\",J1178)","v":0}]
[null,"Module2","",34,{"$f":"LEN(resultats_textes_durs[[#This Row],[Texte en dur]])","v":0},null,{"$f":"_xlfn.IFS(Language=\"EN\",I1179,Language=\"FR\",H1179,Language=\"SP\",J1179)","v":0}]
[null,"Module2","",35,{"$f":"LEN(resultats_textes_durs[[#This Row],[Texte en dur]])","v":0},null,{"$f":"_xlfn.IFS(Language=\"EN\",I1180,Language=\"FR\",H1180,Language=\"SP\",J1180)","v":0}]
[null,"Module2","",36,{"$f":"LEN(resultats_textes_durs[[#This Row],[Texte en dur]])","v":0},null,{"$f":"_xlfn.IFS(Language=\"EN\",I1181,Language=\"FR\",H1181,Language=\"SP\",J1181)","v":0}]
[null,"Module2","",37,{"$f":"LEN(resultats_textes_durs[[#This Row],[Texte en dur]])","v":0},null,{"$f":"_xlfn.IFS(Language=\"EN\",I1182,Language=\"FR\",H1182,Language=\"SP\",J1182)","v":0}]
[null,"Module2","Nom de la forme : ",51,{"$f":"LEN(resultats_textes_durs[[#This Row],[Texte en dur]])","v":18},null,{"$f":"_xlfn.IFS(Language=\"EN\",I1183,Language=\"FR\",H1183,Language=\"SP\",J1183)","v":0}]
[null,"Module2","Position (Left) : ",52,{"$f":"LEN(resultats_textes_durs[[#This Row],[Texte en dur]])","v":18},null,{"$f":"_xlfn.IFS(Language=\"EN\",I1184,Language=\"FR\",H1184,Language=\"SP\",J1184)","v":0}]
[null,"Module2","Position (Top) : ",53,{"$f":"LEN(resultats_textes_durs[[#This Row],[Texte en dur]])","v":17},null,{"$f":"_xlfn.IFS(Language=\"EN\",I1185,Language=\"FR\",H1185,Language=\"SP\",J1185)","v":0}]
[null,"Module2","Largeur (Width) : ",54,{"$f":"LEN(resultats_textes_durs[[#This Row],[Texte en dur]])","v":18},null,{"$f":"_xlfn.IFS(Language=\"EN\",I1186,Language=\"FR\",H1186,Language=\"SP\",J1186)","v":0}]
[null,"Module2","Hauteur (Height) : ",55,{"$f":"LEN(resultats_textes_durs[[#This Row],[Texte en dur]])","v":19},null,{"$f":"_xlfn.IFS(Language=\"EN\",I1187,Language=\"FR\",H1187,Language=\"SP\",J1187)","v":0}]
[null,"Module2","Informations sur la forme",56,{"$f":"LEN(resultats_textes_durs[[#This Row],[Texte en dur]])","v":25},null,{"$f":"_xlfn.IFS(Language=\"EN\",I1188,Language=\"FR\",H1188,Language=\"SP\",J1188)","v":0}]
[null,"Module2","Veuillez sélectionner une forme pour obtenir ses informations.",58,{"$f":"LEN(resultats_textes_durs[[#This Row],[Texte en dur]])","v":62},null,{"$f":"_xlfn.IFS(Language=\"EN\",I1189,Language=\"FR\",H1189,Language=\"SP\",J1189)","v":0}]
[null,"Module3","SRM",17,{"$f":"LEN(resultats_textes_durs[[#This Row],[Texte en dur]])","v":3},null,{"$f":"_xlfn.IFS(Language=\"EN\",I1190,Language=\"FR\",H1190,Language=\"SP\",J1190)","v":0}]
[null,"Module3","SRM",20,{"$f":"LEN(resultats_textes_durs[[#This Row],[Texte en dur]])","v":3},null,{"$f":"_xlfn.IFS(Language=\"EN\",I1191,Language=\"FR\",H1191,Language=\"SP\",J1191)","v":0}]
[null,"Module3","",26,{"$f":"LEN(resultats_textes_durs[[#This Row],[Texte en dur]])","v":0},null,{"$f":"_xlfn.IFS(Language=\"EN\",I1192,Language=\"FR\",H1192,Language=\"SP\",J1192)","v":0}]
[null,"Module3","Feuil301",39,{"$f":"LEN(resultats_textes_durs[[#This Row],[Texte en dur]])","v":8},null,{"$f":"_xlfn.IFS(Language=\"EN\",I1193,Language=\"FR\",H1193,Language=\"SP\",J1193)","v":0}]
[null,"Module3","Feuil3011",39,{"$f":"LEN(resultats_textes_durs[[#This Row],[Texte en dur]])","v":9},null,{"$f":"_xlfn.IFS(Language=\"EN\",I1194,Language=\"FR\",H1194,Language=\"SP\",J1194)","v":0}]
[null,"Module3","Référence exacte trouvée dans : ",40,{"$f":"LEN(resultats_textes_durs[[#This Row],[Texte en dur]])","v":32},null,{"$f":"_xlfn.IFS(Language=\"EN\",I1195,Language=\"FR\",H1195,Language=\"SP\",J1195)","v":0}]
[null,"Module3"," à la ligne ",40,{"$f":"LEN(resultats_textes_durs[[#This Row],[Texte en dur]])","v":12},null,{"$f":"_xlfn.IFS(Language=\"EN\",I1196,Language=\"FR\",H1196,Language=\"SP\",J1196)","v":0}]
[null,"Module3"," : ",40,{"$f":"LEN(resultats_textes_durs[[#This Row],[Texte en dur]])","v":3},null,{"$f":"_xlfn.IFS(Language=\"EN\",I1197,Language=\"FR\",H1197,Language=\"SP\",J1197)","v":0}]
[null,"Module3","Feuil30",50,{"$f":"LEN(resultats_textes_durs[[#This Row],[Texte en dur]])","v":7},null,{"$f":"_xlfn.IFS(Language=\"EN\",I1198,Language=\"FR\",H1198,Language=\"SP\",J1198)","v":0}]
[null,"Module3","Feuil301",51,{"$f":"LEN(resultats_textes_durs[[#This Row],[Texte en dur]])","v":8},null,{"$f":"_xlfn.IFS(Language=\"EN\",I1199,Language=\"FR\",H1199,Language=\"SP\",J1199)","v":0}]
[null,"Module3","\\Export_VBA\\",65,{"$f":"LEN(resultats_textes_durs[[#This Row],[Texte en dur]])","v":12},null,{"$f":"_xlfn.IFS(Language=\"EN\",I1200,Language=\"FR\",H1200,Language=\"SP\",J1200)","v":0}]
[null,"Module3","",68,{"$f":"LEN(resultats_textes_durs[[#This Row],[Texte en dur]])","v":0},null,{"$f":"_xlfn.IFS(Language=\"EN\",I1201,Language=\"FR\",H1201,Language=\"SP\",J1201)","v":0}]
[null,"Module3","Exportation de : ",75,{"$f":"LEN(resultats_textes_durs[[#This Row],[Texte en dur]])","v":17},null,{"$f":"_xlfn.IFS(Language=\"EN\",I1202,Language=\"FR\",H1202,Language=\"SP\",J1202)","v":0}]
[null,"Module3",".txt",84,{"$f":"LEN(resultats_textes_durs[[#This Row],[Texte en dur]])","v":4},null,{"$f":"_xlfn.IFS(Language=\"EN\",I1203,Language=\"FR\",H1203,Language=\"SP\",J1203)","v":0}]
[null,"Module3","Exportation terminée ! Vérifiez le dossier : ",94,{"$f":"LEN(resultats_textes_durs[[#This Row],[Texte en dur]])","v":45},null,{"$f":"_xlfn.IFS(Language=\"EN\",I1204,Language=\"FR\",H1204,Language=\"SP\",J1204)","v":0}]
[null,"ModuleActionPlan","Onglet_AP_Database_actions",7,{"$f":"LEN(resultats_textes_durs[[#This Row],[Texte en dur]])","v":26},null,{"$f":"_xlfn.IFS(Language=\"EN\",I1205,Language=\"FR\",H1205,Language=\"SP\",J1205)","v":0}]
[null,"ModuleActionPlan","Onglet_AP_Action_plan",8,{"$f":"LEN(resultats_textes_durs[[#This Row],[Texte en dur]])","v":21},null,{"$f":"_xlfn.IFS(Language=\"EN\",I1206,Language=\"FR\",H1206,Language=\"SP\",J1206)","v":0}]
[null,"ModuleActionPlan","Aucune modification détectée entre les données. La macro ne sera pas exécutée.",12,{"$f":"LEN(resultats_textes_durs[[#This Row],[Texte en dur]])","v":78},null,{"$f":"_xlfn.IFS(Language=\"EN\",I1207,Language=\"FR\",H1207,Language=\"SP\",J1207)","v":0}]
[null,"ModuleActionPlan","Des modifications ont été détectées.",16,{"$f":"LEN(resultats_textes_durs[[#This Row],[Texte en dur]])","v":36},null,{"$f":"_xlfn.IFS(Language=\"EN\",I1208,Language=\"FR\",H1208,Language=\"SP\",J1208)","v":0}]
[null,"ModuleActionPlan","B",39,{"$f":"LEN(resultats_textes_durs[[#This Row],[Texte en dur]])","v":1},null,{"$f":"_xlfn.IFS(Language=\"EN\",I1209,Language=\"FR\",H1209,Language=\"SP\",J1209)","v":0}]
[null,"ModuleActionPlan","I",42,{"$f":"LEN(resultats_textes_durs[[#This Row],[Texte en dur]])","v":1},null,{"$f":"_xlfn.IFS(Language=\"EN\",I1210,Language=\"FR\",H1210,Language=\"SP\",J1210)","v":0}]
[null,"ModuleActionPlan","",44,{"$f":"LEN(resultats_textes_durs[[#This Row],[Texte en dur]])","v":0},null,{"$f":"_xlfn.IFS(Language=\"EN\",I1211,Language=\"FR\",H1211,Language=\"SP\",J1211)","v":0}]
[null,"ModuleActionPlan","",107,{"$f":"LEN(resultats_textes_durs[[#This Row],[Texte en dur]])","v":0},null,{"$f":"_xlfn.IFS(Language=\"EN\",I1212,Language=\"FR\",H1212,Language=\"SP\",J1212)","v":0}]
[null,"ModuleActionPlan","19:25",109,{"$f":"LEN(resultats_textes_durs[[#This Row],[Texte en dur]])","v":5},null,{"$f":"_xlfn.IFS(Language=\"EN\",I1213,Language=\"FR\",H1213,Language=\"SP\",J1213)","v":0}]
[null,"ModuleActionPlan","Aucune donnée disponible dans C6. Les lignes 19 à 25 ont été supprimées et la macro est arrêtée.",110,{"$f":"LEN(resultats_textes_durs[[#This Row],[Texte en dur]])","v":96},null,{"$f":"_xlfn.IFS(Language=\"EN\",I1214,Language=\"FR\",H1214,Language=\"SP\",J1214)","v":0}]
[null,"ModuleActionPlan","Scripting.Dictionary",115,{"$f":"LEN(resultats_textes_durs[[#This Row],[Texte en dur]])","v":20},null,{"$f":"_xlfn.IFS(Language=\"EN\",I1215,Language=\"FR\",H1215,Language=\"SP\",J1215)","v":0}]
[null,"ModuleActionPlan","B19:I",121,{"$f":"LEN(resultats_textes_durs[[#This Row],[Texte en dur]])","v":5},null,{"$f":"_xlfn.IFS(Language=\"EN\",I1216,Language=\"FR\",H1216,Language=\"SP\",J1216)","v":0}]
[null,"ModuleActionPlan","F",132,{"$f":"LEN(resultats_textes_durs[[#This Row],[Texte en dur]])","v":1},null,{"$f":"_xlfn.IFS(Language=\"EN\",I1217,Language=\"FR\",H1217,Language=\"SP\",J1217)","v":0}]
[null,"ModuleActionPlan","",132,{"$f":"LEN(resultats_textes_durs[[#This Row],[Texte en dur]])","v":0},null,{"$f":"_xlfn.IFS(Language=\"EN\",I1218,Language=\"FR\",H1218,Language=\"SP\",J1218)","v":0}]
[null,"ModuleActionPlan","",143,{"$f":"LEN(resultats_textes_durs[[#This Row],[Texte en dur]])","v":0},null,{"$f":"_xlfn.IFS(Language=\"EN\",I1219,Language=\"FR\",H1219,Language=\"SP\",J1219)","v":0}]
[null,"ModuleActionPlan","",144,{"$f":"LEN(resultats_textes_durs[[#This Row],[Texte en dur]])","v":0},null,{"$f":"_xlfn.IFS(Language=\"EN\",I1220,Language=\"FR\",H1220,Language=\"SP\",J1220)","v":0}]
[null,"ModuleActionPlan","",154,{"$f":"LEN(resultats_textes_durs[[#This Row],[Texte en dur]])","v":0},null,{"$f":"_xlfn.IFS(Language=\"EN\",I1221,Language=\"FR\",H1221,Language=\"SP\",J1221)","v":0}]
[null,"ModuleActionPlan","",170,{"$f":"LEN(resultats_textes_durs[[#This Row],[Texte en dur]])","v":0},null,{"$f":"_xlfn.IFS(Language=\"EN\",I1222,Language=\"FR\",H1222,Language=\"SP\",J1222)","v":0}]
[null,"ModuleActionPlan","",176,{"$f":"LEN(resultats_textes_durs[[#This Row],[Texte en dur]])","v":0},null,{"$f":"_xlfn.IFS(Language=\"EN\",I1223,Language=\"FR\",H1223,Language=\"SP\",J1223)","v":0}]
[null,"ModuleActionPlan","Arial",181,{"$f":"LEN(resultats_textes_durs[[#This Row],[Texte en dur]])","v":5},null,{"$f":"_xlfn.IFS(Language=\"EN\",I1224,Language=\"FR\",H1224,Language=\"SP\",J1224)","v":0}]
[null,"ModuleActionPlan","Targeted stakeholder",193,{"$f":"LEN(resultats_textes_durs[[#This Row],[Texte en dur]])","v":20},null,{"$f":"_xlfn.IFS(Language=\"EN\",I1225,Language=\"FR\",H1225,Language=\"SP\",J1225)","v":0}]
[null,"ModuleActionPlan","Responsibility",194,{"$f":"LEN(resultats_textes_durs[[#This Row],[Texte en dur]])","v":14},null,{"$f":"_xlfn.IFS(Language=\"EN\",I1226,Language=\"FR\",H1226,Language=\"SP\",J1226)","v":0}]
[null,"ModuleActionPlan","Timeframe",195,{"$f":"LEN(resultats_textes_durs[[#This Row],[Texte en dur]])","v":9},null,{"$f":"_xlfn.IFS(Language=\"EN\",I1227,Language=\"FR\",H1227,Language=\"SP\",J1227)","v":0}]
[null,"ModuleActionPlan","Effort",196,{"$f":"LEN(resultats_textes_durs[[#This Row],[Texte en dur]])","v":6},null,{"$f":"_xlfn.IFS(Language=\"EN\",I1228,Language=\"FR\",H1228,Language=\"SP\",J1228)","v":0}]
[null,"ModuleActionPlan","Status",197,{"$f":"LEN(resultats_textes_durs[[#This Row],[Texte en dur]])","v":6},null,{"$f":"_xlfn.IFS(Language=\"EN\",I1229,Language=\"FR\",H1229,Language=\"SP\",J1229)","v":0}]
[null,"ModuleActionPlan","Arial",199,{"$f":"LEN(resultats_textes_durs[[#This Row],[Texte en dur]])","v":5},null,{"$f":"_xlfn.IFS(Language=\"EN\",I1230,Language=\"FR\",H1230,Language=\"SP\",J1230)","v":0}]
[null,"ModuleActionPlan","Arial",215,{"$f":"LEN(resultats_textes_durs[[#This Row],[Texte en dur]])","v":5},null,{"$f":"_xlfn.IFS(Language=\"EN\",I1231,Language=\"FR\",H1231,Language=\"SP\",J1231)","v":0}]
[null,"ModuleActionPlan","Arial",236,{"$f":"LEN(resultats_textes_durs[[#This Row],[Texte en dur]])","v":5},null,{"$f":"_xlfn.IFS(Language=\"EN\",I1232,Language=\"FR\",H1232,Language=\"SP\",J1232)","v":0}]
[null,"ModuleActionPlan","=targeted_stakeholders",270,{"$f":"LEN(resultats_textes_durs[[#This Row],[Texte en dur]])","v":22},null,{"$f":"_xlfn.IFS(Language=\"EN\",I1233,Language=\"FR\",H1233,Language=\"SP\",J1233)","v":0}]
[null,"ModuleActionPlan","",273,{"$f":"LEN(resultats_textes_durs[[#This Row],[Texte en dur]])","v":0},null,{"$f":"_xlfn.IFS(Language=\"EN\",I1234,Language=\"FR\",H1234,Language=\"SP\",J1234)","v":0}]
[null,"ModuleActionPlan","",274,{"$f":"LEN(resultats_textes_durs[[#This Row],[Texte en dur]])","v":0},null,{"$f":"_xlfn.IFS(Language=\"EN\",I1235,Language=\"FR\",H1235,Language=\"SP\",J1235)","v":0}]
[null,"ModuleActionPlan","",275,{"$f":"LEN(resultats_textes_durs[[#This Row],[Texte en dur]])","v":0},null,{"$f":"_xlfn.IFS(Language=\"EN\",I1236,Language=\"FR\",H1236,Language=\"SP\",J1236)","v":0}]
[null,"ModuleActionPlan","",276,{"$f":"LEN(resultats_textes_durs[[#This Row],[Texte en dur]])","v":0},null,{"$f":"_xlfn.IFS(Language=\"EN\",I1237,Language=\"FR\",H1237,Language=\"SP\",J1237)","v":0}]
[null,"ModuleActionPlan","=action_status",284,{"$f":"LEN(resultats_textes_durs[[#This Row],[Texte en dur]])","v":14},null,{"$f":"_xlfn.IFS(Language=\"EN\",I1238,Language=\"FR\",H1238,Language=\"SP\",J1238)","v":0}]
[null,"ModuleActionPlan","",287,{"$f":"LEN(resultats_textes_durs[[#This Row],[Texte en dur]])","v":0},null,{"$f":"_xlfn.IFS(Language=\"EN\",I1239,Language=\"FR\",H1239,Language=\"SP\",J1239)","v":0}]
[null,"ModuleActionPlan","",288,{"$f":"LEN(resultats_textes_durs[[#This Row],[Texte en dur]])","v":0},null,{"$f":"_xlfn.IFS(Language=\"EN\",I1240,Language=\"FR\",H1240,Language=\"SP\",J1240)","v":0}]
[null,"ModuleActionPlan","",289,{"$f":"LEN(resultats_textes_durs[[#This Row],[Texte en dur]])","v":0},null,{"$f":"_xlfn.IFS(Language=\"EN\",I1241,Language=\"FR\",H1241,Language=\"SP\",J1241)","v":0}]
[null,"ModuleActionPlan","",290,{"$f":"LEN(resultats_textes_durs[[#This Row],[Texte en dur]])","v":0},null,{"$f":"_xlfn.IFS(Language=\"EN\",I1242,Language=\"FR\",H1242,Language=\"SP\",J1242)","v":0}]
[null,"ModuleActionPlan","9:100",299,{"$f":"LEN(resultats_textes_durs[[#This Row],[Texte en dur]])","v":5},null,{"$f":"_xlfn.IFS(Language=\"EN\",I1243,Language=\"FR\",H1243,Language=\"SP\",J1243)","v":0}]
[null,"ModuleActionPlan","I",302,{"$f":"LEN(resultats_textes_durs[[#This Row],[Texte en dur]])","v":1},null,{"$f":"_xlfn.IFS(Language=\"EN\",I1244,Language=\"FR\",H1244,Language=\"SP\",J1244)","v":0}]
[null,"ModuleActionPlan","B",324,{"$f":"LEN(resultats_textes_durs[[#This Row],[Texte en dur]])","v":1},null,{"$f":"_xlfn.IFS(Language=\"EN\",I1245,Language=\"FR\",H1245,Language=\"SP\",J1245)","v":0}]
[null,"ModuleActionPlan","=SI(STXT(C6;1;4)=",327,{"$f":"LEN(resultats_textes_durs[[#This Row],[Texte en dur]])","v":17},null,{"$f":"_xlfn.IFS(Language=\"EN\",I1246,Language=\"FR\",H1246,Language=\"SP\",J1246)","v":0}]
[null,"ModuleActionPlan","IS01",327,{"$f":"LEN(resultats_textes_durs[[#This Row],[Texte en dur]])","v":4},null,{"$f":"_xlfn.IFS(Language=\"EN\",I1247,Language=\"FR\",H1247,Language=\"SP\",J1247)","v":0}]
[null,"ModuleActionPlan",";STXT(C6;1;8);STXT(C6;1;4))",327,{"$f":"LEN(resultats_textes_durs[[#This Row],[Texte en dur]])","v":27},null,{"$f":"_xlfn.IFS(Language=\"EN\",I1248,Language=\"FR\",H1248,Language=\"SP\",J1248)","v":0}]
[null,"ModuleActionPlan","=SIERREUR(RECHERCHEV(D6;Issues;2;FAUX);",328,{"$f":"LEN(resultats_textes_durs[[#This Row],[Texte en dur]])","v":39},null,{"$f":"_xlfn.IFS(Language=\"EN\",I1249,Language=\"FR\",H1249,Language=\"SP\",J1249)","v":0}]
[null,"ModuleActionPlan","",328,{"$f":"LEN(resultats_textes_durs[[#This Row],[Texte en dur]])","v":0},null,{"$f":"_xlfn.IFS(Language=\"EN\",I1250,Language=\"FR\",H1250,Language=\"SP\",J1250)","v":0}]
[null,"ModuleActionPlan",")",328,{"$f":"LEN(resultats_textes_durs[[#This Row],[Texte en dur]])","v":1},null,{"$f":"_xlfn.IFS(Language=\"EN\",I1251,Language=\"FR\",H1251,Language=\"SP\",J1251)","v":0}]
[null,"ModuleActionPlan","=SIERREUR(RECHERCHEV(D6;Correspondance_Issues;2;FAUX);",329,{"$f":"LEN(resultats_textes_durs[[#This Row],[Texte en dur]])","v":54},null,{"$f":"_xlfn.IFS(Language=\"EN\",I1252,Language=\"FR\",H1252,Language=\"SP\",J1252)","v":0}]
[null,"ModuleActionPlan","",329,{"$f":"LEN(resultats_textes_durs[[#This Row],[Texte en dur]])","v":0},null,{"$f":"_xlfn.IFS(Language=\"EN\",I1253,Language=\"FR\",H1253,Language=\"SP\",J1253)","v":0}]
[null,"ModuleActionPlan",")",329,{"$f":"LEN(resultats_textes_durs[[#This Row],[Texte en dur]])","v":1},null,{"$f":"_xlfn.IFS(Language=\"EN\",I1254,Language=\"FR\",H1254,Language=\"SP\",J1254)","v":0}]
[null,"ModuleActionPlan","=SI(C6<>",330,{"$f":"LEN(resultats_textes_durs[[#This Row],[Texte en dur]])","v":8},null,{"$f":"_xlfn.IFS(Language=\"EN\",I1255,Language=\"FR\",H1255,Language=\"SP\",J1255)","v":0}]
[null,"ModuleActionPlan","",330,{"$f":"LEN(resultats_textes_durs[[#This Row],[Texte en dur]])","v":0},null,{"$f":"_xlfn.IFS(Language=\"EN\",I1256,Language=\"FR\",H1256,Language=\"SP\",J1256)","v":0}]
[null,"ModuleActionPlan",";SI(ESTERREUR(CHERCHE(",330,{"$f":"LEN(resultats_textes_durs[[#This Row],[Texte en dur]])","v":22},null,{"$f":"_xlfn.IFS(Language=\"EN\",I1257,Language=\"FR\",H1257,Language=\"SP\",J1257)","v":0}]
[null,"ModuleActionPlan","INT",330,{"$f":"LEN(resultats_textes_durs[[#This Row],[Texte en dur]])","v":3},null,{"$f":"_xlfn.IFS(Language=\"EN\",I1258,Language=\"FR\",H1258,Language=\"SP\",J1258)","v":0}]
[null,"ModuleActionPlan",";C6));",330,{"$f":"LEN(resultats_textes_durs[[#This Row],[Texte en dur]])","v":6},null,{"$f":"_xlfn.IFS(Language=\"EN\",I1259,Language=\"FR\",H1259,Language=\"SP\",J1259)","v":0}]
[null,"ModuleActionPlan","EXT",330,{"$f":"LEN(resultats_textes_durs[[#This Row],[Texte en dur]])","v":3},null,{"$f":"_xlfn.IFS(Language=\"EN\",I1260,Language=\"FR\",H1260,Language=\"SP\",J1260)","v":0}]
[null,"ModuleActionPlan",";",330,{"$f":"LEN(resultats_textes_durs[[#This Row],[Texte en dur]])","v":1},null,{"$f":"_xlfn.IFS(Language=\"EN\",I1261,Language=\"FR\",H1261,Language=\"SP\",J1261)","v":0}]
[null,"ModuleActionPlan","INT",330,{"$f":"LEN(resultats_textes_durs[[#This Row],[Texte en dur]])","v":3},null,{"$f":"_xlfn.IFS(Language=\"EN\",I1262,Language=\"FR\",H1262,Language=\"SP\",J1262)","v":0}]
[null,"ModuleActionPlan",");",330,{"$f":"LEN(resultats_textes_durs[[#This Row],[Texte en dur]])","v":2},null,{"$f":"_xlfn.IFS(Language=\"EN\",I1263,Language=\"FR\",H1263,Language=\"SP\",J1263)","v":0}]
[null,"ModuleActionPlan","",330,{"$f":"LEN(resultats_textes_durs[[#This Row],[Texte en dur]])","v":0},null,{"$f":"_xlfn.IFS(Language=\"EN\",I1264,Language=\"FR\",H1264,Language=\"SP\",J1264)","v":0}]
[null,"ModuleActionPlan",")",330,{"$f":"LEN(resultats_textes_durs[[#This Row],[Texte en dur]])","v":1},null,{"$f":"_xlfn.IFS(Language=\"EN\",I1265,Language=\"FR\",H1265,Language=\"SP\",J1265)","v":0}]
[null,"ModuleActionPlan","=SI(D6=",331,{"$f":"LEN(resultats_textes_durs[[#This Row],[Texte en dur]])","v":7},null,{"$f":"_xlfn.IFS(Language=\"EN\",I1266,Language=\"FR\",H1266,Language=\"SP\",J1266)","v":0}]
[null,"ModuleActionPlan","",331,{"$f":"LEN(resultats_textes_durs[[#This Row],[Texte en dur]])","v":0},null,{"$f":"_xlfn.IFS(Language=\"EN\",I1267,Language=\"FR\",H1267,Language=\"SP\",J1267)","v":0}]
[null,"ModuleActionPlan",";99;",331,{"$f":"LEN(resultats_textes_durs[[#This Row],[Texte en dur]])","v":4},null,{"$f":"_xlfn.IFS(Language=\"EN\",I1268,Language=\"FR\",H1268,Language=\"SP\",J1268)","v":0}]
[null,"ModuleActionPlan","",331,{"$f":"LEN(resultats_textes_durs[[#This Row],[Texte en dur]])","v":0},null,{"$f":"_xlfn.IFS(Language=\"EN\",I1269,Language=\"FR\",H1269,Language=\"SP\",J1269)","v":0}]
[null,"ModuleActionPlan",")",331,{"$f":"LEN(resultats_textes_durs[[#This Row],[Texte en dur]])","v":1},null,{"$f":"_xlfn.IFS(Language=\"EN\",I1270,Language=\"FR\",H1270,Language=\"SP\",J1270)","v":0}]
[null,"ModuleActionPlan","D7:D",334,{"$f":"LEN(resultats_textes_durs[[#This Row],[Texte en dur]])","v":4},null,{"$f":"_xlfn.IFS(Language=\"EN\",I1271,Language=\"FR\",H1271,Language=\"SP\",J1271)","v":0}]
[null,"ModuleActionPlan","E7:E",335,{"$f":"LEN(resultats_textes_durs[[#This Row],[Texte en dur]])","v":4},null,{"$f":"_xlfn.IFS(Language=\"EN\",I1272,Language=\"FR\",H1272,Language=\"SP\",J1272)","v":0}]
[null,"ModuleActionPlan","F7:F",336,{"$f":"LEN(resultats_textes_durs[[#This Row],[Texte en dur]])","v":4},null,{"$f":"_xlfn.IFS(Language=\"EN\",I1273,Language=\"FR\",H1273,Language=\"SP\",J1273)","v":0}]
[null,"ModuleActionPlan","G7:G",337,{"$f":"LEN(resultats_textes_durs[[#This Row],[Texte en dur]])","v":4},null,{"$f":"_xlfn.IFS(Language=\"EN\",I1274,Language=\"FR\",H1274,Language=\"SP\",J1274)","v":0}]
[null,"ModuleActionPlan","L7:L",338,{"$f":"LEN(resultats_textes_durs[[#This Row],[Texte en dur]])","v":4},null,{"$f":"_xlfn.IFS(Language=\"EN\",I1275,Language=\"FR\",H1275,Language=\"SP\",J1275)","v":0}]
[null,"ModuleActionPlan","Onglet_AP_Action_plan",358,{"$f":"LEN(resultats_textes_durs[[#This Row],[Texte en dur]])","v":21},null,{"$f":"_xlfn.IFS(Language=\"EN\",I1276,Language=\"FR\",H1276,Language=\"SP\",J1276)","v":0}]
[null,"ModuleActionPlan","Onglet_AP_Database_actions",359,{"$f":"LEN(resultats_textes_durs[[#This Row],[Texte en dur]])","v":26},null,{"$f":"_xlfn.IFS(Language=\"EN\",I1277,Language=\"FR\",H1277,Language=\"SP\",J1277)","v":0}]
[null,"ModuleActionPlan","I",362,{"$f":"LEN(resultats_textes_durs[[#This Row],[Texte en dur]])","v":1},null,{"$f":"_xlfn.IFS(Language=\"EN\",I1278,Language=\"FR\",H1278,Language=\"SP\",J1278)","v":0}]
[null,"ModuleActionPlan","L'onglet 'Onglet_AP_Action_plan' est vide. Aucune mise à jour ne sera effectuée.",364,{"$f":"LEN(resultats_textes_durs[[#This Row],[Texte en dur]])","v":80},null,{"$f":"_xlfn.IFS(Language=\"EN\",I1279,Language=\"FR\",H1279,Language=\"SP\",J1279)","v":0}]
[null,"ModuleActionPlan","I",369,{"$f":"LEN(resultats_textes_durs[[#This Row],[Texte en dur]])","v":1},null,{"$f":"_xlfn.IFS(Language=\"EN\",I1280,Language=\"FR\",H1280,Language=\"SP\",J1280)","v":0}]
[null,"ModuleActionPlan","C",372,{"$f":"LEN(resultats_textes_durs[[#This Row],[Texte en dur]])","v":1},null,{"$f":"_xlfn.IFS(Language=\"EN\",I1281,Language=\"FR\",H1281,Language=\"SP\",J1281)","v":0}]
[null,"ModuleActionPlan","",376,{"$f":"LEN(resultats_textes_durs[[#This Row],[Texte en dur]])","v":0},null,{"$f":"_xlfn.IFS(Language=\"EN\",I1282,Language=\"FR\",H1282,Language=\"SP\",J1282)","v":0}]
[null,"ModuleActionPlan","",380,{"$f":"LEN(resultats_textes_durs[[#This Row],[Texte en dur]])","v":0},null,{"$f":"_xlfn.IFS(Language=\"EN\",I1283,Language=\"FR\",H1283,Language=\"SP\",J1283)","v":0}]
[null,"ModuleActionPlan","Onglet_AP_Database_Actions",416,{"$f":"LEN(resultats_textes_durs[[#This Row],[Texte en dur]])","v":26},null,{"$f":"_xlfn.IFS(Language=\"EN\",I1284,Language=\"FR\",H1284,Language=\"SP\",J1284)","v":0}]
[null,"ModuleActionPlan","F",419,{"$f":"LEN(resultats_textes_durs[[#This Row],[Texte en dur]])","v":1},null,{"$f":"_xlfn.IFS(Language=\"EN\",I1285,Language=\"FR\",H1285,Language=\"SP\",J1285)","v":0}]
[null,"ModuleActionPlan","B6",422,{"$f":"LEN(resultats_textes_durs[[#This Row],[Texte en dur]])","v":2},null,{"$f":"_xlfn.IFS(Language=\"EN\",I1286,Language=\"FR\",H1286,Language=\"SP\",J1286)","v":0}]
[null,"ModuleActionPlan","L6",426,{"$f":"LEN(resultats_textes_durs[[#This Row],[Texte en dur]])","v":2},null,{"$f":"_xlfn.IFS(Language=\"EN\",I1287,Language=\"FR\",H1287,Language=\"SP\",J1287)","v":0}]
[null,"ModuleActionPlan","F6",427,{"$f":"LEN(resultats_textes_durs[[#This Row],[Texte en dur]])","v":2},null,{"$f":"_xlfn.IFS(Language=\"EN\",I1288,Language=\"FR\",H1288,Language=\"SP\",J1288)","v":0}]
[null,"ModuleActionPlan","C6",428,{"$f":"LEN(resultats_textes_durs[[#This Row],[Texte en dur]])","v":2},null,{"$f":"_xlfn.IFS(Language=\"EN\",I1289,Language=\"FR\",H1289,Language=\"SP\",J1289)","v":0}]
[null,"ModuleActionPlan","Onglet_AP_Action_plan",444,{"$f":"LEN(resultats_textes_durs[[#This Row],[Texte en dur]])","v":21},null,{"$f":"_xlfn.IFS(Language=\"EN\",I1290,Language=\"FR\",H1290,Language=\"SP\",J1290)","v":0}]
[null,"ModuleActionPlan","D",445,{"$f":"LEN(resultats_textes_durs[[#This Row],[Texte en dur]])","v":1},null,{"$f":"_xlfn.IFS(Language=\"EN\",I1291,Language=\"FR\",H1291,Language=\"SP\",J1291)","v":0}]
[null,"ModuleActionPlan","Aut_long",448,{"$f":"LEN(resultats_textes_durs[[#This Row],[Texte en dur]])","v":8},null,{"$f":"_xlfn.IFS(Language=\"EN\",I1292,Language=\"FR\",H1292,Language=\"SP\",J1292)","v":0}]
[null,"ModuleActionPlan","bus_long",449,{"$f":"LEN(resultats_textes_durs[[#This Row],[Texte en dur]])","v":8},null,{"$f":"_xlfn.IFS(Language=\"EN\",I1293,Language=\"FR\",H1293,Language=\"SP\",J1293)","v":0}]
[null,"ModuleActionPlan","Civ_long",450,{"$f":"LEN(resultats_textes_durs[[#This Row],[Texte en dur]])","v":8},null,{"$f":"_xlfn.IFS(Language=\"EN\",I1294,Language=\"FR\",H1294,Language=\"SP\",J1294)","v":0}]
[null,"ModuleActionPlan","Com_long",451,{"$f":"LEN(resultats_textes_durs[[#This Row],[Texte en dur]])","v":8},null,{"$f":"_xlfn.IFS(Language=\"EN\",I1295,Language=\"FR\",H1295,Language=\"SP\",J1295)","v":0}]
[null,"ModuleActionPlan","D1:D",454,{"$f":"LEN(resultats_textes_durs[[#This Row],[Texte en dur]])","v":4},null,{"$f":"_xlfn.IFS(Language=\"EN\",I1296,Language=\"FR\",H1296,Language=\"SP\",J1296)","v":0}]
[null,"ModuleActionPlan","",456,{"$f":"LEN(resultats_textes_durs[[#This Row],[Texte en dur]])","v":0},null,{"$f":"_xlfn.IFS(Language=\"EN\",I1297,Language=\"FR\",H1297,Language=\"SP\",J1297)","v":0}]
[null,"ModuleActionPlan","Mise en forme terminée.",475,{"$f":"LEN(resultats_textes_durs[[#This Row],[Texte en dur]])","v":23},null,{"$f":"_xlfn.IFS(Language=\"EN\",I1298,Language=\"FR\",H1298,Language=\"SP\",J1298)","v":0}]
[null,"ModuleAI","Onglet_AP_Fiche_SPL",26,{"$f":"LEN(resultats_textes_durs[[#This Row],[Texte en dur]])","v":19},null,{"$f":"_xlfn.IFS(Language=\"EN\",I1299,Language=\"FR\",H1299,Language=\"SP\",J1299)","v":0}]
[null,"ModuleAI","Onglet_Consult_Database",27,{"$f":"LEN(resultats_textes_durs[[#This Row],[Texte en dur]])","v":23},null,{"$f":"_xlfn.IFS(Language=\"EN\",I1300,Language=\"FR\",H1300,Language=\"SP\",J1300)","v":0}]
[null,"ModuleAI","Language",29,{"$f":"LEN(resultats_textes_durs[[#This Row],[Texte en dur]])","v":8},null,{"$f":"_xlfn.IFS(Language=\"EN\",I1301,Language=\"FR\",H1301,Language=\"SP\",J1301)","v":0}]
[null,"ModuleAI","Language",30,{"$f":"LEN(resultats_textes_durs[[#This Row],[Texte en dur]])","v":8},null,{"$f":"_xlfn.IFS(Language=\"EN\",I1302,Language=\"FR\",H1302,Language=\"SP\",J1302)","v":0}]
[null,"ModuleAI","Onglet_AP_Fiche_SPL",32,{"$f":"LEN(resultats_textes_durs[[#This Row],[Texte en dur]])","v":19},null,{"$f":"_xlfn.IFS(Language=\"EN\",I1303,Language=\"FR\",H1303,Language=\"SP\",J1303)","v":0}]
[null,"ModuleAI","L8",33,{"$f":"LEN(resultats_textes_durs[[#This Row],[Texte en dur]])","v":2},null,{"$f":"_xlfn.IFS(Language=\"EN\",I1304,Language=\"FR\",H1304,Language=\"SP\",J1304)","v":0}]
[null,"ModuleAI","sk-proj-74MfVj6335Ki5aSP5ukET3BlbkFJ4CrzskyJm22XmHxAIIZm",36,{"$f":"LEN(resultats_textes_durs[[#This Row],[Texte en dur]])","v":56},null,{"$f":"_xlfn.IFS(Language=\"EN\",I1305,Language=\"FR\",H1305,Language=\"SP\",J1305)","v":0}]
[null,"ModuleAI","https://api.openai.com/v1/chat/completions",37,{"$f":"LEN(resultats_textes_durs[[#This Row],[Texte en dur]])","v":42},null,{"$f":"_xlfn.IFS(Language=\"EN\",I1306,Language=\"FR\",H1306,Language=\"SP\",J1306)","v":0}]
[null,"ModuleAI","Onglet_Consult_Database",39,{"$f":"LEN(resultats_textes_durs[[#This Row],[Texte en dur]])","v":23},null,{"$f":"_xlfn.IFS(Language=\"EN\",I1307,Language=\"FR\",H1307,Language=\"SP\",J1307)","v":0}]
[null,"ModuleAI","",42,{"$f":"LEN(resultats_textes_durs[[#This Row],[Texte en dur]])","v":0},null,{"$f":"_xlfn.IFS(Language=\"EN\",I1308,Language=\"FR\",H1308,Language=\"SP\",J1308)","v":0}]
[null,"ModuleAI","CodeIND: ",47,{"$f":"LEN(resultats_textes_durs[[#This Row],[Texte en dur]])","v":9},null,{"$f":"_xlfn.IFS(Language=\"EN\",I1309,Language=\"FR\",H1309,Language=\"SP\",J1309)","v":0}]
[null,"ModuleAI",", ",47,{"$f":"LEN(resultats_textes_durs[[#This Row],[Texte en dur]])","v":2},null,{"$f":"_xlfn.IFS(Language=\"EN\",I1310,Language=\"FR\",H1310,Language=\"SP\",J1310)","v":0}]
[null,"ModuleAI","Commentaires: ",48,{"$f":"LEN(resultats_textes_durs[[#This Row],[Texte en dur]])","v":14},null,{"$f":"_xlfn.IFS(Language=\"EN\",I1311,Language=\"FR\",H1311,Language=\"SP\",J1311)","v":0}]
[null,"ModuleAI",", ",48,{"$f":"LEN(resultats_textes_durs[[#This Row],[Texte en dur]])","v":2},null,{"$f":"_xlfn.IFS(Language=\"EN\",I1312,Language=\"FR\",H1312,Language=\"SP\",J1312)","v":0}]
[null,"ModuleAI","Score: ",49,{"$f":"LEN(resultats_textes_durs[[#This Row],[Texte en dur]])","v":7},null,{"$f":"_xlfn.IFS(Language=\"EN\",I1313,Language=\"FR\",H1313,Language=\"SP\",J1313)","v":0}]
[null,"ModuleAI",", ",49,{"$f":"LEN(resultats_textes_durs[[#This Row],[Texte en dur]])","v":2},null,{"$f":"_xlfn.IFS(Language=\"EN\",I1314,Language=\"FR\",H1314,Language=\"SP\",J1314)","v":0}]
[null,"ModuleAI","Stakeholder: ",50,{"$f":"LEN(resultats_textes_durs[[#This Row],[Texte en dur]])","v":13},null,{"$f":"_xlfn.IFS(Language=\"EN\",I1315,Language=\"FR\",H1315,Language=\"SP\",J1315)","v":0}]
[null,"ModuleAI",", ",50,{"$f":"LEN(resultats_textes_durs[[#This Row],[Texte en dur]])","v":2},null,{"$f":"_xlfn.IFS(Language=\"EN\",I1316,Language=\"FR\",H1316,Language=\"SP\",J1316)","v":0}]
[null,"ModuleAI","Categorie: ",51,{"$f":"LEN(resultats_textes_durs[[#This Row],[Texte en dur]])","v":11},null,{"$f":"_xlfn.IFS(Language=\"EN\",I1317,Language=\"FR\",H1317,Language=\"SP\",J1317)","v":0}]
[null,"ModuleAI","FR",65,{"$f":"LEN(resultats_textes_durs[[#This Row],[Texte en dur]])","v":2},null,{"$f":"_xlfn.IFS(Language=\"EN\",I1318,Language=\"FR\",H1318,Language=\"SP\",J1318)","v":0}]
[null,"ModuleAI","Onglet_AP_translation",67,{"$f":"LEN(resultats_textes_durs[[#This Row],[Texte en dur]])","v":21},null,{"$f":"_xlfn.IFS(Language=\"EN\",I1319,Language=\"FR\",H1319,Language=\"SP\",J1319)","v":0}]
[null,"ModuleAI","E26",67,{"$f":"LEN(resultats_textes_durs[[#This Row],[Texte en dur]])","v":3},null,{"$f":"_xlfn.IFS(Language=\"EN\",I1320,Language=\"FR\",H1320,Language=\"SP\",J1320)","v":0}]
[null,"ModuleAI","EN",68,{"$f":"LEN(resultats_textes_durs[[#This Row],[Texte en dur]])","v":2},null,{"$f":"_xlfn.IFS(Language=\"EN\",I1321,Language=\"FR\",H1321,Language=\"SP\",J1321)","v":0}]
[null,"ModuleAI","Onglet_AP_translation",70,{"$f":"LEN(resultats_textes_durs[[#This Row],[Texte en dur]])","v":21},null,{"$f":"_xlfn.IFS(Language=\"EN\",I1322,Language=\"FR\",H1322,Language=\"SP\",J1322)","v":0}]
[null,"ModuleAI","D26",70,{"$f":"LEN(resultats_textes_durs[[#This Row],[Texte en dur]])","v":3},null,{"$f":"_xlfn.IFS(Language=\"EN\",I1323,Language=\"FR\",H1323,Language=\"SP\",J1323)","v":0}]
[null,"ModuleAI","SP",71,{"$f":"LEN(resultats_textes_durs[[#This Row],[Texte en dur]])","v":2},null,{"$f":"_xlfn.IFS(Language=\"EN\",I1324,Language=\"FR\",H1324,Language=\"SP\",J1324)","v":0}]
[null,"ModuleAI","Onglet_AP_translation",73,{"$f":"LEN(resultats_textes_durs[[#This Row],[Texte en dur]])","v":21},null,{"$f":"_xlfn.IFS(Language=\"EN\",I1325,Language=\"FR\",H1325,Language=\"SP\",J1325)","v":0}]
[null,"ModuleAI","F26",73,{"$f":"LEN(resultats_textes_durs[[#This Row],[Texte en dur]])","v":3},null,{"$f":"_xlfn.IFS(Language=\"EN\",I1326,Language=\"FR\",H1326,Language=\"SP\",J1326)","v":0}]
[null,"ModuleAI","Language not supported.",75,{"$f":"LEN(resultats_textes_durs[[#This Row],[Texte en dur]])","v":23},null,{"$f":"_xlfn.IFS(Language=\"EN\",I1327,Language=\"FR\",H1327,Language=\"SP\",J1327)","v":0}]
[null,"ModuleAI","{",81,{"$f":"LEN(resultats_textes_durs[[#This Row],[Texte en dur]])","v":1},null,{"$f":"_xlfn.IFS(Language=\"EN\",I1328,Language=\"FR\",H1328,Language=\"SP\",J1328)","v":0}]
[null,"ModuleAI","model",81,{"$f":"LEN(resultats_textes_durs[[#This Row],[Texte en dur]])","v":5},null,{"$f":"_xlfn.IFS(Language=\"EN\",I1329,Language=\"FR\",H1329,Language=\"SP\",J1329)","v":0}]
[null,"ModuleAI",": ",81,{"$f":"LEN(resultats_textes_durs[[#This Row],[Texte en dur]])","v":2},null,{"$f":"_xlfn.IFS(Language=\"EN\",I1330,Language=\"FR\",H1330,Language=\"SP\",J1330)","v":0}]
[null,"ModuleAI","gpt-3.5-turbo",81,{"$f":"LEN(resultats_textes_durs[[#This Row],[Texte en dur]])","v":13},null,{"$f":"_xlfn.IFS(Language=\"EN\",I1331,Language=\"FR\",H1331,Language=\"SP\",J1331)","v":0}]
[null,"ModuleAI",", ",81,{"$f":"LEN(resultats_textes_durs[[#This Row],[Texte en dur]])","v":2},null,{"$f":"_xlfn.IFS(Language=\"EN\",I1332,Language=\"FR\",H1332,Language=\"SP\",J1332)","v":0}]
[null,"ModuleAI","messages",81,{"$f":"LEN(resultats_textes_durs[[#This Row],[Texte en dur]])","v":8},null,{"$f":"_xlfn.IFS(Language=\"EN\",I1333,Language=\"FR\",H1333,Language=\"SP\",J1333)","v":0}]
[null,"ModuleAI",": [{",81,{"$f":"LEN(resultats_textes_durs[[#This Row],[Texte en dur]])","v":4},null,{"$f":"_xlfn.IFS(Language=\"EN\",I1334,Language=\"FR\",H1334,Language=\"SP\",J1334)","v":0}]
[null,"ModuleAI","role",81,{"$f":"LEN(resultats_textes_durs[[#This Row],[Texte en dur]])","v":4},null,{"$f":"_xlfn.IFS(Language=\"EN\",I1335,Language=\"FR\",H1335,Language=\"SP\",J1335)","v":0}]
[null,"ModuleAI",": ",81,{"$f":"LEN(resultats_textes_durs[[#This Row],[Texte en dur]])","v":2},null,{"$f":"_xlfn.IFS(Language=\"EN\",I1336,Language=\"FR\",H1336,Language=\"SP\",J1336)","v":0}]
[null,"ModuleAI","user",81,{"$f":"LEN(resultats_textes_durs[[#This Row],[Texte en dur]])","v":4},null,{"$f":"_xlfn.IFS(Language=\"EN\",I1337,Language=\"FR\",H1337,Language=\"SP\",J1337)","v":0}]
[null,"ModuleAI",", ",81,{"$f":"LEN(resultats_textes_durs[[#This Row],[Texte en dur]])","v":2},null,{"$f":"_xlfn.IFS(Language=\"EN\",I1338,Language=\"FR\",H1338,Language=\"SP\",J1338)","v":0}]
[null,"ModuleAI","content",81,{"$f":"LEN(resultats_textes_durs[[#This Row],[Texte en dur]])","v":7},null,{"$f":"_xlfn.IFS(Language=\"EN\",I1339,Language=\"FR\",H1339,Language=\"SP\",J1339)","v":0}]
[null,"ModuleAI",": ",81,{"$f":"LEN(resultats_textes_durs[[#This Row],[Texte en dur]])","v":2},null,{"$f":"_xlfn.IFS(Language=\"EN\",I1340,Language=\"FR\",H1340,Language=\"SP\",J1340)","v":0}]
[null,"ModuleAI","",81,{"$f":"LEN(resultats_textes_durs[[#This Row],[Texte en dur]])","v":0},null,{"$f":"_xlfn.IFS(Language=\"EN\",I1341,Language=\"FR\",H1341,Language=\"SP\",J1341)","v":0}]
[null,"ModuleAI","",81,{"$f":"LEN(resultats_textes_durs[[#This Row],[Texte en dur]])","v":0},null,{"$f":"_xlfn.IFS(Language=\"EN\",I1342,Language=\"FR\",H1342,Language=\"SP\",J1342)","v":0}]
[null,"ModuleAI","}], ",81,{"$f":"LEN(resultats_textes_durs[[#This Row],[Texte en dur]])","v":4},null,{"$f":"_xlfn.IFS(Language=\"EN\",I1343,Language=\"FR\",H1343,Language=\"SP\",J1343)","v":0}]
[null,"ModuleAI","max_tokens",81,{"$f":"LEN(resultats_textes_durs[[#This Row],[Texte en dur]])","v":10},null,{"$f":"_xlfn.IFS(Language=\"EN\",I1344,Language=\"FR\",H1344,Language=\"SP\",J1344)","v":0}]
[null,"ModuleAI",": 1500}",81,{"$f":"LEN(resultats_textes_durs[[#This Row],[Texte en dur]])","v":7},null,{"$f":"_xlfn.IFS(Language=\"EN\",I1345,Language=\"FR\",H1345,Language=\"SP\",J1345)","v":0}]
[null,"ModuleAI","MSXML2.XMLHTTP",84,{"$f":"LEN(resultats_textes_durs[[#This Row],[Texte en dur]])","v":14},null,{"$f":"_xlfn.IFS(Language=\"EN\",I1346,Language=\"FR\",H1346,Language=\"SP\",J1346)","v":0}]
[null,"ModuleAI","POST",86,{"$f":"LEN(resultats_textes_durs[[#This Row],[Texte en dur]])","v":4},null,{"$f":"_xlfn.IFS(Language=\"EN\",I1347,Language=\"FR\",H1347,Language=\"SP\",J1347)","v":0}]
[null,"ModuleAI","Content-Type",87,{"$f":"LEN(resultats_textes_durs[[#This Row],[Texte en dur]])","v":12},null,{"$f":"_xlfn.IFS(Language=\"EN\",I1348,Language=\"FR\",H1348,Language=\"SP\",J1348)","v":0}]
[null,"ModuleAI","application/json",87,{"$f":"LEN(resultats_textes_durs[[#This Row],[Texte en dur]])","v":16},null,{"$f":"_xlfn.IFS(Language=\"EN\",I1349,Language=\"FR\",H1349,Language=\"SP\",J1349)","v":0}]
[null,"ModuleAI","Authorization",88,{"$f":"LEN(resultats_textes_durs[[#This Row],[Texte en dur]])","v":13},null,{"$f":"_xlfn.IFS(Language=\"EN\",I1350,Language=\"FR\",H1350,Language=\"SP\",J1350)","v":0}]
[null,"ModuleAI","Bearer ",88,{"$f":"LEN(resultats_textes_durs[[#This Row],[Texte en dur]])","v":7},null,{"$f":"_xlfn.IFS(Language=\"EN\",I1351,Language=\"FR\",H1351,Language=\"SP\",J1351)","v":0}]
[null,"ModuleAI","Réponse brute : ",94,{"$f":"LEN(resultats_textes_durs[[#This Row],[Texte en dur]])","v":16},null,{"$f":"_xlfn.IFS(Language=\"EN\",I1352,Language=\"FR\",H1352,Language=\"SP\",J1352)","v":0}]
[null,"ModuleAI","choices",98,{"$f":"LEN(resultats_textes_durs[[#This Row],[Texte en dur]])","v":7},null,{"$f":"_xlfn.IFS(Language=\"EN\",I1353,Language=\"FR\",H1353,Language=\"SP\",J1353)","v":0}]
[null,"ModuleAI","message",98,{"$f":"LEN(resultats_textes_durs[[#This Row],[Texte en dur]])","v":7},null,{"$f":"_xlfn.IFS(Language=\"EN\",I1354,Language=\"FR\",H1354,Language=\"SP\",J1354)","v":0}]
[null,"ModuleAI","content",98,{"$f":"LEN(resultats_textes_durs[[#This Row],[Texte en dur]])","v":7},null,{"$f":"_xlfn.IFS(Language=\"EN\",I1355,Language=\"FR\",H1355,Language=\"SP\",J1355)","v":0}]
[null,"ModuleAI","SRM",101,{"$f":"LEN(resultats_textes_durs[[#This Row],[Texte en dur]])","v":3},null,{"$f":"_xlfn.IFS(Language=\"EN\",I1356,Language=\"FR\",H1356,Language=\"SP\",J1356)","v":0}]
[null,"ModuleAI","F55",102,{"$f":"LEN(resultats_textes_durs[[#This Row],[Texte en dur]])","v":3},null,{"$f":"_xlfn.IFS(Language=\"EN\",I1357,Language=\"FR\",H1357,Language=\"SP\",J1357)","v":0}]
[null,"ModuleAI","SRM",103,{"$f":"LEN(resultats_textes_durs[[#This Row],[Texte en dur]])","v":3},null,{"$f":"_xlfn.IFS(Language=\"EN\",I1358,Language=\"FR\",H1358,Language=\"SP\",J1358)","v":0}]
[null,"ModuleAI","Erreur API : ",105,{"$f":"LEN(resultats_textes_durs[[#This Row],[Texte en dur]])","v":13},null,{"$f":"_xlfn.IFS(Language=\"EN\",I1359,Language=\"FR\",H1359,Language=\"SP\",J1359)","v":0}]
[null,"ModuleAI"," - ",105,{"$f":"LEN(resultats_textes_durs[[#This Row],[Texte en dur]])","v":3},null,{"$f":"_xlfn.IFS(Language=\"EN\",I1360,Language=\"FR\",H1360,Language=\"SP\",J1360)","v":0}]
[null,"ModuleAI","Une erreur est survenue : ",113,{"$f":"LEN(resultats_textes_durs[[#This Row],[Texte en dur]])","v":26},null,{"$f":"_xlfn.IFS(Language=\"EN\",I1361,Language=\"FR\",H1361,Language=\"SP\",J1361)","v":0}]
[null,"ModuleAI","\\",117,{"$f":"LEN(resultats_textes_durs[[#This Row],[Texte en dur]])","v":1},null,{"$f":"_xlfn.IFS(Language=\"EN\",I1362,Language=\"FR\",H1362,Language=\"SP\",J1362)","v":0}]
[null,"ModuleAI","\\\\",117,{"$f":"LEN(resultats_textes_durs[[#This Row],[Texte en dur]])","v":2},null,{"$f":"_xlfn.IFS(Language=\"EN\",I1363,Language=\"FR\",H1363,Language=\"SP\",J1363)","v":0}]
[null,"ModuleAI","",118,{"$f":"LEN(resultats_textes_durs[[#This Row],[Texte en dur]])","v":0},null,{"$f":"_xlfn.IFS(Language=\"EN\",I1364,Language=\"FR\",H1364,Language=\"SP\",J1364)","v":0}]
[null,"ModuleAI","",118,{"$f":"LEN(resultats_textes_durs[[#This Row],[Texte en dur]])","v":0},null,{"$f":"_xlfn.IFS(Language=\"EN\",I1365,Language=\"FR\",H1365,Language=\"SP\",J1365)","v":0}]
[null,"ModuleAI","\\",118,{"$f":"LEN(resultats_textes_durs[[#This Row],[Texte en dur]])","v":1},null,{"$f":"_xlfn.IFS(Language=\"EN\",I1366,Language=\"FR\",H1366,Language=\"SP\",J1366)","v":0}]
[null,"ModuleAI","",118,{"$f":"LEN(resultats_textes_durs[[#This Row],[Texte en dur]])","v":0},null,{"$f":"_xlfn.IFS(Language=\"EN\",I1367,Language=\"FR\",H1367,Language=\"SP\",J1367)","v":0}]
[null,"ModuleAI","\\n",119,{"$f":"LEN(resultats_textes_durs[[#This Row],[Texte en dur]])","v":2},null,{"$f":"_xlfn.IFS(Language=\"EN\",I1368,Language=\"FR\",H1368,Language=\"SP\",J1368)","v":0}]
[null,"ModuleAI","\\n",120,{"$f":"LEN(resultats_textes_durs[[#This Row],[Texte en dur]])","v":2},null,{"$f":"_xlfn.IFS(Language=\"EN\",I1369,Language=\"FR\",H1369,Language=\"SP\",J1369)","v":0}]
[null,"ModuleAI","\\n",121,{"$f":"LEN(resultats_textes_durs[[#This Row],[Texte en dur]])","v":2},null,{"$f":"_xlfn.IFS(Language=\"EN\",I1370,Language=\"FR\",H1370,Language=\"SP\",J1370)","v":0}]
[null,"ModuleFicheAP","Onglet_AP_Database_actions",17,{"$f":"LEN(resultats_textes_durs[[#This Row],[Texte en dur]])","v":26},null,{"$f":"_xlfn.IFS(Language=\"EN\",I1371,Language=\"FR\",H1371,Language=\"SP\",J1371)","v":0}]
[null,"ModuleFicheAP","Onglet_AP_Fiche_SPL",18,{"$f":"LEN(resultats_textes_durs[[#This Row],[Texte en dur]])","v":19},null,{"$f":"_xlfn.IFS(Language=\"EN\",I1372,Language=\"FR\",H1372,Language=\"SP\",J1372)","v":0}]
[null,"ModuleFicheAP","K",21,{"$f":"LEN(resultats_textes_durs[[#This Row],[Texte en dur]])","v":1},null,{"$f":"_xlfn.IFS(Language=\"EN\",I1373,Language=\"FR\",H1373,Language=\"SP\",J1373)","v":0}]
[null,"ModuleFicheAP","C",22,{"$f":"LEN(resultats_textes_durs[[#This Row],[Texte en dur]])","v":1},null,{"$f":"_xlfn.IFS(Language=\"EN\",I1374,Language=\"FR\",H1374,Language=\"SP\",J1374)","v":0}]
[null,"ModuleFicheAP","A1:Z",25,{"$f":"LEN(resultats_textes_durs[[#This Row],[Texte en dur]])","v":4},null,{"$f":"_xlfn.IFS(Language=\"EN\",I1375,Language=\"FR\",H1375,Language=\"SP\",J1375)","v":0}]
[null,"ModuleFicheAP","A1:Z",26,{"$f":"LEN(resultats_textes_durs[[#This Row],[Texte en dur]])","v":4},null,{"$f":"_xlfn.IFS(Language=\"EN\",I1376,Language=\"FR\",H1376,Language=\"SP\",J1376)","v":0}]
[null,"ModuleFicheAP","",30,{"$f":"LEN(resultats_textes_durs[[#This Row],[Texte en dur]])","v":0},null,{"$f":"_xlfn.IFS(Language=\"EN\",I1377,Language=\"FR\",H1377,Language=\"SP\",J1377)","v":0}]
[null,"ModuleFicheAP","Une erreur est survenue : ",65,{"$f":"LEN(resultats_textes_durs[[#This Row],[Texte en dur]])","v":26},null,{"$f":"_xlfn.IFS(Language=\"EN\",I1378,Language=\"FR\",H1378,Language=\"SP\",J1378)","v":0}]
[null,"ModuleFicheAP","Onglet_Consult_database",93,{"$f":"LEN(resultats_textes_durs[[#This Row],[Texte en dur]])","v":23},null,{"$f":"_xlfn.IFS(Language=\"EN\",I1379,Language=\"FR\",H1379,Language=\"SP\",J1379)","v":0}]
[null,"ModuleFicheAP","Onglet_AP_Fiche_SPL",94,{"$f":"LEN(resultats_textes_durs[[#This Row],[Texte en dur]])","v":19},null,{"$f":"_xlfn.IFS(Language=\"EN\",I1380,Language=\"FR\",H1380,Language=\"SP\",J1380)","v":0}]
[null,"ModuleFicheAP","Onglet_Consult_database",97,{"$f":"LEN(resultats_textes_durs[[#This Row],[Texte en dur]])","v":23},null,{"$f":"_xlfn.IFS(Language=\"EN\",I1381,Language=\"FR\",H1381,Language=\"SP\",J1381)","v":0}]
[null,"ModuleFicheAP","Onglet_AP_Fiche_SPL",98,{"$f":"LEN(resultats_textes_durs[[#This Row],[Texte en dur]])","v":19},null,{"$f":"_xlfn.IFS(Language=\"EN\",I1382,Language=\"FR\",H1382,Language=\"SP\",J1382)","v":0}]
[null,"ModuleFicheAP","A",101,{"$f":"LEN(resultats_textes_durs[[#This Row],[Texte en dur]])","v":1},null,{"$f":"_xlfn.IFS(Language=\"EN\",I1383,Language=\"FR\",H1383,Language=\"SP\",J1383)","v":0}]
[null,"ModuleFicheAP","L",102,{"$f":"LEN(resultats_textes_durs[[#This Row],[Texte en dur]])","v":1},null,{"$f":"_xlfn.IFS(Language=\"EN\",I1384,Language=\"FR\",H1384,Language=\"SP\",J1384)","v":0}]
[null,"ModuleFicheAP","Onglet_AP_Fiche_SPL",104,{"$f":"LEN(resultats_textes_durs[[#This Row],[Texte en dur]])","v":19},null,{"$f":"_xlfn.IFS(Language=\"EN\",I1385,Language=\"FR\",H1385,Language=\"SP\",J1385)","v":0}]
[null,"ModuleFicheAP","L",108,{"$f":"LEN(resultats_textes_durs[[#This Row],[Texte en dur]])","v":1},null,{"$f":"_xlfn.IFS(Language=\"EN\",I1386,Language=\"FR\",H1386,Language=\"SP\",J1386)","v":0}]
[null,"ModuleFicheAP","A",108,{"$f":"LEN(resultats_textes_durs[[#This Row],[Texte en dur]])","v":1},null,{"$f":"_xlfn.IFS(Language=\"EN\",I1387,Language=\"FR\",H1387,Language=\"SP\",J1387)","v":0}]
[null,"ModuleFicheAP","L",109,{"$f":"LEN(resultats_textes_durs[[#This Row],[Texte en dur]])","v":1},null,{"$f":"_xlfn.IFS(Language=\"EN\",I1388,Language=\"FR\",H1388,Language=\"SP\",J1388)","v":0}]
[null,"ModuleFicheAP","A",109,{"$f":"LEN(resultats_textes_durs[[#This Row],[Texte en dur]])","v":1},null,{"$f":"_xlfn.IFS(Language=\"EN\",I1389,Language=\"FR\",H1389,Language=\"SP\",J1389)","v":0}]
[null,"ModuleFicheAP","N",111,{"$f":"LEN(resultats_textes_durs[[#This Row],[Texte en dur]])","v":1},null,{"$f":"_xlfn.IFS(Language=\"EN\",I1390,Language=\"FR\",H1390,Language=\"SP\",J1390)","v":0}]
[null,"ModuleFicheAP","L",111,{"$f":"LEN(resultats_textes_durs[[#This Row],[Texte en dur]])","v":1},null,{"$f":"_xlfn.IFS(Language=\"EN\",I1391,Language=\"FR\",H1391,Language=\"SP\",J1391)","v":0}]
[null,"ModuleFicheAP","O",112,{"$f":"LEN(resultats_textes_durs[[#This Row],[Texte en dur]])","v":1},null,{"$f":"_xlfn.IFS(Language=\"EN\",I1392,Language=\"FR\",H1392,Language=\"SP\",J1392)","v":0}]
[null,"ModuleFicheAP","M",112,{"$f":"LEN(resultats_textes_durs[[#This Row],[Texte en dur]])","v":1},null,{"$f":"_xlfn.IFS(Language=\"EN\",I1393,Language=\"FR\",H1393,Language=\"SP\",J1393)","v":0}]
[null,"ModuleFicheAP","Q",113,{"$f":"LEN(resultats_textes_durs[[#This Row],[Texte en dur]])","v":1},null,{"$f":"_xlfn.IFS(Language=\"EN\",I1394,Language=\"FR\",H1394,Language=\"SP\",J1394)","v":0}]
[null,"ModuleFicheAP","P",113,{"$f":"LEN(resultats_textes_durs[[#This Row],[Texte en dur]])","v":1},null,{"$f":"_xlfn.IFS(Language=\"EN\",I1395,Language=\"FR\",H1395,Language=\"SP\",J1395)","v":0}]
[null,"ModuleFicheAP","R",114,{"$f":"LEN(resultats_textes_durs[[#This Row],[Texte en dur]])","v":1},null,{"$f":"_xlfn.IFS(Language=\"EN\",I1396,Language=\"FR\",H1396,Language=\"SP\",J1396)","v":0}]
[null,"ModuleFicheAP","Q",114,{"$f":"LEN(resultats_textes_durs[[#This Row],[Texte en dur]])","v":1},null,{"$f":"_xlfn.IFS(Language=\"EN\",I1397,Language=\"FR\",H1397,Language=\"SP\",J1397)","v":0}]
[null,"ModuleFicheAP","S",115,{"$f":"LEN(resultats_textes_durs[[#This Row],[Texte en dur]])","v":1},null,{"$f":"_xlfn.IFS(Language=\"EN\",I1398,Language=\"FR\",H1398,Language=\"SP\",J1398)","v":0}]
[null,"ModuleFicheAP","R",115,{"$f":"LEN(resultats_textes_durs[[#This Row],[Texte en dur]])","v":1},null,{"$f":"_xlfn.IFS(Language=\"EN\",I1399,Language=\"FR\",H1399,Language=\"SP\",J1399)","v":0}]
[null,"ModuleFicheAP","Une erreur est survenue : ",131,{"$f":"LEN(resultats_textes_durs[[#This Row],[Texte en dur]])","v":26},null,{"$f":"_xlfn.IFS(Language=\"EN\",I1400,Language=\"FR\",H1400,Language=\"SP\",J1400)","v":0}]
[null,"ModuleFicheAP","Onglet_AP_Fiche_SPL",160,{"$f":"LEN(resultats_textes_durs[[#This Row],[Texte en dur]])","v":19},null,{"$f":"_xlfn.IFS(Language=\"EN\",I1401,Language=\"FR\",H1401,Language=\"SP\",J1401)","v":0}]
[null,"ModuleFicheAP","Onglet_SRR_dataset",161,{"$f":"LEN(resultats_textes_durs[[#This Row],[Texte en dur]])","v":18},null,{"$f":"_xlfn.IFS(Language=\"EN\",I1402,Language=\"FR\",H1402,Language=\"SP\",J1402)","v":0}]
[null,"ModuleFicheAP","L8",164,{"$f":"LEN(resultats_textes_durs[[#This Row],[Texte en dur]])","v":2},null,{"$f":"_xlfn.IFS(Language=\"EN\",I1403,Language=\"FR\",H1403,Language=\"SP\",J1403)","v":0}]
[null,"ModuleFicheAP","E25",167,{"$f":"LEN(resultats_textes_durs[[#This Row],[Texte en dur]])","v":3},null,{"$f":"_xlfn.IFS(Language=\"EN\",I1404,Language=\"FR\",H1404,Language=\"SP\",J1404)","v":0}]
[null,"ModuleFicheAP","Onglet_SRR_dataset",169,{"$f":"LEN(resultats_textes_durs[[#This Row],[Texte en dur]])","v":18},null,{"$f":"_xlfn.IFS(Language=\"EN\",I1405,Language=\"FR\",H1405,Language=\"SP\",J1405)","v":0}]
[null,"ModuleFicheAP","N",170,{"$f":"LEN(resultats_textes_durs[[#This Row],[Texte en dur]])","v":1},null,{"$f":"_xlfn.IFS(Language=\"EN\",I1406,Language=\"FR\",H1406,Language=\"SP\",J1406)","v":0}]
[null,"ModuleFicheAP","",173,{"$f":"LEN(resultats_textes_durs[[#This Row],[Texte en dur]])","v":0},null,{"$f":"_xlfn.IFS(Language=\"EN\",I1407,Language=\"FR\",H1407,Language=\"SP\",J1407)","v":0}]
[null,"ModuleFicheAP","",176,{"$f":"LEN(resultats_textes_durs[[#This Row],[Texte en dur]])","v":0},null,{"$f":"_xlfn.IFS(Language=\"EN\",I1408,Language=\"FR\",H1408,Language=\"SP\",J1408)","v":0}]
[null,"ModuleFicheAP","Onglet_SRR_dataset",178,{"$f":"LEN(resultats_textes_durs[[#This Row],[Texte en dur]])","v":18},null,{"$f":"_xlfn.IFS(Language=\"EN\",I1409,Language=\"FR\",H1409,Language=\"SP\",J1409)","v":0}]
[null,"ModuleFicheAP","N",180,{"$f":"LEN(resultats_textes_durs[[#This Row],[Texte en dur]])","v":1},null,{"$f":"_xlfn.IFS(Language=\"EN\",I1410,Language=\"FR\",H1410,Language=\"SP\",J1410)","v":0}]
[null,"ModuleFicheAP","R",181,{"$f":"LEN(resultats_textes_durs[[#This Row],[Texte en dur]])","v":1},null,{"$f":"_xlfn.IFS(Language=\"EN\",I1411,Language=\"FR\",H1411,Language=\"SP\",J1411)","v":0}]
[null,"ModuleFicheAP","S",182,{"$f":"LEN(resultats_textes_durs[[#This Row],[Texte en dur]])","v":1},null,{"$f":"_xlfn.IFS(Language=\"EN\",I1412,Language=\"FR\",H1412,Language=\"SP\",J1412)","v":0}]
[null,"ModuleFicheAP","",188,{"$f":"LEN(resultats_textes_durs[[#This Row],[Texte en dur]])","v":0},null,{"$f":"_xlfn.IFS(Language=\"EN\",I1413,Language=\"FR\",H1413,Language=\"SP\",J1413)","v":0}]
[null,"ModuleFicheAP","N10",189,{"$f":"LEN(resultats_textes_durs[[#This Row],[Texte en dur]])","v":3},null,{"$f":"_xlfn.IFS(Language=\"EN\",I1414,Language=\"FR\",H1414,Language=\"SP\",J1414)","v":0}]
[null,"ModuleFicheAP","N10",191,{"$f":"LEN(resultats_textes_durs[[#This Row],[Texte en dur]])","v":3},null,{"$f":"_xlfn.IFS(Language=\"EN\",I1415,Language=\"FR\",H1415,Language=\"SP\",J1415)","v":0}]
[null,"ModuleFicheAP","Not Found",191,{"$f":"LEN(resultats_textes_durs[[#This Row],[Texte en dur]])","v":9},null,{"$f":"_xlfn.IFS(Language=\"EN\",I1416,Language=\"FR\",H1416,Language=\"SP\",J1416)","v":0}]
[null,"ModuleFicheAP","N10",195,{"$f":"LEN(resultats_textes_durs[[#This Row],[Texte en dur]])","v":3},null,{"$f":"_xlfn.IFS(Language=\"EN\",I1417,Language=\"FR\",H1417,Language=\"SP\",J1417)","v":0}]
[null,"ModuleFicheAP","",198,{"$f":"LEN(resultats_textes_durs[[#This Row],[Texte en dur]])","v":0},null,{"$f":"_xlfn.IFS(Language=\"EN\",I1418,Language=\"FR\",H1418,Language=\"SP\",J1418)","v":0}]
[null,"ModuleFicheAP","E25",199,{"$f":"LEN(resultats_textes_durs[[#This Row],[Texte en dur]])","v":3},null,{"$f":"_xlfn.IFS(Language=\"EN\",I1419,Language=\"FR\",H1419,Language=\"SP\",J1419)","v":0}]
[null,"ModuleFicheAP","E25",201,{"$f":"LEN(resultats_textes_durs[[#This Row],[Texte en dur]])","v":3},null,{"$f":"_xlfn.IFS(Language=\"EN\",I1420,Language=\"FR\",H1420,Language=\"SP\",J1420)","v":0}]
[null,"ModuleFicheAP","Not Found",201,{"$f":"LEN(resultats_textes_durs[[#This Row],[Texte en dur]])","v":9},null,{"$f":"_xlfn.IFS(Language=\"EN\",I1421,Language=\"FR\",H1421,Language=\"SP\",J1421)","v":0}]
[null,"ModuleFicheAP","Une erreur est survenue : ",214,{"$f":"LEN(resultats_textes_durs[[#This Row],[Texte en dur]])","v":26},null,{"$f":"_xlfn.IFS(Language=\"EN\",I1422,Language=\"FR\",H1422,Language=\"SP\",J1422)","v":0}]
[null,"ModuleFicheAP","Onglet_AP_Fiche_SPL",239,{"$f":"LEN(resultats_textes_durs[[#This Row],[Texte en dur]])","v":19},null,{"$f":"_xlfn.IFS(Language=\"EN\",I1423,Language=\"FR\",H1423,Language=\"SP\",J1423)","v":0}]
[null,"ModuleFicheAP","Onglet_SRR_dataset",240,{"$f":"LEN(resultats_textes_durs[[#This Row],[Texte en dur]])","v":18},null,{"$f":"_xlfn.IFS(Language=\"EN\",I1424,Language=\"FR\",H1424,Language=\"SP\",J1424)","v":0}]
[null,"ModuleFicheAP","L8",243,{"$f":"LEN(resultats_textes_durs[[#This Row],[Texte en dur]])","v":2},null,{"$f":"_xlfn.IFS(Language=\"EN\",I1425,Language=\"FR\",H1425,Language=\"SP\",J1425)","v":0}]
[null,"ModuleFicheAP","N10",246,{"$f":"LEN(resultats_textes_durs[[#This Row],[Texte en dur]])","v":3},null,{"$f":"_xlfn.IFS(Language=\"EN\",I1426,Language=\"FR\",H1426,Language=\"SP\",J1426)","v":0}]
[null,"ModuleFicheAP","Le status de révision n'a pas changé. La macro est interrompue.",250,{"$f":"LEN(resultats_textes_durs[[#This Row],[Texte en dur]])","v":63},null,{"$f":"_xlfn.IFS(Language=\"EN\",I1427,Language=\"FR\",H1427,Language=\"SP\",J1427)","v":0}]
[null,"ModuleFicheAP","E25",255,{"$f":"LEN(resultats_textes_durs[[#This Row],[Texte en dur]])","v":3},null,{"$f":"_xlfn.IFS(Language=\"EN\",I1428,Language=\"FR\",H1428,Language=\"SP\",J1428)","v":0}]
[null,"ModuleFicheAP","Onglet_SRR_dataset",257,{"$f":"LEN(resultats_textes_durs[[#This Row],[Texte en dur]])","v":18},null,{"$f":"_xlfn.IFS(Language=\"EN\",I1429,Language=\"FR\",H1429,Language=\"SP\",J1429)","v":0}]
[null,"ModuleFicheAP","N",258,{"$f":"LEN(resultats_textes_durs[[#This Row],[Texte en dur]])","v":1},null,{"$f":"_xlfn.IFS(Language=\"EN\",I1430,Language=\"FR\",H1430,Language=\"SP\",J1430)","v":0}]
[null,"ModuleFicheAP","Onglet_SRR_dataset",260,{"$f":"LEN(resultats_textes_durs[[#This Row],[Texte en dur]])","v":18},null,{"$f":"_xlfn.IFS(Language=\"EN\",I1431,Language=\"FR\",H1431,Language=\"SP\",J1431)","v":0}]
[null,"ModuleFicheAP","N",262,{"$f":"LEN(resultats_textes_durs[[#This Row],[Texte en dur]])","v":1},null,{"$f":"_xlfn.IFS(Language=\"EN\",I1432,Language=\"FR\",H1432,Language=\"SP\",J1432)","v":0}]
[null,"ModuleFicheAP","R",263,{"$f":"LEN(resultats_textes_durs[[#This Row],[Texte en dur]])","v":1},null,{"$f":"_xlfn.IFS(Language=\"EN\",I1433,Language=\"FR\",H1433,Language=\"SP\",J1433)","v":0}]
[null,"ModuleFicheAP","S",264,{"$f":"LEN(resultats_textes_durs[[#This Row],[Texte en dur]])","v":1},null,{"$f":"_xlfn.IFS(Language=\"EN\",I1434,Language=\"FR\",H1434,Language=\"SP\",J1434)","v":0}]
[null,"ModuleFicheAP","Onglet_AP_Fiche_SPL",292,{"$f":"LEN(resultats_textes_durs[[#This Row],[Texte en dur]])","v":19},null,{"$f":"_xlfn.IFS(Language=\"EN\",I1435,Language=\"FR\",H1435,Language=\"SP\",J1435)","v":0}]
[null,"ModuleFicheAP","Onglet_AP_Database_actions",293,{"$f":"LEN(resultats_textes_durs[[#This Row],[Texte en dur]])","v":26},null,{"$f":"_xlfn.IFS(Language=\"EN\",I1436,Language=\"FR\",H1436,Language=\"SP\",J1436)","v":0}]
[null,"ModuleFicheAP","K",296,{"$f":"LEN(resultats_textes_durs[[#This Row],[Texte en dur]])","v":1},null,{"$f":"_xlfn.IFS(Language=\"EN\",I1437,Language=\"FR\",H1437,Language=\"SP\",J1437)","v":0}]
[null,"ModuleFicheAP","C",299,{"$f":"LEN(resultats_textes_durs[[#This Row],[Texte en dur]])","v":1},null,{"$f":"_xlfn.IFS(Language=\"EN\",I1438,Language=\"FR\",H1438,Language=\"SP\",J1438)","v":0}]
[null,"ModuleFicheAP","",305,{"$f":"LEN(resultats_textes_durs[[#This Row],[Texte en dur]])","v":0},null,{"$f":"_xlfn.IFS(Language=\"EN\",I1439,Language=\"FR\",H1439,Language=\"SP\",J1439)","v":0}]
[null,"ModuleFicheAP","",305,{"$f":"LEN(resultats_textes_durs[[#This Row],[Texte en dur]])","v":0},null,{"$f":"_xlfn.IFS(Language=\"EN\",I1440,Language=\"FR\",H1440,Language=\"SP\",J1440)","v":0}]
[null,"ModuleFicheAP","",314,{"$f":"LEN(resultats_textes_durs[[#This Row],[Texte en dur]])","v":0},null,{"$f":"_xlfn.IFS(Language=\"EN\",I1441,Language=\"FR\",H1441,Language=\"SP\",J1441)","v":0}]
[null,"ModuleFicheAP","",329,{"$f":"LEN(resultats_textes_durs[[#This Row],[Texte en dur]])","v":0},null,{"$f":"_xlfn.IFS(Language=\"EN\",I1442,Language=\"FR\",H1442,Language=\"SP\",J1442)","v":0}]
[null,"ModuleFicheAP","Une erreur est survenue : ",356,{"$f":"LEN(resultats_textes_durs[[#This Row],[Texte en dur]])","v":26},null,{"$f":"_xlfn.IFS(Language=\"EN\",I1443,Language=\"FR\",H1443,Language=\"SP\",J1443)","v":0}]
[null,"ModuleFicheAP","Onglet_Consult_database",380,{"$f":"LEN(resultats_textes_durs[[#This Row],[Texte en dur]])","v":23},null,{"$f":"_xlfn.IFS(Language=\"EN\",I1444,Language=\"FR\",H1444,Language=\"SP\",J1444)","v":0}]
[null,"ModuleFicheAP","Onglet_AP_Fiche_SPL",381,{"$f":"LEN(resultats_textes_durs[[#This Row],[Texte en dur]])","v":19},null,{"$f":"_xlfn.IFS(Language=\"EN\",I1445,Language=\"FR\",H1445,Language=\"SP\",J1445)","v":0}]
[null,"ModuleFicheAP","A",384,{"$f":"LEN(resultats_textes_durs[[#This Row],[Texte en dur]])","v":1},null,{"$f":"_xlfn.IFS(Language=\"EN\",I1446,Language=\"FR\",H1446,Language=\"SP\",J1446)","v":0}]
[null,"ModuleFicheAP","L",385,{"$f":"LEN(resultats_textes_durs[[#This Row],[Texte en dur]])","v":1},null,{"$f":"_xlfn.IFS(Language=\"EN\",I1447,Language=\"FR\",H1447,Language=\"SP\",J1447)","v":0}]
[null,"ModuleFicheAP","Onglet_Consult_database",387,{"$f":"LEN(resultats_textes_durs[[#This Row],[Texte en dur]])","v":23},null,{"$f":"_xlfn.IFS(Language=\"EN\",I1448,Language=\"FR\",H1448,Language=\"SP\",J1448)","v":0}]
[null,"ModuleFicheAP","Scripting.Dictionary",388,{"$f":"LEN(resultats_textes_durs[[#This Row],[Texte en dur]])","v":20},null,{"$f":"_xlfn.IFS(Language=\"EN\",I1449,Language=\"FR\",H1449,Language=\"SP\",J1449)","v":0}]
[null,"ModuleFicheAP","Onglet_Consult_database",390,{"$f":"LEN(resultats_textes_durs[[#This Row],[Texte en dur]])","v":23},null,{"$f":"_xlfn.IFS(Language=\"EN\",I1450,Language=\"FR\",H1450,Language=\"SP\",J1450)","v":0}]
[null,"ModuleFicheAP","A",392,{"$f":"LEN(resultats_textes_durs[[#This Row],[Texte en dur]])","v":1},null,{"$f":"_xlfn.IFS(Language=\"EN\",I1451,Language=\"FR\",H1451,Language=\"SP\",J1451)","v":0}]
[null,"ModuleFicheAP","A",393,{"$f":"LEN(resultats_textes_durs[[#This Row],[Texte en dur]])","v":1},null,{"$f":"_xlfn.IFS(Language=\"EN\",I1452,Language=\"FR\",H1452,Language=\"SP\",J1452)","v":0}]
[null,"ModuleFicheAP","Onglet_AP_Fiche_SPL",397,{"$f":"LEN(resultats_textes_durs[[#This Row],[Texte en dur]])","v":19},null,{"$f":"_xlfn.IFS(Language=\"EN\",I1453,Language=\"FR\",H1453,Language=\"SP\",J1453)","v":0}]
[null,"ModuleFicheAP","Onglet_Consult_database",397,{"$f":"LEN(resultats_textes_durs[[#This Row],[Texte en dur]])","v":23},null,{"$f":"_xlfn.IFS(Language=\"EN\",I1454,Language=\"FR\",H1454,Language=\"SP\",J1454)","v":0}]
[null,"ModuleFicheAP","L",399,{"$f":"LEN(resultats_textes_durs[[#This Row],[Texte en dur]])","v":1},null,{"$f":"_xlfn.IFS(Language=\"EN\",I1455,Language=\"FR\",H1455,Language=\"SP\",J1455)","v":0}]
[null,"ModuleFicheAP","L",400,{"$f":"LEN(resultats_textes_durs[[#This Row],[Texte en dur]])","v":1},null,{"$f":"_xlfn.IFS(Language=\"EN\",I1456,Language=\"FR\",H1456,Language=\"SP\",J1456)","v":0}]
[null,"ModuleFicheAP","L",402,{"$f":"LEN(resultats_textes_durs[[#This Row],[Texte en dur]])","v":1},null,{"$f":"_xlfn.IFS(Language=\"EN\",I1457,Language=\"FR\",H1457,Language=\"SP\",J1457)","v":0}]
[null,"ModuleFicheAP","Onglet_Consult_database",403,{"$f":"LEN(resultats_textes_durs[[#This Row],[Texte en dur]])","v":23},null,{"$f":"_xlfn.IFS(Language=\"EN\",I1458,Language=\"FR\",H1458,Language=\"SP\",J1458)","v":0}]
[null,"ModuleFicheAP","L",405,{"$f":"LEN(resultats_textes_durs[[#This Row],[Texte en dur]])","v":1},null,{"$f":"_xlfn.IFS(Language=\"EN\",I1459,Language=\"FR\",H1459,Language=\"SP\",J1459)","v":0}]
[null,"ModuleFicheAP","N",405,{"$f":"LEN(resultats_textes_durs[[#This Row],[Texte en dur]])","v":1},null,{"$f":"_xlfn.IFS(Language=\"EN\",I1460,Language=\"FR\",H1460,Language=\"SP\",J1460)","v":0}]
[null,"ModuleFicheAP","M",406,{"$f":"LEN(resultats_textes_durs[[#This Row],[Texte en dur]])","v":1},null,{"$f":"_xlfn.IFS(Language=\"EN\",I1461,Language=\"FR\",H1461,Language=\"SP\",J1461)","v":0}]
[null,"ModuleFicheAP","O",406,{"$f":"LEN(resultats_textes_durs[[#This Row],[Texte en dur]])","v":1},null,{"$f":"_xlfn.IFS(Language=\"EN\",I1462,Language=\"FR\",H1462,Language=\"SP\",J1462)","v":0}]
[null,"ModuleFicheAP","P",407,{"$f":"LEN(resultats_textes_durs[[#This Row],[Texte en dur]])","v":1},null,{"$f":"_xlfn.IFS(Language=\"EN\",I1463,Language=\"FR\",H1463,Language=\"SP\",J1463)","v":0}]
[null,"ModuleFicheAP","Q",407,{"$f":"LEN(resultats_textes_durs[[#This Row],[Texte en dur]])","v":1},null,{"$f":"_xlfn.IFS(Language=\"EN\",I1464,Language=\"FR\",H1464,Language=\"SP\",J1464)","v":0}]
[null,"ModuleFicheAP","Q",408,{"$f":"LEN(resultats_textes_durs[[#This Row],[Texte en dur]])","v":1},null,{"$f":"_xlfn.IFS(Language=\"EN\",I1465,Language=\"FR\",H1465,Language=\"SP\",J1465)","v":0}]
[null,"ModuleFicheAP","R",408,{"$f":"LEN(resultats_textes_durs[[#This Row],[Texte en dur]])","v":1},null,{"$f":"_xlfn.IFS(Language=\"EN\",I1466,Language=\"FR\",H1466,Language=\"SP\",J1466)","v":0}]
[null,"ModuleFicheAP","R",409,{"$f":"LEN(resultats_textes_durs[[#This Row],[Texte en dur]])","v":1},null,{"$f":"_xlfn.IFS(Language=\"EN\",I1467,Language=\"FR\",H1467,Language=\"SP\",J1467)","v":0}]
[null,"ModuleFicheAP","S",409,{"$f":"LEN(resultats_textes_durs[[#This Row],[Texte en dur]])","v":1},null,{"$f":"_xlfn.IFS(Language=\"EN\",I1468,Language=\"FR\",H1468,Language=\"SP\",J1468)","v":0}]
[null,"ModuleFicheAP","Onglet_AP_Fiche_SPL",422,{"$f":"LEN(resultats_textes_durs[[#This Row],[Texte en dur]])","v":19},null,{"$f":"_xlfn.IFS(Language=\"EN\",I1469,Language=\"FR\",H1469,Language=\"SP\",J1469)","v":0}]
[null,"ModuleFicheAP","SRM",423,{"$f":"LEN(resultats_textes_durs[[#This Row],[Texte en dur]])","v":3},null,{"$f":"_xlfn.IFS(Language=\"EN\",I1470,Language=\"FR\",H1470,Language=\"SP\",J1470)","v":0}]
[null,"ModuleFicheAP","L8",427,{"$f":"LEN(resultats_textes_durs[[#This Row],[Texte en dur]])","v":2},null,{"$f":"_xlfn.IFS(Language=\"EN\",I1471,Language=\"FR\",H1471,Language=\"SP\",J1471)","v":0}]
[null,"ModuleFicheAP","L8",431,{"$f":"LEN(resultats_textes_durs[[#This Row],[Texte en dur]])","v":2},null,{"$f":"_xlfn.IFS(Language=\"EN\",I1472,Language=\"FR\",H1472,Language=\"SP\",J1472)","v":0}]
[null,"ModuleFicheAP","Erreur dans la cellule L8 : ",432,{"$f":"LEN(resultats_textes_durs[[#This Row],[Texte en dur]])","v":28},null,{"$f":"_xlfn.IFS(Language=\"EN\",I1473,Language=\"FR\",H1473,Language=\"SP\",J1473)","v":0}]
[null,"ModuleFicheAP","L8",432,{"$f":"LEN(resultats_textes_durs[[#This Row],[Texte en dur]])","v":2},null,{"$f":"_xlfn.IFS(Language=\"EN\",I1474,Language=\"FR\",H1474,Language=\"SP\",J1474)","v":0}]
[null,"ModuleFicheAP","13:33",437,{"$f":"LEN(resultats_textes_durs[[#This Row],[Texte en dur]])","v":5},null,{"$f":"_xlfn.IFS(Language=\"EN\",I1475,Language=\"FR\",H1475,Language=\"SP\",J1475)","v":0}]
[null,"ModuleFicheAP","Image 3",439,{"$f":"LEN(resultats_textes_durs[[#This Row],[Texte en dur]])","v":7},null,{"$f":"_xlfn.IFS(Language=\"EN\",I1476,Language=\"FR\",H1476,Language=\"SP\",J1476)","v":0}]
[null,"ModuleFicheAP","Image 3",442,{"$f":"LEN(resultats_textes_durs[[#This Row],[Texte en dur]])","v":7},null,{"$f":"_xlfn.IFS(Language=\"EN\",I1477,Language=\"FR\",H1477,Language=\"SP\",J1477)","v":0}]
[null,"ModuleFicheAP","",447,{"$f":"LEN(resultats_textes_durs[[#This Row],[Texte en dur]])","v":0},null,{"$f":"_xlfn.IFS(Language=\"EN\",I1478,Language=\"FR\",H1478,Language=\"SP\",J1478)","v":0}]
[null,"ModuleFicheAP","I",450,{"$f":"LEN(resultats_textes_durs[[#This Row],[Texte en dur]])","v":1},null,{"$f":"_xlfn.IFS(Language=\"EN\",I1479,Language=\"FR\",H1479,Language=\"SP\",J1479)","v":0}]
[null,"ModuleFicheAP","C",450,{"$f":"LEN(resultats_textes_durs[[#This Row],[Texte en dur]])","v":1},null,{"$f":"_xlfn.IFS(Language=\"EN\",I1480,Language=\"FR\",H1480,Language=\"SP\",J1480)","v":0}]
[null,"ModuleFicheAP","S",450,{"$f":"LEN(resultats_textes_durs[[#This Row],[Texte en dur]])","v":1},null,{"$f":"_xlfn.IFS(Language=\"EN\",I1481,Language=\"FR\",H1481,Language=\"SP\",J1481)","v":0}]
[null,"ModuleFicheAP","13:27",452,{"$f":"LEN(resultats_textes_durs[[#This Row],[Texte en dur]])","v":5},null,{"$f":"_xlfn.IFS(Language=\"EN\",I1482,Language=\"FR\",H1482,Language=\"SP\",J1482)","v":0}]
[null,"ModuleFicheAP","28:33",454,{"$f":"LEN(resultats_textes_durs[[#This Row],[Texte en dur]])","v":5},null,{"$f":"_xlfn.IFS(Language=\"EN\",I1483,Language=\"FR\",H1483,Language=\"SP\",J1483)","v":0}]
[null,"ModuleFicheAP","28:33",456,{"$f":"LEN(resultats_textes_durs[[#This Row],[Texte en dur]])","v":5},null,{"$f":"_xlfn.IFS(Language=\"EN\",I1484,Language=\"FR\",H1484,Language=\"SP\",J1484)","v":0}]
[null,"ModuleFicheAP","Image 3",457,{"$f":"LEN(resultats_textes_durs[[#This Row],[Texte en dur]])","v":7},null,{"$f":"_xlfn.IFS(Language=\"EN\",I1485,Language=\"FR\",H1485,Language=\"SP\",J1485)","v":0}]
[null,"ModuleFicheAP","P",459,{"$f":"LEN(resultats_textes_durs[[#This Row],[Texte en dur]])","v":1},null,{"$f":"_xlfn.IFS(Language=\"EN\",I1486,Language=\"FR\",H1486,Language=\"SP\",J1486)","v":0}]
[null,"ModuleFicheAP","13:27",461,{"$f":"LEN(resultats_textes_durs[[#This Row],[Texte en dur]])","v":5},null,{"$f":"_xlfn.IFS(Language=\"EN\",I1487,Language=\"FR\",H1487,Language=\"SP\",J1487)","v":0}]
[null,"ModuleFicheAP","28:33",463,{"$f":"LEN(resultats_textes_durs[[#This Row],[Texte en dur]])","v":5},null,{"$f":"_xlfn.IFS(Language=\"EN\",I1488,Language=\"FR\",H1488,Language=\"SP\",J1488)","v":0}]
[null,"ModuleFicheAP","13:27",465,{"$f":"LEN(resultats_textes_durs[[#This Row],[Texte en dur]])","v":5},null,{"$f":"_xlfn.IFS(Language=\"EN\",I1489,Language=\"FR\",H1489,Language=\"SP\",J1489)","v":0}]
[null,"ModuleFicheAP","Image 3",466,{"$f":"LEN(resultats_textes_durs[[#This Row],[Texte en dur]])","v":7},null,{"$f":"_xlfn.IFS(Language=\"EN\",I1490,Language=\"FR\",H1490,Language=\"SP\",J1490)","v":0}]
[null,"ModuleFicheAP","13:33",470,{"$f":"LEN(resultats_textes_durs[[#This Row],[Texte en dur]])","v":5},null,{"$f":"_xlfn.IFS(Language=\"EN\",I1491,Language=\"FR\",H1491,Language=\"SP\",J1491)","v":0}]
[null,"ModuleFicheAP","13:33",472,{"$f":"LEN(resultats_textes_durs[[#This Row],[Texte en dur]])","v":5},null,{"$f":"_xlfn.IFS(Language=\"EN\",I1492,Language=\"FR\",H1492,Language=\"SP\",J1492)","v":0}]
[null,"ModuleFicheAP","Image 3",473,{"$f":"LEN(resultats_textes_durs[[#This Row],[Texte en dur]])","v":7},null,{"$f":"_xlfn.IFS(Language=\"EN\",I1493,Language=\"FR\",H1493,Language=\"SP\",J1493)","v":0}]
[null,"ModuleFicheAP","13:33",478,{"$f":"LEN(resultats_textes_durs[[#This Row],[Texte en dur]])","v":5},null,{"$f":"_xlfn.IFS(Language=\"EN\",I1494,Language=\"FR\",H1494,Language=\"SP\",J1494)","v":0}]
[null,"ModuleFicheAP","13:33",480,{"$f":"LEN(resultats_textes_durs[[#This Row],[Texte en dur]])","v":5},null,{"$f":"_xlfn.IFS(Language=\"EN\",I1495,Language=\"FR\",H1495,Language=\"SP\",J1495)","v":0}]
[null,"ModuleFicheAP","Image 3",481,{"$f":"LEN(resultats_textes_durs[[#This Row],[Texte en dur]])","v":7},null,{"$f":"_xlfn.IFS(Language=\"EN\",I1496,Language=\"FR\",H1496,Language=\"SP\",J1496)","v":0}]
[null,"ModuleFicheAP","module_consult",485,{"$f":"LEN(resultats_textes_durs[[#This Row],[Texte en dur]])","v":14},null,{"$f":"_xlfn.IFS(Language=\"EN\",I1497,Language=\"FR\",H1497,Language=\"SP\",J1497)","v":0}]
[null,"ModuleFicheAP","module_consult",488,{"$f":"LEN(resultats_textes_durs[[#This Row],[Texte en dur]])","v":14},null,{"$f":"_xlfn.IFS(Language=\"EN\",I1498,Language=\"FR\",H1498,Language=\"SP\",J1498)","v":0}]
[null,"ModuleFicheAP","C",491,{"$f":"LEN(resultats_textes_durs[[#This Row],[Texte en dur]])","v":1},null,{"$f":"_xlfn.IFS(Language=\"EN\",I1499,Language=\"FR\",H1499,Language=\"SP\",J1499)","v":0}]
[null,"ModuleFicheAP","C",492,{"$f":"LEN(resultats_textes_durs[[#This Row],[Texte en dur]])","v":1},null,{"$f":"_xlfn.IFS(Language=\"EN\",I1500,Language=\"FR\",H1500,Language=\"SP\",J1500)","v":0}]
[null,"ModuleFicheAP","49:115",494,{"$f":"LEN(resultats_textes_durs[[#This Row],[Texte en dur]])","v":6},null,{"$f":"_xlfn.IFS(Language=\"EN\",I1501,Language=\"FR\",H1501,Language=\"SP\",J1501)","v":0}]
[null,"ModuleFicheAP","module_consult",497,{"$f":"LEN(resultats_textes_durs[[#This Row],[Texte en dur]])","v":14},null,{"$f":"_xlfn.IFS(Language=\"EN\",I1502,Language=\"FR\",H1502,Language=\"SP\",J1502)","v":0}]
[null,"ModuleFicheAP","No",498,{"$f":"LEN(resultats_textes_durs[[#This Row],[Texte en dur]])","v":2},null,{"$f":"_xlfn.IFS(Language=\"EN\",I1503,Language=\"FR\",H1503,Language=\"SP\",J1503)","v":0}]
[null,"ModuleFicheAP","Non",498,{"$f":"LEN(resultats_textes_durs[[#This Row],[Texte en dur]])","v":3},null,{"$f":"_xlfn.IFS(Language=\"EN\",I1504,Language=\"FR\",H1504,Language=\"SP\",J1504)","v":0}]
[null,"ModuleFicheAP","49:115",500,{"$f":"LEN(resultats_textes_durs[[#This Row],[Texte en dur]])","v":6},null,{"$f":"_xlfn.IFS(Language=\"EN\",I1505,Language=\"FR\",H1505,Language=\"SP\",J1505)","v":0}]
[null,"ModuleFicheAP","Yes",502,{"$f":"LEN(resultats_textes_durs[[#This Row],[Texte en dur]])","v":3},null,{"$f":"_xlfn.IFS(Language=\"EN\",I1506,Language=\"FR\",H1506,Language=\"SP\",J1506)","v":0}]
[null,"ModuleFicheAP","Oui",502,{"$f":"LEN(resultats_textes_durs[[#This Row],[Texte en dur]])","v":3},null,{"$f":"_xlfn.IFS(Language=\"EN\",I1507,Language=\"FR\",H1507,Language=\"SP\",J1507)","v":0}]
[null,"ModuleFicheAP","49:115",504,{"$f":"LEN(resultats_textes_durs[[#This Row],[Texte en dur]])","v":6},null,{"$f":"_xlfn.IFS(Language=\"EN\",I1508,Language=\"FR\",H1508,Language=\"SP\",J1508)","v":0}]
[null,"ModuleFicheAP","49:115",506,{"$f":"LEN(resultats_textes_durs[[#This Row],[Texte en dur]])","v":6},null,{"$f":"_xlfn.IFS(Language=\"EN\",I1509,Language=\"FR\",H1509,Language=\"SP\",J1509)","v":0}]
[null,"ModuleFicheAP","SRM",512,{"$f":"LEN(resultats_textes_durs[[#This Row],[Texte en dur]])","v":3},null,{"$f":"_xlfn.IFS(Language=\"EN\",I1510,Language=\"FR\",H1510,Language=\"SP\",J1510)","v":0}]
[null,"ModuleFicheAP","Onglet_AP_Fiche_SPL",524,{"$f":"LEN(resultats_textes_durs[[#This Row],[Texte en dur]])","v":19},null,{"$f":"_xlfn.IFS(Language=\"EN\",I1511,Language=\"FR\",H1511,Language=\"SP\",J1511)","v":0}]
[null,"ModuleFicheAP","SRM",525,{"$f":"LEN(resultats_textes_durs[[#This Row],[Texte en dur]])","v":3},null,{"$f":"_xlfn.IFS(Language=\"EN\",I1512,Language=\"FR\",H1512,Language=\"SP\",J1512)","v":0}]
[null,"ModuleFicheAP","",529,{"$f":"LEN(resultats_textes_durs[[#This Row],[Texte en dur]])","v":0},null,{"$f":"_xlfn.IFS(Language=\"EN\",I1513,Language=\"FR\",H1513,Language=\"SP\",J1513)","v":0}]
[null,"ModuleFicheAP","SRM",537,{"$f":"LEN(resultats_textes_durs[[#This Row],[Texte en dur]])","v":3},null,{"$f":"_xlfn.IFS(Language=\"EN\",I1514,Language=\"FR\",H1514,Language=\"SP\",J1514)","v":0}]
[null,"ModuleGap","SRM",11,{"$f":"LEN(resultats_textes_durs[[#This Row],[Texte en dur]])","v":3},null,{"$f":"_xlfn.IFS(Language=\"EN\",I1515,Language=\"FR\",H1515,Language=\"SP\",J1515)","v":0}]
[null,"ModuleGap","Gap_P3_SI",13,{"$f":"LEN(resultats_textes_durs[[#This Row],[Texte en dur]])","v":9},null,{"$f":"_xlfn.IFS(Language=\"EN\",I1516,Language=\"FR\",H1516,Language=\"SP\",J1516)","v":0}]
[null,"ModuleGap","Onglet_Gap_P3",14,{"$f":"LEN(resultats_textes_durs[[#This Row],[Texte en dur]])","v":13},null,{"$f":"_xlfn.IFS(Language=\"EN\",I1517,Language=\"FR\",H1517,Language=\"SP\",J1517)","v":0}]
[null,"ModuleGap","Gap_P3_SI",14,{"$f":"LEN(resultats_textes_durs[[#This Row],[Texte en dur]])","v":9},null,{"$f":"_xlfn.IFS(Language=\"EN\",I1518,Language=\"FR\",H1518,Language=\"SP\",J1518)","v":0}]
[null,"ModuleGap","Les plages source, destination et taux n'ont pas les mêmes dimensions.",24,{"$f":"LEN(resultats_textes_durs[[#This Row],[Texte en dur]])","v":70},null,{"$f":"_xlfn.IFS(Language=\"EN\",I1519,Language=\"FR\",H1519,Language=\"SP\",J1519)","v":0}]
[null,"ModuleGap","Arial",43,{"$f":"LEN(resultats_textes_durs[[#This Row],[Texte en dur]])","v":5},null,{"$f":"_xlfn.IFS(Language=\"EN\",I1520,Language=\"FR\",H1520,Language=\"SP\",J1520)","v":0}]
[null,"ModuleGap","l",60,{"$f":"LEN(resultats_textes_durs[[#This Row],[Texte en dur]])","v":1},null,{"$f":"_xlfn.IFS(Language=\"EN\",I1521,Language=\"FR\",H1521,Language=\"SP\",J1521)","v":0}]
[null,"ModuleGap","n",62,{"$f":"LEN(resultats_textes_durs[[#This Row],[Texte en dur]])","v":1},null,{"$f":"_xlfn.IFS(Language=\"EN\",I1522,Language=\"FR\",H1522,Language=\"SP\",J1522)","v":0}]
[null,"ModuleGap","l",90,{"$f":"LEN(resultats_textes_durs[[#This Row],[Texte en dur]])","v":1},null,{"$f":"_xlfn.IFS(Language=\"EN\",I1523,Language=\"FR\",H1523,Language=\"SP\",J1523)","v":0}]
[null,"ModuleGap","Wingdings",90,{"$f":"LEN(resultats_textes_durs[[#This Row],[Texte en dur]])","v":9},null,{"$f":"_xlfn.IFS(Language=\"EN\",I1524,Language=\"FR\",H1524,Language=\"SP\",J1524)","v":0}]
[null,"ModuleGap","Webdings",90,{"$f":"LEN(resultats_textes_durs[[#This Row],[Texte en dur]])","v":8},null,{"$f":"_xlfn.IFS(Language=\"EN\",I1525,Language=\"FR\",H1525,Language=\"SP\",J1525)","v":0}]
[null,"ModuleGap","l",90,{"$f":"LEN(resultats_textes_durs[[#This Row],[Texte en dur]])","v":1},null,{"$f":"_xlfn.IFS(Language=\"EN\",I1526,Language=\"FR\",H1526,Language=\"SP\",J1526)","v":0}]
[null,"ModuleGap","n",90,{"$f":"LEN(resultats_textes_durs[[#This Row],[Texte en dur]])","v":1},null,{"$f":"_xlfn.IFS(Language=\"EN\",I1527,Language=\"FR\",H1527,Language=\"SP\",J1527)","v":0}]
[null,"ModuleGap","SRM",100,{"$f":"LEN(resultats_textes_durs[[#This Row],[Texte en dur]])","v":3},null,{"$f":"_xlfn.IFS(Language=\"EN\",I1528,Language=\"FR\",H1528,Language=\"SP\",J1528)","v":0}]
[null,"ModuleGap","Module_consult",109,{"$f":"LEN(resultats_textes_durs[[#This Row],[Texte en dur]])","v":14},null,{"$f":"_xlfn.IFS(Language=\"EN\",I1529,Language=\"FR\",H1529,Language=\"SP\",J1529)","v":0}]
[null,"ModuleGap","Module_consult",110,{"$f":"LEN(resultats_textes_durs[[#This Row],[Texte en dur]])","v":14},null,{"$f":"_xlfn.IFS(Language=\"EN\",I1530,Language=\"FR\",H1530,Language=\"SP\",J1530)","v":0}]
[null,"ModuleGap","Yes_No",113,{"$f":"LEN(resultats_textes_durs[[#This Row],[Texte en dur]])","v":6},null,{"$f":"_xlfn.IFS(Language=\"EN\",I1531,Language=\"FR\",H1531,Language=\"SP\",J1531)","v":0}]
[null,"ModuleGap","SRM",116,{"$f":"LEN(resultats_textes_durs[[#This Row],[Texte en dur]])","v":3},null,{"$f":"_xlfn.IFS(Language=\"EN\",I1532,Language=\"FR\",H1532,Language=\"SP\",J1532)","v":0}]
[null,"ModuleGap","",119,{"$f":"LEN(resultats_textes_durs[[#This Row],[Texte en dur]])","v":0},null,{"$f":"_xlfn.IFS(Language=\"EN\",I1533,Language=\"FR\",H1533,Language=\"SP\",J1533)","v":0}]
[null,"ModuleGap","Module_consult",120,{"$f":"LEN(resultats_textes_durs[[#This Row],[Texte en dur]])","v":14},null,{"$f":"_xlfn.IFS(Language=\"EN\",I1534,Language=\"FR\",H1534,Language=\"SP\",J1534)","v":0}]
[null,"ModuleGap","G:O",121,{"$f":"LEN(resultats_textes_durs[[#This Row],[Texte en dur]])","v":3},null,{"$f":"_xlfn.IFS(Language=\"EN\",I1535,Language=\"FR\",H1535,Language=\"SP\",J1535)","v":0}]
[null,"ModuleGap","Module_consult",123,{"$f":"LEN(resultats_textes_durs[[#This Row],[Texte en dur]])","v":14},null,{"$f":"_xlfn.IFS(Language=\"EN\",I1536,Language=\"FR\",H1536,Language=\"SP\",J1536)","v":0}]
[null,"ModuleGap","G:O",124,{"$f":"LEN(resultats_textes_durs[[#This Row],[Texte en dur]])","v":3},null,{"$f":"_xlfn.IFS(Language=\"EN\",I1537,Language=\"FR\",H1537,Language=\"SP\",J1537)","v":0}]
[null,"ModuleGap","Module_consult",126,{"$f":"LEN(resultats_textes_durs[[#This Row],[Texte en dur]])","v":14},null,{"$f":"_xlfn.IFS(Language=\"EN\",I1538,Language=\"FR\",H1538,Language=\"SP\",J1538)","v":0}]
[null,"ModuleGap","G:O",127,{"$f":"LEN(resultats_textes_durs[[#This Row],[Texte en dur]])","v":3},null,{"$f":"_xlfn.IFS(Language=\"EN\",I1539,Language=\"FR\",H1539,Language=\"SP\",J1539)","v":0}]
[null,"ModuleGap","SRM",130,{"$f":"LEN(resultats_textes_durs[[#This Row],[Texte en dur]])","v":3},null,{"$f":"_xlfn.IFS(Language=\"EN\",I1540,Language=\"FR\",H1540,Language=\"SP\",J1540)","v":0}]
[null,"ModuleImportSH","Onglet_mapping_import_param",8,{"$f":"LEN(resultats_textes_durs[[#This Row],[Texte en dur]])","v":27},null,{"$f":"_xlfn.IFS(Language=\"EN\",I1541,Language=\"FR\",H1541,Language=\"SP\",J1541)","v":0}]
[null,"ModuleImportSH","Onglet_mapping_SHlist",9,{"$f":"LEN(resultats_textes_durs[[#This Row],[Texte en dur]])","v":21},null,{"$f":"_xlfn.IFS(Language=\"EN\",I1542,Language=\"FR\",H1542,Language=\"SP\",J1542)","v":0}]
[null,"ModuleImportSH","Tableau1",12,{"$f":"LEN(resultats_textes_durs[[#This Row],[Texte en dur]])","v":8},null,{"$f":"_xlfn.IFS(Language=\"EN\",I1543,Language=\"FR\",H1543,Language=\"SP\",J1543)","v":0}]
[null,"ModuleImportSH","Tableau1",13,{"$f":"LEN(resultats_textes_durs[[#This Row],[Texte en dur]])","v":8},null,{"$f":"_xlfn.IFS(Language=\"EN\",I1544,Language=\"FR\",H1544,Language=\"SP\",J1544)","v":0}]
[null,"ModuleImportSH","Tableau1",14,{"$f":"LEN(resultats_textes_durs[[#This Row],[Texte en dur]])","v":8},null,{"$f":"_xlfn.IFS(Language=\"EN\",I1545,Language=\"FR\",H1545,Language=\"SP\",J1545)","v":0}]
[null,"ModuleImportSH","Votre liste des parties prenantes n'est pas vide.",16,{"$f":"LEN(resultats_textes_durs[[#This Row],[Texte en dur]])","v":49},null,{"$f":"_xlfn.IFS(Language=\"EN\",I1546,Language=\"FR\",H1546,Language=\"SP\",J1546)","v":0}]
[null,"ModuleImportSH","2:",24,{"$f":"LEN(resultats_textes_durs[[#This Row],[Texte en dur]])","v":2},null,{"$f":"_xlfn.IFS(Language=\"EN\",I1547,Language=\"FR\",H1547,Language=\"SP\",J1547)","v":0}]
[null,"ModuleImportSH","Importation annulée ou échouée. Aucune action supplémentaire ne sera effectuée.",29,{"$f":"LEN(resultats_textes_durs[[#This Row],[Texte en dur]])","v":79},null,{"$f":"_xlfn.IFS(Language=\"EN\",I1548,Language=\"FR\",H1548,Language=\"SP\",J1548)","v":0}]
[null,"ModuleImportSH","00:00:01",34,{"$f":"LEN(resultats_textes_durs[[#This Row],[Texte en dur]])","v":8},null,{"$f":"_xlfn.IFS(Language=\"EN\",I1549,Language=\"FR\",H1549,Language=\"SP\",J1549)","v":0}]
[null,"ModuleImportSH","Onglet_mapping_SHlist",61,{"$f":"LEN(resultats_textes_durs[[#This Row],[Texte en dur]])","v":21},null,{"$f":"_xlfn.IFS(Language=\"EN\",I1550,Language=\"FR\",H1550,Language=\"SP\",J1550)","v":0}]
[null,"ModuleImportSH","Onglet_mapping_parameters",62,{"$f":"LEN(resultats_textes_durs[[#This Row],[Texte en dur]])","v":25},null,{"$f":"_xlfn.IFS(Language=\"EN\",I1551,Language=\"FR\",H1551,Language=\"SP\",J1551)","v":0}]
[null,"ModuleImportSH","Onglet_mapping_database",63,{"$f":"LEN(resultats_textes_durs[[#This Row],[Texte en dur]])","v":23},null,{"$f":"_xlfn.IFS(Language=\"EN\",I1552,Language=\"FR\",H1552,Language=\"SP\",J1552)","v":0}]
[null,"ModuleImportSH","Onglet_mapping_import_param",64,{"$f":"LEN(resultats_textes_durs[[#This Row],[Texte en dur]])","v":27},null,{"$f":"_xlfn.IFS(Language=\"EN\",I1553,Language=\"FR\",H1553,Language=\"SP\",J1553)","v":0}]
[null,"ModuleImportSH","Onglet_mapping_parameters",65,{"$f":"LEN(resultats_textes_durs[[#This Row],[Texte en dur]])","v":25},null,{"$f":"_xlfn.IFS(Language=\"EN\",I1554,Language=\"FR\",H1554,Language=\"SP\",J1554)","v":0}]
[null,"ModuleImportSH","E58",67,{"$f":"LEN(resultats_textes_durs[[#This Row],[Texte en dur]])","v":3},null,{"$f":"_xlfn.IFS(Language=\"EN\",I1555,Language=\"FR\",H1555,Language=\"SP\",J1555)","v":0}]
[null,"ModuleImportSH","Onglet_mapping_import_param",69,{"$f":"LEN(resultats_textes_durs[[#This Row],[Texte en dur]])","v":27},null,{"$f":"_xlfn.IFS(Language=\"EN\",I1556,Language=\"FR\",H1556,Language=\"SP\",J1556)","v":0}]
[null,"ModuleImportSH","",74,{"$f":"LEN(resultats_textes_durs[[#This Row],[Texte en dur]])","v":0},null,{"$f":"_xlfn.IFS(Language=\"EN\",I1557,Language=\"FR\",H1557,Language=\"SP\",J1557)","v":0}]
[null,"ModuleImportSH","E120:E151",87,{"$f":"LEN(resultats_textes_durs[[#This Row],[Texte en dur]])","v":9},null,{"$f":"_xlfn.IFS(Language=\"EN\",I1558,Language=\"FR\",H1558,Language=\"SP\",J1558)","v":0}]
[null,"ModuleImportSH","Forms.Label.1",93,{"$f":"LEN(resultats_textes_durs[[#This Row],[Texte en dur]])","v":13},null,{"$f":"_xlfn.IFS(Language=\"EN\",I1559,Language=\"FR\",H1559,Language=\"SP\",J1559)","v":0}]
[null,"ModuleImportSH","Label",93,{"$f":"LEN(resultats_textes_durs[[#This Row],[Texte en dur]])","v":5},null,{"$f":"_xlfn.IFS(Language=\"EN\",I1560,Language=\"FR\",H1560,Language=\"SP\",J1560)","v":0}]
[null,"ModuleImportSH","Forms.ComboBox.1",101,{"$f":"LEN(resultats_textes_durs[[#This Row],[Texte en dur]])","v":16},null,{"$f":"_xlfn.IFS(Language=\"EN\",I1561,Language=\"FR\",H1561,Language=\"SP\",J1561)","v":0}]
[null,"ModuleImportSH","ComboBox",101,{"$f":"LEN(resultats_textes_durs[[#This Row],[Texte en dur]])","v":8},null,{"$f":"_xlfn.IFS(Language=\"EN\",I1562,Language=\"FR\",H1562,Language=\"SP\",J1562)","v":0}]
[null,"ModuleImportSH","L'opération a été annulée ou une erreur s'est produite.",128,{"$f":"LEN(resultats_textes_durs[[#This Row],[Texte en dur]])","v":55},null,{"$f":"_xlfn.IFS(Language=\"EN\",I1563,Language=\"FR\",H1563,Language=\"SP\",J1563)","v":0}]
[null,"ModuleImportSH","Erreur",128,{"$f":"LEN(resultats_textes_durs[[#This Row],[Texte en dur]])","v":6},null,{"$f":"_xlfn.IFS(Language=\"EN\",I1564,Language=\"FR\",H1564,Language=\"SP\",J1564)","v":0}]
[null,"ModuleImportSH","Onglet_mapping_parameters",142,{"$f":"LEN(resultats_textes_durs[[#This Row],[Texte en dur]])","v":25},null,{"$f":"_xlfn.IFS(Language=\"EN\",I1565,Language=\"FR\",H1565,Language=\"SP\",J1565)","v":0}]
[null,"ModuleImportSH","E222",142,{"$f":"LEN(resultats_textes_durs[[#This Row],[Texte en dur]])","v":4},null,{"$f":"_xlfn.IFS(Language=\"EN\",I1566,Language=\"FR\",H1566,Language=\"SP\",J1566)","v":0}]
[null,"ModuleImportSH","Fichiers Excel (*.xls; *.xlsx), *.xls; *.xlsx",143,{"$f":"LEN(resultats_textes_durs[[#This Row],[Texte en dur]])","v":45},null,{"$f":"_xlfn.IFS(Language=\"EN\",I1567,Language=\"FR\",H1567,Language=\"SP\",J1567)","v":0}]
[null,"ModuleImportSH","Sélectionnez le fichier à importer",143,{"$f":"LEN(resultats_textes_durs[[#This Row],[Texte en dur]])","v":34},null,{"$f":"_xlfn.IFS(Language=\"EN\",I1568,Language=\"FR\",H1568,Language=\"SP\",J1568)","v":0}]
[null,"ModuleImportSH","False",144,{"$f":"LEN(resultats_textes_durs[[#This Row],[Texte en dur]])","v":5},null,{"$f":"_xlfn.IFS(Language=\"EN\",I1569,Language=\"FR\",H1569,Language=\"SP\",J1569)","v":0}]
[null,"ModuleImportSH","Aucun fichier sélectionné. Opération annulée.",145,{"$f":"LEN(resultats_textes_durs[[#This Row],[Texte en dur]])","v":45},null,{"$f":"_xlfn.IFS(Language=\"EN\",I1570,Language=\"FR\",H1570,Language=\"SP\",J1570)","v":0}]
[null,"ModuleImportSH","Impossible d'ouvrir le fichier sélectionné.",156,{"$f":"LEN(resultats_textes_durs[[#This Row],[Texte en dur]])","v":43},null,{"$f":"_xlfn.IFS(Language=\"EN\",I1571,Language=\"FR\",H1571,Language=\"SP\",J1571)","v":0}]
[null,"ModuleImportSH","Onglet_mapping_import_param",161,{"$f":"LEN(resultats_textes_durs[[#This Row],[Texte en dur]])","v":27},null,{"$f":"_xlfn.IFS(Language=\"EN\",I1572,Language=\"FR\",H1572,Language=\"SP\",J1572)","v":0}]
[null,"ModuleImportSH","*",165,{"$f":"LEN(resultats_textes_durs[[#This Row],[Texte en dur]])","v":1},null,{"$f":"_xlfn.IFS(Language=\"EN\",I1573,Language=\"FR\",H1573,Language=\"SP\",J1573)","v":0}]
[null,"ModuleImportSH","*",166,{"$f":"LEN(resultats_textes_durs[[#This Row],[Texte en dur]])","v":1},null,{"$f":"_xlfn.IFS(Language=\"EN\",I1574,Language=\"FR\",H1574,Language=\"SP\",J1574)","v":0}]
[null,"ModuleImportSH","Ligne des en-têtes : ",171,{"$f":"LEN(resultats_textes_durs[[#This Row],[Texte en dur]])","v":21},null,{"$f":"_xlfn.IFS(Language=\"EN\",I1575,Language=\"FR\",H1575,Language=\"SP\",J1575)","v":0}]
[null,"ModuleImportSH","Dernière ligne du fichier source : ",172,{"$f":"LEN(resultats_textes_durs[[#This Row],[Texte en dur]])","v":35},null,{"$f":"_xlfn.IFS(Language=\"EN\",I1576,Language=\"FR\",H1576,Language=\"SP\",J1576)","v":0}]
[null,"ModuleImportSH","Copie de la ligne ",188,{"$f":"LEN(resultats_textes_durs[[#This Row],[Texte en dur]])","v":18},null,{"$f":"_xlfn.IFS(Language=\"EN\",I1577,Language=\"FR\",H1577,Language=\"SP\",J1577)","v":0}]
[null,"ModuleImportSH"," vers la ligne ",188,{"$f":"LEN(resultats_textes_durs[[#This Row],[Texte en dur]])","v":15},null,{"$f":"_xlfn.IFS(Language=\"EN\",I1578,Language=\"FR\",H1578,Language=\"SP\",J1578)","v":0}]
[null,"ModuleImportSH","Une erreur s'est produite : ",205,{"$f":"LEN(resultats_textes_durs[[#This Row],[Texte en dur]])","v":28},null,{"$f":"_xlfn.IFS(Language=\"EN\",I1579,Language=\"FR\",H1579,Language=\"SP\",J1579)","v":0}]
[null,"ModuleImportSH","Erreur",205,{"$f":"LEN(resultats_textes_durs[[#This Row],[Texte en dur]])","v":6},null,{"$f":"_xlfn.IFS(Language=\"EN\",I1580,Language=\"FR\",H1580,Language=\"SP\",J1580)","v":0}]
[null,"ModuleImportSH","Onglet_mapping_import_param",222,{"$f":"LEN(resultats_textes_durs[[#This Row],[Texte en dur]])","v":27},null,{"$f":"_xlfn.IFS(Language=\"EN\",I1581,Language=\"FR\",H1581,Language=\"SP\",J1581)","v":0}]
[null,"ModuleImportSH","Onglet_mapping_import_param",223,{"$f":"LEN(resultats_textes_durs[[#This Row],[Texte en dur]])","v":27},null,{"$f":"_xlfn.IFS(Language=\"EN\",I1582,Language=\"FR\",H1582,Language=\"SP\",J1582)","v":0}]
[null,"ModuleImportSH","",233,{"$f":"LEN(resultats_textes_durs[[#This Row],[Texte en dur]])","v":0},null,{"$f":"_xlfn.IFS(Language=\"EN\",I1583,Language=\"FR\",H1583,Language=\"SP\",J1583)","v":0}]
[null,"ModuleImportSH","Non trouvé",240,{"$f":"LEN(resultats_textes_durs[[#This Row],[Texte en dur]])","v":10},null,{"$f":"_xlfn.IFS(Language=\"EN\",I1584,Language=\"FR\",H1584,Language=\"SP\",J1584)","v":0}]
[null,"ModuleImportSH","Non trouvé",241,{"$f":"LEN(resultats_textes_durs[[#This Row],[Texte en dur]])","v":10},null,{"$f":"_xlfn.IFS(Language=\"EN\",I1585,Language=\"FR\",H1585,Language=\"SP\",J1585)","v":0}]
[null,"ModuleImportSH","Opération terminée.",246,{"$f":"LEN(resultats_textes_durs[[#This Row],[Texte en dur]])","v":19},null,{"$f":"_xlfn.IFS(Language=\"EN\",I1586,Language=\"FR\",H1586,Language=\"SP\",J1586)","v":0}]
[null,"ModuleImportSH","Onglet_mapping_import_param",257,{"$f":"LEN(resultats_textes_durs[[#This Row],[Texte en dur]])","v":27},null,{"$f":"_xlfn.IFS(Language=\"EN\",I1587,Language=\"FR\",H1587,Language=\"SP\",J1587)","v":0}]
[null,"ModuleImportSH","Onglet_mapping_database",258,{"$f":"LEN(resultats_textes_durs[[#This Row],[Texte en dur]])","v":23},null,{"$f":"_xlfn.IFS(Language=\"EN\",I1588,Language=\"FR\",H1588,Language=\"SP\",J1588)","v":0}]
[null,"ModuleImportSH","Onglet_mapping_database",267,{"$f":"LEN(resultats_textes_durs[[#This Row],[Texte en dur]])","v":23},null,{"$f":"_xlfn.IFS(Language=\"EN\",I1589,Language=\"FR\",H1589,Language=\"SP\",J1589)","v":0}]
[null,"ModuleImportSH","",268,{"$f":"LEN(resultats_textes_durs[[#This Row],[Texte en dur]])","v":0},null,{"$f":"_xlfn.IFS(Language=\"EN\",I1590,Language=\"FR\",H1590,Language=\"SP\",J1590)","v":0}]
[null,"ModuleImportSH","Non trouvé",275,{"$f":"LEN(resultats_textes_durs[[#This Row],[Texte en dur]])","v":10},null,{"$f":"_xlfn.IFS(Language=\"EN\",I1591,Language=\"FR\",H1591,Language=\"SP\",J1591)","v":0}]
[null,"ModuleImportSH","Non trouvé",276,{"$f":"LEN(resultats_textes_durs[[#This Row],[Texte en dur]])","v":10},null,{"$f":"_xlfn.IFS(Language=\"EN\",I1592,Language=\"FR\",H1592,Language=\"SP\",J1592)","v":0}]
[null,"ModuleImportSH","Opération terminée.",281,{"$f":"LEN(resultats_textes_durs[[#This Row],[Texte en dur]])","v":19},null,{"$f":"_xlfn.IFS(Language=\"EN\",I1593,Language=\"FR\",H1593,Language=\"SP\",J1593)","v":0}]
[null,"ModuleImportSH","Onglet_mapping_import_param",293,{"$f":"LEN(resultats_textes_durs[[#This Row],[Texte en dur]])","v":27},null,{"$f":"_xlfn.IFS(Language=\"EN\",I1594,Language=\"FR\",H1594,Language=\"SP\",J1594)","v":0}]
[null,"ModuleImportSH","Onglet_mapping_database",294,{"$f":"LEN(resultats_textes_durs[[#This Row],[Texte en dur]])","v":23},null,{"$f":"_xlfn.IFS(Language=\"EN\",I1595,Language=\"FR\",H1595,Language=\"SP\",J1595)","v":0}]
[null,"ModuleImportSH","Onglet_mapping_database",296,{"$f":"LEN(resultats_textes_durs[[#This Row],[Texte en dur]])","v":23},null,{"$f":"_xlfn.IFS(Language=\"EN\",I1596,Language=\"FR\",H1596,Language=\"SP\",J1596)","v":0}]
[null,"ModuleImportSH","Onglet_mapping_import_param",299,{"$f":"LEN(resultats_textes_durs[[#This Row],[Texte en dur]])","v":27},null,{"$f":"_xlfn.IFS(Language=\"EN\",I1597,Language=\"FR\",H1597,Language=\"SP\",J1597)","v":0}]
[null,"ModuleImportSH","ColSource",302,{"$f":"LEN(resultats_textes_durs[[#This Row],[Texte en dur]])","v":9},null,{"$f":"_xlfn.IFS(Language=\"EN\",I1598,Language=\"FR\",H1598,Language=\"SP\",J1598)","v":0}]
[null,"ModuleImportSH","Onglet_mapping_import_param",305,{"$f":"LEN(resultats_textes_durs[[#This Row],[Texte en dur]])","v":27},null,{"$f":"_xlfn.IFS(Language=\"EN\",I1599,Language=\"FR\",H1599,Language=\"SP\",J1599)","v":0}]
[null,"ModuleImportSH","Onglet_mapping_import_param",312,{"$f":"LEN(resultats_textes_durs[[#This Row],[Texte en dur]])","v":27},null,{"$f":"_xlfn.IFS(Language=\"EN\",I1600,Language=\"FR\",H1600,Language=\"SP\",J1600)","v":0}]
[null,"ModuleImportSH","Les données ont été copiées avec succès.",320,{"$f":"LEN(resultats_textes_durs[[#This Row],[Texte en dur]])","v":40},null,{"$f":"_xlfn.IFS(Language=\"EN\",I1601,Language=\"FR\",H1601,Language=\"SP\",J1601)","v":0}]
[null,"ModuleImportSH","Onglet_mapping_database",332,{"$f":"LEN(resultats_textes_durs[[#This Row],[Texte en dur]])","v":23},null,{"$f":"_xlfn.IFS(Language=\"EN\",I1602,Language=\"FR\",H1602,Language=\"SP\",J1602)","v":0}]
[null,"ModuleImportSH","Onglet_mapping_SHlist",333,{"$f":"LEN(resultats_textes_durs[[#This Row],[Texte en dur]])","v":21},null,{"$f":"_xlfn.IFS(Language=\"EN\",I1603,Language=\"FR\",H1603,Language=\"SP\",J1603)","v":0}]
[null,"ModuleImportSH","Onglet_mapping_database",335,{"$f":"LEN(resultats_textes_durs[[#This Row],[Texte en dur]])","v":23},null,{"$f":"_xlfn.IFS(Language=\"EN\",I1604,Language=\"FR\",H1604,Language=\"SP\",J1604)","v":0}]
[null,"ModuleImportSH","Tableau1",338,{"$f":"LEN(resultats_textes_durs[[#This Row],[Texte en dur]])","v":8},null,{"$f":"_xlfn.IFS(Language=\"EN\",I1605,Language=\"FR\",H1605,Language=\"SP\",J1605)","v":0}]
[null,"ModuleImportSH","Onglet_mapping_SHlist",338,{"$f":"LEN(resultats_textes_durs[[#This Row],[Texte en dur]])","v":21},null,{"$f":"_xlfn.IFS(Language=\"EN\",I1606,Language=\"FR\",H1606,Language=\"SP\",J1606)","v":0}]
[null,"ModuleImportSH","Onglet_mapping_database",341,{"$f":"LEN(resultats_textes_durs[[#This Row],[Texte en dur]])","v":23},null,{"$f":"_xlfn.IFS(Language=\"EN\",I1607,Language=\"FR\",H1607,Language=\"SP\",J1607)","v":0}]
[null,"ModuleImportSH","Onglet_mapping_SHlist",341,{"$f":"LEN(resultats_textes_durs[[#This Row],[Texte en dur]])","v":21},null,{"$f":"_xlfn.IFS(Language=\"EN\",I1608,Language=\"FR\",H1608,Language=\"SP\",J1608)","v":0}]
[null,"ModuleImportSH","C4:I",342,{"$f":"LEN(resultats_textes_durs[[#This Row],[Texte en dur]])","v":4},null,{"$f":"_xlfn.IFS(Language=\"EN\",I1609,Language=\"FR\",H1609,Language=\"SP\",J1609)","v":0}]
[null,"ModuleImportSH","C",343,{"$f":"LEN(resultats_textes_durs[[#This Row],[Texte en dur]])","v":1},null,{"$f":"_xlfn.IFS(Language=\"EN\",I1610,Language=\"FR\",H1610,Language=\"SP\",J1610)","v":0}]
[null,"ModuleImportSH","Onglet_mapping_database",348,{"$f":"LEN(resultats_textes_durs[[#This Row],[Texte en dur]])","v":23},null,{"$f":"_xlfn.IFS(Language=\"EN\",I1611,Language=\"FR\",H1611,Language=\"SP\",J1611)","v":0}]
[null,"ModuleImportSH","Onglet_mapping_SHlist",348,{"$f":"LEN(resultats_textes_durs[[#This Row],[Texte en dur]])","v":21},null,{"$f":"_xlfn.IFS(Language=\"EN\",I1612,Language=\"FR\",H1612,Language=\"SP\",J1612)","v":0}]
[null,"ModuleImportSH","AG4:AG",349,{"$f":"LEN(resultats_textes_durs[[#This Row],[Texte en dur]])","v":6},null,{"$f":"_xlfn.IFS(Language=\"EN\",I1613,Language=\"FR\",H1613,Language=\"SP\",J1613)","v":0}]
[null,"ModuleImportSH","M",350,{"$f":"LEN(resultats_textes_durs[[#This Row],[Texte en dur]])","v":1},null,{"$f":"_xlfn.IFS(Language=\"EN\",I1614,Language=\"FR\",H1614,Language=\"SP\",J1614)","v":0}]
[null,"ModuleImportSH","Les données ont été copiées avec succès dans 'Onglet_mapping_SHlist'.",358,{"$f":"LEN(resultats_textes_durs[[#This Row],[Texte en dur]])","v":69},null,{"$f":"_xlfn.IFS(Language=\"EN\",I1615,Language=\"FR\",H1615,Language=\"SP\",J1615)","v":0}]
[null,"ModuleListeOnglets","Liste_Onglets",10,{"$f":"LEN(resultats_textes_durs[[#This Row],[Texte en dur]])","v":13},null,{"$f":"_xlfn.IFS(Language=\"EN\",I1616,Language=\"FR\",H1616,Language=\"SP\",J1616)","v":0}]
[null,"ModuleListeOnglets","Liste_Onglets",12,{"$f":"LEN(resultats_textes_durs[[#This Row],[Texte en dur]])","v":13},null,{"$f":"_xlfn.IFS(Language=\"EN\",I1617,Language=\"FR\",H1617,Language=\"SP\",J1617)","v":0}]
[null,"ModuleListeOnglets","Liste_Onglets",17,{"$f":"LEN(resultats_textes_durs[[#This Row],[Texte en dur]])","v":13},null,{"$f":"_xlfn.IFS(Language=\"EN\",I1618,Language=\"FR\",H1618,Language=\"SP\",J1618)","v":0}]
[null,"ModuleListeOnglets","C5:E",21,{"$f":"LEN(resultats_textes_durs[[#This Row],[Texte en dur]])","v":4},null,{"$f":"_xlfn.IFS(Language=\"EN\",I1619,Language=\"FR\",H1619,Language=\"SP\",J1619)","v":0}]
[null,"ModuleListeOnglets","C4",24,{"$f":"LEN(resultats_textes_durs[[#This Row],[Texte en dur]])","v":2},null,{"$f":"_xlfn.IFS(Language=\"EN\",I1620,Language=\"FR\",H1620,Language=\"SP\",J1620)","v":0}]
[null,"ModuleListeOnglets","Nom de la Feuille",24,{"$f":"LEN(resultats_textes_durs[[#This Row],[Texte en dur]])","v":17},null,{"$f":"_xlfn.IFS(Language=\"EN\",I1621,Language=\"FR\",H1621,Language=\"SP\",J1621)","v":0}]
[null,"ModuleListeOnglets","D4",25,{"$f":"LEN(resultats_textes_durs[[#This Row],[Texte en dur]])","v":2},null,{"$f":"_xlfn.IFS(Language=\"EN\",I1622,Language=\"FR\",H1622,Language=\"SP\",J1622)","v":0}]
[null,"ModuleListeOnglets","Nombre d'Objets",25,{"$f":"LEN(resultats_textes_durs[[#This Row],[Texte en dur]])","v":15},null,{"$f":"_xlfn.IFS(Language=\"EN\",I1623,Language=\"FR\",H1623,Language=\"SP\",J1623)","v":0}]
[null,"ModuleListeOnglets","E4",26,{"$f":"LEN(resultats_textes_durs[[#This Row],[Texte en dur]])","v":2},null,{"$f":"_xlfn.IFS(Language=\"EN\",I1624,Language=\"FR\",H1624,Language=\"SP\",J1624)","v":0}]
[null,"ModuleListeOnglets","Texte entre underscores",26,{"$f":"LEN(resultats_textes_durs[[#This Row],[Texte en dur]])","v":23},null,{"$f":"_xlfn.IFS(Language=\"EN\",I1625,Language=\"FR\",H1625,Language=\"SP\",J1625)","v":0}]
[null,"ModuleListeOnglets","Liste_Onglets",39,{"$f":"LEN(resultats_textes_durs[[#This Row],[Texte en dur]])","v":13},null,{"$f":"_xlfn.IFS(Language=\"EN\",I1626,Language=\"FR\",H1626,Language=\"SP\",J1626)","v":0}]
[null,"ModuleListeOnglets","Onglet",44,{"$f":"LEN(resultats_textes_durs[[#This Row],[Texte en dur]])","v":6},null,{"$f":"_xlfn.IFS(Language=\"EN\",I1627,Language=\"FR\",H1627,Language=\"SP\",J1627)","v":0}]
[null,"ModuleListeOnglets","Onglet",46,{"$f":"LEN(resultats_textes_durs[[#This Row],[Texte en dur]])","v":6},null,{"$f":"_xlfn.IFS(Language=\"EN\",I1628,Language=\"FR\",H1628,Language=\"SP\",J1628)","v":0}]
[null,"ModuleListeOnglets","_",49,{"$f":"LEN(resultats_textes_durs[[#This Row],[Texte en dur]])","v":1},null,{"$f":"_xlfn.IFS(Language=\"EN\",I1629,Language=\"FR\",H1629,Language=\"SP\",J1629)","v":0}]
[null,"ModuleListeOnglets","_",49,{"$f":"LEN(resultats_textes_durs[[#This Row],[Texte en dur]])","v":1},null,{"$f":"_xlfn.IFS(Language=\"EN\",I1630,Language=\"FR\",H1630,Language=\"SP\",J1630)","v":0}]
[null,"ModuleListeOnglets","C:E",60,{"$f":"LEN(resultats_textes_durs[[#This Row],[Texte en dur]])","v":3},null,{"$f":"_xlfn.IFS(Language=\"EN\",I1631,Language=\"FR\",H1631,Language=\"SP\",J1631)","v":0}]
[null,"ModuleListeOnglets","La liste des onglets, le nombre d'objets et le texte entre underscores ont été enregistrés dans la feuille 'Liste_Onglets'.",62,{"$f":"LEN(resultats_textes_durs[[#This Row],[Texte en dur]])","v":123},null,{"$f":"_xlfn.IFS(Language=\"EN\",I1632,Language=\"FR\",H1632,Language=\"SP\",J1632)","v":0}]
[null,"ModuleListeOnglets","Les onglets ont été réordonnés par ordre alphabétique !",81,{"$f":"LEN(resultats_textes_durs[[#This Row],[Texte en dur]])","v":55},null,{"$f":"_xlfn.IFS(Language=\"EN\",I1633,Language=\"FR\",H1633,Language=\"SP\",J1633)","v":0}]
[null,"ModuleMapping","Onglet_mapping_SHlist",25,{"$f":"LEN(resultats_textes_durs[[#This Row],[Texte en dur]])","v":21},"-",{"$f":"_xlfn.IFS(Language=\"EN\",I1634,Language=\"FR\",H1634,Language=\"SP\",J1634)","v":0}]
[null,"ModuleMapping","C",28,{"$f":"LEN(resultats_textes_durs[[#This Row],[Texte en dur]])","v":1},"-",{"$f":"_xlfn.IFS(Language=\"EN\",I1635,Language=\"FR\",H1635,Language=\"SP\",J1635)","v":0}]
[null,"ModuleMapping","",34,{"$f":"LEN(resultats_textes_durs[[#This Row],[Texte en dur]])","v":0},"-",{"$f":"_xlfn.IFS(Language=\"EN\",I1636,Language=\"FR\",H1636,Language=\"SP\",J1636)","v":0}]
[null,"ModuleMapping","",51,{"$f":"LEN(resultats_textes_durs[[#This Row],[Texte en dur]])","v":0},"-",{"$f":"_xlfn.IFS(Language=\"EN\",I1637,Language=\"FR\",H1637,Language=\"SP\",J1637)","v":0}]
[null,"ModuleMapping","",52,{"$f":"LEN(resultats_textes_durs[[#This Row],[Texte en dur]])","v":0},"-",{"$f":"_xlfn.IFS(Language=\"EN\",I1638,Language=\"FR\",H1638,Language=\"SP\",J1638)","v":0}]
[null,"ModuleMapping","",52,{"$f":"LEN(resultats_textes_durs[[#This Row],[Texte en dur]])","v":0},"-",{"$f":"_xlfn.IFS(Language=\"EN\",I1639,Language=\"FR\",H1639,Language=\"SP\",J1639)","v":0}]
[null,"ModuleMapping","Erreur : Pour le stakeholder '",53,{"$f":"LEN(resultats_textes_durs[[#This Row],[Texte en dur]])","v":30},"Message utilisateur",{"$f":"_xlfn.IFS(Language=\"EN\",I1640,Language=\"FR\",H1640,Language=\"SP\",J1640)","v":0}]
[null,"ModuleMapping","' (ligne ",53,{"$f":"LEN(resultats_textes_durs[[#This Row],[Texte en dur]])","v":9},"-",{"$f":"_xlfn.IFS(Language=\"EN\",I1641,Language=\"FR\",H1641,Language=\"SP\",J1641)","v":0}]
[null,"ModuleMapping","), ",53,{"$f":"LEN(resultats_textes_durs[[#This Row],[Texte en dur]])","v":3},"-",{"$f":"_xlfn.IFS(Language=\"EN\",I1642,Language=\"FR\",H1642,Language=\"SP\",J1642)","v":0}]
[null,"ModuleMapping","les colonnes D et E doivent être remplies dans 'Onglet_mapping_SHlist'.",54,{"$f":"LEN(resultats_textes_durs[[#This Row],[Texte en dur]])","v":71},"Message utilisateur",{"$f":"_xlfn.IFS(Language=\"EN\",I1643,Language=\"FR\",H1643,Language=\"SP\",J1643)","v":0}]
[null,"ModuleMapping","Données manquantes",54,{"$f":"LEN(resultats_textes_durs[[#This Row],[Texte en dur]])","v":18},"Message utilisateur",{"$f":"_xlfn.IFS(Language=\"EN\",I1644,Language=\"FR\",H1644,Language=\"SP\",J1644)","v":0}]
[null,"ModuleMapping","Onglet_mapping_matrix_single",107,{"$f":"LEN(resultats_textes_durs[[#This Row],[Texte en dur]])","v":28},"-",{"$f":"_xlfn.IFS(Language=\"EN\",I1645,Language=\"FR\",H1645,Language=\"SP\",J1645)","v":0}]
[null,"ModuleMapping","Aucun graphique trouvé sur la feuille 'Onglet_mapping_matrix_single'.",111,{"$f":"LEN(resultats_textes_durs[[#This Row],[Texte en dur]])","v":69},"Message utilisateur",{"$f":"_xlfn.IFS(Language=\"EN\",I1646,Language=\"FR\",H1646,Language=\"SP\",J1646)","v":0}]
[null,"ModuleMapping","Le graphique ne contient aucune donnée.",120,{"$f":"LEN(resultats_textes_durs[[#This Row],[Texte en dur]])","v":39},"Message utilisateur",{"$f":"_xlfn.IFS(Language=\"EN\",I1647,Language=\"FR\",H1647,Language=\"SP\",J1647)","v":0}]
[null,"ModuleMapping","https://",125,{"$f":"LEN(resultats_textes_durs[[#This Row],[Texte en dur]])","v":8},"-",{"$f":"_xlfn.IFS(Language=\"EN\",I1648,Language=\"FR\",H1648,Language=\"SP\",J1648)","v":0}]
[null,"ModuleMapping","",128,{"$f":"LEN(resultats_textes_durs[[#This Row],[Texte en dur]])","v":0},"-",{"$f":"_xlfn.IFS(Language=\"EN\",I1649,Language=\"FR\",H1649,Language=\"SP\",J1649)","v":0}]
[null,"ModuleMapping","TEMP",130,{"$f":"LEN(resultats_textes_durs[[#This Row],[Texte en dur]])","v":4},"-",{"$f":"_xlfn.IFS(Language=\"EN\",I1650,Language=\"FR\",H1650,Language=\"SP\",J1650)","v":0}]
[null,"ModuleMapping","\\GraphiqueTemp.jpg",130,{"$f":"LEN(resultats_textes_durs[[#This Row],[Texte en dur]])","v":18},"-",{"$f":"_xlfn.IFS(Language=\"EN\",I1651,Language=\"FR\",H1651,Language=\"SP\",J1651)","v":0}]
[null,"ModuleMapping","Le fichier est ouvert via Teams ou OneDrive. L'image sera enregistrée localement dans : ",131,{"$f":"LEN(resultats_textes_durs[[#This Row],[Texte en dur]])","v":88},"Message utilisateur",{"$f":"_xlfn.IFS(Language=\"EN\",I1652,Language=\"FR\",H1652,Language=\"SP\",J1652)","v":0}]
[null,"ModuleMapping","\\GraphiqueTemp.jpg",134,{"$f":"LEN(resultats_textes_durs[[#This Row],[Texte en dur]])","v":18},"-",{"$f":"_xlfn.IFS(Language=\"EN\",I1653,Language=\"FR\",H1653,Language=\"SP\",J1653)","v":0}]
[null,"ModuleMapping","JPEG",138,{"$f":"LEN(resultats_textes_durs[[#This Row],[Texte en dur]])","v":4},"-",{"$f":"_xlfn.IFS(Language=\"EN\",I1654,Language=\"FR\",H1654,Language=\"SP\",J1654)","v":0}]
[null,"ModuleMapping","Le graphique a été exporté avec succès vers : ",141,{"$f":"LEN(resultats_textes_durs[[#This Row],[Texte en dur]])","v":46},"Message utilisateur",{"$f":"_xlfn.IFS(Language=\"EN\",I1655,Language=\"FR\",H1655,Language=\"SP\",J1655)","v":0}]
[null,"ModuleMapping","Une erreur est survenue : ",146,{"$f":"LEN(resultats_textes_durs[[#This Row],[Texte en dur]])","v":26},"Message utilisateur",{"$f":"_xlfn.IFS(Language=\"EN\",I1656,Language=\"FR\",H1656,Language=\"SP\",J1656)","v":0}]
[null,"ModuleMapping","AUT_long",154,{"$f":"LEN(resultats_textes_durs[[#This Row],[Texte en dur]])","v":8},"-",{"$f":"_xlfn.IFS(Language=\"EN\",I1657,Language=\"FR\",H1657,Language=\"SP\",J1657)","v":0}]
[null,"ModuleMapping","BUS_long",155,{"$f":"LEN(resultats_textes_durs[[#This Row],[Texte en dur]])","v":8},"-",{"$f":"_xlfn.IFS(Language=\"EN\",I1658,Language=\"FR\",H1658,Language=\"SP\",J1658)","v":0}]
[null,"ModuleMapping","CIV_long",156,{"$f":"LEN(resultats_textes_durs[[#This Row],[Texte en dur]])","v":8},"-",{"$f":"_xlfn.IFS(Language=\"EN\",I1659,Language=\"FR\",H1659,Language=\"SP\",J1659)","v":0}]
[null,"ModuleMapping","COM_long",157,{"$f":"LEN(resultats_textes_durs[[#This Row],[Texte en dur]])","v":8},"-",{"$f":"_xlfn.IFS(Language=\"EN\",I1660,Language=\"FR\",H1660,Language=\"SP\",J1660)","v":0}]
[null,"ModuleMapping","ALL_long",158,{"$f":"LEN(resultats_textes_durs[[#This Row],[Texte en dur]])","v":8},"-",{"$f":"_xlfn.IFS(Language=\"EN\",I1661,Language=\"FR\",H1661,Language=\"SP\",J1661)","v":0}]
[null,"ModuleMapping","AUT_short",160,{"$f":"LEN(resultats_textes_durs[[#This Row],[Texte en dur]])","v":9},"-",{"$f":"_xlfn.IFS(Language=\"EN\",I1662,Language=\"FR\",H1662,Language=\"SP\",J1662)","v":0}]
[null,"ModuleMapping","BUS_short",161,{"$f":"LEN(resultats_textes_durs[[#This Row],[Texte en dur]])","v":9},"-",{"$f":"_xlfn.IFS(Language=\"EN\",I1663,Language=\"FR\",H1663,Language=\"SP\",J1663)","v":0}]
[null,"ModuleMapping","CIV_short",162,{"$f":"LEN(resultats_textes_durs[[#This Row],[Texte en dur]])","v":9},"-",{"$f":"_xlfn.IFS(Language=\"EN\",I1664,Language=\"FR\",H1664,Language=\"SP\",J1664)","v":0}]
[null,"ModuleMapping","COM_short",163,{"$f":"LEN(resultats_textes_durs[[#This Row],[Texte en dur]])","v":9},"-",{"$f":"_xlfn.IFS(Language=\"EN\",I1665,Language=\"FR\",H1665,Language=\"SP\",J1665)","v":0}]
[null,"ModuleMapping","Onglet_mapping_SHlist",177,{"$f":"LEN(resultats_textes_durs[[#This Row],[Texte en dur]])","v":21},"-",{"$f":"_xlfn.IFS(Language=\"EN\",I1666,Language=\"FR\",H1666,Language=\"SP\",J1666)","v":0}]
[null,"ModuleMapping","Scripting.Dictionary",179,{"$f":"LEN(resultats_textes_durs[[#This Row],[Texte en dur]])","v":20},"-",{"$f":"_xlfn.IFS(Language=\"EN\",I1667,Language=\"FR\",H1667,Language=\"SP\",J1667)","v":0}]
[null,"ModuleMapping","",189,{"$f":"LEN(resultats_textes_durs[[#This Row],[Texte en dur]])","v":0},"-",{"$f":"_xlfn.IFS(Language=\"EN\",I1668,Language=\"FR\",H1668,Language=\"SP\",J1668)","v":0}]
[null,"ModuleMapping","",202,{"$f":"LEN(resultats_textes_durs[[#This Row],[Texte en dur]])","v":0},"-",{"$f":"_xlfn.IFS(Language=\"EN\",I1669,Language=\"FR\",H1669,Language=\"SP\",J1669)","v":0}]
[null,"ModuleMapping","",206,{"$f":"LEN(resultats_textes_durs[[#This Row],[Texte en dur]])","v":0},"-",{"$f":"_xlfn.IFS(Language=\"EN\",I1670,Language=\"FR\",H1670,Language=\"SP\",J1670)","v":0}]
[null,"ModuleMapping","ID",208,{"$f":"LEN(resultats_textes_durs[[#This Row],[Texte en dur]])","v":2},"-",{"$f":"_xlfn.IFS(Language=\"EN\",I1671,Language=\"FR\",H1671,Language=\"SP\",J1671)","v":0}]
[null,"ModuleMapping","00",208,{"$f":"LEN(resultats_textes_durs[[#This Row],[Texte en dur]])","v":2},"-",{"$f":"_xlfn.IFS(Language=\"EN\",I1672,Language=\"FR\",H1672,Language=\"SP\",J1672)","v":0}]
[null,"ModuleMapping","Les SHID ont été générés et complétés avec succès.",222,{"$f":"LEN(resultats_textes_durs[[#This Row],[Texte en dur]])","v":50},"Message utilisateur",{"$f":"_xlfn.IFS(Language=\"EN\",I1673,Language=\"FR\",H1673,Language=\"SP\",J1673)","v":0}]
[null,"ModuleMapping","Onglet_mapping_SHlist",234,{"$f":"LEN(resultats_textes_durs[[#This Row],[Texte en dur]])","v":21},"-",{"$f":"_xlfn.IFS(Language=\"EN\",I1674,Language=\"FR\",H1674,Language=\"SP\",J1674)","v":0}]
[null,"ModuleMapping","Onglet_mapping_parameters",235,{"$f":"LEN(resultats_textes_durs[[#This Row],[Texte en dur]])","v":25},"-",{"$f":"_xlfn.IFS(Language=\"EN\",I1675,Language=\"FR\",H1675,Language=\"SP\",J1675)","v":0}]
[null,"ModuleMapping","Onglet_mapping_SHlist",241,{"$f":"LEN(resultats_textes_durs[[#This Row],[Texte en dur]])","v":21},"-",{"$f":"_xlfn.IFS(Language=\"EN\",I1676,Language=\"FR\",H1676,Language=\"SP\",J1676)","v":0}]
[null,"ModuleMapping","",243,{"$f":"LEN(resultats_textes_durs[[#This Row],[Texte en dur]])","v":0},"-",{"$f":"_xlfn.IFS(Language=\"EN\",I1677,Language=\"FR\",H1677,Language=\"SP\",J1677)","v":0}]
[null,"ModuleMapping","Onglet_mapping_parameters",246,{"$f":"LEN(resultats_textes_durs[[#This Row],[Texte en dur]])","v":25},"-",{"$f":"_xlfn.IFS(Language=\"EN\",I1678,Language=\"FR\",H1678,Language=\"SP\",J1678)","v":0}]
[null,"ModuleMapping","E5:E",247,{"$f":"LEN(resultats_textes_durs[[#This Row],[Texte en dur]])","v":4},"-",{"$f":"_xlfn.IFS(Language=\"EN\",I1679,Language=\"FR\",H1679,Language=\"SP\",J1679)","v":0}]
[null,"ModuleMapping","Onglet_mapping_SHlist",249,{"$f":"LEN(resultats_textes_durs[[#This Row],[Texte en dur]])","v":21},"-",{"$f":"_xlfn.IFS(Language=\"EN\",I1680,Language=\"FR\",H1680,Language=\"SP\",J1680)","v":0}]
[null,"ModuleMapping","sh_groups",256,{"$f":"LEN(resultats_textes_durs[[#This Row],[Texte en dur]])","v":9},"-",{"$f":"_xlfn.IFS(Language=\"EN\",I1681,Language=\"FR\",H1681,Language=\"SP\",J1681)","v":0}]
[null,"ModuleMapping","Onglet_mapping_parameters",257,{"$f":"LEN(resultats_textes_durs[[#This Row],[Texte en dur]])","v":25},"-",{"$f":"_xlfn.IFS(Language=\"EN\",I1682,Language=\"FR\",H1682,Language=\"SP\",J1682)","v":0}]
[null,"ModuleMapping","",260,{"$f":"LEN(resultats_textes_durs[[#This Row],[Texte en dur]])","v":0},"-",{"$f":"_xlfn.IFS(Language=\"EN\",I1683,Language=\"FR\",H1683,Language=\"SP\",J1683)","v":0}]
[null,"ModuleMapping","Onglet_mapping_SHlist",261,{"$f":"LEN(resultats_textes_durs[[#This Row],[Texte en dur]])","v":21},"-",{"$f":"_xlfn.IFS(Language=\"EN\",I1684,Language=\"FR\",H1684,Language=\"SP\",J1684)","v":0}]
[null,"ModuleMapping","E13:E",262,{"$f":"LEN(resultats_textes_durs[[#This Row],[Texte en dur]])","v":5},"-",{"$f":"_xlfn.IFS(Language=\"EN\",I1685,Language=\"FR\",H1685,Language=\"SP\",J1685)","v":0}]
[null,"ModuleMapping","Yes",264,{"$f":"LEN(resultats_textes_durs[[#This Row],[Texte en dur]])","v":3},"-",{"$f":"_xlfn.IFS(Language=\"EN\",I1686,Language=\"FR\",H1686,Language=\"SP\",J1686)","v":0}]
[null,"ModuleMapping","Onglet_mapping_parameters",264,{"$f":"LEN(resultats_textes_durs[[#This Row],[Texte en dur]])","v":25},"-",{"$f":"_xlfn.IFS(Language=\"EN\",I1687,Language=\"FR\",H1687,Language=\"SP\",J1687)","v":0}]
[null,"ModuleMapping","Yes",266,{"$f":"LEN(resultats_textes_durs[[#This Row],[Texte en dur]])","v":3},"-",{"$f":"_xlfn.IFS(Language=\"EN\",I1688,Language=\"FR\",H1688,Language=\"SP\",J1688)","v":0},null,null,null,"Dans l'assistant, on a laissé Yes / No en dur"]
[null,"ModuleMapping","No",268,{"$f":"LEN(resultats_textes_durs[[#This Row],[Texte en dur]])","v":2},"-",{"$f":"_xlfn.IFS(Language=\"EN\",I1689,Language=\"FR\",H1689,Language=\"SP\",J1689)","v":0}]
[null,"ModuleMapping","No",269,{"$f":"LEN(resultats_textes_durs[[#This Row],[Texte en dur]])","v":2},"-",{"$f":"_xlfn.IFS(Language=\"EN\",I1690,Language=\"FR\",H1690,Language=\"SP\",J1690)","v":0},null,null,null,"Dans l'assistant, on a laissé Yes / No en dur"]
[null,"ModuleMapping","Les QuestionID ont été copiés et les sh_groups mis à jour avec succès.",274,{"$f":"LEN(resultats_textes_durs[[#This Row],[Texte en dur]])","v":70},"Message utilisateur",{"$f":"_xlfn.IFS(Language=\"EN\",I1691,Language=\"FR\",H1691,Language=\"SP\",J1691)","v":0}]
[null,"ModuleMapping","Onglet_mapping_database",290,{"$f":"LEN(resultats_textes_durs[[#This Row],[Texte en dur]])","v":23},"-",{"$f":"_xlfn.IFS(Language=\"EN\",I1692,Language=\"FR\",H1692,Language=\"SP\",J1692)","v":0}]
[null,"ModuleMapping","Onglet_mapping_SHlist",291,{"$f":"LEN(resultats_textes_durs[[#This Row],[Texte en dur]])","v":21},"-",{"$f":"_xlfn.IFS(Language=\"EN\",I1693,Language=\"FR\",H1693,Language=\"SP\",J1693)","v":0}]
[null,"ModuleMapping","Scripting.Dictionary",292,{"$f":"LEN(resultats_textes_durs[[#This Row],[Texte en dur]])","v":20},"-",{"$f":"_xlfn.IFS(Language=\"EN\",I1694,Language=\"FR\",H1694,Language=\"SP\",J1694)","v":0}]
[null,"ModuleMapping","",305,{"$f":"LEN(resultats_textes_durs[[#This Row],[Texte en dur]])","v":0},"-",{"$f":"_xlfn.IFS(Language=\"EN\",I1695,Language=\"FR\",H1695,Language=\"SP\",J1695)","v":0}]
[null,"ModuleMapping","Onglet_mapping_database",326,{"$f":"LEN(resultats_textes_durs[[#This Row],[Texte en dur]])","v":23},"-",{"$f":"_xlfn.IFS(Language=\"EN\",I1696,Language=\"FR\",H1696,Language=\"SP\",J1696)","v":0}]
[null,"ModuleMapping","",329,{"$f":"LEN(resultats_textes_durs[[#This Row],[Texte en dur]])","v":0},"-",{"$f":"_xlfn.IFS(Language=\"EN\",I1697,Language=\"FR\",H1697,Language=\"SP\",J1697)","v":0}]
[null,"ModuleMapping","Onglet_mapping_SHlist",334,{"$f":"LEN(resultats_textes_durs[[#This Row],[Texte en dur]])","v":21},"-",{"$f":"_xlfn.IFS(Language=\"EN\",I1698,Language=\"FR\",H1698,Language=\"SP\",J1698)","v":0}]
[null,"ModuleMapping","",337,{"$f":"LEN(resultats_textes_durs[[#This Row],[Texte en dur]])","v":0},"-",{"$f":"_xlfn.IFS(Language=\"EN\",I1699,Language=\"FR\",H1699,Language=\"SP\",J1699)","v":0}]
[null,"ModuleMapping","Onglet_mapping_database",340,{"$f":"LEN(resultats_textes_durs[[#This Row],[Texte en dur]])","v":23},"-",{"$f":"_xlfn.IFS(Language=\"EN\",I1700,Language=\"FR\",H1700,Language=\"SP\",J1700)","v":0}]
[null,"ModuleMapping","Onglet_mapping_database",346,{"$f":"LEN(resultats_textes_durs[[#This Row],[Texte en dur]])","v":23},"-",{"$f":"_xlfn.IFS(Language=\"EN\",I1701,Language=\"FR\",H1701,Language=\"SP\",J1701)","v":0}]
[null,"ModuleMapping","Mise à jour de la base de données terminée.",359,{"$f":"LEN(resultats_textes_durs[[#This Row],[Texte en dur]])","v":43},"Message utilisateur",{"$f":"_xlfn.IFS(Language=\"EN\",I1702,Language=\"FR\",H1702,Language=\"SP\",J1702)","v":0}]
[null,"ModuleMapping","Onglet_mapping_SHlist",370,{"$f":"LEN(resultats_textes_durs[[#This Row],[Texte en dur]])","v":21},"-",{"$f":"_xlfn.IFS(Language=\"EN\",I1703,Language=\"FR\",H1703,Language=\"SP\",J1703)","v":0}]
[null,"ModuleMapping","Onglet_mapping_parameters",371,{"$f":"LEN(resultats_textes_durs[[#This Row],[Texte en dur]])","v":25},"-",{"$f":"_xlfn.IFS(Language=\"EN\",I1704,Language=\"FR\",H1704,Language=\"SP\",J1704)","v":0}]
[null,"ModuleMapping","SRM",373,{"$f":"LEN(resultats_textes_durs[[#This Row],[Texte en dur]])","v":3},"-",{"$f":"_xlfn.IFS(Language=\"EN\",I1705,Language=\"FR\",H1705,Language=\"SP\",J1705)","v":0}]
[null,"ModuleMapping","SRM",387,{"$f":"LEN(resultats_textes_durs[[#This Row],[Texte en dur]])","v":3},"-",{"$f":"_xlfn.IFS(Language=\"EN\",I1706,Language=\"FR\",H1706,Language=\"SP\",J1706)","v":0}]
[null,"ModuleMapping","Valeurs copiées avec succès dans la ligne d'en-tête.",389,{"$f":"LEN(resultats_textes_durs[[#This Row],[Texte en dur]])","v":52},"Message utilisateur",{"$f":"_xlfn.IFS(Language=\"EN\",I1707,Language=\"FR\",H1707,Language=\"SP\",J1707)","v":0}]
[null,"ModuleMapping","Onglet_mapping_SEP",397,{"$f":"LEN(resultats_textes_durs[[#This Row],[Texte en dur]])","v":18},"-",{"$f":"_xlfn.IFS(Language=\"EN\",I1708,Language=\"FR\",H1708,Language=\"SP\",J1708)","v":0}]
[null,"ModuleMapping","Onglet_mapping_parameters",398,{"$f":"LEN(resultats_textes_durs[[#This Row],[Texte en dur]])","v":25},"-",{"$f":"_xlfn.IFS(Language=\"EN\",I1709,Language=\"FR\",H1709,Language=\"SP\",J1709)","v":0}]
[null,"ModuleMapping","SRM",400,{"$f":"LEN(resultats_textes_durs[[#This Row],[Texte en dur]])","v":3},"-",{"$f":"_xlfn.IFS(Language=\"EN\",I1710,Language=\"FR\",H1710,Language=\"SP\",J1710)","v":0}]
[null,"ModuleMapping","SRM",408,{"$f":"LEN(resultats_textes_durs[[#This Row],[Texte en dur]])","v":3},"-",{"$f":"_xlfn.IFS(Language=\"EN\",I1711,Language=\"FR\",H1711,Language=\"SP\",J1711)","v":0}]
[null,"ModuleMapping","Valeurs copiées avec succès dans la ligne d'en-tête.",410,{"$f":"LEN(resultats_textes_durs[[#This Row],[Texte en dur]])","v":52},"Message utilisateur",{"$f":"_xlfn.IFS(Language=\"EN\",I1712,Language=\"FR\",H1712,Language=\"SP\",J1712)","v":0}]
[null,"ModuleMapping","Onglet_mapping_SHlist",422,{"$f":"LEN(resultats_textes_durs[[#This Row],[Texte en dur]])","v":21},"-",{"$f":"_xlfn.IFS(Language=\"EN\",I1713,Language=\"FR\",H1713,Language=\"SP\",J1713)","v":0}]
[null,"ModuleMapping","Tableau1",424,{"$f":"LEN(resultats_textes_durs[[#This Row],[Texte en dur]])","v":8},"-",{"$f":"_xlfn.IFS(Language=\"EN\",I1714,Language=\"FR\",H1714,Language=\"SP\",J1714)","v":0}]
[null,"ModuleMapping","SRM",427,{"$f":"LEN(resultats_textes_durs[[#This Row],[Texte en dur]])","v":3},"-",{"$f":"_xlfn.IFS(Language=\"EN\",I1715,Language=\"FR\",H1715,Language=\"SP\",J1715)","v":0}]
[null,"ModuleMapping","",437,{"$f":"LEN(resultats_textes_durs[[#This Row],[Texte en dur]])","v":0},"-",{"$f":"_xlfn.IFS(Language=\"EN\",I1716,Language=\"FR\",H1716,Language=\"SP\",J1716)","v":0}]
[null,"ModuleMapping","La colonne D du tableau contient des cellules vides. Veuillez les remplir avant d'appliquer la validation.",439,{"$f":"LEN(resultats_textes_durs[[#This Row],[Texte en dur]])","v":106},"Message utilisateur",{"$f":"_xlfn.IFS(Language=\"EN\",I1717,Language=\"FR\",H1717,Language=\"SP\",J1717)","v":0}]
[null,"ModuleMapping","=INDIRECT(L13)",452,{"$f":"LEN(resultats_textes_durs[[#This Row],[Texte en dur]])","v":14},"-",{"$f":"_xlfn.IFS(Language=\"EN\",I1718,Language=\"FR\",H1718,Language=\"SP\",J1718)","v":0}]
[null,"ModuleMapping","Validation de données appliquée avec succès!",460,{"$f":"LEN(resultats_textes_durs[[#This Row],[Texte en dur]])","v":44},"Message utilisateur",{"$f":"_xlfn.IFS(Language=\"EN\",I1719,Language=\"FR\",H1719,Language=\"SP\",J1719)","v":0}]
[null,"ModuleMapping","SRM",471,{"$f":"LEN(resultats_textes_durs[[#This Row],[Texte en dur]])","v":3},"-",{"$f":"_xlfn.IFS(Language=\"EN\",I1720,Language=\"FR\",H1720,Language=\"SP\",J1720)","v":0}]
[null,"ModuleMapping","Tableau1",475,{"$f":"LEN(resultats_textes_durs[[#This Row],[Texte en dur]])","v":8},"-",{"$f":"_xlfn.IFS(Language=\"EN\",I1721,Language=\"FR\",H1721,Language=\"SP\",J1721)","v":0}]
[null,"ModuleMapping","Le tableau 'Tableau1' n'existe pas dans la feuille active.",488,{"$f":"LEN(resultats_textes_durs[[#This Row],[Texte en dur]])","v":58},"Message utilisateur",{"$f":"_xlfn.IFS(Language=\"EN\",I1722,Language=\"FR\",H1722,Language=\"SP\",J1722)","v":0}]
[null,"ModuleMapping","SRM",490,{"$f":"LEN(resultats_textes_durs[[#This Row],[Texte en dur]])","v":3},"-",{"$f":"_xlfn.IFS(Language=\"EN\",I1723,Language=\"FR\",H1723,Language=\"SP\",J1723)","v":0}]
[null,"ModuleMappingMatrix","Onglet_mapping_SHlist",10,{"$f":"LEN(resultats_textes_durs[[#This Row],[Texte en dur]])","v":21},null,{"$f":"_xlfn.IFS(Language=\"EN\",I1724,Language=\"FR\",H1724,Language=\"SP\",J1724)","v":0}]
[null,"ModuleMappingMatrix","SRM",11,{"$f":"LEN(resultats_textes_durs[[#This Row],[Texte en dur]])","v":3},null,{"$f":"_xlfn.IFS(Language=\"EN\",I1725,Language=\"FR\",H1725,Language=\"SP\",J1725)","v":0}]
[null,"ModuleMappingMatrix","C",13,{"$f":"LEN(resultats_textes_durs[[#This Row],[Texte en dur]])","v":1},null,{"$f":"_xlfn.IFS(Language=\"EN\",I1726,Language=\"FR\",H1726,Language=\"SP\",J1726)","v":0}]
[null,"ModuleMappingMatrix","F",18,{"$f":"LEN(resultats_textes_durs[[#This Row],[Texte en dur]])","v":1},null,{"$f":"_xlfn.IFS(Language=\"EN\",I1727,Language=\"FR\",H1727,Language=\"SP\",J1727)","v":0}]
[null,"ModuleMappingMatrix","",18,{"$f":"LEN(resultats_textes_durs[[#This Row],[Texte en dur]])","v":0},null,{"$f":"_xlfn.IFS(Language=\"EN\",I1728,Language=\"FR\",H1728,Language=\"SP\",J1728)","v":0}]
[null,"ModuleMappingMatrix","G",18,{"$f":"LEN(resultats_textes_durs[[#This Row],[Texte en dur]])","v":1},null,{"$f":"_xlfn.IFS(Language=\"EN\",I1729,Language=\"FR\",H1729,Language=\"SP\",J1729)","v":0}]
[null,"ModuleMappingMatrix","",18,{"$f":"LEN(resultats_textes_durs[[#This Row],[Texte en dur]])","v":0},null,{"$f":"_xlfn.IFS(Language=\"EN\",I1730,Language=\"FR\",H1730,Language=\"SP\",J1730)","v":0}]
[null,"ModuleMappingMatrix","C",21,{"$f":"LEN(resultats_textes_durs[[#This Row],[Texte en dur]])","v":1},null,{"$f":"_xlfn.IFS(Language=\"EN\",I1731,Language=\"FR\",H1731,Language=\"SP\",J1731)","v":0}]
[null,"ModuleMappingMatrix","F",21,{"$f":"LEN(resultats_textes_durs[[#This Row],[Texte en dur]])","v":1},null,{"$f":"_xlfn.IFS(Language=\"EN\",I1732,Language=\"FR\",H1732,Language=\"SP\",J1732)","v":0}]
[null,"ModuleMappingMatrix","G",21,{"$f":"LEN(resultats_textes_durs[[#This Row],[Texte en dur]])","v":1},null,{"$f":"_xlfn.IFS(Language=\"EN\",I1733,Language=\"FR\",H1733,Language=\"SP\",J1733)","v":0}]
[null,"ModuleMappingMatrix","D",21,{"$f":"LEN(resultats_textes_durs[[#This Row],[Texte en dur]])","v":1},null,{"$f":"_xlfn.IFS(Language=\"EN\",I1734,Language=\"FR\",H1734,Language=\"SP\",J1734)","v":0}]
[null,"ModuleMappingMatrix","E",21,{"$f":"LEN(resultats_textes_durs[[#This Row],[Texte en dur]])","v":1},null,{"$f":"_xlfn.IFS(Language=\"EN\",I1735,Language=\"FR\",H1735,Language=\"SP\",J1735)","v":0}]
[null,"ModuleMappingMatrix","J",21,{"$f":"LEN(resultats_textes_durs[[#This Row],[Texte en dur]])","v":1},null,{"$f":"_xlfn.IFS(Language=\"EN\",I1736,Language=\"FR\",H1736,Language=\"SP\",J1736)","v":0}]
[null,"ModuleMappingMatrix","Chargé : ",23,{"$f":"LEN(resultats_textes_durs[[#This Row],[Texte en dur]])","v":9},null,{"$f":"_xlfn.IFS(Language=\"EN\",I1737,Language=\"FR\",H1737,Language=\"SP\",J1737)","v":0}]
[null,"ModuleMappingMatrix","|",23,{"$f":"LEN(resultats_textes_durs[[#This Row],[Texte en dur]])","v":1},null,{"$f":"_xlfn.IFS(Language=\"EN\",I1738,Language=\"FR\",H1738,Language=\"SP\",J1738)","v":0}]
[null,"ModuleMappingMatrix","|",23,{"$f":"LEN(resultats_textes_durs[[#This Row],[Texte en dur]])","v":1},null,{"$f":"_xlfn.IFS(Language=\"EN\",I1739,Language=\"FR\",H1739,Language=\"SP\",J1739)","v":0}]
[null,"ModuleMappingMatrix","Ignoré (Influence ou Interest vide) : ",25,{"$f":"LEN(resultats_textes_durs[[#This Row],[Texte en dur]])","v":38},null,{"$f":"_xlfn.IFS(Language=\"EN\",I1740,Language=\"FR\",H1740,Language=\"SP\",J1740)","v":0}]
[null,"ModuleMappingMatrix","C",25,{"$f":"LEN(resultats_textes_durs[[#This Row],[Texte en dur]])","v":1},null,{"$f":"_xlfn.IFS(Language=\"EN\",I1741,Language=\"FR\",H1741,Language=\"SP\",J1741)","v":0}]
[null,"ModuleMappingMatrix","Données de parties prenantes chargées.",29,{"$f":"LEN(resultats_textes_durs[[#This Row],[Texte en dur]])","v":38},null,{"$f":"_xlfn.IFS(Language=\"EN\",I1742,Language=\"FR\",H1742,Language=\"SP\",J1742)","v":0}]
[null,"ModuleMappingMatrix","Onglet_mapping_matrix",38,{"$f":"LEN(resultats_textes_durs[[#This Row],[Texte en dur]])","v":21},null,{"$f":"_xlfn.IFS(Language=\"EN\",I1743,Language=\"FR\",H1743,Language=\"SP\",J1743)","v":0}]
[null,"ModuleMappingMatrix","filter_category",54,{"$f":"LEN(resultats_textes_durs[[#This Row],[Texte en dur]])","v":15},null,{"$f":"_xlfn.IFS(Language=\"EN\",I1744,Language=\"FR\",H1744,Language=\"SP\",J1744)","v":0}]
[null,"ModuleMappingMatrix","Filter_group",55,{"$f":"LEN(resultats_textes_durs[[#This Row],[Texte en dur]])","v":12},null,{"$f":"_xlfn.IFS(Language=\"EN\",I1745,Language=\"FR\",H1745,Language=\"SP\",J1745)","v":0}]
[null,"ModuleMappingMatrix","Matrix_CB_Zone1",61,{"$f":"LEN(resultats_textes_durs[[#This Row],[Texte en dur]])","v":15},null,{"$f":"_xlfn.IFS(Language=\"EN\",I1746,Language=\"FR\",H1746,Language=\"SP\",J1746)","v":0}]
[null,"ModuleMappingMatrix","Zone 1",62,{"$f":"LEN(resultats_textes_durs[[#This Row],[Texte en dur]])","v":6},null,{"$f":"_xlfn.IFS(Language=\"EN\",I1747,Language=\"FR\",H1747,Language=\"SP\",J1747)","v":0}]
[null,"ModuleMappingMatrix","Matrix_CB_Zone2",65,{"$f":"LEN(resultats_textes_durs[[#This Row],[Texte en dur]])","v":15},null,{"$f":"_xlfn.IFS(Language=\"EN\",I1748,Language=\"FR\",H1748,Language=\"SP\",J1748)","v":0}]
[null,"ModuleMappingMatrix","Zone 2",66,{"$f":"LEN(resultats_textes_durs[[#This Row],[Texte en dur]])","v":6},null,{"$f":"_xlfn.IFS(Language=\"EN\",I1749,Language=\"FR\",H1749,Language=\"SP\",J1749)","v":0}]
[null,"ModuleMappingMatrix","Matrix_CB_Zone3",69,{"$f":"LEN(resultats_textes_durs[[#This Row],[Texte en dur]])","v":15},null,{"$f":"_xlfn.IFS(Language=\"EN\",I1750,Language=\"FR\",H1750,Language=\"SP\",J1750)","v":0}]
[null,"ModuleMappingMatrix","Zone 3",70,{"$f":"LEN(resultats_textes_durs[[#This Row],[Texte en dur]])","v":6},null,{"$f":"_xlfn.IFS(Language=\"EN\",I1751,Language=\"FR\",H1751,Language=\"SP\",J1751)","v":0}]
[null,"ModuleMappingMatrix","Matrix_CB_Zone4",73,{"$f":"LEN(resultats_textes_durs[[#This Row],[Texte en dur]])","v":15},null,{"$f":"_xlfn.IFS(Language=\"EN\",I1752,Language=\"FR\",H1752,Language=\"SP\",J1752)","v":0}]
[null,"ModuleMappingMatrix","Zone 4",74,{"$f":"LEN(resultats_textes_durs[[#This Row],[Texte en dur]])","v":6},null,{"$f":"_xlfn.IFS(Language=\"EN\",I1753,Language=\"FR\",H1753,Language=\"SP\",J1753)","v":0}]
[null,"ModuleMappingMatrix","",82,{"$f":"LEN(resultats_textes_durs[[#This Row],[Texte en dur]])","v":0},null,{"$f":"_xlfn.IFS(Language=\"EN\",I1754,Language=\"FR\",H1754,Language=\"SP\",J1754)","v":0}]
[null,"ModuleMappingMatrix","",82,{"$f":"LEN(resultats_textes_durs[[#This Row],[Texte en dur]])","v":0},null,{"$f":"_xlfn.IFS(Language=\"EN\",I1755,Language=\"FR\",H1755,Language=\"SP\",J1755)","v":0}]
[null,"ModuleMappingMatrix","Veuillez sélectionner au moins un filtre ou une zone.",83,{"$f":"LEN(resultats_textes_durs[[#This Row],[Texte en dur]])","v":53},null,{"$f":"_xlfn.IFS(Language=\"EN\",I1756,Language=\"FR\",H1756,Language=\"SP\",J1756)","v":0}]
[null,"ModuleMappingMatrix","Aucun filtre",83,{"$f":"LEN(resultats_textes_durs[[#This Row],[Texte en dur]])","v":12},null,{"$f":"_xlfn.IFS(Language=\"EN\",I1757,Language=\"FR\",H1757,Language=\"SP\",J1757)","v":0}]
[null,"ModuleMappingMatrix","All stakeholders",98,{"$f":"LEN(resultats_textes_durs[[#This Row],[Texte en dur]])","v":16},null,{"$f":"_xlfn.IFS(Language=\"EN\",I1758,Language=\"FR\",H1758,Language=\"SP\",J1758)","v":0}]
[null,"ModuleMappingMatrix","All stakeholders",102,{"$f":"LEN(resultats_textes_durs[[#This Row],[Texte en dur]])","v":16},null,{"$f":"_xlfn.IFS(Language=\"EN\",I1759,Language=\"FR\",H1759,Language=\"SP\",J1759)","v":0}]
[null,"ModuleMappingMatrix","",103,{"$f":"LEN(resultats_textes_durs[[#This Row],[Texte en dur]])","v":0},null,{"$f":"_xlfn.IFS(Language=\"EN\",I1760,Language=\"FR\",H1760,Language=\"SP\",J1760)","v":0}]
[null,"ModuleMappingMatrix","",107,{"$f":"LEN(resultats_textes_durs[[#This Row],[Texte en dur]])","v":0},null,{"$f":"_xlfn.IFS(Language=\"EN\",I1761,Language=\"FR\",H1761,Language=\"SP\",J1761)","v":0}]
[null,"ModuleMappingMatrix","Aucune partie prenante ne correspond aux filtres sélectionnés.",131,{"$f":"LEN(resultats_textes_durs[[#This Row],[Texte en dur]])","v":62},null,{"$f":"_xlfn.IFS(Language=\"EN\",I1762,Language=\"FR\",H1762,Language=\"SP\",J1762)","v":0}]
[null,"ModuleMappingMatrix","Aucun résultat",131,{"$f":"LEN(resultats_textes_durs[[#This Row],[Texte en dur]])","v":14},null,{"$f":"_xlfn.IFS(Language=\"EN\",I1763,Language=\"FR\",H1763,Language=\"SP\",J1763)","v":0}]
[null,"ModuleMappingMatrix","Parties prenantes filtrées: ",136,{"$f":"LEN(resultats_textes_durs[[#This Row],[Texte en dur]])","v":28},null,{"$f":"_xlfn.IFS(Language=\"EN\",I1764,Language=\"FR\",H1764,Language=\"SP\",J1764)","v":0}]
[null,"ModuleMappingMatrix","SRM",151,{"$f":"LEN(resultats_textes_durs[[#This Row],[Texte en dur]])","v":3},null,{"$f":"_xlfn.IFS(Language=\"EN\",I1765,Language=\"FR\",H1765,Language=\"SP\",J1765)","v":0}]
[null,"ModuleMappingMatrix","https://",164,{"$f":"LEN(resultats_textes_durs[[#This Row],[Texte en dur]])","v":8},null,{"$f":"_xlfn.IFS(Language=\"EN\",I1766,Language=\"FR\",H1766,Language=\"SP\",J1766)","v":0}]
[null,"ModuleMappingMatrix","",164,{"$f":"LEN(resultats_textes_durs[[#This Row],[Texte en dur]])","v":0},null,{"$f":"_xlfn.IFS(Language=\"EN\",I1767,Language=\"FR\",H1767,Language=\"SP\",J1767)","v":0}]
[null,"ModuleMappingMatrix","TEMP",165,{"$f":"LEN(resultats_textes_durs[[#This Row],[Texte en dur]])","v":4},null,{"$f":"_xlfn.IFS(Language=\"EN\",I1768,Language=\"FR\",H1768,Language=\"SP\",J1768)","v":0}]
[null,"ModuleMappingMatrix","\\ImageDesQuadrants.png",169,{"$f":"LEN(resultats_textes_durs[[#This Row],[Texte en dur]])","v":22},null,{"$f":"_xlfn.IFS(Language=\"EN\",I1769,Language=\"FR\",H1769,Language=\"SP\",J1769)","v":0}]
[null,"ModuleMappingMatrix","Image 1",173,{"$f":"LEN(resultats_textes_durs[[#This Row],[Texte en dur]])","v":7},null,{"$f":"_xlfn.IFS(Language=\"EN\",I1770,Language=\"FR\",H1770,Language=\"SP\",J1770)","v":0}]
[null,"ModuleMappingMatrix","Image 1",173,{"$f":"LEN(resultats_textes_durs[[#This Row],[Texte en dur]])","v":7},null,{"$f":"_xlfn.IFS(Language=\"EN\",I1771,Language=\"FR\",H1771,Language=\"SP\",J1771)","v":0}]
[null,"ModuleMappingMatrix","PNG",188,{"$f":"LEN(resultats_textes_durs[[#This Row],[Texte en dur]])","v":3},null,{"$f":"_xlfn.IFS(Language=\"EN\",I1772,Language=\"FR\",H1772,Language=\"SP\",J1772)","v":0}]
[null,"ModuleMappingMatrix","Aucune image trouvée dans la feuille ou l'image n'a pas été exportée.",193,{"$f":"LEN(resultats_textes_durs[[#This Row],[Texte en dur]])","v":69},null,{"$f":"_xlfn.IFS(Language=\"EN\",I1773,Language=\"FR\",H1773,Language=\"SP\",J1773)","v":0}]
[null,"ModuleMappingMatrix","",198,{"$f":"LEN(resultats_textes_durs[[#This Row],[Texte en dur]])","v":0},null,{"$f":"_xlfn.IFS(Language=\"EN\",I1774,Language=\"FR\",H1774,Language=\"SP\",J1774)","v":0}]
[null,"ModuleMappingMatrix","L'image exportée n'a pas été trouvée dans le répertoire temporaire.",206,{"$f":"LEN(resultats_textes_durs[[#This Row],[Texte en dur]])","v":67},null,{"$f":"_xlfn.IFS(Language=\"EN\",I1775,Language=\"FR\",H1775,Language=\"SP\",J1775)","v":0}]
[null,"ModuleMappingMatrix","Séries de données effacées.",219,{"$f":"LEN(resultats_textes_durs[[#This Row],[Texte en dur]])","v":27},null,{"$f":"_xlfn.IFS(Language=\"EN\",I1776,Language=\"FR\",H1776,Language=\"SP\",J1776)","v":0}]
[null,"ModuleMappingMatrix","={-5}",224,{"$f":"LEN(resultats_textes_durs[[#This Row],[Texte en dur]])","v":5},null,{"$f":"_xlfn.IFS(Language=\"EN\",I1777,Language=\"FR\",H1777,Language=\"SP\",J1777)","v":0}]
[null,"ModuleMappingMatrix","={-5}",225,{"$f":"LEN(resultats_textes_durs[[#This Row],[Texte en dur]])","v":5},null,{"$f":"_xlfn.IFS(Language=\"EN\",I1778,Language=\"FR\",H1778,Language=\"SP\",J1778)","v":0}]
[null,"ModuleMappingMatrix","={15}",226,{"$f":"LEN(resultats_textes_durs[[#This Row],[Texte en dur]])","v":5},null,{"$f":"_xlfn.IFS(Language=\"EN\",I1779,Language=\"FR\",H1779,Language=\"SP\",J1779)","v":0}]
[null,"ModuleMappingMatrix","Point Fictif",227,{"$f":"LEN(resultats_textes_durs[[#This Row],[Texte en dur]])","v":12},null,{"$f":"_xlfn.IFS(Language=\"EN\",I1780,Language=\"FR\",H1780,Language=\"SP\",J1780)","v":0}]
[null,"ModuleMappingMatrix","Stakeholder: ",238,{"$f":"LEN(resultats_textes_durs[[#This Row],[Texte en dur]])","v":13},null,{"$f":"_xlfn.IFS(Language=\"EN\",I1781,Language=\"FR\",H1781,Language=\"SP\",J1781)","v":0}]
[null,"ModuleMappingMatrix",", XValue (Interest): ",238,{"$f":"LEN(resultats_textes_durs[[#This Row],[Texte en dur]])","v":21},null,{"$f":"_xlfn.IFS(Language=\"EN\",I1782,Language=\"FR\",H1782,Language=\"SP\",J1782)","v":0}]
[null,"ModuleMappingMatrix",", YValue (Influence): ",238,{"$f":"LEN(resultats_textes_durs[[#This Row],[Texte en dur]])","v":22},null,{"$f":"_xlfn.IFS(Language=\"EN\",I1783,Language=\"FR\",H1783,Language=\"SP\",J1783)","v":0}]
[null,"ModuleMappingMatrix","Erreur : Valeurs vides détectées pour ",240,{"$f":"LEN(resultats_textes_durs[[#This Row],[Texte en dur]])","v":38},null,{"$f":"_xlfn.IFS(Language=\"EN\",I1784,Language=\"FR\",H1784,Language=\"SP\",J1784)","v":0}]
[null,"ModuleMappingMatrix","={",245,{"$f":"LEN(resultats_textes_durs[[#This Row],[Texte en dur]])","v":2},null,{"$f":"_xlfn.IFS(Language=\"EN\",I1785,Language=\"FR\",H1785,Language=\"SP\",J1785)","v":0}]
[null,"ModuleMappingMatrix","}",245,{"$f":"LEN(resultats_textes_durs[[#This Row],[Texte en dur]])","v":1},null,{"$f":"_xlfn.IFS(Language=\"EN\",I1786,Language=\"FR\",H1786,Language=\"SP\",J1786)","v":0}]
[null,"ModuleMappingMatrix","={",246,{"$f":"LEN(resultats_textes_durs[[#This Row],[Texte en dur]])","v":2},null,{"$f":"_xlfn.IFS(Language=\"EN\",I1787,Language=\"FR\",H1787,Language=\"SP\",J1787)","v":0}]
[null,"ModuleMappingMatrix","}",246,{"$f":"LEN(resultats_textes_durs[[#This Row],[Texte en dur]])","v":1},null,{"$f":"_xlfn.IFS(Language=\"EN\",I1788,Language=\"FR\",H1788,Language=\"SP\",J1788)","v":0}]
[null,"ModuleMappingMatrix","Ajout de la série pour : ",250,{"$f":"LEN(resultats_textes_durs[[#This Row],[Texte en dur]])","v":25},null,{"$f":"_xlfn.IFS(Language=\"EN\",I1789,Language=\"FR\",H1789,Language=\"SP\",J1789)","v":0}]
[null,"ModuleMappingMatrix","Arial",257,{"$f":"LEN(resultats_textes_durs[[#This Row],[Texte en dur]])","v":5},null,{"$f":"_xlfn.IFS(Language=\"EN\",I1790,Language=\"FR\",H1790,Language=\"SP\",J1790)","v":0}]
[null,"ModuleMappingMatrix","Toutes les séries ont été ajoutées.",300,{"$f":"LEN(resultats_textes_durs[[#This Row],[Texte en dur]])","v":35},null,{"$f":"_xlfn.IFS(Language=\"EN\",I1791,Language=\"FR\",H1791,Language=\"SP\",J1791)","v":0}]
[null,"ModuleMappingMatrix","INFLUENCE",313,{"$f":"LEN(resultats_textes_durs[[#This Row],[Texte en dur]])","v":9},null,{"$f":"_xlfn.IFS(Language=\"EN\",I1792,Language=\"FR\",H1792,Language=\"SP\",J1792)","v":0}]
[null,"ModuleMappingMatrix","Arial",314,{"$f":"LEN(resultats_textes_durs[[#This Row],[Texte en dur]])","v":5},null,{"$f":"_xlfn.IFS(Language=\"EN\",I1793,Language=\"FR\",H1793,Language=\"SP\",J1793)","v":0}]
[null,"ModuleMappingMatrix","INTEREST",321,{"$f":"LEN(resultats_textes_durs[[#This Row],[Texte en dur]])","v":8},null,{"$f":"_xlfn.IFS(Language=\"EN\",I1794,Language=\"FR\",H1794,Language=\"SP\",J1794)","v":0}]
[null,"ModuleMappingMatrix","Arial",322,{"$f":"LEN(resultats_textes_durs[[#This Row],[Texte en dur]])","v":5},null,{"$f":"_xlfn.IFS(Language=\"EN\",I1795,Language=\"FR\",H1795,Language=\"SP\",J1795)","v":0}]
[null,"ModuleMappingMatrix","Arial",329,{"$f":"LEN(resultats_textes_durs[[#This Row],[Texte en dur]])","v":5},null,{"$f":"_xlfn.IFS(Language=\"EN\",I1796,Language=\"FR\",H1796,Language=\"SP\",J1796)","v":0}]
[null,"ModuleMappingMatrix","Arial",336,{"$f":"LEN(resultats_textes_durs[[#This Row],[Texte en dur]])","v":5},null,{"$f":"_xlfn.IFS(Language=\"EN\",I1797,Language=\"FR\",H1797,Language=\"SP\",J1797)","v":0}]
[null,"ModuleMappingMatrix","Graphique créé avec succès.",355,{"$f":"LEN(resultats_textes_durs[[#This Row],[Texte en dur]])","v":27},null,{"$f":"_xlfn.IFS(Language=\"EN\",I1798,Language=\"FR\",H1798,Language=\"SP\",J1798)","v":0}]
[null,"ModuleMappingMatrix","SRM",356,{"$f":"LEN(resultats_textes_durs[[#This Row],[Texte en dur]])","v":3},null,{"$f":"_xlfn.IFS(Language=\"EN\",I1799,Language=\"FR\",H1799,Language=\"SP\",J1799)","v":0}]
[null,"ModuleMappingMatrix","SRM",366,{"$f":"LEN(resultats_textes_durs[[#This Row],[Texte en dur]])","v":3},null,{"$f":"_xlfn.IFS(Language=\"EN\",I1800,Language=\"FR\",H1800,Language=\"SP\",J1800)","v":0}]
[null,"ModuleMappingMatrix","SRM",372,{"$f":"LEN(resultats_textes_durs[[#This Row],[Texte en dur]])","v":3},null,{"$f":"_xlfn.IFS(Language=\"EN\",I1801,Language=\"FR\",H1801,Language=\"SP\",J1801)","v":0}]
[null,"ModuleMappingMatrix","Scripting.Dictionary",390,{"$f":"LEN(resultats_textes_durs[[#This Row],[Texte en dur]])","v":20},null,{"$f":"_xlfn.IFS(Language=\"EN\",I1802,Language=\"FR\",H1802,Language=\"SP\",J1802)","v":0}]
[null,"ModuleMappingMatrix",",",410,{"$f":"LEN(resultats_textes_durs[[#This Row],[Texte en dur]])","v":1},null,{"$f":"_xlfn.IFS(Language=\"EN\",I1803,Language=\"FR\",H1803,Language=\"SP\",J1803)","v":0}]
[null,"ModuleMappingMatrix","",439,{"$f":"LEN(resultats_textes_durs[[#This Row],[Texte en dur]])","v":0},null,{"$f":"_xlfn.IFS(Language=\"EN\",I1804,Language=\"FR\",H1804,Language=\"SP\",J1804)","v":0}]
[null,"ModuleMEFGraphs","Onglet_consult_dataset",16,{"$f":"LEN(resultats_textes_durs[[#This Row],[Texte en dur]])","v":22},null,{"$f":"_xlfn.IFS(Language=\"EN\",I1805,Language=\"FR\",H1805,Language=\"SP\",J1805)","v":0}]
[null,"ModuleMEFGraphs","Onglet_consult_graph",17,{"$f":"LEN(resultats_textes_durs[[#This Row],[Texte en dur]])","v":20},null,{"$f":"_xlfn.IFS(Language=\"EN\",I1806,Language=\"FR\",H1806,Language=\"SP\",J1806)","v":0}]
[null,"ModuleMEFGraphs","answer_rate_threshold",20,{"$f":"LEN(resultats_textes_durs[[#This Row],[Texte en dur]])","v":21},null,{"$f":"_xlfn.IFS(Language=\"EN\",I1807,Language=\"FR\",H1807,Language=\"SP\",J1807)","v":0}]
[null,"ModuleMEFGraphs","H8:H11",23,{"$f":"LEN(resultats_textes_durs[[#This Row],[Texte en dur]])","v":6},null,{"$f":"_xlfn.IFS(Language=\"EN\",I1808,Language=\"FR\",H1808,Language=\"SP\",J1808)","v":0}]
[null,"ModuleMEFGraphs","N8:N11",24,{"$f":"LEN(resultats_textes_durs[[#This Row],[Texte en dur]])","v":6},null,{"$f":"_xlfn.IFS(Language=\"EN\",I1809,Language=\"FR\",H1809,Language=\"SP\",J1809)","v":0}]
[null,"ModuleMEFGraphs","Graph_IMP-P1-g",25,{"$f":"LEN(resultats_textes_durs[[#This Row],[Texte en dur]])","v":14},null,{"$f":"_xlfn.IFS(Language=\"EN\",I1810,Language=\"FR\",H1810,Language=\"SP\",J1810)","v":0}]
[null,"ModuleMEFGraphs","H12:H15",31,{"$f":"LEN(resultats_textes_durs[[#This Row],[Texte en dur]])","v":7},null,{"$f":"_xlfn.IFS(Language=\"EN\",I1811,Language=\"FR\",H1811,Language=\"SP\",J1811)","v":0}]
[null,"ModuleMEFGraphs","N12:N15",32,{"$f":"LEN(resultats_textes_durs[[#This Row],[Texte en dur]])","v":7},null,{"$f":"_xlfn.IFS(Language=\"EN\",I1812,Language=\"FR\",H1812,Language=\"SP\",J1812)","v":0}]
[null,"ModuleMEFGraphs","Graph_SPL-P1-g",33,{"$f":"LEN(resultats_textes_durs[[#This Row],[Texte en dur]])","v":14},null,{"$f":"_xlfn.IFS(Language=\"EN\",I1813,Language=\"FR\",H1813,Language=\"SP\",J1813)","v":0}]
[null,"ModuleMEFGraphs","D12:G15",39,{"$f":"LEN(resultats_textes_durs[[#This Row],[Texte en dur]])","v":7},null,{"$f":"_xlfn.IFS(Language=\"EN\",I1814,Language=\"FR\",H1814,Language=\"SP\",J1814)","v":0}]
[null,"ModuleMEFGraphs","J12:M15",40,{"$f":"LEN(resultats_textes_durs[[#This Row],[Texte en dur]])","v":7},null,{"$f":"_xlfn.IFS(Language=\"EN\",I1815,Language=\"FR\",H1815,Language=\"SP\",J1815)","v":0}]
[null,"ModuleMEFGraphs","Graph_SPL-P1-d",41,{"$f":"LEN(resultats_textes_durs[[#This Row],[Texte en dur]])","v":14},null,{"$f":"_xlfn.IFS(Language=\"EN\",I1816,Language=\"FR\",H1816,Language=\"SP\",J1816)","v":0}]
[null,"ModuleMEFGraphs","H17:H24",47,{"$f":"LEN(resultats_textes_durs[[#This Row],[Texte en dur]])","v":7},null,{"$f":"_xlfn.IFS(Language=\"EN\",I1817,Language=\"FR\",H1817,Language=\"SP\",J1817)","v":0}]
[null,"ModuleMEFGraphs","N17:N24",48,{"$f":"LEN(resultats_textes_durs[[#This Row],[Texte en dur]])","v":7},null,{"$f":"_xlfn.IFS(Language=\"EN\",I1818,Language=\"FR\",H1818,Language=\"SP\",J1818)","v":0}]
[null,"ModuleMEFGraphs","Graph_IMP-P2-g",49,{"$f":"LEN(resultats_textes_durs[[#This Row],[Texte en dur]])","v":14},null,{"$f":"_xlfn.IFS(Language=\"EN\",I1819,Language=\"FR\",H1819,Language=\"SP\",J1819)","v":0}]
[null,"ModuleMEFGraphs","D17:G24",56,{"$f":"LEN(resultats_textes_durs[[#This Row],[Texte en dur]])","v":7},null,{"$f":"_xlfn.IFS(Language=\"EN\",I1820,Language=\"FR\",H1820,Language=\"SP\",J1820)","v":0}]
[null,"ModuleMEFGraphs","J17:M24",57,{"$f":"LEN(resultats_textes_durs[[#This Row],[Texte en dur]])","v":7},null,{"$f":"_xlfn.IFS(Language=\"EN\",I1821,Language=\"FR\",H1821,Language=\"SP\",J1821)","v":0}]
[null,"ModuleMEFGraphs","Graph_IMP-P2-d",58,{"$f":"LEN(resultats_textes_durs[[#This Row],[Texte en dur]])","v":14},null,{"$f":"_xlfn.IFS(Language=\"EN\",I1822,Language=\"FR\",H1822,Language=\"SP\",J1822)","v":0}]
[null,"ModuleMEFGraphs","H25:H28",64,{"$f":"LEN(resultats_textes_durs[[#This Row],[Texte en dur]])","v":7},null,{"$f":"_xlfn.IFS(Language=\"EN\",I1823,Language=\"FR\",H1823,Language=\"SP\",J1823)","v":0}]
[null,"ModuleMEFGraphs","N25:N28",65,{"$f":"LEN(resultats_textes_durs[[#This Row],[Texte en dur]])","v":7},null,{"$f":"_xlfn.IFS(Language=\"EN\",I1824,Language=\"FR\",H1824,Language=\"SP\",J1824)","v":0}]
[null,"ModuleMEFGraphs","Graph_SPL-P2-g",66,{"$f":"LEN(resultats_textes_durs[[#This Row],[Texte en dur]])","v":14},null,{"$f":"_xlfn.IFS(Language=\"EN\",I1825,Language=\"FR\",H1825,Language=\"SP\",J1825)","v":0}]
[null,"ModuleMEFGraphs","D25:G28",73,{"$f":"LEN(resultats_textes_durs[[#This Row],[Texte en dur]])","v":7},null,{"$f":"_xlfn.IFS(Language=\"EN\",I1826,Language=\"FR\",H1826,Language=\"SP\",J1826)","v":0}]
[null,"ModuleMEFGraphs","J25:M28",74,{"$f":"LEN(resultats_textes_durs[[#This Row],[Texte en dur]])","v":7},null,{"$f":"_xlfn.IFS(Language=\"EN\",I1827,Language=\"FR\",H1827,Language=\"SP\",J1827)","v":0}]
[null,"ModuleMEFGraphs","Graph_SPL-P2-d",75,{"$f":"LEN(resultats_textes_durs[[#This Row],[Texte en dur]])","v":14},null,{"$f":"_xlfn.IFS(Language=\"EN\",I1828,Language=\"FR\",H1828,Language=\"SP\",J1828)","v":0}]
[null,"ModuleMEFGraphs","H30:H32",82,{"$f":"LEN(resultats_textes_durs[[#This Row],[Texte en dur]])","v":7},null,{"$f":"_xlfn.IFS(Language=\"EN\",I1829,Language=\"FR\",H1829,Language=\"SP\",J1829)","v":0}]
[null,"ModuleMEFGraphs","N30:N32",83,{"$f":"LEN(resultats_textes_durs[[#This Row],[Texte en dur]])","v":7},null,{"$f":"_xlfn.IFS(Language=\"EN\",I1830,Language=\"FR\",H1830,Language=\"SP\",J1830)","v":0}]
[null,"ModuleMEFGraphs","Graph_IMP-P3-g",84,{"$f":"LEN(resultats_textes_durs[[#This Row],[Texte en dur]])","v":14},null,{"$f":"_xlfn.IFS(Language=\"EN\",I1831,Language=\"FR\",H1831,Language=\"SP\",J1831)","v":0}]
[null,"ModuleMEFGraphs","D30:G32",91,{"$f":"LEN(resultats_textes_durs[[#This Row],[Texte en dur]])","v":7},null,{"$f":"_xlfn.IFS(Language=\"EN\",I1832,Language=\"FR\",H1832,Language=\"SP\",J1832)","v":0}]
[null,"ModuleMEFGraphs","J30:M32",92,{"$f":"LEN(resultats_textes_durs[[#This Row],[Texte en dur]])","v":7},null,{"$f":"_xlfn.IFS(Language=\"EN\",I1833,Language=\"FR\",H1833,Language=\"SP\",J1833)","v":0}]
[null,"ModuleMEFGraphs","Graph_IMP-P3-d",93,{"$f":"LEN(resultats_textes_durs[[#This Row],[Texte en dur]])","v":14},null,{"$f":"_xlfn.IFS(Language=\"EN\",I1834,Language=\"FR\",H1834,Language=\"SP\",J1834)","v":0}]
[null,"ModuleMEFGraphs","H33:H39",99,{"$f":"LEN(resultats_textes_durs[[#This Row],[Texte en dur]])","v":7},null,{"$f":"_xlfn.IFS(Language=\"EN\",I1835,Language=\"FR\",H1835,Language=\"SP\",J1835)","v":0}]
[null,"ModuleMEFGraphs","N33:N39",100,{"$f":"LEN(resultats_textes_durs[[#This Row],[Texte en dur]])","v":7},null,{"$f":"_xlfn.IFS(Language=\"EN\",I1836,Language=\"FR\",H1836,Language=\"SP\",J1836)","v":0}]
[null,"ModuleMEFGraphs","Graph_SPL-P3-g",101,{"$f":"LEN(resultats_textes_durs[[#This Row],[Texte en dur]])","v":14},null,{"$f":"_xlfn.IFS(Language=\"EN\",I1837,Language=\"FR\",H1837,Language=\"SP\",J1837)","v":0}]
[null,"ModuleMEFGraphs","D33:G39",108,{"$f":"LEN(resultats_textes_durs[[#This Row],[Texte en dur]])","v":7},null,{"$f":"_xlfn.IFS(Language=\"EN\",I1838,Language=\"FR\",H1838,Language=\"SP\",J1838)","v":0}]
[null,"ModuleMEFGraphs","J33:M39",109,{"$f":"LEN(resultats_textes_durs[[#This Row],[Texte en dur]])","v":7},null,{"$f":"_xlfn.IFS(Language=\"EN\",I1839,Language=\"FR\",H1839,Language=\"SP\",J1839)","v":0}]
[null,"ModuleMEFGraphs","Graph_SPL-P3-d",110,{"$f":"LEN(resultats_textes_durs[[#This Row],[Texte en dur]])","v":14},null,{"$f":"_xlfn.IFS(Language=\"EN\",I1840,Language=\"FR\",H1840,Language=\"SP\",J1840)","v":0}]
[null,"ModuleMEFGraphs","T42:T47",118,{"$f":"LEN(resultats_textes_durs[[#This Row],[Texte en dur]])","v":7},null,{"$f":"_xlfn.IFS(Language=\"EN\",I1841,Language=\"FR\",H1841,Language=\"SP\",J1841)","v":0}]
[null,"ModuleMEFGraphs","AE42:AE47",119,{"$f":"LEN(resultats_textes_durs[[#This Row],[Texte en dur]])","v":9},null,{"$f":"_xlfn.IFS(Language=\"EN\",I1842,Language=\"FR\",H1842,Language=\"SP\",J1842)","v":0}]
[null,"ModuleMEFGraphs","Graph_SI-P3-g",120,{"$f":"LEN(resultats_textes_durs[[#This Row],[Texte en dur]])","v":13},null,{"$f":"_xlfn.IFS(Language=\"EN\",I1843,Language=\"FR\",H1843,Language=\"SP\",J1843)","v":0}]
[null,"ModuleMEFGraphs","P42:S47",128,{"$f":"LEN(resultats_textes_durs[[#This Row],[Texte en dur]])","v":7},null,{"$f":"_xlfn.IFS(Language=\"EN\",I1844,Language=\"FR\",H1844,Language=\"SP\",J1844)","v":0}]
[null,"ModuleMEFGraphs","AA42:AD47",129,{"$f":"LEN(resultats_textes_durs[[#This Row],[Texte en dur]])","v":9},null,{"$f":"_xlfn.IFS(Language=\"EN\",I1845,Language=\"FR\",H1845,Language=\"SP\",J1845)","v":0}]
[null,"ModuleMEFGraphs","Graph_SI-P3-d",130,{"$f":"LEN(resultats_textes_durs[[#This Row],[Texte en dur]])","v":13},null,{"$f":"_xlfn.IFS(Language=\"EN\",I1846,Language=\"FR\",H1846,Language=\"SP\",J1846)","v":0}]
[null,"ModuleMEFGraphs","Onglet_consult_dataset",157,{"$f":"LEN(resultats_textes_durs[[#This Row],[Texte en dur]])","v":22},null,{"$f":"_xlfn.IFS(Language=\"EN\",I1847,Language=\"FR\",H1847,Language=\"SP\",J1847)","v":0}]
[null,"ModuleMEFGraphs","Onglet_AP_Fiche_SPL",158,{"$f":"LEN(resultats_textes_durs[[#This Row],[Texte en dur]])","v":19},null,{"$f":"_xlfn.IFS(Language=\"EN\",I1848,Language=\"FR\",H1848,Language=\"SP\",J1848)","v":0}]
[null,"ModuleMEFGraphs","answer_rate_threshold",161,{"$f":"LEN(resultats_textes_durs[[#This Row],[Texte en dur]])","v":21},null,{"$f":"_xlfn.IFS(Language=\"EN\",I1849,Language=\"FR\",H1849,Language=\"SP\",J1849)","v":0}]
[null,"ModuleMEFGraphs","D58:D62",164,{"$f":"LEN(resultats_textes_durs[[#This Row],[Texte en dur]])","v":7},null,{"$f":"_xlfn.IFS(Language=\"EN\",I1850,Language=\"FR\",H1850,Language=\"SP\",J1850)","v":0}]
[null,"ModuleMEFGraphs","E58:E62",165,{"$f":"LEN(resultats_textes_durs[[#This Row],[Texte en dur]])","v":7},null,{"$f":"_xlfn.IFS(Language=\"EN\",I1851,Language=\"FR\",H1851,Language=\"SP\",J1851)","v":0}]
[null,"ModuleMEFGraphs","Graph_consult",166,{"$f":"LEN(resultats_textes_durs[[#This Row],[Texte en dur]])","v":13},null,{"$f":"_xlfn.IFS(Language=\"EN\",I1852,Language=\"FR\",H1852,Language=\"SP\",J1852)","v":0}]
[null,"ModuleMEFGraphs","Threshold",185,{"$f":"LEN(resultats_textes_durs[[#This Row],[Texte en dur]])","v":9},null,{"$f":"_xlfn.IFS(Language=\"EN\",I1853,Language=\"FR\",H1853,Language=\"SP\",J1853)","v":0}]
[null,"ModuleMEFGraphs","Threshold",186,{"$f":"LEN(resultats_textes_durs[[#This Row],[Texte en dur]])","v":9},null,{"$f":"_xlfn.IFS(Language=\"EN\",I1854,Language=\"FR\",H1854,Language=\"SP\",J1854)","v":0}]
[null,"ModuleMEFGraphs","SRM",188,{"$f":"LEN(resultats_textes_durs[[#This Row],[Texte en dur]])","v":3},null,{"$f":"_xlfn.IFS(Language=\"EN\",I1855,Language=\"FR\",H1855,Language=\"SP\",J1855)","v":0}]
[null,"ModuleMEFGraphs","0",211,{"$f":"LEN(resultats_textes_durs[[#This Row],[Texte en dur]])","v":1},null,{"$f":"_xlfn.IFS(Language=\"EN\",I1856,Language=\"FR\",H1856,Language=\"SP\",J1856)","v":0}]
[null,"ModuleMEFGraphs","%",211,{"$f":"LEN(resultats_textes_durs[[#This Row],[Texte en dur]])","v":1},null,{"$f":"_xlfn.IFS(Language=\"EN\",I1857,Language=\"FR\",H1857,Language=\"SP\",J1857)","v":0}]
[null,"ModuleMEFGraphs","SRM",242,{"$f":"LEN(resultats_textes_durs[[#This Row],[Texte en dur]])","v":3},null,{"$f":"_xlfn.IFS(Language=\"EN\",I1858,Language=\"FR\",H1858,Language=\"SP\",J1858)","v":0}]
[null,"ModuleMEFGraphs","Onglet_consult_Panel",263,{"$f":"LEN(resultats_textes_durs[[#This Row],[Texte en dur]])","v":20},null,{"$f":"_xlfn.IFS(Language=\"EN\",I1859,Language=\"FR\",H1859,Language=\"SP\",J1859)","v":0}]
[null,"ModuleMEFGraphs","Onglet_consult_graph",264,{"$f":"LEN(resultats_textes_durs[[#This Row],[Texte en dur]])","v":20},null,{"$f":"_xlfn.IFS(Language=\"EN\",I1860,Language=\"FR\",H1860,Language=\"SP\",J1860)","v":0}]
[null,"ModuleMEFGraphs","SRM",266,{"$f":"LEN(resultats_textes_durs[[#This Row],[Texte en dur]])","v":3},null,{"$f":"_xlfn.IFS(Language=\"EN\",I1861,Language=\"FR\",H1861,Language=\"SP\",J1861)","v":0}]
[null,"ModuleMEFGraphs","GR_REL_AUT",274,{"$f":"LEN(resultats_textes_durs[[#This Row],[Texte en dur]])","v":10},null,{"$f":"_xlfn.IFS(Language=\"EN\",I1862,Language=\"FR\",H1862,Language=\"SP\",J1862)","v":0}]
[null,"ModuleMEFGraphs","GR_REL_BUS",274,{"$f":"LEN(resultats_textes_durs[[#This Row],[Texte en dur]])","v":10},null,{"$f":"_xlfn.IFS(Language=\"EN\",I1863,Language=\"FR\",H1863,Language=\"SP\",J1863)","v":0}]
[null,"ModuleMEFGraphs","GR_REL_CIV",274,{"$f":"LEN(resultats_textes_durs[[#This Row],[Texte en dur]])","v":10},null,{"$f":"_xlfn.IFS(Language=\"EN\",I1864,Language=\"FR\",H1864,Language=\"SP\",J1864)","v":0}]
[null,"ModuleMEFGraphs","GR_REL_COM",274,{"$f":"LEN(resultats_textes_durs[[#This Row],[Texte en dur]])","v":10},null,{"$f":"_xlfn.IFS(Language=\"EN\",I1865,Language=\"FR\",H1865,Language=\"SP\",J1865)","v":0}]
[null,"ModuleMEFGraphs","F",277,{"$f":"LEN(resultats_textes_durs[[#This Row],[Texte en dur]])","v":1},null,{"$f":"_xlfn.IFS(Language=\"EN\",I1866,Language=\"FR\",H1866,Language=\"SP\",J1866)","v":0}]
[null,"ModuleMEFGraphs","F",289,{"$f":"LEN(resultats_textes_durs[[#This Row],[Texte en dur]])","v":1},null,{"$f":"_xlfn.IFS(Language=\"EN\",I1867,Language=\"FR\",H1867,Language=\"SP\",J1867)","v":0}]
[null,"ModuleMEFGraphs","J",293,{"$f":"LEN(resultats_textes_durs[[#This Row],[Texte en dur]])","v":1},null,{"$f":"_xlfn.IFS(Language=\"EN\",I1868,Language=\"FR\",H1868,Language=\"SP\",J1868)","v":0}]
[null,"ModuleMEFGraphs","E",294,{"$f":"LEN(resultats_textes_durs[[#This Row],[Texte en dur]])","v":1},null,{"$f":"_xlfn.IFS(Language=\"EN\",I1869,Language=\"FR\",H1869,Language=\"SP\",J1869)","v":0}]
[null,"ModuleMEFGraphs","Tous les graphiques ont été mis à jour avec les valeurs et les couleurs selon les types de parties prenantes.",327,{"$f":"LEN(resultats_textes_durs[[#This Row],[Texte en dur]])","v":109},null,{"$f":"_xlfn.IFS(Language=\"EN\",I1870,Language=\"FR\",H1870,Language=\"SP\",J1870)","v":0}]
[null,"ModuleMEFGraphs","SRM",328,{"$f":"LEN(resultats_textes_durs[[#This Row],[Texte en dur]])","v":3},null,{"$f":"_xlfn.IFS(Language=\"EN\",I1871,Language=\"FR\",H1871,Language=\"SP\",J1871)","v":0}]
[null,"ModuleMEFGraphs","Threshold",340,{"$f":"LEN(resultats_textes_durs[[#This Row],[Texte en dur]])","v":9},null,{"$f":"_xlfn.IFS(Language=\"EN\",I1872,Language=\"FR\",H1872,Language=\"SP\",J1872)","v":0}]
[null,"ModuleMEFGraphs","Threshold",341,{"$f":"LEN(resultats_textes_durs[[#This Row],[Texte en dur]])","v":9},null,{"$f":"_xlfn.IFS(Language=\"EN\",I1873,Language=\"FR\",H1873,Language=\"SP\",J1873)","v":0}]
[null,"ModuleMEFGraphs","Onglet_consult_graph",343,{"$f":"LEN(resultats_textes_durs[[#This Row],[Texte en dur]])","v":20},null,{"$f":"_xlfn.IFS(Language=\"EN\",I1874,Language=\"FR\",H1874,Language=\"SP\",J1874)","v":0}]
[null,"ModuleMEFGraphs","Onglet_consult_graph",344,{"$f":"LEN(resultats_textes_durs[[#This Row],[Texte en dur]])","v":20},null,{"$f":"_xlfn.IFS(Language=\"EN\",I1875,Language=\"FR\",H1875,Language=\"SP\",J1875)","v":0}]
[null,"ModuleMEFGraphs","Graph_SI-P3",346,{"$f":"LEN(resultats_textes_durs[[#This Row],[Texte en dur]])","v":11},null,{"$f":"_xlfn.IFS(Language=\"EN\",I1876,Language=\"FR\",H1876,Language=\"SP\",J1876)","v":0}]
[null,"ModuleMEFGraphs","Graph_SI-P3",347,{"$f":"LEN(resultats_textes_durs[[#This Row],[Texte en dur]])","v":11},null,{"$f":"_xlfn.IFS(Language=\"EN\",I1877,Language=\"FR\",H1877,Language=\"SP\",J1877)","v":0}]
[null,"ModuleMenuConfig","MenuConfig",8,{"$f":"LEN(resultats_textes_durs[[#This Row],[Texte en dur]])","v":10},null,{"$f":"_xlfn.IFS(Language=\"EN\",I1878,Language=\"FR\",H1878,Language=\"SP\",J1878)","v":0}]
[null,"ModuleMenuConfig","",13,{"$f":"LEN(resultats_textes_durs[[#This Row],[Texte en dur]])","v":0},null,{"$f":"_xlfn.IFS(Language=\"EN\",I1879,Language=\"FR\",H1879,Language=\"SP\",J1879)","v":0}]
[null,"ModuleMenuConfig","La configuration du menu n'a pas été chargée. Veuillez recharger le classeur.",58,{"$f":"LEN(resultats_textes_durs[[#This Row],[Texte en dur]])","v":77},null,{"$f":"_xlfn.IFS(Language=\"EN\",I1880,Language=\"FR\",H1880,Language=\"SP\",J1880)","v":0}]
[null,"ModuleMenuConfig","MyRectangleMenu",63,{"$f":"LEN(resultats_textes_durs[[#This Row],[Texte en dur]])","v":15},null,{"$f":"_xlfn.IFS(Language=\"EN\",I1881,Language=\"FR\",H1881,Language=\"SP\",J1881)","v":0}]
[null,"ModuleMenuConfig","MyRectangleMenu",66,{"$f":"LEN(resultats_textes_durs[[#This Row],[Texte en dur]])","v":15},null,{"$f":"_xlfn.IFS(Language=\"EN\",I1882,Language=\"FR\",H1882,Language=\"SP\",J1882)","v":0}]
[null,"ModuleMenuConfig","'GoToSheet ",75,{"$f":"LEN(resultats_textes_durs[[#This Row],[Texte en dur]])","v":11},null,{"$f":"_xlfn.IFS(Language=\"EN\",I1883,Language=\"FR\",H1883,Language=\"SP\",J1883)","v":0}]
[null,"ModuleMenuConfig","",75,{"$f":"LEN(resultats_textes_durs[[#This Row],[Texte en dur]])","v":0},null,{"$f":"_xlfn.IFS(Language=\"EN\",I1884,Language=\"FR\",H1884,Language=\"SP\",J1884)","v":0}]
[null,"ModuleMenuConfig","",75,{"$f":"LEN(resultats_textes_durs[[#This Row],[Texte en dur]])","v":0},null,{"$f":"_xlfn.IFS(Language=\"EN\",I1885,Language=\"FR\",H1885,Language=\"SP\",J1885)","v":0}]
[null,"ModuleMenuConfig","'",75,{"$f":"LEN(resultats_textes_durs[[#This Row],[Texte en dur]])","v":1},null,{"$f":"_xlfn.IFS(Language=\"EN\",I1886,Language=\"FR\",H1886,Language=\"SP\",J1886)","v":0}]
[null,"ModuleMenuConfig","Liste_onglets",118,{"$f":"LEN(resultats_textes_durs[[#This Row],[Texte en dur]])","v":13},null,{"$f":"_xlfn.IFS(Language=\"EN\",I1887,Language=\"FR\",H1887,Language=\"SP\",J1887)","v":0}]
[null,"ModuleMenuConfig","Onglet_SRR_P1",119,{"$f":"LEN(resultats_textes_durs[[#This Row],[Texte en dur]])","v":13},null,{"$f":"_xlfn.IFS(Language=\"EN\",I1888,Language=\"FR\",H1888,Language=\"SP\",J1888)","v":0}]
[null,"ModuleMenuConfig","Rectangle 4",122,{"$f":"LEN(resultats_textes_durs[[#This Row],[Texte en dur]])","v":11},null,{"$f":"_xlfn.IFS(Language=\"EN\",I1889,Language=\"FR\",H1889,Language=\"SP\",J1889)","v":0}]
[null,"ModuleMenuConfig","Rectangle 2",122,{"$f":"LEN(resultats_textes_durs[[#This Row],[Texte en dur]])","v":11},null,{"$f":"_xlfn.IFS(Language=\"EN\",I1890,Language=\"FR\",H1890,Language=\"SP\",J1890)","v":0}]
[null,"ModuleMenuConfig","Rectangle 5",122,{"$f":"LEN(resultats_textes_durs[[#This Row],[Texte en dur]])","v":11},null,{"$f":"_xlfn.IFS(Language=\"EN\",I1891,Language=\"FR\",H1891,Language=\"SP\",J1891)","v":0}]
[null,"ModuleMenuConfig","Rectangle 1",122,{"$f":"LEN(resultats_textes_durs[[#This Row],[Texte en dur]])","v":11},null,{"$f":"_xlfn.IFS(Language=\"EN\",I1892,Language=\"FR\",H1892,Language=\"SP\",J1892)","v":0}]
[null,"ModuleMenuConfig","Rectangle 6",122,{"$f":"LEN(resultats_textes_durs[[#This Row],[Texte en dur]])","v":11},null,{"$f":"_xlfn.IFS(Language=\"EN\",I1893,Language=\"FR\",H1893,Language=\"SP\",J1893)","v":0}]
[null,"ModuleMenuConfig","Image 7",122,{"$f":"LEN(resultats_textes_durs[[#This Row],[Texte en dur]])","v":7},null,{"$f":"_xlfn.IFS(Language=\"EN\",I1894,Language=\"FR\",H1894,Language=\"SP\",J1894)","v":0}]
[null,"ModuleMenuConfig","Rectangle 12",125,{"$f":"LEN(resultats_textes_durs[[#This Row],[Texte en dur]])","v":12},null,{"$f":"_xlfn.IFS(Language=\"EN\",I1895,Language=\"FR\",H1895,Language=\"SP\",J1895)","v":0}]
[null,"ModuleMenuConfig","Rectangle 10",125,{"$f":"LEN(resultats_textes_durs[[#This Row],[Texte en dur]])","v":12},null,{"$f":"_xlfn.IFS(Language=\"EN\",I1896,Language=\"FR\",H1896,Language=\"SP\",J1896)","v":0}]
[null,"ModuleMenuConfig","Rectangle 13",125,{"$f":"LEN(resultats_textes_durs[[#This Row],[Texte en dur]])","v":12},null,{"$f":"_xlfn.IFS(Language=\"EN\",I1897,Language=\"FR\",H1897,Language=\"SP\",J1897)","v":0}]
[null,"ModuleMenuConfig","Rectangle 9",125,{"$f":"LEN(resultats_textes_durs[[#This Row],[Texte en dur]])","v":11},null,{"$f":"_xlfn.IFS(Language=\"EN\",I1898,Language=\"FR\",H1898,Language=\"SP\",J1898)","v":0}]
[null,"ModuleMenuConfig","Rectangle 14",125,{"$f":"LEN(resultats_textes_durs[[#This Row],[Texte en dur]])","v":12},null,{"$f":"_xlfn.IFS(Language=\"EN\",I1899,Language=\"FR\",H1899,Language=\"SP\",J1899)","v":0}]
[null,"ModuleMenuConfig","Image 15",125,{"$f":"LEN(resultats_textes_durs[[#This Row],[Texte en dur]])","v":8},null,{"$f":"_xlfn.IFS(Language=\"EN\",I1900,Language=\"FR\",H1900,Language=\"SP\",J1900)","v":0}]
[null,"ModuleMenuConfig","M8",128,{"$f":"LEN(resultats_textes_durs[[#This Row],[Texte en dur]])","v":2},null,{"$f":"_xlfn.IFS(Language=\"EN\",I1901,Language=\"FR\",H1901,Language=\"SP\",J1901)","v":0}]
[null,"ModuleMenuConfig","M",128,{"$f":"LEN(resultats_textes_durs[[#This Row],[Texte en dur]])","v":1},null,{"$f":"_xlfn.IFS(Language=\"EN\",I1902,Language=\"FR\",H1902,Language=\"SP\",J1902)","v":0}]
[null,"ModuleMenuConfig","",135,{"$f":"LEN(resultats_textes_durs[[#This Row],[Texte en dur]])","v":0},null,{"$f":"_xlfn.IFS(Language=\"EN\",I1903,Language=\"FR\",H1903,Language=\"SP\",J1903)","v":0}]
[null,"ModuleMenuConfig","Onglet_SRR_P1",135,{"$f":"LEN(resultats_textes_durs[[#This Row],[Texte en dur]])","v":13},null,{"$f":"_xlfn.IFS(Language=\"EN\",I1904,Language=\"FR\",H1904,Language=\"SP\",J1904)","v":0}]
[null,"ModuleMenuConfig","Les formes ont été copiées dans les onglets de destination.",201,{"$f":"LEN(resultats_textes_durs[[#This Row],[Texte en dur]])","v":59},null,{"$f":"_xlfn.IFS(Language=\"EN\",I1905,Language=\"FR\",H1905,Language=\"SP\",J1905)","v":0}]
[null,"ModuleMenuConfig","Liste_onglets",219,{"$f":"LEN(resultats_textes_durs[[#This Row],[Texte en dur]])","v":13},null,{"$f":"_xlfn.IFS(Language=\"EN\",I1906,Language=\"FR\",H1906,Language=\"SP\",J1906)","v":0}]
[null,"ModuleMenuConfig","Image 13",222,{"$f":"LEN(resultats_textes_durs[[#This Row],[Texte en dur]])","v":8},null,{"$f":"_xlfn.IFS(Language=\"EN\",I1907,Language=\"FR\",H1907,Language=\"SP\",J1907)","v":0}]
[null,"ModuleMenuConfig","M8",225,{"$f":"LEN(resultats_textes_durs[[#This Row],[Texte en dur]])","v":2},null,{"$f":"_xlfn.IFS(Language=\"EN\",I1908,Language=\"FR\",H1908,Language=\"SP\",J1908)","v":0}]
[null,"ModuleMenuConfig","M",225,{"$f":"LEN(resultats_textes_durs[[#This Row],[Texte en dur]])","v":1},null,{"$f":"_xlfn.IFS(Language=\"EN\",I1909,Language=\"FR\",H1909,Language=\"SP\",J1909)","v":0}]
[null,"ModuleMenuConfig","",236,{"$f":"LEN(resultats_textes_durs[[#This Row],[Texte en dur]])","v":0},null,{"$f":"_xlfn.IFS(Language=\"EN\",I1910,Language=\"FR\",H1910,Language=\"SP\",J1910)","v":0}]
[null,"ModuleMenuConfig","Placement",244,{"$f":"LEN(resultats_textes_durs[[#This Row],[Texte en dur]])","v":9},null,{"$f":"_xlfn.IFS(Language=\"EN\",I1911,Language=\"FR\",H1911,Language=\"SP\",J1911)","v":0}]
[null,"ModuleMenuConfig","La propriété de l'image a été modifiée dans les onglets.",256,{"$f":"LEN(resultats_textes_durs[[#This Row],[Texte en dur]])","v":56},null,{"$f":"_xlfn.IFS(Language=\"EN\",I1912,Language=\"FR\",H1912,Language=\"SP\",J1912)","v":0}]
[null,"ModuleMenuConfig","Onglet_Parameters",275,{"$f":"LEN(resultats_textes_durs[[#This Row],[Texte en dur]])","v":17},null,{"$f":"_xlfn.IFS(Language=\"EN\",I1913,Language=\"FR\",H1913,Language=\"SP\",J1913)","v":0}]
[null,"ModuleMenuConfig","A4",278,{"$f":"LEN(resultats_textes_durs[[#This Row],[Texte en dur]])","v":2},null,{"$f":"_xlfn.IFS(Language=\"EN\",I1914,Language=\"FR\",H1914,Language=\"SP\",J1914)","v":0}]
[null,"ModulePanel","Onglet_consult_Panel",40,{"$f":"LEN(resultats_textes_durs[[#This Row],[Texte en dur]])","v":20},null,{"$f":"_xlfn.IFS(Language=\"EN\",I1915,Language=\"FR\",H1915,Language=\"SP\",J1915)","v":0}]
[null,"ModulePanel","Onglet_mapping_SHlist",41,{"$f":"LEN(resultats_textes_durs[[#This Row],[Texte en dur]])","v":21},null,{"$f":"_xlfn.IFS(Language=\"EN\",I1916,Language=\"FR\",H1916,Language=\"SP\",J1916)","v":0}]
[null,"ModulePanel","E",44,{"$f":"LEN(resultats_textes_durs[[#This Row],[Texte en dur]])","v":1},null,{"$f":"_xlfn.IFS(Language=\"EN\",I1917,Language=\"FR\",H1917,Language=\"SP\",J1917)","v":0}]
[null,"ModulePanel","C",47,{"$f":"LEN(resultats_textes_durs[[#This Row],[Texte en dur]])","v":1},null,{"$f":"_xlfn.IFS(Language=\"EN\",I1918,Language=\"FR\",H1918,Language=\"SP\",J1918)","v":0}]
[null,"ModulePanel","E",51,{"$f":"LEN(resultats_textes_durs[[#This Row],[Texte en dur]])","v":1},null,{"$f":"_xlfn.IFS(Language=\"EN\",I1919,Language=\"FR\",H1919,Language=\"SP\",J1919)","v":0}]
[null,"ModulePanel","",52,{"$f":"LEN(resultats_textes_durs[[#This Row],[Texte en dur]])","v":0},null,{"$f":"_xlfn.IFS(Language=\"EN\",I1920,Language=\"FR\",H1920,Language=\"SP\",J1920)","v":0}]
[null,"ModulePanel","C",57,{"$f":"LEN(resultats_textes_durs[[#This Row],[Texte en dur]])","v":1},null,{"$f":"_xlfn.IFS(Language=\"EN\",I1921,Language=\"FR\",H1921,Language=\"SP\",J1921)","v":0}]
[null,"ModulePanel","M",59,{"$f":"LEN(resultats_textes_durs[[#This Row],[Texte en dur]])","v":1},null,{"$f":"_xlfn.IFS(Language=\"EN\",I1922,Language=\"FR\",H1922,Language=\"SP\",J1922)","v":0}]
[null,"ModulePanel","D",60,{"$f":"LEN(resultats_textes_durs[[#This Row],[Texte en dur]])","v":1},null,{"$f":"_xlfn.IFS(Language=\"EN\",I1923,Language=\"FR\",H1923,Language=\"SP\",J1923)","v":0}]
[null,"ModulePanel","J",62,{"$f":"LEN(resultats_textes_durs[[#This Row],[Texte en dur]])","v":1},null,{"$f":"_xlfn.IFS(Language=\"EN\",I1924,Language=\"FR\",H1924,Language=\"SP\",J1924)","v":0}]
[null,"ModulePanel","Zone 1",63,{"$f":"LEN(resultats_textes_durs[[#This Row],[Texte en dur]])","v":6},null,{"$f":"_xlfn.IFS(Language=\"EN\",I1925,Language=\"FR\",H1925,Language=\"SP\",J1925)","v":0}]
[null,"ModulePanel","Zone 2",64,{"$f":"LEN(resultats_textes_durs[[#This Row],[Texte en dur]])","v":6},null,{"$f":"_xlfn.IFS(Language=\"EN\",I1926,Language=\"FR\",H1926,Language=\"SP\",J1926)","v":0}]
[null,"ModulePanel","Zone 3",65,{"$f":"LEN(resultats_textes_durs[[#This Row],[Texte en dur]])","v":6},null,{"$f":"_xlfn.IFS(Language=\"EN\",I1927,Language=\"FR\",H1927,Language=\"SP\",J1927)","v":0}]
[null,"ModulePanel","Zone 4",66,{"$f":"LEN(resultats_textes_durs[[#This Row],[Texte en dur]])","v":6},null,{"$f":"_xlfn.IFS(Language=\"EN\",I1928,Language=\"FR\",H1928,Language=\"SP\",J1928)","v":0}]
[null,"ModulePanel","D",71,{"$f":"LEN(resultats_textes_durs[[#This Row],[Texte en dur]])","v":1},null,{"$f":"_xlfn.IFS(Language=\"EN\",I1929,Language=\"FR\",H1929,Language=\"SP\",J1929)","v":0}]
[null,"ModulePanel","F",72,{"$f":"LEN(resultats_textes_durs[[#This Row],[Texte en dur]])","v":1},null,{"$f":"_xlfn.IFS(Language=\"EN\",I1930,Language=\"FR\",H1930,Language=\"SP\",J1930)","v":0}]
[null,"ModulePanel","G",73,{"$f":"LEN(resultats_textes_durs[[#This Row],[Texte en dur]])","v":1},null,{"$f":"_xlfn.IFS(Language=\"EN\",I1931,Language=\"FR\",H1931,Language=\"SP\",J1931)","v":0}]
[null,"ModulePanel","D",82,{"$f":"LEN(resultats_textes_durs[[#This Row],[Texte en dur]])","v":1},null,{"$f":"_xlfn.IFS(Language=\"EN\",I1932,Language=\"FR\",H1932,Language=\"SP\",J1932)","v":0}]
[null,"ModulePanel","Non trouvé",82,{"$f":"LEN(resultats_textes_durs[[#This Row],[Texte en dur]])","v":10},null,{"$f":"_xlfn.IFS(Language=\"EN\",I1933,Language=\"FR\",H1933,Language=\"SP\",J1933)","v":0}]
[null,"ModulePanel","F",83,{"$f":"LEN(resultats_textes_durs[[#This Row],[Texte en dur]])","v":1},null,{"$f":"_xlfn.IFS(Language=\"EN\",I1934,Language=\"FR\",H1934,Language=\"SP\",J1934)","v":0}]
[null,"ModulePanel","Non trouvé",83,{"$f":"LEN(resultats_textes_durs[[#This Row],[Texte en dur]])","v":10},null,{"$f":"_xlfn.IFS(Language=\"EN\",I1935,Language=\"FR\",H1935,Language=\"SP\",J1935)","v":0}]
[null,"ModulePanel","G",84,{"$f":"LEN(resultats_textes_durs[[#This Row],[Texte en dur]])","v":1},null,{"$f":"_xlfn.IFS(Language=\"EN\",I1936,Language=\"FR\",H1936,Language=\"SP\",J1936)","v":0}]
[null,"ModulePanel","Non trouvé",84,{"$f":"LEN(resultats_textes_durs[[#This Row],[Texte en dur]])","v":10},null,{"$f":"_xlfn.IFS(Language=\"EN\",I1937,Language=\"FR\",H1937,Language=\"SP\",J1937)","v":0}]
[null,"ModulePanel","Mise à jour terminée!",89,{"$f":"LEN(resultats_textes_durs[[#This Row],[Texte en dur]])","v":21},null,{"$f":"_xlfn.IFS(Language=\"EN\",I1938,Language=\"FR\",H1938,Language=\"SP\",J1938)","v":0}]
[null,"ModulePanel","Onglet_consult_Panel",112,{"$f":"LEN(resultats_textes_durs[[#This Row],[Texte en dur]])","v":20},null,{"$f":"_xlfn.IFS(Language=\"EN\",I1939,Language=\"FR\",H1939,Language=\"SP\",J1939)","v":0}]
[null,"ModulePanel","Onglet_consult_Panel_graph",113,{"$f":"LEN(resultats_textes_durs[[#This Row],[Texte en dur]])","v":26},null,{"$f":"_xlfn.IFS(Language=\"EN\",I1940,Language=\"FR\",H1940,Language=\"SP\",J1940)","v":0}]
[null,"ModulePanel","Onglet_consult_upload",114,{"$f":"LEN(resultats_textes_durs[[#This Row],[Texte en dur]])","v":21},null,{"$f":"_xlfn.IFS(Language=\"EN\",I1941,Language=\"FR\",H1941,Language=\"SP\",J1941)","v":0}]
[null,"ModulePanel","SRM",116,{"$f":"LEN(resultats_textes_durs[[#This Row],[Texte en dur]])","v":3},null,{"$f":"_xlfn.IFS(Language=\"EN\",I1942,Language=\"FR\",H1942,Language=\"SP\",J1942)","v":0}]
[null,"ModulePanel","C18:C29",118,{"$f":"LEN(resultats_textes_durs[[#This Row],[Texte en dur]])","v":7},null,{"$f":"_xlfn.IFS(Language=\"EN\",I1943,Language=\"FR\",H1943,Language=\"SP\",J1943)","v":0}]
[null,"ModulePanel","C31:C40",119,{"$f":"LEN(resultats_textes_durs[[#This Row],[Texte en dur]])","v":7},null,{"$f":"_xlfn.IFS(Language=\"EN\",I1944,Language=\"FR\",H1944,Language=\"SP\",J1944)","v":0}]
[null,"ModulePanel","L31:L40",120,{"$f":"LEN(resultats_textes_durs[[#This Row],[Texte en dur]])","v":7},null,{"$f":"_xlfn.IFS(Language=\"EN\",I1945,Language=\"FR\",H1945,Language=\"SP\",J1945)","v":0}]
[null,"ModulePanel","L18:L29",121,{"$f":"LEN(resultats_textes_durs[[#This Row],[Texte en dur]])","v":7},null,{"$f":"_xlfn.IFS(Language=\"EN\",I1946,Language=\"FR\",H1946,Language=\"SP\",J1946)","v":0}]
[null,"ModulePanel","E",124,{"$f":"LEN(resultats_textes_durs[[#This Row],[Texte en dur]])","v":1},null,{"$f":"_xlfn.IFS(Language=\"EN\",I1947,Language=\"FR\",H1947,Language=\"SP\",J1947)","v":0}]
[null,"ModulePanel","SRM",138,{"$f":"LEN(resultats_textes_durs[[#This Row],[Texte en dur]])","v":3},null,{"$f":"_xlfn.IFS(Language=\"EN\",I1948,Language=\"FR\",H1948,Language=\"SP\",J1948)","v":0}]
[null,"ModulePanel","C16:C",141,{"$f":"LEN(resultats_textes_durs[[#This Row],[Texte en dur]])","v":5},null,{"$f":"_xlfn.IFS(Language=\"EN\",I1949,Language=\"FR\",H1949,Language=\"SP\",J1949)","v":0}]
[null,"ModulePanel","D16:D",142,{"$f":"LEN(resultats_textes_durs[[#This Row],[Texte en dur]])","v":5},null,{"$f":"_xlfn.IFS(Language=\"EN\",I1950,Language=\"FR\",H1950,Language=\"SP\",J1950)","v":0}]
[null,"ModulePanel","E16:E",143,{"$f":"LEN(resultats_textes_durs[[#This Row],[Texte en dur]])","v":5},null,{"$f":"_xlfn.IFS(Language=\"EN\",I1951,Language=\"FR\",H1951,Language=\"SP\",J1951)","v":0}]
[null,"ModulePanel","F16:F",144,{"$f":"LEN(resultats_textes_durs[[#This Row],[Texte en dur]])","v":5},null,{"$f":"_xlfn.IFS(Language=\"EN\",I1952,Language=\"FR\",H1952,Language=\"SP\",J1952)","v":0}]
[null,"ModulePanel","E",148,{"$f":"LEN(resultats_textes_durs[[#This Row],[Texte en dur]])","v":1},null,{"$f":"_xlfn.IFS(Language=\"EN\",I1953,Language=\"FR\",H1953,Language=\"SP\",J1953)","v":0}]
[null,"ModulePanel","",148,{"$f":"LEN(resultats_textes_durs[[#This Row],[Texte en dur]])","v":0},null,{"$f":"_xlfn.IFS(Language=\"EN\",I1954,Language=\"FR\",H1954,Language=\"SP\",J1954)","v":0}]
[null,"ModulePanel","F",149,{"$f":"LEN(resultats_textes_durs[[#This Row],[Texte en dur]])","v":1},null,{"$f":"_xlfn.IFS(Language=\"EN\",I1955,Language=\"FR\",H1955,Language=\"SP\",J1955)","v":0}]
[null,"ModulePanel","C",152,{"$f":"LEN(resultats_textes_durs[[#This Row],[Texte en dur]])","v":1},null,{"$f":"_xlfn.IFS(Language=\"EN\",I1956,Language=\"FR\",H1956,Language=\"SP\",J1956)","v":0}]
[null,"ModulePanel","E",152,{"$f":"LEN(resultats_textes_durs[[#This Row],[Texte en dur]])","v":1},null,{"$f":"_xlfn.IFS(Language=\"EN\",I1957,Language=\"FR\",H1957,Language=\"SP\",J1957)","v":0}]
[null,"ModulePanel","F",156,{"$f":"LEN(resultats_textes_durs[[#This Row],[Texte en dur]])","v":1},null,{"$f":"_xlfn.IFS(Language=\"EN\",I1958,Language=\"FR\",H1958,Language=\"SP\",J1958)","v":0}]
[null,"ModulePanel","E",156,{"$f":"LEN(resultats_textes_durs[[#This Row],[Texte en dur]])","v":1},null,{"$f":"_xlfn.IFS(Language=\"EN\",I1959,Language=\"FR\",H1959,Language=\"SP\",J1959)","v":0}]
[null,"ModulePanel","C",161,{"$f":"LEN(resultats_textes_durs[[#This Row],[Texte en dur]])","v":1},null,{"$f":"_xlfn.IFS(Language=\"EN\",I1960,Language=\"FR\",H1960,Language=\"SP\",J1960)","v":0}]
[null,"ModulePanel","E",161,{"$f":"LEN(resultats_textes_durs[[#This Row],[Texte en dur]])","v":1},null,{"$f":"_xlfn.IFS(Language=\"EN\",I1961,Language=\"FR\",H1961,Language=\"SP\",J1961)","v":0}]
[null,"ModulePanel","E",165,{"$f":"LEN(resultats_textes_durs[[#This Row],[Texte en dur]])","v":1},null,{"$f":"_xlfn.IFS(Language=\"EN\",I1962,Language=\"FR\",H1962,Language=\"SP\",J1962)","v":0}]
[null,"ModulePanel","E",165,{"$f":"LEN(resultats_textes_durs[[#This Row],[Texte en dur]])","v":1},null,{"$f":"_xlfn.IFS(Language=\"EN\",I1963,Language=\"FR\",H1963,Language=\"SP\",J1963)","v":0}]
[null,"ModulePanel","L",170,{"$f":"LEN(resultats_textes_durs[[#This Row],[Texte en dur]])","v":1},null,{"$f":"_xlfn.IFS(Language=\"EN\",I1964,Language=\"FR\",H1964,Language=\"SP\",J1964)","v":0}]
[null,"ModulePanel","E",170,{"$f":"LEN(resultats_textes_durs[[#This Row],[Texte en dur]])","v":1},null,{"$f":"_xlfn.IFS(Language=\"EN\",I1965,Language=\"FR\",H1965,Language=\"SP\",J1965)","v":0}]
[null,"ModulePanel","D",174,{"$f":"LEN(resultats_textes_durs[[#This Row],[Texte en dur]])","v":1},null,{"$f":"_xlfn.IFS(Language=\"EN\",I1966,Language=\"FR\",H1966,Language=\"SP\",J1966)","v":0}]
[null,"ModulePanel","E",174,{"$f":"LEN(resultats_textes_durs[[#This Row],[Texte en dur]])","v":1},null,{"$f":"_xlfn.IFS(Language=\"EN\",I1967,Language=\"FR\",H1967,Language=\"SP\",J1967)","v":0}]
[null,"ModulePanel","L",179,{"$f":"LEN(resultats_textes_durs[[#This Row],[Texte en dur]])","v":1},null,{"$f":"_xlfn.IFS(Language=\"EN\",I1968,Language=\"FR\",H1968,Language=\"SP\",J1968)","v":0}]
[null,"ModulePanel","E",179,{"$f":"LEN(resultats_textes_durs[[#This Row],[Texte en dur]])","v":1},null,{"$f":"_xlfn.IFS(Language=\"EN\",I1969,Language=\"FR\",H1969,Language=\"SP\",J1969)","v":0}]
[null,"ModulePanel","C",183,{"$f":"LEN(resultats_textes_durs[[#This Row],[Texte en dur]])","v":1},null,{"$f":"_xlfn.IFS(Language=\"EN\",I1970,Language=\"FR\",H1970,Language=\"SP\",J1970)","v":0}]
[null,"ModulePanel","E",183,{"$f":"LEN(resultats_textes_durs[[#This Row],[Texte en dur]])","v":1},null,{"$f":"_xlfn.IFS(Language=\"EN\",I1971,Language=\"FR\",H1971,Language=\"SP\",J1971)","v":0}]
[null,"ModulePanel","Les stakeholders ont été copiés avec succès!",189,{"$f":"LEN(resultats_textes_durs[[#This Row],[Texte en dur]])","v":44},null,{"$f":"_xlfn.IFS(Language=\"EN\",I1972,Language=\"FR\",H1972,Language=\"SP\",J1972)","v":0}]
[null,"ModulePanel","SRM",190,{"$f":"LEN(resultats_textes_durs[[#This Row],[Texte en dur]])","v":3},null,{"$f":"_xlfn.IFS(Language=\"EN\",I1973,Language=\"FR\",H1973,Language=\"SP\",J1973)","v":0}]
[null,"ModulePanel","SRM",191,{"$f":"LEN(resultats_textes_durs[[#This Row],[Texte en dur]])","v":3},null,{"$f":"_xlfn.IFS(Language=\"EN\",I1974,Language=\"FR\",H1974,Language=\"SP\",J1974)","v":0}]
[null,"ModulePanel","Onglet_consult_Panel",206,{"$f":"LEN(resultats_textes_durs[[#This Row],[Texte en dur]])","v":20},null,{"$f":"_xlfn.IFS(Language=\"EN\",I1975,Language=\"FR\",H1975,Language=\"SP\",J1975)","v":0}]
[null,"ModulePanel","Onglet_mapping_database",207,{"$f":"LEN(resultats_textes_durs[[#This Row],[Texte en dur]])","v":23},null,{"$f":"_xlfn.IFS(Language=\"EN\",I1976,Language=\"FR\",H1976,Language=\"SP\",J1976)","v":0}]
[null,"ModulePanel","D",210,{"$f":"LEN(resultats_textes_durs[[#This Row],[Texte en dur]])","v":1},null,{"$f":"_xlfn.IFS(Language=\"EN\",I1977,Language=\"FR\",H1977,Language=\"SP\",J1977)","v":0}]
[null,"ModulePanel","AG",211,{"$f":"LEN(resultats_textes_durs[[#This Row],[Texte en dur]])","v":2},null,{"$f":"_xlfn.IFS(Language=\"EN\",I1978,Language=\"FR\",H1978,Language=\"SP\",J1978)","v":0}]
[null,"ModulePanel","Onglet_consult_Panel",213,{"$f":"LEN(resultats_textes_durs[[#This Row],[Texte en dur]])","v":20},null,{"$f":"_xlfn.IFS(Language=\"EN\",I1979,Language=\"FR\",H1979,Language=\"SP\",J1979)","v":0}]
[null,"ModulePanel","D",215,{"$f":"LEN(resultats_textes_durs[[#This Row],[Texte en dur]])","v":1},null,{"$f":"_xlfn.IFS(Language=\"EN\",I1980,Language=\"FR\",H1980,Language=\"SP\",J1980)","v":0}]
[null,"ModulePanel","Onglet_mapping_database",217,{"$f":"LEN(resultats_textes_durs[[#This Row],[Texte en dur]])","v":23},null,{"$f":"_xlfn.IFS(Language=\"EN\",I1981,Language=\"FR\",H1981,Language=\"SP\",J1981)","v":0}]
[null,"ModulePanel","AG",219,{"$f":"LEN(resultats_textes_durs[[#This Row],[Texte en dur]])","v":2},null,{"$f":"_xlfn.IFS(Language=\"EN\",I1982,Language=\"FR\",H1982,Language=\"SP\",J1982)","v":0}]
[null,"ModulePanel","C",221,{"$f":"LEN(resultats_textes_durs[[#This Row],[Texte en dur]])","v":1},null,{"$f":"_xlfn.IFS(Language=\"EN\",I1983,Language=\"FR\",H1983,Language=\"SP\",J1983)","v":0}]
[null,"ModulePanel","Onglet_consult_Panel",222,{"$f":"LEN(resultats_textes_durs[[#This Row],[Texte en dur]])","v":20},null,{"$f":"_xlfn.IFS(Language=\"EN\",I1984,Language=\"FR\",H1984,Language=\"SP\",J1984)","v":0}]
[null,"ModulePanel","E",223,{"$f":"LEN(resultats_textes_durs[[#This Row],[Texte en dur]])","v":1},null,{"$f":"_xlfn.IFS(Language=\"EN\",I1985,Language=\"FR\",H1985,Language=\"SP\",J1985)","v":0}]
[null,"ModuleRecensementMacros","Macros",17,{"$f":"LEN(resultats_textes_durs[[#This Row],[Texte en dur]])","v":6},null,{"$f":"_xlfn.IFS(Language=\"EN\",I1986,Language=\"FR\",H1986,Language=\"SP\",J1986)","v":0}]
[null,"ModuleRecensementMacros","Macros",19,{"$f":"LEN(resultats_textes_durs[[#This Row],[Texte en dur]])","v":6},null,{"$f":"_xlfn.IFS(Language=\"EN\",I1987,Language=\"FR\",H1987,Language=\"SP\",J1987)","v":0}]
[null,"ModuleRecensementMacros","Macros",22,{"$f":"LEN(resultats_textes_durs[[#This Row],[Texte en dur]])","v":6},null,{"$f":"_xlfn.IFS(Language=\"EN\",I1988,Language=\"FR\",H1988,Language=\"SP\",J1988)","v":0}]
[null,"ModuleRecensementMacros","Macros",25,{"$f":"LEN(resultats_textes_durs[[#This Row],[Texte en dur]])","v":6},null,{"$f":"_xlfn.IFS(Language=\"EN\",I1989,Language=\"FR\",H1989,Language=\"SP\",J1989)","v":0}]
[null,"ModuleRecensementMacros","Macros",27,{"$f":"LEN(resultats_textes_durs[[#This Row],[Texte en dur]])","v":6},null,{"$f":"_xlfn.IFS(Language=\"EN\",I1990,Language=\"FR\",H1990,Language=\"SP\",J1990)","v":0}]
[null,"ModuleRecensementMacros","Nom de la macro",32,{"$f":"LEN(resultats_textes_durs[[#This Row],[Texte en dur]])","v":15},null,{"$f":"_xlfn.IFS(Language=\"EN\",I1991,Language=\"FR\",H1991,Language=\"SP\",J1991)","v":0}]
[null,"ModuleRecensementMacros","Nombre de lignes",33,{"$f":"LEN(resultats_textes_durs[[#This Row],[Texte en dur]])","v":16},null,{"$f":"_xlfn.IFS(Language=\"EN\",I1992,Language=\"FR\",H1992,Language=\"SP\",J1992)","v":0}]
[null,"ModuleRecensementMacros","Emplacement",34,{"$f":"LEN(resultats_textes_durs[[#This Row],[Texte en dur]])","v":11},null,{"$f":"_xlfn.IFS(Language=\"EN\",I1993,Language=\"FR\",H1993,Language=\"SP\",J1993)","v":0}]
[null,"ModuleRecensementMacros","Nom visible",35,{"$f":"LEN(resultats_textes_durs[[#This Row],[Texte en dur]])","v":11},null,{"$f":"_xlfn.IFS(Language=\"EN\",I1994,Language=\"FR\",H1994,Language=\"SP\",J1994)","v":0}]
[null,"ModuleRecensementMacros","Nom technique",38,{"$f":"LEN(resultats_textes_durs[[#This Row],[Texte en dur]])","v":13},null,{"$f":"_xlfn.IFS(Language=\"EN\",I1995,Language=\"FR\",H1995,Language=\"SP\",J1995)","v":0}]
[null,"ModuleRecensementMacros","Nom visible",39,{"$f":"LEN(resultats_textes_durs[[#This Row],[Texte en dur]])","v":11},null,{"$f":"_xlfn.IFS(Language=\"EN\",I1996,Language=\"FR\",H1996,Language=\"SP\",J1996)","v":0}]
[null,"ModuleRecensementMacros","Macros",69,{"$f":"LEN(resultats_textes_durs[[#This Row],[Texte en dur]])","v":6},null,{"$f":"_xlfn.IFS(Language=\"EN\",I1997,Language=\"FR\",H1997,Language=\"SP\",J1997)","v":0}]
[null,"ModuleRecensementMacros","Nom visible",91,{"$f":"LEN(resultats_textes_durs[[#This Row],[Texte en dur]])","v":11},null,{"$f":"_xlfn.IFS(Language=\"EN\",I1998,Language=\"FR\",H1998,Language=\"SP\",J1998)","v":0}]
[null,"ModuleRecensementMacros","B:I",111,{"$f":"LEN(resultats_textes_durs[[#This Row],[Texte en dur]])","v":3},null,{"$f":"_xlfn.IFS(Language=\"EN\",I1999,Language=\"FR\",H1999,Language=\"SP\",J1999)","v":0}]
[null,"ModuleRecensementMacros","Arial",115,{"$f":"LEN(resultats_textes_durs[[#This Row],[Texte en dur]])","v":5},null,{"$f":"_xlfn.IFS(Language=\"EN\",I2000,Language=\"FR\",H2000,Language=\"SP\",J2000)","v":0}]
[null,"ModuleRecensementMacros","B2:E",121,{"$f":"LEN(resultats_textes_durs[[#This Row],[Texte en dur]])","v":4},null,{"$f":"_xlfn.IFS(Language=\"EN\",I2001,Language=\"FR\",H2001,Language=\"SP\",J2001)","v":0}]
[null,"ModuleRecensementMacros","H2:I",130,{"$f":"LEN(resultats_textes_durs[[#This Row],[Texte en dur]])","v":4},null,{"$f":"_xlfn.IFS(Language=\"EN\",I2002,Language=\"FR\",H2002,Language=\"SP\",J2002)","v":0}]
[null,"ModuleRecensementMacros","Recensement et style appliqués avec succès!",143,{"$f":"LEN(resultats_textes_durs[[#This Row],[Texte en dur]])","v":43},null,{"$f":"_xlfn.IFS(Language=\"EN\",I2003,Language=\"FR\",H2003,Language=\"SP\",J2003)","v":0}]
[null,"ModuleSRRconsodatabase","Onglet_SRR_database",12,{"$f":"LEN(resultats_textes_durs[[#This Row],[Texte en dur]])","v":19},null,{"$f":"_xlfn.IFS(Language=\"EN\",I2004,Language=\"FR\",H2004,Language=\"SP\",J2004)","v":0}]
[null,"ModuleSRRconsodatabase","Onglet_SRR_P1",13,{"$f":"LEN(resultats_textes_durs[[#This Row],[Texte en dur]])","v":13},null,{"$f":"_xlfn.IFS(Language=\"EN\",I2005,Language=\"FR\",H2005,Language=\"SP\",J2005)","v":0}]
[null,"ModuleSRRconsodatabase","Onglet_SRR_P2",13,{"$f":"LEN(resultats_textes_durs[[#This Row],[Texte en dur]])","v":13},null,{"$f":"_xlfn.IFS(Language=\"EN\",I2006,Language=\"FR\",H2006,Language=\"SP\",J2006)","v":0}]
[null,"ModuleSRRconsodatabase","Onglet_SRR_P3",13,{"$f":"LEN(resultats_textes_durs[[#This Row],[Texte en dur]])","v":13},null,{"$f":"_xlfn.IFS(Language=\"EN\",I2007,Language=\"FR\",H2007,Language=\"SP\",J2007)","v":0}]
[null,"ModuleSRRconsodatabase","Onglet_SRR_Gov",13,{"$f":"LEN(resultats_textes_durs[[#This Row],[Texte en dur]])","v":14},null,{"$f":"_xlfn.IFS(Language=\"EN\",I2008,Language=\"FR\",H2008,Language=\"SP\",J2008)","v":0}]
[null,"ModuleSRRconsodatabase","C5:E",18,{"$f":"LEN(resultats_textes_durs[[#This Row],[Texte en dur]])","v":4},null,{"$f":"_xlfn.IFS(Language=\"EN\",I2009,Language=\"FR\",H2009,Language=\"SP\",J2009)","v":0}]
[null,"ModuleSRRconsodatabase","",31,{"$f":"LEN(resultats_textes_durs[[#This Row],[Texte en dur]])","v":0},null,{"$f":"_xlfn.IFS(Language=\"EN\",I2010,Language=\"FR\",H2010,Language=\"SP\",J2010)","v":0}]
[null,"ModuleSRRconsodatabase","i",31,{"$f":"LEN(resultats_textes_durs[[#This Row],[Texte en dur]])","v":1},null,{"$f":"_xlfn.IFS(Language=\"EN\",I2011,Language=\"FR\",H2011,Language=\"SP\",J2011)","v":0}]
[null,"ModuleSRRconsodatabase","",31,{"$f":"LEN(resultats_textes_durs[[#This Row],[Texte en dur]])","v":0},null,{"$f":"_xlfn.IFS(Language=\"EN\",I2012,Language=\"FR\",H2012,Language=\"SP\",J2012)","v":0}]
[null,"ModuleSRRconsodatabase","Consolidation terminée!",43,{"$f":"LEN(resultats_textes_durs[[#This Row],[Texte en dur]])","v":23},null,{"$f":"_xlfn.IFS(Language=\"EN\",I2013,Language=\"FR\",H2013,Language=\"SP\",J2013)","v":0}]
[null,"ModuleSRRconsodatabase","Onglet_SRR_database",58,{"$f":"LEN(resultats_textes_durs[[#This Row],[Texte en dur]])","v":19},null,{"$f":"_xlfn.IFS(Language=\"EN\",I2014,Language=\"FR\",H2014,Language=\"SP\",J2014)","v":0}]
[null,"ModuleSRRconsodatabase","Onglet_SRR_P1",59,{"$f":"LEN(resultats_textes_durs[[#This Row],[Texte en dur]])","v":13},null,{"$f":"_xlfn.IFS(Language=\"EN\",I2015,Language=\"FR\",H2015,Language=\"SP\",J2015)","v":0}]
[null,"ModuleSRRconsodatabase","Onglet_SRR_P2",59,{"$f":"LEN(resultats_textes_durs[[#This Row],[Texte en dur]])","v":13},null,{"$f":"_xlfn.IFS(Language=\"EN\",I2016,Language=\"FR\",H2016,Language=\"SP\",J2016)","v":0}]
[null,"ModuleSRRconsodatabase","Onglet_SRR_P3",59,{"$f":"LEN(resultats_textes_durs[[#This Row],[Texte en dur]])","v":13},null,{"$f":"_xlfn.IFS(Language=\"EN\",I2017,Language=\"FR\",H2017,Language=\"SP\",J2017)","v":0}]
[null,"ModuleSRRconsodatabase","Onglet_SRR_gov",59,{"$f":"LEN(resultats_textes_durs[[#This Row],[Texte en dur]])","v":14},null,{"$f":"_xlfn.IFS(Language=\"EN\",I2018,Language=\"FR\",H2018,Language=\"SP\",J2018)","v":0}]
[null,"ModuleSRRconsodatabase","SRM",66,{"$f":"LEN(resultats_textes_durs[[#This Row],[Texte en dur]])","v":3},null,{"$f":"_xlfn.IFS(Language=\"EN\",I2019,Language=\"FR\",H2019,Language=\"SP\",J2019)","v":0}]
[null,"ModuleSRRconsodatabase","",69,{"$f":"LEN(resultats_textes_durs[[#This Row],[Texte en dur]])","v":0},null,{"$f":"_xlfn.IFS(Language=\"EN\",I2020,Language=\"FR\",H2020,Language=\"SP\",J2020)","v":0}]
[null,"ModuleSRRconsodatabase","I01",80,{"$f":"LEN(resultats_textes_durs[[#This Row],[Texte en dur]])","v":3},null,{"$f":"_xlfn.IFS(Language=\"EN\",I2021,Language=\"FR\",H2021,Language=\"SP\",J2021)","v":0}]
[null,"ModuleSRRconsodatabase","I02",80,{"$f":"LEN(resultats_textes_durs[[#This Row],[Texte en dur]])","v":3},null,{"$f":"_xlfn.IFS(Language=\"EN\",I2022,Language=\"FR\",H2022,Language=\"SP\",J2022)","v":0}]
[null,"ModuleSRRconsodatabase","I03",80,{"$f":"LEN(resultats_textes_durs[[#This Row],[Texte en dur]])","v":3},null,{"$f":"_xlfn.IFS(Language=\"EN\",I2023,Language=\"FR\",H2023,Language=\"SP\",J2023)","v":0}]
[null,"ModuleSRRconsodatabase","I04",80,{"$f":"LEN(resultats_textes_durs[[#This Row],[Texte en dur]])","v":3},null,{"$f":"_xlfn.IFS(Language=\"EN\",I2024,Language=\"FR\",H2024,Language=\"SP\",J2024)","v":0}]
[null,"ModuleSRRconsodatabase","I05",80,{"$f":"LEN(resultats_textes_durs[[#This Row],[Texte en dur]])","v":3},null,{"$f":"_xlfn.IFS(Language=\"EN\",I2025,Language=\"FR\",H2025,Language=\"SP\",J2025)","v":0}]
[null,"ModuleSRRconsodatabase","I06",80,{"$f":"LEN(resultats_textes_durs[[#This Row],[Texte en dur]])","v":3},null,{"$f":"_xlfn.IFS(Language=\"EN\",I2026,Language=\"FR\",H2026,Language=\"SP\",J2026)","v":0}]
[null,"ModuleSRRconsodatabase","Mise à jour des scores et commentaires terminée!",91,{"$f":"LEN(resultats_textes_durs[[#This Row],[Texte en dur]])","v":48},null,{"$f":"_xlfn.IFS(Language=\"EN\",I2027,Language=\"FR\",H2027,Language=\"SP\",J2027)","v":0}]
[null,"ModuleSRRconsodatabase","Fichiers Excel (*.xls; *.xlsx), *.xls; *.xlsx",102,{"$f":"LEN(resultats_textes_durs[[#This Row],[Texte en dur]])","v":45},null,{"$f":"_xlfn.IFS(Language=\"EN\",I2028,Language=\"FR\",H2028,Language=\"SP\",J2028)","v":0}]
[null,"ModuleSRRconsodatabase","Sélectionnez le fichier SRR",102,{"$f":"LEN(resultats_textes_durs[[#This Row],[Texte en dur]])","v":27},null,{"$f":"_xlfn.IFS(Language=\"EN\",I2029,Language=\"FR\",H2029,Language=\"SP\",J2029)","v":0}]
[null,"ModuleSRRconsodatabase","False",103,{"$f":"LEN(resultats_textes_durs[[#This Row],[Texte en dur]])","v":5},null,{"$f":"_xlfn.IFS(Language=\"EN\",I2030,Language=\"FR\",H2030,Language=\"SP\",J2030)","v":0}]
[null,"ModuleSRRconsodatabase","Onglet_SRR_database",110,{"$f":"LEN(resultats_textes_durs[[#This Row],[Texte en dur]])","v":19},null,{"$f":"_xlfn.IFS(Language=\"EN\",I2031,Language=\"FR\",H2031,Language=\"SP\",J2031)","v":0}]
[null,"ModuleSRRconsodatabase","C5:E",116,{"$f":"LEN(resultats_textes_durs[[#This Row],[Texte en dur]])","v":4},null,{"$f":"_xlfn.IFS(Language=\"EN\",I2032,Language=\"FR\",H2032,Language=\"SP\",J2032)","v":0}]
[null,"ModuleSRRconsodatabase","C5:E",123,{"$f":"LEN(resultats_textes_durs[[#This Row],[Texte en dur]])","v":4},null,{"$f":"_xlfn.IFS(Language=\"EN\",I2033,Language=\"FR\",H2033,Language=\"SP\",J2033)","v":0}]
[null,"ModuleSRRconsodatabase","C5",124,{"$f":"LEN(resultats_textes_durs[[#This Row],[Texte en dur]])","v":2},null,{"$f":"_xlfn.IFS(Language=\"EN\",I2034,Language=\"FR\",H2034,Language=\"SP\",J2034)","v":0}]
[null,"ModuleSRRconsodatabase","Onglet_SRR_P1",131,{"$f":"LEN(resultats_textes_durs[[#This Row],[Texte en dur]])","v":13},null,{"$f":"_xlfn.IFS(Language=\"EN\",I2035,Language=\"FR\",H2035,Language=\"SP\",J2035)","v":0}]
[null,"ModuleSRRconsodatabase","Importation terminée avec succès!",134,{"$f":"LEN(resultats_textes_durs[[#This Row],[Texte en dur]])","v":33},null,{"$f":"_xlfn.IFS(Language=\"EN\",I2036,Language=\"FR\",H2036,Language=\"SP\",J2036)","v":0}]
[null,"ModuleSRRconsodatabase","Onglet_SRR_database",139,{"$f":"LEN(resultats_textes_durs[[#This Row],[Texte en dur]])","v":19},null,{"$f":"_xlfn.IFS(Language=\"EN\",I2037,Language=\"FR\",H2037,Language=\"SP\",J2037)","v":0}]
[null,"ModuleSRRconsodatabase","D5:E",144,{"$f":"LEN(resultats_textes_durs[[#This Row],[Texte en dur]])","v":4},null,{"$f":"_xlfn.IFS(Language=\"EN\",I2038,Language=\"FR\",H2038,Language=\"SP\",J2038)","v":0}]
[null,"ModuleSRRversAP","Onglet_AP_Database_actions",17,{"$f":"LEN(resultats_textes_durs[[#This Row],[Texte en dur]])","v":26},null,{"$f":"_xlfn.IFS(Language=\"EN\",I2039,Language=\"FR\",H2039,Language=\"SP\",J2039)","v":0}]
[null,"ModuleSRRversAP","K",21,{"$f":"LEN(resultats_textes_durs[[#This Row],[Texte en dur]])","v":1},null,{"$f":"_xlfn.IFS(Language=\"EN\",I2040,Language=\"FR\",H2040,Language=\"SP\",J2040)","v":0}]
[null,"ModuleSRRversAP","C",22,{"$f":"LEN(resultats_textes_durs[[#This Row],[Texte en dur]])","v":1},null,{"$f":"_xlfn.IFS(Language=\"EN\",I2041,Language=\"FR\",H2041,Language=\"SP\",J2041)","v":0}]
[null,"ModuleSRRversAP","A1:Z",25,{"$f":"LEN(resultats_textes_durs[[#This Row],[Texte en dur]])","v":4},null,{"$f":"_xlfn.IFS(Language=\"EN\",I2042,Language=\"FR\",H2042,Language=\"SP\",J2042)","v":0}]
[null,"ModuleSRRversAP","A1:Z",26,{"$f":"LEN(resultats_textes_durs[[#This Row],[Texte en dur]])","v":4},null,{"$f":"_xlfn.IFS(Language=\"EN\",I2043,Language=\"FR\",H2043,Language=\"SP\",J2043)","v":0}]
[null,"ModuleSRRversAP","Action",28,{"$f":"LEN(resultats_textes_durs[[#This Row],[Texte en dur]])","v":6},null,{"$f":"_xlfn.IFS(Language=\"EN\",I2044,Language=\"FR\",H2044,Language=\"SP\",J2044)","v":0}]
[null,"ModuleSRRversAP","Action",30,{"$f":"LEN(resultats_textes_durs[[#This Row],[Texte en dur]])","v":6},null,{"$f":"_xlfn.IFS(Language=\"EN\",I2045,Language=\"FR\",H2045,Language=\"SP\",J2045)","v":0}]
[null,"ModuleSRRversAP","Action",30,{"$f":"LEN(resultats_textes_durs[[#This Row],[Texte en dur]])","v":6},null,{"$f":"_xlfn.IFS(Language=\"EN\",I2046,Language=\"FR\",H2046,Language=\"SP\",J2046)","v":0}]
[null,"ModuleSRRversAP","Onglet_AP_Database_actions",100,{"$f":"LEN(resultats_textes_durs[[#This Row],[Texte en dur]])","v":26},null,{"$f":"_xlfn.IFS(Language=\"EN\",I2047,Language=\"FR\",H2047,Language=\"SP\",J2047)","v":0}]
[null,"ModuleSRRversAP","K",103,{"$f":"LEN(resultats_textes_durs[[#This Row],[Texte en dur]])","v":1},null,{"$f":"_xlfn.IFS(Language=\"EN\",I2048,Language=\"FR\",H2048,Language=\"SP\",J2048)","v":0}]
[null,"ModuleSRRversAP","C",104,{"$f":"LEN(resultats_textes_durs[[#This Row],[Texte en dur]])","v":1},null,{"$f":"_xlfn.IFS(Language=\"EN\",I2049,Language=\"FR\",H2049,Language=\"SP\",J2049)","v":0}]
[null,"ModuleSRRversAP","Action",107,{"$f":"LEN(resultats_textes_durs[[#This Row],[Texte en dur]])","v":6},null,{"$f":"_xlfn.IFS(Language=\"EN\",I2050,Language=\"FR\",H2050,Language=\"SP\",J2050)","v":0}]
[null,"ModuleSRRversAP","Action",110,{"$f":"LEN(resultats_textes_durs[[#This Row],[Texte en dur]])","v":6},null,{"$f":"_xlfn.IFS(Language=\"EN\",I2051,Language=\"FR\",H2051,Language=\"SP\",J2051)","v":0}]
[null,"ModuleSRRversAP","",111,{"$f":"LEN(resultats_textes_durs[[#This Row],[Texte en dur]])","v":0},null,{"$f":"_xlfn.IFS(Language=\"EN\",I2052,Language=\"FR\",H2052,Language=\"SP\",J2052)","v":0}]
[null,"ModuleSRRversAP","",120,{"$f":"LEN(resultats_textes_durs[[#This Row],[Texte en dur]])","v":0},null,{"$f":"_xlfn.IFS(Language=\"EN\",I2053,Language=\"FR\",H2053,Language=\"SP\",J2053)","v":0}]
[null,"ModuleSRRversAP","",120,{"$f":"LEN(resultats_textes_durs[[#This Row],[Texte en dur]])","v":0},null,{"$f":"_xlfn.IFS(Language=\"EN\",I2054,Language=\"FR\",H2054,Language=\"SP\",J2054)","v":0}]
[null,"ModuleSRRversAP","",133,{"$f":"LEN(resultats_textes_durs[[#This Row],[Texte en dur]])","v":0},null,{"$f":"_xlfn.IFS(Language=\"EN\",I2055,Language=\"FR\",H2055,Language=\"SP\",J2055)","v":0}]
[null,"ModuleVirginisation","Onglet_SRR_database",16,{"$f":"LEN(resultats_textes_durs[[#This Row],[Texte en dur]])","v":19},null,{"$f":"_xlfn.IFS(Language=\"EN\",I2056,Language=\"FR\",H2056,Language=\"SP\",J2056)","v":0}]
[null,"ModuleVirginisation","Onglet_SRR_database",17,{"$f":"LEN(resultats_textes_durs[[#This Row],[Texte en dur]])","v":19},null,{"$f":"_xlfn.IFS(Language=\"EN\",I2057,Language=\"FR\",H2057,Language=\"SP\",J2057)","v":0}]
[null,"ModuleVirginisation","SRM",18,{"$f":"LEN(resultats_textes_durs[[#This Row],[Texte en dur]])","v":3},null,{"$f":"_xlfn.IFS(Language=\"EN\",I2058,Language=\"FR\",H2058,Language=\"SP\",J2058)","v":0}]
[null,"ModuleVirginisation","",24,{"$f":"LEN(resultats_textes_durs[[#This Row],[Texte en dur]])","v":0},null,{"$f":"_xlfn.IFS(Language=\"EN\",I2059,Language=\"FR\",H2059,Language=\"SP\",J2059)","v":0}]
[null,"ModuleVirginisation","Les lignes non vides à partir de C5 ont été effacées.",29,{"$f":"LEN(resultats_textes_durs[[#This Row],[Texte en dur]])","v":53},null,{"$f":"_xlfn.IFS(Language=\"EN\",I2060,Language=\"FR\",H2060,Language=\"SP\",J2060)","v":0}]
[null,"ModuleVirginisation","Onglet_SRR_database",37,{"$f":"LEN(resultats_textes_durs[[#This Row],[Texte en dur]])","v":19},null,{"$f":"_xlfn.IFS(Language=\"EN\",I2061,Language=\"FR\",H2061,Language=\"SP\",J2061)","v":0}]
[null,"ModuleVirginisation","Onglet_SRR_database",38,{"$f":"LEN(resultats_textes_durs[[#This Row],[Texte en dur]])","v":19},null,{"$f":"_xlfn.IFS(Language=\"EN\",I2062,Language=\"FR\",H2062,Language=\"SP\",J2062)","v":0}]
[null,"ModuleVirginisation","SRM",39,{"$f":"LEN(resultats_textes_durs[[#This Row],[Texte en dur]])","v":3},null,{"$f":"_xlfn.IFS(Language=\"EN\",I2063,Language=\"FR\",H2063,Language=\"SP\",J2063)","v":0}]
[null,"ModuleVirginisation","D5:E",44,{"$f":"LEN(resultats_textes_durs[[#This Row],[Texte en dur]])","v":4},null,{"$f":"_xlfn.IFS(Language=\"EN\",I2064,Language=\"FR\",H2064,Language=\"SP\",J2064)","v":0}]
[null,"ModuleVirginisation","Les colonnes D et E ont été effacées à partir de la ligne 5.",46,{"$f":"LEN(resultats_textes_durs[[#This Row],[Texte en dur]])","v":60},null,{"$f":"_xlfn.IFS(Language=\"EN\",I2065,Language=\"FR\",H2065,Language=\"SP\",J2065)","v":0}]
[null,"ModuleVirginisation","SRM",55,{"$f":"LEN(resultats_textes_durs[[#This Row],[Texte en dur]])","v":3},null,{"$f":"_xlfn.IFS(Language=\"EN\",I2066,Language=\"FR\",H2066,Language=\"SP\",J2066)","v":0}]
[null,"ModuleVirginisation","Onglet_mapping_SHlist",62,{"$f":"LEN(resultats_textes_durs[[#This Row],[Texte en dur]])","v":21},null,{"$f":"_xlfn.IFS(Language=\"EN\",I2067,Language=\"FR\",H2067,Language=\"SP\",J2067)","v":0}]
[null,"ModuleVirginisation","Tableau1",63,{"$f":"LEN(resultats_textes_durs[[#This Row],[Texte en dur]])","v":8},null,{"$f":"_xlfn.IFS(Language=\"EN\",I2068,Language=\"FR\",H2068,Language=\"SP\",J2068)","v":0}]
[null,"ModuleVirginisation","Toutes les lignes non vides du tableau ont été effacées (sauf les colonnes J, L et O).",103,{"$f":"LEN(resultats_textes_durs[[#This Row],[Texte en dur]])","v":86},null,{"$f":"_xlfn.IFS(Language=\"EN\",I2069,Language=\"FR\",H2069,Language=\"SP\",J2069)","v":0}]
[null,"ModuleVirginisation","Onglet_mapping_database",113,{"$f":"LEN(resultats_textes_durs[[#This Row],[Texte en dur]])","v":23},null,{"$f":"_xlfn.IFS(Language=\"EN\",I2070,Language=\"FR\",H2070,Language=\"SP\",J2070)","v":0}]
[null,"ModuleVirginisation","Onglet_mapping_database",114,{"$f":"LEN(resultats_textes_durs[[#This Row],[Texte en dur]])","v":23},null,{"$f":"_xlfn.IFS(Language=\"EN\",I2071,Language=\"FR\",H2071,Language=\"SP\",J2071)","v":0}]
[null,"ModuleVirginisation","",121,{"$f":"LEN(resultats_textes_durs[[#This Row],[Texte en dur]])","v":0},null,{"$f":"_xlfn.IFS(Language=\"EN\",I2072,Language=\"FR\",H2072,Language=\"SP\",J2072)","v":0}]
[null,"ModuleVirginisation","Les lignes non vides à partir de C4 ont été effacées.",126,{"$f":"LEN(resultats_textes_durs[[#This Row],[Texte en dur]])","v":53},null,{"$f":"_xlfn.IFS(Language=\"EN\",I2073,Language=\"FR\",H2073,Language=\"SP\",J2073)","v":0}]
[null,"ModuleVirginisation","Onglet_consult_Panel",134,{"$f":"LEN(resultats_textes_durs[[#This Row],[Texte en dur]])","v":20},null,{"$f":"_xlfn.IFS(Language=\"EN\",I2074,Language=\"FR\",H2074,Language=\"SP\",J2074)","v":0}]
[null,"ModuleVirginisation","Onglet_consult_Panel",135,{"$f":"LEN(resultats_textes_durs[[#This Row],[Texte en dur]])","v":20},null,{"$f":"_xlfn.IFS(Language=\"EN\",I2075,Language=\"FR\",H2075,Language=\"SP\",J2075)","v":0}]
[null,"ModuleVirginisation","SRM",136,{"$f":"LEN(resultats_textes_durs[[#This Row],[Texte en dur]])","v":3},null,{"$f":"_xlfn.IFS(Language=\"EN\",I2076,Language=\"FR\",H2076,Language=\"SP\",J2076)","v":0}]
[null,"ModuleVirginisation","D",142,{"$f":"LEN(resultats_textes_durs[[#This Row],[Texte en dur]])","v":1},null,{"$f":"_xlfn.IFS(Language=\"EN\",I2077,Language=\"FR\",H2077,Language=\"SP\",J2077)","v":0}]
[null,"ModuleVirginisation",":I",142,{"$f":"LEN(resultats_textes_durs[[#This Row],[Texte en dur]])","v":2},null,{"$f":"_xlfn.IFS(Language=\"EN\",I2078,Language=\"FR\",H2078,Language=\"SP\",J2078)","v":0}]
[null,"ModuleVirginisation","D",143,{"$f":"LEN(resultats_textes_durs[[#This Row],[Texte en dur]])","v":1},null,{"$f":"_xlfn.IFS(Language=\"EN\",I2079,Language=\"FR\",H2079,Language=\"SP\",J2079)","v":0}]
[null,"ModuleVirginisation",":I",143,{"$f":"LEN(resultats_textes_durs[[#This Row],[Texte en dur]])","v":2},null,{"$f":"_xlfn.IFS(Language=\"EN\",I2080,Language=\"FR\",H2080,Language=\"SP\",J2080)","v":0}]
[null,"ModuleVirginisation","Les colonnes D à I ont été effacées pour toutes les lignes non vides à partir de D13.",147,{"$f":"LEN(resultats_textes_durs[[#This Row],[Texte en dur]])","v":85},null,{"$f":"_xlfn.IFS(Language=\"EN\",I2081,Language=\"FR\",H2081,Language=\"SP\",J2081)","v":0}]
[null,"ModuleVirginisation","Onglet_AP_Database_actions",155,{"$f":"LEN(resultats_textes_durs[[#This Row],[Texte en dur]])","v":26},null,{"$f":"_xlfn.IFS(Language=\"EN\",I2082,Language=\"FR\",H2082,Language=\"SP\",J2082)","v":0}]
[null,"ModuleVirginisation","Onglet_AP_Database_actions",156,{"$f":"LEN(resultats_textes_durs[[#This Row],[Texte en dur]])","v":26},null,{"$f":"_xlfn.IFS(Language=\"EN\",I2083,Language=\"FR\",H2083,Language=\"SP\",J2083)","v":0}]
[null,"ModuleVirginisation","",163,{"$f":"LEN(resultats_textes_durs[[#This Row],[Texte en dur]])","v":0},null,{"$f":"_xlfn.IFS(Language=\"EN\",I2084,Language=\"FR\",H2084,Language=\"SP\",J2084)","v":0}]
[null,"ModuleVirginisation","Toutes les lignes non vides à partir de B6 ont été supprimées.",168,{"$f":"LEN(resultats_textes_durs[[#This Row],[Texte en dur]])","v":62},null,{"$f":"_xlfn.IFS(Language=\"EN\",I2085,Language=\"FR\",H2085,Language=\"SP\",J2085)","v":0}]
[null,"ModuleVirginisation","Onglet_Consult_Database",176,{"$f":"LEN(resultats_textes_durs[[#This Row],[Texte en dur]])","v":23},null,{"$f":"_xlfn.IFS(Language=\"EN\",I2086,Language=\"FR\",H2086,Language=\"SP\",J2086)","v":0}]
[null,"ModuleVirginisation","Onglet_Consult_Database",177,{"$f":"LEN(resultats_textes_durs[[#This Row],[Texte en dur]])","v":23},null,{"$f":"_xlfn.IFS(Language=\"EN\",I2087,Language=\"FR\",H2087,Language=\"SP\",J2087)","v":0}]
[null,"ModuleVirginisation","",184,{"$f":"LEN(resultats_textes_durs[[#This Row],[Texte en dur]])","v":0},null,{"$f":"_xlfn.IFS(Language=\"EN\",I2088,Language=\"FR\",H2088,Language=\"SP\",J2088)","v":0}]
[null,"ModuleVirginisation","Toutes les lignes non vides à partir de A2 ont été supprimées.",189,{"$f":"LEN(resultats_textes_durs[[#This Row],[Texte en dur]])","v":62},null,{"$f":"_xlfn.IFS(Language=\"EN\",I2089,Language=\"FR\",H2089,Language=\"SP\",J2089)","v":0}]
[null,"ModuleVirginisation","Onglet_consult_Panel_graph",195,{"$f":"LEN(resultats_textes_durs[[#This Row],[Texte en dur]])","v":26},null,{"$f":"_xlfn.IFS(Language=\"EN\",I2090,Language=\"FR\",H2090,Language=\"SP\",J2090)","v":0}]
[null,"ModuleVirginisation","Onglet_consult_Panel_graph",196,{"$f":"LEN(resultats_textes_durs[[#This Row],[Texte en dur]])","v":26},null,{"$f":"_xlfn.IFS(Language=\"EN\",I2091,Language=\"FR\",H2091,Language=\"SP\",J2091)","v":0}]
[null,"ModuleVirginisation","SRM",197,{"$f":"LEN(resultats_textes_durs[[#This Row],[Texte en dur]])","v":3},null,{"$f":"_xlfn.IFS(Language=\"EN\",I2092,Language=\"FR\",H2092,Language=\"SP\",J2092)","v":0}]
[null,"ModuleVirginisation","C18:C29",199,{"$f":"LEN(resultats_textes_durs[[#This Row],[Texte en dur]])","v":7},null,{"$f":"_xlfn.IFS(Language=\"EN\",I2093,Language=\"FR\",H2093,Language=\"SP\",J2093)","v":0}]
[null,"ModuleVirginisation","L18:L29",200,{"$f":"LEN(resultats_textes_durs[[#This Row],[Texte en dur]])","v":7},null,{"$f":"_xlfn.IFS(Language=\"EN\",I2094,Language=\"FR\",H2094,Language=\"SP\",J2094)","v":0}]
[null,"ModuleVirginisation","L31:L39",201,{"$f":"LEN(resultats_textes_durs[[#This Row],[Texte en dur]])","v":7},null,{"$f":"_xlfn.IFS(Language=\"EN\",I2095,Language=\"FR\",H2095,Language=\"SP\",J2095)","v":0}]
[null,"ModuleVirginisation","C31:C39",202,{"$f":"LEN(resultats_textes_durs[[#This Row],[Texte en dur]])","v":7},null,{"$f":"_xlfn.IFS(Language=\"EN\",I2096,Language=\"FR\",H2096,Language=\"SP\",J2096)","v":0}]
[null,"ModuleVirginisation","Le contenu des cellules spécifiées a été effacé.",204,{"$f":"LEN(resultats_textes_durs[[#This Row],[Texte en dur]])","v":48},null,{"$f":"_xlfn.IFS(Language=\"EN\",I2097,Language=\"FR\",H2097,Language=\"SP\",J2097)","v":0}]
[null,"Module_consult","Aucune interview validée.",13,{"$f":"LEN(resultats_textes_durs[[#This Row],[Texte en dur]])","v":25},null,{"$f":"_xlfn.IFS(Language=\"EN\",I2098,Language=\"FR\",H2098,Language=\"SP\",J2098)","v":0}]
[null,"Module_consult","Initialisation de validatedInterviews.",58,{"$f":"LEN(resultats_textes_durs[[#This Row],[Texte en dur]])","v":38},null,{"$f":"_xlfn.IFS(Language=\"EN\",I2099,Language=\"FR\",H2099,Language=\"SP\",J2099)","v":0}]
[null,"Module_consult","Pointez le répertoire où se trouvent les fichiers des interviews à importer",61,{"$f":"LEN(resultats_textes_durs[[#This Row],[Texte en dur]])","v":75},null,{"$f":"_xlfn.IFS(Language=\"EN\",I2100,Language=\"FR\",H2100,Language=\"SP\",J2100)","v":0}]
[null,"Module_consult","Sélection du répertoire",61,{"$f":"LEN(resultats_textes_durs[[#This Row],[Texte en dur]])","v":23},null,{"$f":"_xlfn.IFS(Language=\"EN\",I2101,Language=\"FR\",H2101,Language=\"SP\",J2101)","v":0}]
[null,"Module_consult","Chemin du répertoire : ",68,{"$f":"LEN(resultats_textes_durs[[#This Row],[Texte en dur]])","v":23},null,{"$f":"_xlfn.IFS(Language=\"EN\",I2102,Language=\"FR\",H2102,Language=\"SP\",J2102)","v":0}]
[null,"Module_consult","Répertoire non sélectionné.",70,{"$f":"LEN(resultats_textes_durs[[#This Row],[Texte en dur]])","v":27},null,{"$f":"_xlfn.IFS(Language=\"EN\",I2103,Language=\"FR\",H2103,Language=\"SP\",J2103)","v":0}]
[null,"Module_consult","\\*.xls*",75,{"$f":"LEN(resultats_textes_durs[[#This Row],[Texte en dur]])","v":7},null,{"$f":"_xlfn.IFS(Language=\"EN\",I2104,Language=\"FR\",H2104,Language=\"SP\",J2104)","v":0}]
[null,"Module_consult","",77,{"$f":"LEN(resultats_textes_durs[[#This Row],[Texte en dur]])","v":0},null,{"$f":"_xlfn.IFS(Language=\"EN\",I2105,Language=\"FR\",H2105,Language=\"SP\",J2105)","v":0}]
[null,"Module_consult","Je vais lister les ",83,{"$f":"LEN(resultats_textes_durs[[#This Row],[Texte en dur]])","v":19},null,{"$f":"_xlfn.IFS(Language=\"EN\",I2106,Language=\"FR\",H2106,Language=\"SP\",J2106)","v":0}]
[null,"Module_consult"," fichiers à importer.",83,{"$f":"LEN(resultats_textes_durs[[#This Row],[Texte en dur]])","v":21},null,{"$f":"_xlfn.IFS(Language=\"EN\",I2107,Language=\"FR\",H2107,Language=\"SP\",J2107)","v":0}]
[null,"Module_consult","Fichiers à importer",83,{"$f":"LEN(resultats_textes_durs[[#This Row],[Texte en dur]])","v":19},null,{"$f":"_xlfn.IFS(Language=\"EN\",I2108,Language=\"FR\",H2108,Language=\"SP\",J2108)","v":0}]
[null,"Module_consult","Onglet_consult_Panel",87,{"$f":"LEN(resultats_textes_durs[[#This Row],[Texte en dur]])","v":20},null,{"$f":"_xlfn.IFS(Language=\"EN\",I2109,Language=\"FR\",H2109,Language=\"SP\",J2109)","v":0}]
[null,"Module_consult","H5:H",88,{"$f":"LEN(resultats_textes_durs[[#This Row],[Texte en dur]])","v":4},null,{"$f":"_xlfn.IFS(Language=\"EN\",I2110,Language=\"FR\",H2110,Language=\"SP\",J2110)","v":0}]
[null,"Module_consult","H",88,{"$f":"LEN(resultats_textes_durs[[#This Row],[Texte en dur]])","v":1},null,{"$f":"_xlfn.IFS(Language=\"EN\",I2111,Language=\"FR\",H2111,Language=\"SP\",J2111)","v":0}]
[null,"Module_consult","Plage des SHID dans la base : ",89,{"$f":"LEN(resultats_textes_durs[[#This Row],[Texte en dur]])","v":30},null,{"$f":"_xlfn.IFS(Language=\"EN\",I2112,Language=\"FR\",H2112,Language=\"SP\",J2112)","v":0}]
[null,"Module_consult","\\*.xls*",92,{"$f":"LEN(resultats_textes_durs[[#This Row],[Texte en dur]])","v":7},null,{"$f":"_xlfn.IFS(Language=\"EN\",I2113,Language=\"FR\",H2113,Language=\"SP\",J2113)","v":0}]
[null,"Module_consult","",97,{"$f":"LEN(resultats_textes_durs[[#This Row],[Texte en dur]])","v":0},null,{"$f":"_xlfn.IFS(Language=\"EN\",I2114,Language=\"FR\",H2114,Language=\"SP\",J2114)","v":0}]
[null,"Module_consult","Fichier en cours : ",98,{"$f":"LEN(resultats_textes_durs[[#This Row],[Texte en dur]])","v":19},null,{"$f":"_xlfn.IFS(Language=\"EN\",I2115,Language=\"FR\",H2115,Language=\"SP\",J2115)","v":0}]
[null,"Module_consult","\\",99,{"$f":"LEN(resultats_textes_durs[[#This Row],[Texte en dur]])","v":1},null,{"$f":"_xlfn.IFS(Language=\"EN\",I2116,Language=\"FR\",H2116,Language=\"SP\",J2116)","v":0}]
[null,"Module_consult","L1",103,{"$f":"LEN(resultats_textes_durs[[#This Row],[Texte en dur]])","v":2},null,{"$f":"_xlfn.IFS(Language=\"EN\",I2117,Language=\"FR\",H2117,Language=\"SP\",J2117)","v":0}]
[null,"Module_consult","SHID Importé : [",104,{"$f":"LEN(resultats_textes_durs[[#This Row],[Texte en dur]])","v":16},null,{"$f":"_xlfn.IFS(Language=\"EN\",I2118,Language=\"FR\",H2118,Language=\"SP\",J2118)","v":0}]
[null,"Module_consult","]",104,{"$f":"LEN(resultats_textes_durs[[#This Row],[Texte en dur]])","v":1},null,{"$f":"_xlfn.IFS(Language=\"EN\",I2119,Language=\"FR\",H2119,Language=\"SP\",J2119)","v":0}]
[null,"Module_consult","SHID trouvé dans la base : [",112,{"$f":"LEN(resultats_textes_durs[[#This Row],[Texte en dur]])","v":28},null,{"$f":"_xlfn.IFS(Language=\"EN\",I2120,Language=\"FR\",H2120,Language=\"SP\",J2120)","v":0}]
[null,"Module_consult","]",112,{"$f":"LEN(resultats_textes_durs[[#This Row],[Texte en dur]])","v":1},null,{"$f":"_xlfn.IFS(Language=\"EN\",I2121,Language=\"FR\",H2121,Language=\"SP\",J2121)","v":0}]
[null,"Module_consult","Ajouté à validatedInterviews : SHID = [",121,{"$f":"LEN(resultats_textes_durs[[#This Row],[Texte en dur]])","v":39},null,{"$f":"_xlfn.IFS(Language=\"EN\",I2122,Language=\"FR\",H2122,Language=\"SP\",J2122)","v":0}]
[null,"Module_consult","]",121,{"$f":"LEN(resultats_textes_durs[[#This Row],[Texte en dur]])","v":1},null,{"$f":"_xlfn.IFS(Language=\"EN\",I2123,Language=\"FR\",H2123,Language=\"SP\",J2123)","v":0}]
[null,"Module_consult","SHID déjà présent dans la base : [",123,{"$f":"LEN(resultats_textes_durs[[#This Row],[Texte en dur]])","v":34},null,{"$f":"_xlfn.IFS(Language=\"EN\",I2124,Language=\"FR\",H2124,Language=\"SP\",J2124)","v":0}]
[null,"Module_consult","]",123,{"$f":"LEN(resultats_textes_durs[[#This Row],[Texte en dur]])","v":1},null,{"$f":"_xlfn.IFS(Language=\"EN\",I2125,Language=\"FR\",H2125,Language=\"SP\",J2125)","v":0}]
[null,"Module_consult","Erreur ou valeur vide pour SHID : ",126,{"$f":"LEN(resultats_textes_durs[[#This Row],[Texte en dur]])","v":34},null,{"$f":"_xlfn.IFS(Language=\"EN\",I2126,Language=\"FR\",H2126,Language=\"SP\",J2126)","v":0}]
[null,"Module_consult","Résultats des interviews validées :",137,{"$f":"LEN(resultats_textes_durs[[#This Row],[Texte en dur]])","v":35},null,{"$f":"_xlfn.IFS(Language=\"EN\",I2127,Language=\"FR\",H2127,Language=\"SP\",J2127)","v":0}]
[null,"Module_consult","SHID : [",140,{"$f":"LEN(resultats_textes_durs[[#This Row],[Texte en dur]])","v":8},null,{"$f":"_xlfn.IFS(Language=\"EN\",I2128,Language=\"FR\",H2128,Language=\"SP\",J2128)","v":0}]
[null,"Module_consult","]",140,{"$f":"LEN(resultats_textes_durs[[#This Row],[Texte en dur]])","v":1},null,{"$f":"_xlfn.IFS(Language=\"EN\",I2129,Language=\"FR\",H2129,Language=\"SP\",J2129)","v":0}]
[null,"Module_consult","Importer",170,{"$f":"LEN(resultats_textes_durs[[#This Row],[Texte en dur]])","v":8},null,{"$f":"_xlfn.IFS(Language=\"EN\",I2130,Language=\"FR\",H2130,Language=\"SP\",J2130)","v":0}]
[null,"Module_consult","Remplacer",170,{"$f":"LEN(resultats_textes_durs[[#This Row],[Texte en dur]])","v":9},null,{"$f":"_xlfn.IFS(Language=\"EN\",I2131,Language=\"FR\",H2131,Language=\"SP\",J2131)","v":0}]
[null,"Module_consult","Aucune interview sélectionnée pour import.",175,{"$f":"LEN(resultats_textes_durs[[#This Row],[Texte en dur]])","v":42},null,{"$f":"_xlfn.IFS(Language=\"EN\",I2132,Language=\"FR\",H2132,Language=\"SP\",J2132)","v":0}]
[null,"Module_consult","Onglet_Consult_Database",180,{"$f":"LEN(resultats_textes_durs[[#This Row],[Texte en dur]])","v":23},null,{"$f":"_xlfn.IFS(Language=\"EN\",I2133,Language=\"FR\",H2133,Language=\"SP\",J2133)","v":0}]
[null,"Module_consult","Onglet_consult_Panel",181,{"$f":"LEN(resultats_textes_durs[[#This Row],[Texte en dur]])","v":20},null,{"$f":"_xlfn.IFS(Language=\"EN\",I2134,Language=\"FR\",H2134,Language=\"SP\",J2134)","v":0}]
[null,"Module_consult","\\*.xls*",189,{"$f":"LEN(resultats_textes_durs[[#This Row],[Texte en dur]])","v":7},null,{"$f":"_xlfn.IFS(Language=\"EN\",I2135,Language=\"FR\",H2135,Language=\"SP\",J2135)","v":0}]
[null,"Module_consult","",190,{"$f":"LEN(resultats_textes_durs[[#This Row],[Texte en dur]])","v":0},null,{"$f":"_xlfn.IFS(Language=\"EN\",I2136,Language=\"FR\",H2136,Language=\"SP\",J2136)","v":0}]
[null,"Module_consult","\\*.xls*",196,{"$f":"LEN(resultats_textes_durs[[#This Row],[Texte en dur]])","v":7},null,{"$f":"_xlfn.IFS(Language=\"EN\",I2137,Language=\"FR\",H2137,Language=\"SP\",J2137)","v":0}]
[null,"Module_consult","Traitement des fichiers (0 sur ",202,{"$f":"LEN(resultats_textes_durs[[#This Row],[Texte en dur]])","v":31},null,{"$f":"_xlfn.IFS(Language=\"EN\",I2138,Language=\"FR\",H2138,Language=\"SP\",J2138)","v":0}]
[null,"Module_consult",")",202,{"$f":"LEN(resultats_textes_durs[[#This Row],[Texte en dur]])","v":1},null,{"$f":"_xlfn.IFS(Language=\"EN\",I2139,Language=\"FR\",H2139,Language=\"SP\",J2139)","v":0}]
[null,"Module_consult","",213,{"$f":"LEN(resultats_textes_durs[[#This Row],[Texte en dur]])","v":0},null,{"$f":"_xlfn.IFS(Language=\"EN\",I2140,Language=\"FR\",H2140,Language=\"SP\",J2140)","v":0}]
[null,"Module_consult","Traitement des fichiers (",215,{"$f":"LEN(resultats_textes_durs[[#This Row],[Texte en dur]])","v":25},null,{"$f":"_xlfn.IFS(Language=\"EN\",I2141,Language=\"FR\",H2141,Language=\"SP\",J2141)","v":0}]
[null,"Module_consult"," sur ",215,{"$f":"LEN(resultats_textes_durs[[#This Row],[Texte en dur]])","v":5},null,{"$f":"_xlfn.IFS(Language=\"EN\",I2142,Language=\"FR\",H2142,Language=\"SP\",J2142)","v":0}]
[null,"Module_consult",")",215,{"$f":"LEN(resultats_textes_durs[[#This Row],[Texte en dur]])","v":1},null,{"$f":"_xlfn.IFS(Language=\"EN\",I2143,Language=\"FR\",H2143,Language=\"SP\",J2143)","v":0}]
[null,"Module_consult","Fichier en cours : ",218,{"$f":"LEN(resultats_textes_durs[[#This Row],[Texte en dur]])","v":19},null,{"$f":"_xlfn.IFS(Language=\"EN\",I2144,Language=\"FR\",H2144,Language=\"SP\",J2144)","v":0}]
[null,"Module_consult","\\",219,{"$f":"LEN(resultats_textes_durs[[#This Row],[Texte en dur]])","v":1},null,{"$f":"_xlfn.IFS(Language=\"EN\",I2145,Language=\"FR\",H2145,Language=\"SP\",J2145)","v":0}]
[null,"Module_consult","L1",223,{"$f":"LEN(resultats_textes_durs[[#This Row],[Texte en dur]])","v":2},null,{"$f":"_xlfn.IFS(Language=\"EN\",I2146,Language=\"FR\",H2146,Language=\"SP\",J2146)","v":0}]
[null,"Module_consult","SHID Importé (normalisé) : ",225,{"$f":"LEN(resultats_textes_durs[[#This Row],[Texte en dur]])","v":27},null,{"$f":"_xlfn.IFS(Language=\"EN\",I2147,Language=\"FR\",H2147,Language=\"SP\",J2147)","v":0}]
[null,"Module_consult","-> SHID sélectionné pour import : ",229,{"$f":"LEN(resultats_textes_durs[[#This Row],[Texte en dur]])","v":34},null,{"$f":"_xlfn.IFS(Language=\"EN\",I2148,Language=\"FR\",H2148,Language=\"SP\",J2148)","v":0}]
[null,"Module_consult","Remplacer",231,{"$f":"LEN(resultats_textes_durs[[#This Row],[Texte en dur]])","v":9},null,{"$f":"_xlfn.IFS(Language=\"EN\",I2149,Language=\"FR\",H2149,Language=\"SP\",J2149)","v":0}]
[null,"Module_consult","ComboBox",238,{"$f":"LEN(resultats_textes_durs[[#This Row],[Texte en dur]])","v":8},null,{"$f":"_xlfn.IFS(Language=\"EN\",I2150,Language=\"FR\",H2150,Language=\"SP\",J2150)","v":0}]
[null,"Module_consult","Remplacer",239,{"$f":"LEN(resultats_textes_durs[[#This Row],[Texte en dur]])","v":9},null,{"$f":"_xlfn.IFS(Language=\"EN\",I2151,Language=\"FR\",H2151,Language=\"SP\",J2151)","v":0}]
[null,"Module_consult","Remplacer",246,{"$f":"LEN(resultats_textes_durs[[#This Row],[Texte en dur]])","v":9},null,{"$f":"_xlfn.IFS(Language=\"EN\",I2152,Language=\"FR\",H2152,Language=\"SP\",J2152)","v":0}]
[null,"Module_consult","Remplacement sélectionné pour le SHID : ",248,{"$f":"LEN(resultats_textes_durs[[#This Row],[Texte en dur]])","v":40},null,{"$f":"_xlfn.IFS(Language=\"EN\",I2153,Language=\"FR\",H2153,Language=\"SP\",J2153)","v":0}]
[null,"Module_consult","N",251,{"$f":"LEN(resultats_textes_durs[[#This Row],[Texte en dur]])","v":1},null,{"$f":"_xlfn.IFS(Language=\"EN\",I2154,Language=\"FR\",H2154,Language=\"SP\",J2154)","v":0}]
[null,"Module_consult","Onglet_Consult_Database",258,{"$f":"LEN(resultats_textes_durs[[#This Row],[Texte en dur]])","v":23},null,{"$f":"_xlfn.IFS(Language=\"EN\",I2155,Language=\"FR\",H2155,Language=\"SP\",J2155)","v":0}]
[null,"Module_consult","B",259,{"$f":"LEN(resultats_textes_durs[[#This Row],[Texte en dur]])","v":1},null,{"$f":"_xlfn.IFS(Language=\"EN\",I2156,Language=\"FR\",H2156,Language=\"SP\",J2156)","v":0}]
[null,"Module_consult","B",261,{"$f":"LEN(resultats_textes_durs[[#This Row],[Texte en dur]])","v":1},null,{"$f":"_xlfn.IFS(Language=\"EN\",I2157,Language=\"FR\",H2157,Language=\"SP\",J2157)","v":0}]
[null,"Module_consult","D",262,{"$f":"LEN(resultats_textes_durs[[#This Row],[Texte en dur]])","v":1},null,{"$f":"_xlfn.IFS(Language=\"EN\",I2158,Language=\"FR\",H2158,Language=\"SP\",J2158)","v":0}]
[null,"Module_consult","L",263,{"$f":"LEN(resultats_textes_durs[[#This Row],[Texte en dur]])","v":1},null,{"$f":"_xlfn.IFS(Language=\"EN\",I2159,Language=\"FR\",H2159,Language=\"SP\",J2159)","v":0}]
[null,"Module_consult","T",264,{"$f":"LEN(resultats_textes_durs[[#This Row],[Texte en dur]])","v":1},null,{"$f":"_xlfn.IFS(Language=\"EN\",I2160,Language=\"FR\",H2160,Language=\"SP\",J2160)","v":0}]
[null,"Module_consult","B",267,{"$f":"LEN(resultats_textes_durs[[#This Row],[Texte en dur]])","v":1},null,{"$f":"_xlfn.IFS(Language=\"EN\",I2161,Language=\"FR\",H2161,Language=\"SP\",J2161)","v":0}]
[null,"Module_consult","B",268,{"$f":"LEN(resultats_textes_durs[[#This Row],[Texte en dur]])","v":1},null,{"$f":"_xlfn.IFS(Language=\"EN\",I2162,Language=\"FR\",H2162,Language=\"SP\",J2162)","v":0}]
[null,"Module_consult","C",269,{"$f":"LEN(resultats_textes_durs[[#This Row],[Texte en dur]])","v":1},null,{"$f":"_xlfn.IFS(Language=\"EN\",I2163,Language=\"FR\",H2163,Language=\"SP\",J2163)","v":0}]
[null,"Module_consult","D",270,{"$f":"LEN(resultats_textes_durs[[#This Row],[Texte en dur]])","v":1},null,{"$f":"_xlfn.IFS(Language=\"EN\",I2164,Language=\"FR\",H2164,Language=\"SP\",J2164)","v":0}]
[null,"Module_consult","E",271,{"$f":"LEN(resultats_textes_durs[[#This Row],[Texte en dur]])","v":1},null,{"$f":"_xlfn.IFS(Language=\"EN\",I2165,Language=\"FR\",H2165,Language=\"SP\",J2165)","v":0}]
[null,"Module_consult","N",272,{"$f":"LEN(resultats_textes_durs[[#This Row],[Texte en dur]])","v":1},null,{"$f":"_xlfn.IFS(Language=\"EN\",I2166,Language=\"FR\",H2166,Language=\"SP\",J2166)","v":0}]
[null,"Module_consult","Onglet_consult_Panel",276,{"$f":"LEN(resultats_textes_durs[[#This Row],[Texte en dur]])","v":20},null,{"$f":"_xlfn.IFS(Language=\"EN\",I2167,Language=\"FR\",H2167,Language=\"SP\",J2167)","v":0}]
[null,"Module_consult","D",277,{"$f":"LEN(resultats_textes_durs[[#This Row],[Texte en dur]])","v":1},null,{"$f":"_xlfn.IFS(Language=\"EN\",I2168,Language=\"FR\",H2168,Language=\"SP\",J2168)","v":0}]
[null,"Module_consult","Done",279,{"$f":"LEN(resultats_textes_durs[[#This Row],[Texte en dur]])","v":4},null,{"$f":"_xlfn.IFS(Language=\"EN\",I2169,Language=\"FR\",H2169,Language=\"SP\",J2169)","v":0}]
[null,"Module_consult","    -> SHID non sélectionné pour import.",283,{"$f":"LEN(resultats_textes_durs[[#This Row],[Texte en dur]])","v":40},null,{"$f":"_xlfn.IFS(Language=\"EN\",I2170,Language=\"FR\",H2170,Language=\"SP\",J2170)","v":0}]
[null,"Module_consult","L'import des interviews validées est terminé.",293,{"$f":"LEN(resultats_textes_durs[[#This Row],[Texte en dur]])","v":45},null,{"$f":"_xlfn.IFS(Language=\"EN\",I2171,Language=\"FR\",H2171,Language=\"SP\",J2171)","v":0}]
[null,"Module_consult","L'import des interviews validées est terminé.",311,{"$f":"LEN(resultats_textes_durs[[#This Row],[Texte en dur]])","v":45},null,{"$f":"_xlfn.IFS(Language=\"EN\",I2172,Language=\"FR\",H2172,Language=\"SP\",J2172)","v":0}]
[null,"Module_consult","ComboBox",329,{"$f":"LEN(resultats_textes_durs[[#This Row],[Texte en dur]])","v":8},null,{"$f":"_xlfn.IFS(Language=\"EN\",I2173,Language=\"FR\",H2173,Language=\"SP\",J2173)","v":0}]
[null,"Module_consult","Importer",330,{"$f":"LEN(resultats_textes_durs[[#This Row],[Texte en dur]])","v":8},null,{"$f":"_xlfn.IFS(Language=\"EN\",I2174,Language=\"FR\",H2174,Language=\"SP\",J2174)","v":0}]
[null,"Module_consult","Remplacer",330,{"$f":"LEN(resultats_textes_durs[[#This Row],[Texte en dur]])","v":9},null,{"$f":"_xlfn.IFS(Language=\"EN\",I2175,Language=\"FR\",H2175,Language=\"SP\",J2175)","v":0}]
[null,"Module_consult","SHID sélectionné : ",333,{"$f":"LEN(resultats_textes_durs[[#This Row],[Texte en dur]])","v":19},null,{"$f":"_xlfn.IFS(Language=\"EN\",I2176,Language=\"FR\",H2176,Language=\"SP\",J2176)","v":0}]
[null,"Module_consult","Onglet_Consult_Database",353,{"$f":"LEN(resultats_textes_durs[[#This Row],[Texte en dur]])","v":23},null,{"$f":"_xlfn.IFS(Language=\"EN\",I2177,Language=\"FR\",H2177,Language=\"SP\",J2177)","v":0}]
[null,"Module_consult","Onglet_Consult_Database",354,{"$f":"LEN(resultats_textes_durs[[#This Row],[Texte en dur]])","v":23},null,{"$f":"_xlfn.IFS(Language=\"EN\",I2178,Language=\"FR\",H2178,Language=\"SP\",J2178)","v":0}]
[null,"Module_consult","N",357,{"$f":"LEN(resultats_textes_durs[[#This Row],[Texte en dur]])","v":1},null,{"$f":"_xlfn.IFS(Language=\"EN\",I2179,Language=\"FR\",H2179,Language=\"SP\",J2179)","v":0}]
[null,"Module_consult","A2",361,{"$f":"LEN(resultats_textes_durs[[#This Row],[Texte en dur]])","v":2},null,{"$f":"_xlfn.IFS(Language=\"EN\",I2180,Language=\"FR\",H2180,Language=\"SP\",J2180)","v":0}]
[null,"Module_consult","=SIERREUR(J2&K2;",361,{"$f":"LEN(resultats_textes_durs[[#This Row],[Texte en dur]])","v":16},null,{"$f":"_xlfn.IFS(Language=\"EN\",I2181,Language=\"FR\",H2181,Language=\"SP\",J2181)","v":0}]
[null,"Module_consult","",361,{"$f":"LEN(resultats_textes_durs[[#This Row],[Texte en dur]])","v":0},null,{"$f":"_xlfn.IFS(Language=\"EN\",I2182,Language=\"FR\",H2182,Language=\"SP\",J2182)","v":0}]
[null,"Module_consult",")",361,{"$f":"LEN(resultats_textes_durs[[#This Row],[Texte en dur]])","v":1},null,{"$f":"_xlfn.IFS(Language=\"EN\",I2183,Language=\"FR\",H2183,Language=\"SP\",J2183)","v":0}]
[null,"Module_consult","F2",362,{"$f":"LEN(resultats_textes_durs[[#This Row],[Texte en dur]])","v":2},null,{"$f":"_xlfn.IFS(Language=\"EN\",I2184,Language=\"FR\",H2184,Language=\"SP\",J2184)","v":0}]
[null,"Module_consult","=SIERREUR(SI(RECHERCHEV(N2;Consult_SH_panel;2;FAUX)=0;1;RECHERCHEV(N2;Consult_SH_panel;2;FAUX));",362,{"$f":"LEN(resultats_textes_durs[[#This Row],[Texte en dur]])","v":96},null,{"$f":"_xlfn.IFS(Language=\"EN\",I2185,Language=\"FR\",H2185,Language=\"SP\",J2185)","v":0}]
[null,"Module_consult","",362,{"$f":"LEN(resultats_textes_durs[[#This Row],[Texte en dur]])","v":0},null,{"$f":"_xlfn.IFS(Language=\"EN\",I2186,Language=\"FR\",H2186,Language=\"SP\",J2186)","v":0}]
[null,"Module_consult",")",362,{"$f":"LEN(resultats_textes_durs[[#This Row],[Texte en dur]])","v":1},null,{"$f":"_xlfn.IFS(Language=\"EN\",I2187,Language=\"FR\",H2187,Language=\"SP\",J2187)","v":0}]
[null,"Module_consult","G2",363,{"$f":"LEN(resultats_textes_durs[[#This Row],[Texte en dur]])","v":2},null,{"$f":"_xlfn.IFS(Language=\"EN\",I2188,Language=\"FR\",H2188,Language=\"SP\",J2188)","v":0}]
[null,"Module_consult","=SIERREUR(RECHERCHEV(N2;Consult_SH_panel;3;FAUX);",363,{"$f":"LEN(resultats_textes_durs[[#This Row],[Texte en dur]])","v":49},null,{"$f":"_xlfn.IFS(Language=\"EN\",I2189,Language=\"FR\",H2189,Language=\"SP\",J2189)","v":0}]
[null,"Module_consult","",363,{"$f":"LEN(resultats_textes_durs[[#This Row],[Texte en dur]])","v":0},null,{"$f":"_xlfn.IFS(Language=\"EN\",I2190,Language=\"FR\",H2190,Language=\"SP\",J2190)","v":0}]
[null,"Module_consult",")",363,{"$f":"LEN(resultats_textes_durs[[#This Row],[Texte en dur]])","v":1},null,{"$f":"_xlfn.IFS(Language=\"EN\",I2191,Language=\"FR\",H2191,Language=\"SP\",J2191)","v":0}]
[null,"Module_consult","H2",364,{"$f":"LEN(resultats_textes_durs[[#This Row],[Texte en dur]])","v":2},null,{"$f":"_xlfn.IFS(Language=\"EN\",I2192,Language=\"FR\",H2192,Language=\"SP\",J2192)","v":0}]
[null,"Module_consult","=SIERREUR(SI(RECHERCHEV(N2;Consult_SH_panel;4;FAUX)=0;1;RECHERCHEV(N2;Consult_SH_panel;4;FAUX));",364,{"$f":"LEN(resultats_textes_durs[[#This Row],[Texte en dur]])","v":96},null,{"$f":"_xlfn.IFS(Language=\"EN\",I2193,Language=\"FR\",H2193,Language=\"SP\",J2193)","v":0}]
[null,"Module_consult","",364,{"$f":"LEN(resultats_textes_durs[[#This Row],[Texte en dur]])","v":0},null,{"$f":"_xlfn.IFS(Language=\"EN\",I2194,Language=\"FR\",H2194,Language=\"SP\",J2194)","v":0}]
[null,"Module_consult",")",364,{"$f":"LEN(resultats_textes_durs[[#This Row],[Texte en dur]])","v":1},null,{"$f":"_xlfn.IFS(Language=\"EN\",I2195,Language=\"FR\",H2195,Language=\"SP\",J2195)","v":0}]
[null,"Module_consult","I2",365,{"$f":"LEN(resultats_textes_durs[[#This Row],[Texte en dur]])","v":2},null,{"$f":"_xlfn.IFS(Language=\"EN\",I2196,Language=\"FR\",H2196,Language=\"SP\",J2196)","v":0}]
[null,"Module_consult","=SIERREUR(H2*E2;",365,{"$f":"LEN(resultats_textes_durs[[#This Row],[Texte en dur]])","v":16},null,{"$f":"_xlfn.IFS(Language=\"EN\",I2197,Language=\"FR\",H2197,Language=\"SP\",J2197)","v":0}]
[null,"Module_consult","",365,{"$f":"LEN(resultats_textes_durs[[#This Row],[Texte en dur]])","v":0},null,{"$f":"_xlfn.IFS(Language=\"EN\",I2198,Language=\"FR\",H2198,Language=\"SP\",J2198)","v":0}]
[null,"Module_consult",")",365,{"$f":"LEN(resultats_textes_durs[[#This Row],[Texte en dur]])","v":1},null,{"$f":"_xlfn.IFS(Language=\"EN\",I2199,Language=\"FR\",H2199,Language=\"SP\",J2199)","v":0}]
[null,"Module_consult","J2",366,{"$f":"LEN(resultats_textes_durs[[#This Row],[Texte en dur]])","v":2},null,{"$f":"_xlfn.IFS(Language=\"EN\",I2200,Language=\"FR\",H2200,Language=\"SP\",J2200)","v":0}]
[null,"Module_consult","=B2&STXT(G2;1;3)",366,{"$f":"LEN(resultats_textes_durs[[#This Row],[Texte en dur]])","v":16},null,{"$f":"_xlfn.IFS(Language=\"EN\",I2201,Language=\"FR\",H2201,Language=\"SP\",J2201)","v":0}]
[null,"Module_consult","K2",367,{"$f":"LEN(resultats_textes_durs[[#This Row],[Texte en dur]])","v":2},null,{"$f":"_xlfn.IFS(Language=\"EN\",I2202,Language=\"FR\",H2202,Language=\"SP\",J2202)","v":0}]
[null,"Module_consult","=SIERREUR(SI(K1=",367,{"$f":"LEN(resultats_textes_durs[[#This Row],[Texte en dur]])","v":16},null,{"$f":"_xlfn.IFS(Language=\"EN\",I2203,Language=\"FR\",H2203,Language=\"SP\",J2203)","v":0}]
[null,"Module_consult","Index",367,{"$f":"LEN(resultats_textes_durs[[#This Row],[Texte en dur]])","v":5},null,{"$f":"_xlfn.IFS(Language=\"EN\",I2204,Language=\"FR\",H2204,Language=\"SP\",J2204)","v":0}]
[null,"Module_consult",";1;SI(J2<>J1;1;1+K1));",367,{"$f":"LEN(resultats_textes_durs[[#This Row],[Texte en dur]])","v":22},null,{"$f":"_xlfn.IFS(Language=\"EN\",I2205,Language=\"FR\",H2205,Language=\"SP\",J2205)","v":0}]
[null,"Module_consult","",367,{"$f":"LEN(resultats_textes_durs[[#This Row],[Texte en dur]])","v":0},null,{"$f":"_xlfn.IFS(Language=\"EN\",I2206,Language=\"FR\",H2206,Language=\"SP\",J2206)","v":0}]
[null,"Module_consult",")",367,{"$f":"LEN(resultats_textes_durs[[#This Row],[Texte en dur]])","v":1},null,{"$f":"_xlfn.IFS(Language=\"EN\",I2207,Language=\"FR\",H2207,Language=\"SP\",J2207)","v":0}]
[null,"Module_consult","A2:A",370,{"$f":"LEN(resultats_textes_durs[[#This Row],[Texte en dur]])","v":4},null,{"$f":"_xlfn.IFS(Language=\"EN\",I2208,Language=\"FR\",H2208,Language=\"SP\",J2208)","v":0}]
[null,"Module_consult","F2:F",371,{"$f":"LEN(resultats_textes_durs[[#This Row],[Texte en dur]])","v":4},null,{"$f":"_xlfn.IFS(Language=\"EN\",I2209,Language=\"FR\",H2209,Language=\"SP\",J2209)","v":0}]
[null,"Module_consult","G2:G",372,{"$f":"LEN(resultats_textes_durs[[#This Row],[Texte en dur]])","v":4},null,{"$f":"_xlfn.IFS(Language=\"EN\",I2210,Language=\"FR\",H2210,Language=\"SP\",J2210)","v":0}]
[null,"Module_consult","H2:H",373,{"$f":"LEN(resultats_textes_durs[[#This Row],[Texte en dur]])","v":4},null,{"$f":"_xlfn.IFS(Language=\"EN\",I2211,Language=\"FR\",H2211,Language=\"SP\",J2211)","v":0}]
[null,"Module_consult","I2:I",374,{"$f":"LEN(resultats_textes_durs[[#This Row],[Texte en dur]])","v":4},null,{"$f":"_xlfn.IFS(Language=\"EN\",I2212,Language=\"FR\",H2212,Language=\"SP\",J2212)","v":0}]
[null,"Module_consult","J2:J",375,{"$f":"LEN(resultats_textes_durs[[#This Row],[Texte en dur]])","v":4},null,{"$f":"_xlfn.IFS(Language=\"EN\",I2213,Language=\"FR\",H2213,Language=\"SP\",J2213)","v":0}]
[null,"Module_consult","K2:K",376,{"$f":"LEN(resultats_textes_durs[[#This Row],[Texte en dur]])","v":4},null,{"$f":"_xlfn.IFS(Language=\"EN\",I2214,Language=\"FR\",H2214,Language=\"SP\",J2214)","v":0}]
[null,"Module_consult","N",381,{"$f":"LEN(resultats_textes_durs[[#This Row],[Texte en dur]])","v":1},null,{"$f":"_xlfn.IFS(Language=\"EN\",I2215,Language=\"FR\",H2215,Language=\"SP\",J2215)","v":0}]
[null,"Module_consult","FAUX",382,{"$f":"LEN(resultats_textes_durs[[#This Row],[Texte en dur]])","v":4},null,{"$f":"_xlfn.IFS(Language=\"EN\",I2216,Language=\"FR\",H2216,Language=\"SP\",J2216)","v":0}]
[null,"Module_consult","L",383,{"$f":"LEN(resultats_textes_durs[[#This Row],[Texte en dur]])","v":1},null,{"$f":"_xlfn.IFS(Language=\"EN\",I2217,Language=\"FR\",H2217,Language=\"SP\",J2217)","v":0}]
[null,"Module_consult","L",383,{"$f":"LEN(resultats_textes_durs[[#This Row],[Texte en dur]])","v":1},null,{"$f":"_xlfn.IFS(Language=\"EN\",I2218,Language=\"FR\",H2218,Language=\"SP\",J2218)","v":0}]
[null,"Module_consult","M",384,{"$f":"LEN(resultats_textes_durs[[#This Row],[Texte en dur]])","v":1},null,{"$f":"_xlfn.IFS(Language=\"EN\",I2219,Language=\"FR\",H2219,Language=\"SP\",J2219)","v":0}]
[null,"Module_consult","M",384,{"$f":"LEN(resultats_textes_durs[[#This Row],[Texte en dur]])","v":1},null,{"$f":"_xlfn.IFS(Language=\"EN\",I2220,Language=\"FR\",H2220,Language=\"SP\",J2220)","v":0}]
[null,"Module_consult","I01",386,{"$f":"LEN(resultats_textes_durs[[#This Row],[Texte en dur]])","v":3},null,{"$f":"_xlfn.IFS(Language=\"EN\",I2221,Language=\"FR\",H2221,Language=\"SP\",J2221)","v":0}]
[null,"Module_consult","B",387,{"$f":"LEN(resultats_textes_durs[[#This Row],[Texte en dur]])","v":1},null,{"$f":"_xlfn.IFS(Language=\"EN\",I2222,Language=\"FR\",H2222,Language=\"SP\",J2222)","v":0}]
[null,"Module_consult","J",388,{"$f":"LEN(resultats_textes_durs[[#This Row],[Texte en dur]])","v":1},null,{"$f":"_xlfn.IFS(Language=\"EN\",I2223,Language=\"FR\",H2223,Language=\"SP\",J2223)","v":0}]
[null,"Module_consult","I01",390,{"$f":"LEN(resultats_textes_durs[[#This Row],[Texte en dur]])","v":3},null,{"$f":"_xlfn.IFS(Language=\"EN\",I2224,Language=\"FR\",H2224,Language=\"SP\",J2224)","v":0}]
[null,"Module_consult","B",392,{"$f":"LEN(resultats_textes_durs[[#This Row],[Texte en dur]])","v":1},null,{"$f":"_xlfn.IFS(Language=\"EN\",I2225,Language=\"FR\",H2225,Language=\"SP\",J2225)","v":0}]
[null,"Module_consult","I02",392,{"$f":"LEN(resultats_textes_durs[[#This Row],[Texte en dur]])","v":3},null,{"$f":"_xlfn.IFS(Language=\"EN\",I2226,Language=\"FR\",H2226,Language=\"SP\",J2226)","v":0}]
[null,"Module_consult","B",394,{"$f":"LEN(resultats_textes_durs[[#This Row],[Texte en dur]])","v":1},null,{"$f":"_xlfn.IFS(Language=\"EN\",I2227,Language=\"FR\",H2227,Language=\"SP\",J2227)","v":0}]
[null,"Module_consult","I03",394,{"$f":"LEN(resultats_textes_durs[[#This Row],[Texte en dur]])","v":3},null,{"$f":"_xlfn.IFS(Language=\"EN\",I2228,Language=\"FR\",H2228,Language=\"SP\",J2228)","v":0}]
[null,"Module_consult","B",396,{"$f":"LEN(resultats_textes_durs[[#This Row],[Texte en dur]])","v":1},null,{"$f":"_xlfn.IFS(Language=\"EN\",I2229,Language=\"FR\",H2229,Language=\"SP\",J2229)","v":0}]
[null,"Module_consult","I04",396,{"$f":"LEN(resultats_textes_durs[[#This Row],[Texte en dur]])","v":3},null,{"$f":"_xlfn.IFS(Language=\"EN\",I2230,Language=\"FR\",H2230,Language=\"SP\",J2230)","v":0}]
[null,"Module_consult","A1:R",403,{"$f":"LEN(resultats_textes_durs[[#This Row],[Texte en dur]])","v":4},null,{"$f":"_xlfn.IFS(Language=\"EN\",I2231,Language=\"FR\",H2231,Language=\"SP\",J2231)","v":0}]
[null,"Module_consult","J2:J",407,{"$f":"LEN(resultats_textes_durs[[#This Row],[Texte en dur]])","v":4},null,{"$f":"_xlfn.IFS(Language=\"EN\",I2232,Language=\"FR\",H2232,Language=\"SP\",J2232)","v":0}]
[null,"Module_consult","I2:I",408,{"$f":"LEN(resultats_textes_durs[[#This Row],[Texte en dur]])","v":4},null,{"$f":"_xlfn.IFS(Language=\"EN\",I2233,Language=\"FR\",H2233,Language=\"SP\",J2233)","v":0}]
[null,"Module_consult","Consult_DB_verbatims",421,{"$f":"LEN(resultats_textes_durs[[#This Row],[Texte en dur]])","v":20},null,{"$f":"_xlfn.IFS(Language=\"EN\",I2234,Language=\"FR\",H2234,Language=\"SP\",J2234)","v":0}]
[null,"Module_consult","A2:R",422,{"$f":"LEN(resultats_textes_durs[[#This Row],[Texte en dur]])","v":4},null,{"$f":"_xlfn.IFS(Language=\"EN\",I2235,Language=\"FR\",H2235,Language=\"SP\",J2235)","v":0}]
[null,"Module_consult","consult_db_verbatims",426,{"$f":"LEN(resultats_textes_durs[[#This Row],[Texte en dur]])","v":20},null,{"$f":"_xlfn.IFS(Language=\"EN\",I2236,Language=\"FR\",H2236,Language=\"SP\",J2236)","v":0}]
[null,"Module_consult","consult_db_verbatims",430,{"$f":"LEN(resultats_textes_durs[[#This Row],[Texte en dur]])","v":20},null,{"$f":"_xlfn.IFS(Language=\"EN\",I2237,Language=\"FR\",H2237,Language=\"SP\",J2237)","v":0}]
[null,"Module_consult","Les formules ont été appliquées, les cellules ont été mises à jour et le tableau a été trié.",433,{"$f":"LEN(resultats_textes_durs[[#This Row],[Texte en dur]])","v":92},null,{"$f":"_xlfn.IFS(Language=\"EN\",I2238,Language=\"FR\",H2238,Language=\"SP\",J2238)","v":0}]
[null,"Module_consult","Onglet_consult_upload",449,{"$f":"LEN(resultats_textes_durs[[#This Row],[Texte en dur]])","v":21},null,{"$f":"_xlfn.IFS(Language=\"EN\",I2239,Language=\"FR\",H2239,Language=\"SP\",J2239)","v":0}]
[null,"Module_consult","Onglet_consult_Panel",450,{"$f":"LEN(resultats_textes_durs[[#This Row],[Texte en dur]])","v":20},null,{"$f":"_xlfn.IFS(Language=\"EN\",I2240,Language=\"FR\",H2240,Language=\"SP\",J2240)","v":0}]
[null,"Module_consult","SRM",452,{"$f":"LEN(resultats_textes_durs[[#This Row],[Texte en dur]])","v":3},null,{"$f":"_xlfn.IFS(Language=\"EN\",I2241,Language=\"FR\",H2241,Language=\"SP\",J2241)","v":0}]
[null,"Module_consult","C",455,{"$f":"LEN(resultats_textes_durs[[#This Row],[Texte en dur]])","v":1},null,{"$f":"_xlfn.IFS(Language=\"EN\",I2242,Language=\"FR\",H2242,Language=\"SP\",J2242)","v":0}]
[null,"Module_consult","D",456,{"$f":"LEN(resultats_textes_durs[[#This Row],[Texte en dur]])","v":1},null,{"$f":"_xlfn.IFS(Language=\"EN\",I2243,Language=\"FR\",H2243,Language=\"SP\",J2243)","v":0}]
[null,"Module_consult","Onglet_consult_upload",458,{"$f":"LEN(resultats_textes_durs[[#This Row],[Texte en dur]])","v":21},null,{"$f":"_xlfn.IFS(Language=\"EN\",I2244,Language=\"FR\",H2244,Language=\"SP\",J2244)","v":0}]
[null,"Module_consult","",466,{"$f":"LEN(resultats_textes_durs[[#This Row],[Texte en dur]])","v":0},null,{"$f":"_xlfn.IFS(Language=\"EN\",I2245,Language=\"FR\",H2245,Language=\"SP\",J2245)","v":0}]
[null,"Module_consult","Onglet_consult_Panel",467,{"$f":"LEN(resultats_textes_durs[[#This Row],[Texte en dur]])","v":20},null,{"$f":"_xlfn.IFS(Language=\"EN\",I2246,Language=\"FR\",H2246,Language=\"SP\",J2246)","v":0}]
[null,"Module_consult","E13:E",468,{"$f":"LEN(resultats_textes_durs[[#This Row],[Texte en dur]])","v":5},null,{"$f":"_xlfn.IFS(Language=\"EN\",I2247,Language=\"FR\",H2247,Language=\"SP\",J2247)","v":0}]
[null,"Module_consult","Done",470,{"$f":"LEN(resultats_textes_durs[[#This Row],[Texte en dur]])","v":4},null,{"$f":"_xlfn.IFS(Language=\"EN\",I2248,Language=\"FR\",H2248,Language=\"SP\",J2248)","v":0}]
[null,"Module_consult","H",472,{"$f":"LEN(resultats_textes_durs[[#This Row],[Texte en dur]])","v":1},null,{"$f":"_xlfn.IFS(Language=\"EN\",I2249,Language=\"FR\",H2249,Language=\"SP\",J2249)","v":0}]
[null,"Module_consult","Done",473,{"$f":"LEN(resultats_textes_durs[[#This Row],[Texte en dur]])","v":4},null,{"$f":"_xlfn.IFS(Language=\"EN\",I2250,Language=\"FR\",H2250,Language=\"SP\",J2250)","v":0}]
[null,"Module_consult","Onglet_consult_upload",474,{"$f":"LEN(resultats_textes_durs[[#This Row],[Texte en dur]])","v":21},null,{"$f":"_xlfn.IFS(Language=\"EN\",I2251,Language=\"FR\",H2251,Language=\"SP\",J2251)","v":0}]
[null,"Module_consult","SRM",481,{"$f":"LEN(resultats_textes_durs[[#This Row],[Texte en dur]])","v":3},null,{"$f":"_xlfn.IFS(Language=\"EN\",I2252,Language=\"FR\",H2252,Language=\"SP\",J2252)","v":0}]
[null,"Module_consult","Les noms des stakeholders ont été colorés avec succès !",482,{"$f":"LEN(resultats_textes_durs[[#This Row],[Texte en dur]])","v":55},null,{"$f":"_xlfn.IFS(Language=\"EN\",I2253,Language=\"FR\",H2253,Language=\"SP\",J2253)","v":0}]
[null,"Module_consult","Onglet_consult_Panel",493,{"$f":"LEN(resultats_textes_durs[[#This Row],[Texte en dur]])","v":20},null,{"$f":"_xlfn.IFS(Language=\"EN\",I2254,Language=\"FR\",H2254,Language=\"SP\",J2254)","v":0}]
[null,"Module_consult","Onglet_Consult_Database",494,{"$f":"LEN(resultats_textes_durs[[#This Row],[Texte en dur]])","v":23},null,{"$f":"_xlfn.IFS(Language=\"EN\",I2255,Language=\"FR\",H2255,Language=\"SP\",J2255)","v":0}]
[null,"Module_consult","Scripting.Dictionary",497,{"$f":"LEN(resultats_textes_durs[[#This Row],[Texte en dur]])","v":20},null,{"$f":"_xlfn.IFS(Language=\"EN\",I2256,Language=\"FR\",H2256,Language=\"SP\",J2256)","v":0}]
[null,"Module_consult","Onglet_consult_Panel",499,{"$f":"LEN(resultats_textes_durs[[#This Row],[Texte en dur]])","v":20},null,{"$f":"_xlfn.IFS(Language=\"EN\",I2257,Language=\"FR\",H2257,Language=\"SP\",J2257)","v":0}]
[null,"Module_consult","Onglet_consult_Panel",502,{"$f":"LEN(resultats_textes_durs[[#This Row],[Texte en dur]])","v":20},null,{"$f":"_xlfn.IFS(Language=\"EN\",I2258,Language=\"FR\",H2258,Language=\"SP\",J2258)","v":0}]
[null,"Module_consult","",511,{"$f":"LEN(resultats_textes_durs[[#This Row],[Texte en dur]])","v":0},null,{"$f":"_xlfn.IFS(Language=\"EN\",I2259,Language=\"FR\",H2259,Language=\"SP\",J2259)","v":0}]
[null,"Module_consult","Onglet_Consult_Database",516,{"$f":"LEN(resultats_textes_durs[[#This Row],[Texte en dur]])","v":23},null,{"$f":"_xlfn.IFS(Language=\"EN\",I2260,Language=\"FR\",H2260,Language=\"SP\",J2260)","v":0}]
[null,"Module_consult","Onglet_Consult_Database",519,{"$f":"LEN(resultats_textes_durs[[#This Row],[Texte en dur]])","v":23},null,{"$f":"_xlfn.IFS(Language=\"EN\",I2261,Language=\"FR\",H2261,Language=\"SP\",J2261)","v":0}]
[null,"Module_consult","Détails des stakeholders mis à jour avec succès.",537,{"$f":"LEN(resultats_textes_durs[[#This Row],[Texte en dur]])","v":48},null,{"$f":"_xlfn.IFS(Language=\"EN\",I2262,Language=\"FR\",H2262,Language=\"SP\",J2262)","v":0}]
[null,"Module_consult","Onglet_Consult_Database",549,{"$f":"LEN(resultats_textes_durs[[#This Row],[Texte en dur]])","v":23},null,{"$f":"_xlfn.IFS(Language=\"EN\",I2263,Language=\"FR\",H2263,Language=\"SP\",J2263)","v":0}]
[null,"Module_consult","B",552,{"$f":"LEN(resultats_textes_durs[[#This Row],[Texte en dur]])","v":1},null,{"$f":"_xlfn.IFS(Language=\"EN\",I2264,Language=\"FR\",H2264,Language=\"SP\",J2264)","v":0}]
[null,"Module_consult","S",559,{"$f":"LEN(resultats_textes_durs[[#This Row],[Texte en dur]])","v":1},null,{"$f":"_xlfn.IFS(Language=\"EN\",I2265,Language=\"FR\",H2265,Language=\"SP\",J2265)","v":0}]
[null,"Module_consult","S",560,{"$f":"LEN(resultats_textes_durs[[#This Row],[Texte en dur]])","v":1},null,{"$f":"_xlfn.IFS(Language=\"EN\",I2266,Language=\"FR\",H2266,Language=\"SP\",J2266)","v":0}]
[null,"Module_consult","1",562,{"$f":"LEN(resultats_textes_durs[[#This Row],[Texte en dur]])","v":1},null,{"$f":"_xlfn.IFS(Language=\"EN\",I2267,Language=\"FR\",H2267,Language=\"SP\",J2267)","v":0}]
[null,"Module_consult","2",564,{"$f":"LEN(resultats_textes_durs[[#This Row],[Texte en dur]])","v":1},null,{"$f":"_xlfn.IFS(Language=\"EN\",I2268,Language=\"FR\",H2268,Language=\"SP\",J2268)","v":0}]
[null,"Module_consult","3",566,{"$f":"LEN(resultats_textes_durs[[#This Row],[Texte en dur]])","v":1},null,{"$f":"_xlfn.IFS(Language=\"EN\",I2269,Language=\"FR\",H2269,Language=\"SP\",J2269)","v":0}]
[null,"Module_consult","4",568,{"$f":"LEN(resultats_textes_durs[[#This Row],[Texte en dur]])","v":1},null,{"$f":"_xlfn.IFS(Language=\"EN\",I2270,Language=\"FR\",H2270,Language=\"SP\",J2270)","v":0}]
[null,"Module_consult","La colonne O a été remplie selon les conditions spécifiées.",582,{"$f":"LEN(resultats_textes_durs[[#This Row],[Texte en dur]])","v":59},null,{"$f":"_xlfn.IFS(Language=\"EN\",I2271,Language=\"FR\",H2271,Language=\"SP\",J2271)","v":0}]
[null,"Module_consult","Onglet_consult_itw",605,{"$f":"LEN(resultats_textes_durs[[#This Row],[Texte en dur]])","v":18},null,{"$f":"_xlfn.IFS(Language=\"EN\",I2272,Language=\"FR\",H2272,Language=\"SP\",J2272)","v":0}]
[null,"Module_consult","Onglet_consult_Panel",606,{"$f":"LEN(resultats_textes_durs[[#This Row],[Texte en dur]])","v":20},null,{"$f":"_xlfn.IFS(Language=\"EN\",I2273,Language=\"FR\",H2273,Language=\"SP\",J2273)","v":0}]
[null,"Module_consult","panel",608,{"$f":"LEN(resultats_textes_durs[[#This Row],[Texte en dur]])","v":5},null,{"$f":"_xlfn.IFS(Language=\"EN\",I2274,Language=\"FR\",H2274,Language=\"SP\",J2274)","v":0}]
[null,"Module_consult","panel",610,{"$f":"LEN(resultats_textes_durs[[#This Row],[Texte en dur]])","v":5},null,{"$f":"_xlfn.IFS(Language=\"EN\",I2275,Language=\"FR\",H2275,Language=\"SP\",J2275)","v":0}]
[null,"Module_consult","La plage nommée 'panel' est introuvable dans le fichier source.",614,{"$f":"LEN(resultats_textes_durs[[#This Row],[Texte en dur]])","v":63},null,{"$f":"_xlfn.IFS(Language=\"EN\",I2276,Language=\"FR\",H2276,Language=\"SP\",J2276)","v":0}]
[null,"Module_consult","Vous devez d'abord constituer votre panel avant de télécharger le formulaire d'interview.",619,{"$f":"LEN(resultats_textes_durs[[#This Row],[Texte en dur]])","v":89},null,{"$f":"_xlfn.IFS(Language=\"EN\",I2277,Language=\"FR\",H2277,Language=\"SP\",J2277)","v":0}]
[null,"Module_consult","Sélectionnez un dossier pour enregistrer le fichier d'interview",628,{"$f":"LEN(resultats_textes_durs[[#This Row],[Texte en dur]])","v":63},null,{"$f":"_xlfn.IFS(Language=\"EN\",I2278,Language=\"FR\",H2278,Language=\"SP\",J2278)","v":0}]
[null,"Module_consult","\\Interview_Vierge.xlsx",630,{"$f":"LEN(resultats_textes_durs[[#This Row],[Texte en dur]])","v":22},null,{"$f":"_xlfn.IFS(Language=\"EN\",I2279,Language=\"FR\",H2279,Language=\"SP\",J2279)","v":0}]
[null,"Module_consult","Aucun dossier sélectionné. Le processus est annulé.",632,{"$f":"LEN(resultats_textes_durs[[#This Row],[Texte en dur]])","v":51},null,{"$f":"_xlfn.IFS(Language=\"EN\",I2280,Language=\"FR\",H2280,Language=\"SP\",J2280)","v":0}]
[null,"Module_consult","",639,{"$f":"LEN(resultats_textes_durs[[#This Row],[Texte en dur]])","v":0},null,{"$f":"_xlfn.IFS(Language=\"EN\",I2281,Language=\"FR\",H2281,Language=\"SP\",J2281)","v":0}]
[null,"Module_consult","Le fichier '",640,{"$f":"LEN(resultats_textes_durs[[#This Row],[Texte en dur]])","v":12},null,{"$f":"_xlfn.IFS(Language=\"EN\",I2282,Language=\"FR\",H2282,Language=\"SP\",J2282)","v":0}]
[null,"Module_consult","' existe déjà. Voulez-vous le remplacer ?",640,{"$f":"LEN(resultats_textes_durs[[#This Row],[Texte en dur]])","v":41},null,{"$f":"_xlfn.IFS(Language=\"EN\",I2283,Language=\"FR\",H2283,Language=\"SP\",J2283)","v":0}]
[null,"Module_consult","Fichier existant",640,{"$f":"LEN(resultats_textes_durs[[#This Row],[Texte en dur]])","v":16},null,{"$f":"_xlfn.IFS(Language=\"EN\",I2284,Language=\"FR\",H2284,Language=\"SP\",J2284)","v":0}]
[null,"Module_consult","Le processus a été annulé par l'utilisateur.",642,{"$f":"LEN(resultats_textes_durs[[#This Row],[Texte en dur]])","v":44},null,{"$f":"_xlfn.IFS(Language=\"EN\",I2285,Language=\"FR\",H2285,Language=\"SP\",J2285)","v":0}]
[null,"Module_consult","Le fichier a bien été créé et enregistré.",660,{"$f":"LEN(resultats_textes_durs[[#This Row],[Texte en dur]])","v":41},null,{"$f":"_xlfn.IFS(Language=\"EN\",I2286,Language=\"FR\",H2286,Language=\"SP\",J2286)","v":0}]
[null,"Module_consult","Création du fichier d'interview en cours…",663,{"$f":"LEN(resultats_textes_durs[[#This Row],[Texte en dur]])","v":41},null,{"$f":"_xlfn.IFS(Language=\"EN\",I2287,Language=\"FR\",H2287,Language=\"SP\",J2287)","v":0}]
[null,"Module_consult","Onglet 1",667,{"$f":"LEN(resultats_textes_durs[[#This Row],[Texte en dur]])","v":8},null,{"$f":"_xlfn.IFS(Language=\"EN\",I2288,Language=\"FR\",H2288,Language=\"SP\",J2288)","v":0}]
[null,"Module_consult","Onglet 2",672,{"$f":"LEN(resultats_textes_durs[[#This Row],[Texte en dur]])","v":8},null,{"$f":"_xlfn.IFS(Language=\"EN\",I2289,Language=\"FR\",H2289,Language=\"SP\",J2289)","v":0}]
[null,"Module_consult","Onglet 1",677,{"$f":"LEN(resultats_textes_durs[[#This Row],[Texte en dur]])","v":8},null,{"$f":"_xlfn.IFS(Language=\"EN\",I2290,Language=\"FR\",H2290,Language=\"SP\",J2290)","v":0}]
[null,"Module_consult","A7:T82",678,{"$f":"LEN(resultats_textes_durs[[#This Row],[Texte en dur]])","v":6},null,{"$f":"_xlfn.IFS(Language=\"EN\",I2291,Language=\"FR\",H2291,Language=\"SP\",J2291)","v":0}]
[null,"Module_consult","A1",678,{"$f":"LEN(resultats_textes_durs[[#This Row],[Texte en dur]])","v":2},null,{"$f":"_xlfn.IFS(Language=\"EN\",I2292,Language=\"FR\",H2292,Language=\"SP\",J2292)","v":0}]
[null,"Module_consult","Onglet 1",680,{"$f":"LEN(resultats_textes_durs[[#This Row],[Texte en dur]])","v":8},null,{"$f":"_xlfn.IFS(Language=\"EN\",I2293,Language=\"FR\",H2293,Language=\"SP\",J2293)","v":0}]
[null,"Module_consult","A7:T82",681,{"$f":"LEN(resultats_textes_durs[[#This Row],[Texte en dur]])","v":6},null,{"$f":"_xlfn.IFS(Language=\"EN\",I2294,Language=\"FR\",H2294,Language=\"SP\",J2294)","v":0}]
[null,"Module_consult","A7:T82",684,{"$f":"LEN(resultats_textes_durs[[#This Row],[Texte en dur]])","v":6},null,{"$f":"_xlfn.IFS(Language=\"EN\",I2295,Language=\"FR\",H2295,Language=\"SP\",J2295)","v":0}]
[null,"Module_consult","A7:T7",706,{"$f":"LEN(resultats_textes_durs[[#This Row],[Texte en dur]])","v":5},null,{"$f":"_xlfn.IFS(Language=\"EN\",I2296,Language=\"FR\",H2296,Language=\"SP\",J2296)","v":0}]
[null,"Module_consult","Onglet_consult_Panel",710,{"$f":"LEN(resultats_textes_durs[[#This Row],[Texte en dur]])","v":20},null,{"$f":"_xlfn.IFS(Language=\"EN\",I2297,Language=\"FR\",H2297,Language=\"SP\",J2297)","v":0}]
[null,"Module_consult","panel",712,{"$f":"LEN(resultats_textes_durs[[#This Row],[Texte en dur]])","v":5},null,{"$f":"_xlfn.IFS(Language=\"EN\",I2298,Language=\"FR\",H2298,Language=\"SP\",J2298)","v":0}]
[null,"Module_consult","D",720,{"$f":"LEN(resultats_textes_durs[[#This Row],[Texte en dur]])","v":1},null,{"$f":"_xlfn.IFS(Language=\"EN\",I2299,Language=\"FR\",H2299,Language=\"SP\",J2299)","v":0}]
[null,"Module_consult",":E",720,{"$f":"LEN(resultats_textes_durs[[#This Row],[Texte en dur]])","v":2},null,{"$f":"_xlfn.IFS(Language=\"EN\",I2300,Language=\"FR\",H2300,Language=\"SP\",J2300)","v":0}]
[null,"Module_consult","C3",721,{"$f":"LEN(resultats_textes_durs[[#This Row],[Texte en dur]])","v":2},null,{"$f":"_xlfn.IFS(Language=\"EN\",I2301,Language=\"FR\",H2301,Language=\"SP\",J2301)","v":0}]
[null,"Module_consult","C",727,{"$f":"LEN(resultats_textes_durs[[#This Row],[Texte en dur]])","v":1},null,{"$f":"_xlfn.IFS(Language=\"EN\",I2302,Language=\"FR\",H2302,Language=\"SP\",J2302)","v":0}]
[null,"Module_consult","A",727,{"$f":"LEN(resultats_textes_durs[[#This Row],[Texte en dur]])","v":1},null,{"$f":"_xlfn.IFS(Language=\"EN\",I2303,Language=\"FR\",H2303,Language=\"SP\",J2303)","v":0}]
[null,"Module_consult","D",728,{"$f":"LEN(resultats_textes_durs[[#This Row],[Texte en dur]])","v":1},null,{"$f":"_xlfn.IFS(Language=\"EN\",I2304,Language=\"FR\",H2304,Language=\"SP\",J2304)","v":0}]
[null,"Module_consult","B",728,{"$f":"LEN(resultats_textes_durs[[#This Row],[Texte en dur]])","v":1},null,{"$f":"_xlfn.IFS(Language=\"EN\",I2305,Language=\"FR\",H2305,Language=\"SP\",J2305)","v":0}]
[null,"Module_consult","A",729,{"$f":"LEN(resultats_textes_durs[[#This Row],[Texte en dur]])","v":1},null,{"$f":"_xlfn.IFS(Language=\"EN\",I2306,Language=\"FR\",H2306,Language=\"SP\",J2306)","v":0}]
[null,"Module_consult","C",729,{"$f":"LEN(resultats_textes_durs[[#This Row],[Texte en dur]])","v":1},null,{"$f":"_xlfn.IFS(Language=\"EN\",I2307,Language=\"FR\",H2307,Language=\"SP\",J2307)","v":0}]
[null,"Module_consult","panel",731,{"$f":"LEN(resultats_textes_durs[[#This Row],[Texte en dur]])","v":5},null,{"$f":"_xlfn.IFS(Language=\"EN\",I2308,Language=\"FR\",H2308,Language=\"SP\",J2308)","v":0}]
[null,"Module_consult","panel",732,{"$f":"LEN(resultats_textes_durs[[#This Row],[Texte en dur]])","v":5},null,{"$f":"_xlfn.IFS(Language=\"EN\",I2309,Language=\"FR\",H2309,Language=\"SP\",J2309)","v":0}]
[null,"Module_consult","='",732,{"$f":"LEN(resultats_textes_durs[[#This Row],[Texte en dur]])","v":2},null,{"$f":"_xlfn.IFS(Language=\"EN\",I2310,Language=\"FR\",H2310,Language=\"SP\",J2310)","v":0}]
[null,"Module_consult","'!$B$3:$B$",732,{"$f":"LEN(resultats_textes_durs[[#This Row],[Texte en dur]])","v":10},null,{"$f":"_xlfn.IFS(Language=\"EN\",I2311,Language=\"FR\",H2311,Language=\"SP\",J2311)","v":0}]
[null,"Module_consult","B",732,{"$f":"LEN(resultats_textes_durs[[#This Row],[Texte en dur]])","v":1},null,{"$f":"_xlfn.IFS(Language=\"EN\",I2312,Language=\"FR\",H2312,Language=\"SP\",J2312)","v":0}]
[null,"Module_consult","SHID",734,{"$f":"LEN(resultats_textes_durs[[#This Row],[Texte en dur]])","v":4},null,{"$f":"_xlfn.IFS(Language=\"EN\",I2313,Language=\"FR\",H2313,Language=\"SP\",J2313)","v":0}]
[null,"Module_consult","SHID",735,{"$f":"LEN(resultats_textes_durs[[#This Row],[Texte en dur]])","v":4},null,{"$f":"_xlfn.IFS(Language=\"EN\",I2314,Language=\"FR\",H2314,Language=\"SP\",J2314)","v":0}]
[null,"Module_consult","='",735,{"$f":"LEN(resultats_textes_durs[[#This Row],[Texte en dur]])","v":2},null,{"$f":"_xlfn.IFS(Language=\"EN\",I2315,Language=\"FR\",H2315,Language=\"SP\",J2315)","v":0}]
[null,"Module_consult","'!$B$3:$C$",735,{"$f":"LEN(resultats_textes_durs[[#This Row],[Texte en dur]])","v":10},null,{"$f":"_xlfn.IFS(Language=\"EN\",I2316,Language=\"FR\",H2316,Language=\"SP\",J2316)","v":0}]
[null,"Module_consult","B",735,{"$f":"LEN(resultats_textes_durs[[#This Row],[Texte en dur]])","v":1},null,{"$f":"_xlfn.IFS(Language=\"EN\",I2317,Language=\"FR\",H2317,Language=\"SP\",J2317)","v":0}]
[null,"Module_consult","La plage nommée 'panel' est introuvable dans le fichier source.",737,{"$f":"LEN(resultats_textes_durs[[#This Row],[Texte en dur]])","v":63},null,{"$f":"_xlfn.IFS(Language=\"EN\",I2318,Language=\"FR\",H2318,Language=\"SP\",J2318)","v":0}]
[null,"Module_consult","Onglet 1",741,{"$f":"LEN(resultats_textes_durs[[#This Row],[Texte en dur]])","v":8},null,{"$f":"_xlfn.IFS(Language=\"EN\",I2319,Language=\"FR\",H2319,Language=\"SP\",J2319)","v":0}]
[null,"Module_consult","B",742,{"$f":"LEN(resultats_textes_durs[[#This Row],[Texte en dur]])","v":1},null,{"$f":"_xlfn.IFS(Language=\"EN\",I2320,Language=\"FR\",H2320,Language=\"SP\",J2320)","v":0}]
[null,"Module_consult","L1",743,{"$f":"LEN(resultats_textes_durs[[#This Row],[Texte en dur]])","v":2},null,{"$f":"_xlfn.IFS(Language=\"EN\",I2321,Language=\"FR\",H2321,Language=\"SP\",J2321)","v":0}]
[null,"Module_consult","=sierreur(RECHERCHEV(L2;SHID;2;FAUX);",743,{"$f":"LEN(resultats_textes_durs[[#This Row],[Texte en dur]])","v":37},null,{"$f":"_xlfn.IFS(Language=\"EN\",I2322,Language=\"FR\",H2322,Language=\"SP\",J2322)","v":0}]
[null,"Module_consult","",743,{"$f":"LEN(resultats_textes_durs[[#This Row],[Texte en dur]])","v":0},null,{"$f":"_xlfn.IFS(Language=\"EN\",I2323,Language=\"FR\",H2323,Language=\"SP\",J2323)","v":0}]
[null,"Module_consult",")",743,{"$f":"LEN(resultats_textes_durs[[#This Row],[Texte en dur]])","v":1},null,{"$f":"_xlfn.IFS(Language=\"EN\",I2324,Language=\"FR\",H2324,Language=\"SP\",J2324)","v":0}]
[null,"Module_consult","X",745,{"$f":"LEN(resultats_textes_durs[[#This Row],[Texte en dur]])","v":1},null,{"$f":"_xlfn.IFS(Language=\"EN\",I2325,Language=\"FR\",H2325,Language=\"SP\",J2325)","v":0}]
[null,"Module_consult","D3:D4",745,{"$f":"LEN(resultats_textes_durs[[#This Row],[Texte en dur]])","v":5},null,{"$f":"_xlfn.IFS(Language=\"EN\",I2326,Language=\"FR\",H2326,Language=\"SP\",J2326)","v":0}]
[null,"Module_consult","rate",745,{"$f":"LEN(resultats_textes_durs[[#This Row],[Texte en dur]])","v":4},null,{"$f":"_xlfn.IFS(Language=\"EN\",I2327,Language=\"FR\",H2327,Language=\"SP\",J2327)","v":0}]
[null,"Module_consult","D3",746,{"$f":"LEN(resultats_textes_durs[[#This Row],[Texte en dur]])","v":2},null,{"$f":"_xlfn.IFS(Language=\"EN\",I2328,Language=\"FR\",H2328,Language=\"SP\",J2328)","v":0}]
[null,"Module_consult","X",746,{"$f":"LEN(resultats_textes_durs[[#This Row],[Texte en dur]])","v":1},null,{"$f":"_xlfn.IFS(Language=\"EN\",I2329,Language=\"FR\",H2329,Language=\"SP\",J2329)","v":0}]
[null,"Module_consult","D3:D4",747,{"$f":"LEN(resultats_textes_durs[[#This Row],[Texte en dur]])","v":5},null,{"$f":"_xlfn.IFS(Language=\"EN\",I2330,Language=\"FR\",H2330,Language=\"SP\",J2330)","v":0}]
[null,"Module_consult","rate",747,{"$f":"LEN(resultats_textes_durs[[#This Row],[Texte en dur]])","v":4},null,{"$f":"_xlfn.IFS(Language=\"EN\",I2331,Language=\"FR\",H2331,Language=\"SP\",J2331)","v":0}]
[null,"Module_consult","$F$23,$F$26:$F$29,$F$34:$F$41,$F$44:$F$47,$F$52:$F$54,$F$57:$F$63,$F$66:$F$72",755,{"$f":"LEN(resultats_textes_durs[[#This Row],[Texte en dur]])","v":77},null,{"$f":"_xlfn.IFS(Language=\"EN\",I2332,Language=\"FR\",H2332,Language=\"SP\",J2332)","v":0}]
[null,"Module_consult","$G$23,$G$26:$G$29,$G$34:$G$41,$G$44:$G$47,$G$52:$G$54,$G$57:$G$63,$G$66:$G$72",758,{"$f":"LEN(resultats_textes_durs[[#This Row],[Texte en dur]])","v":77},null,{"$f":"_xlfn.IFS(Language=\"EN\",I2333,Language=\"FR\",H2333,Language=\"SP\",J2333)","v":0}]
[null,"Module_consult","$H$23,$H$26:$H$29,$H$34:$H$41,$H$44:$H$47,$H$52:$H$54,$H$57:$H$63,$H$66:$H$72",761,{"$f":"LEN(resultats_textes_durs[[#This Row],[Texte en dur]])","v":77},null,{"$f":"_xlfn.IFS(Language=\"EN\",I2334,Language=\"FR\",H2334,Language=\"SP\",J2334)","v":0}]
[null,"Module_consult","$I$23,$I$26:$I$29,$I$34:$I$41,$I$44:$I$47,$I$52:$I$54,$I$57:$I$63,$I$66:$I$72",764,{"$f":"LEN(resultats_textes_durs[[#This Row],[Texte en dur]])","v":77},null,{"$f":"_xlfn.IFS(Language=\"EN\",I2335,Language=\"FR\",H2335,Language=\"SP\",J2335)","v":0}]
[null,"Module_consult","$J$23,$J$26:$J$29,$J$34:$J$41,$J$44:$J$47,$J$52:$J$54,$J$57:$J$63,$J$66:$J$72",767,{"$f":"LEN(resultats_textes_durs[[#This Row],[Texte en dur]])","v":77},null,{"$f":"_xlfn.IFS(Language=\"EN\",I2336,Language=\"FR\",H2336,Language=\"SP\",J2336)","v":0}]
[null,"Module_consult","$F$66:$F$72",770,{"$f":"LEN(resultats_textes_durs[[#This Row],[Texte en dur]])","v":11},null,{"$f":"_xlfn.IFS(Language=\"EN\",I2337,Language=\"FR\",H2337,Language=\"SP\",J2337)","v":0}]
[null,"Module_consult","=",798,{"$f":"LEN(resultats_textes_durs[[#This Row],[Texte en dur]])","v":1},null,{"$f":"_xlfn.IFS(Language=\"EN\",I2338,Language=\"FR\",H2338,Language=\"SP\",J2338)","v":0}]
[null,"Module_consult","X",798,{"$f":"LEN(resultats_textes_durs[[#This Row],[Texte en dur]])","v":1},null,{"$f":"_xlfn.IFS(Language=\"EN\",I2339,Language=\"FR\",H2339,Language=\"SP\",J2339)","v":0}]
[null,"Module_consult","",798,{"$f":"LEN(resultats_textes_durs[[#This Row],[Texte en dur]])","v":0},null,{"$f":"_xlfn.IFS(Language=\"EN\",I2340,Language=\"FR\",H2340,Language=\"SP\",J2340)","v":0}]
[null,"Module_consult","Traitement en cours...",806,{"$f":"LEN(resultats_textes_durs[[#This Row],[Texte en dur]])","v":22},null,{"$f":"_xlfn.IFS(Language=\"EN\",I2341,Language=\"FR\",H2341,Language=\"SP\",J2341)","v":0}]
[null,"Module_consult","Je suis en train de générer le formulaire d'interview ",809,{"$f":"LEN(resultats_textes_durs[[#This Row],[Texte en dur]])","v":54},null,{"$f":"_xlfn.IFS(Language=\"EN\",I2342,Language=\"FR\",H2342,Language=\"SP\",J2342)","v":0}]
[null,"Module_consult","0%",823,{"$f":"LEN(resultats_textes_durs[[#This Row],[Texte en dur]])","v":2},null,{"$f":"_xlfn.IFS(Language=\"EN\",I2343,Language=\"FR\",H2343,Language=\"SP\",J2343)","v":0}]
[null,"ThisWorkbook","Onglet_Parameters",3,{"$f":"LEN(resultats_textes_durs[[#This Row],[Texte en dur]])","v":17},null,{"$f":"_xlfn.IFS(Language=\"EN\",I2344,Language=\"FR\",H2344,Language=\"SP\",J2344)","v":0}]
[null,"ThisWorkbook","Onglet_Parameters",4,{"$f":"LEN(resultats_textes_durs[[#This Row],[Texte en dur]])","v":17},null,{"$f":"_xlfn.IFS(Language=\"EN\",I2345,Language=\"FR\",H2345,Language=\"SP\",J2345)","v":0}]
[null,"ThisWorkbook","Des macros sont encore en cours d'exécution. Veuillez attendre qu'elles soient terminées avant de fermer le classeur.",20,{"$f":"LEN(resultats_textes_durs[[#This Row],[Texte en dur]])","v":117},null,{"$f":"_xlfn.IFS(Language=\"EN\",I2346,Language=\"FR\",H2346,Language=\"SP\",J2346)","v":0}]
[null,"ThisWorkbook","Toutes les macros sont terminées. Vous pouvez fermer le classeur en toute sécurité.",24,{"$f":"LEN(resultats_textes_durs[[#This Row],[Texte en dur]])","v":83},null,{"$f":"_xlfn.IFS(Language=\"EN\",I2347,Language=\"FR\",H2347,Language=\"SP\",J2347)","v":0}]
[null,"UserForm1","Onglet_SRR_P1",22,{"$f":"LEN(resultats_textes_durs[[#This Row],[Texte en dur]])","v":13},null,{"$f":"_xlfn.IFS(Language=\"EN\",I2348,Language=\"FR\",H2348,Language=\"SP\",J2348)","v":0}]
[null,"UserForm1","Q75",23,{"$f":"LEN(resultats_textes_durs[[#This Row],[Texte en dur]])","v":3},null,{"$f":"_xlfn.IFS(Language=\"EN\",I2349,Language=\"FR\",H2349,Language=\"SP\",J2349)","v":0}]
[null,"UserForm1","Forms.Label.1",62,{"$f":"LEN(resultats_textes_durs[[#This Row],[Texte en dur]])","v":13},null,{"$f":"_xlfn.IFS(Language=\"EN\",I2350,Language=\"FR\",H2350,Language=\"SP\",J2350)","v":0}]
[null,"UserForm1","lblPremiereCategorie",62,{"$f":"LEN(resultats_textes_durs[[#This Row],[Texte en dur]])","v":20},null,{"$f":"_xlfn.IFS(Language=\"EN\",I2351,Language=\"FR\",H2351,Language=\"SP\",J2351)","v":0}]
[null,"UserForm1","Forms.TextBox.1",71,{"$f":"LEN(resultats_textes_durs[[#This Row],[Texte en dur]])","v":15},null,{"$f":"_xlfn.IFS(Language=\"EN\",I2352,Language=\"FR\",H2352,Language=\"SP\",J2352)","v":0}]
[null,"UserForm1","txtPremiereScore",71,{"$f":"LEN(resultats_textes_durs[[#This Row],[Texte en dur]])","v":16},null,{"$f":"_xlfn.IFS(Language=\"EN\",I2353,Language=\"FR\",H2353,Language=\"SP\",J2353)","v":0}]
[null,"UserForm1","0.0",73,{"$f":"LEN(resultats_textes_durs[[#This Row],[Texte en dur]])","v":3},null,{"$f":"_xlfn.IFS(Language=\"EN\",I2354,Language=\"FR\",H2354,Language=\"SP\",J2354)","v":0}]
[null,"UserForm1","Forms.TextBox.1",101,{"$f":"LEN(resultats_textes_durs[[#This Row],[Texte en dur]])","v":15},null,{"$f":"_xlfn.IFS(Language=\"EN\",I2355,Language=\"FR\",H2355,Language=\"SP\",J2355)","v":0}]
[null,"UserForm1","txtPremiereJustification",101,{"$f":"LEN(resultats_textes_durs[[#This Row],[Texte en dur]])","v":24},null,{"$f":"_xlfn.IFS(Language=\"EN\",I2356,Language=\"FR\",H2356,Language=\"SP\",J2356)","v":0}]
[null,"UserForm1","Forms.Label.1",122,{"$f":"LEN(resultats_textes_durs[[#This Row],[Texte en dur]])","v":13},null,{"$f":"_xlfn.IFS(Language=\"EN\",I2357,Language=\"FR\",H2357,Language=\"SP\",J2357)","v":0}]
[null,"UserForm1","lblHeaderCategorie",122,{"$f":"LEN(resultats_textes_durs[[#This Row],[Texte en dur]])","v":18},null,{"$f":"_xlfn.IFS(Language=\"EN\",I2358,Language=\"FR\",H2358,Language=\"SP\",J2358)","v":0}]
[null,"UserForm1","Category",123,{"$f":"LEN(resultats_textes_durs[[#This Row],[Texte en dur]])","v":8},null,{"$f":"_xlfn.IFS(Language=\"EN\",I2359,Language=\"FR\",H2359,Language=\"SP\",J2359)","v":0}]
[null,"UserForm1","Forms.Label.1",128,{"$f":"LEN(resultats_textes_durs[[#This Row],[Texte en dur]])","v":13},null,{"$f":"_xlfn.IFS(Language=\"EN\",I2360,Language=\"FR\",H2360,Language=\"SP\",J2360)","v":0}]
[null,"UserForm1","lblHeaderScore",128,{"$f":"LEN(resultats_textes_durs[[#This Row],[Texte en dur]])","v":14},null,{"$f":"_xlfn.IFS(Language=\"EN\",I2361,Language=\"FR\",H2361,Language=\"SP\",J2361)","v":0}]
[null,"UserForm1","Score",129,{"$f":"LEN(resultats_textes_durs[[#This Row],[Texte en dur]])","v":5},null,{"$f":"_xlfn.IFS(Language=\"EN\",I2362,Language=\"FR\",H2362,Language=\"SP\",J2362)","v":0}]
[null,"UserForm1","Forms.Label.1",134,{"$f":"LEN(resultats_textes_durs[[#This Row],[Texte en dur]])","v":13},null,{"$f":"_xlfn.IFS(Language=\"EN\",I2363,Language=\"FR\",H2363,Language=\"SP\",J2363)","v":0}]
[null,"UserForm1","lblHeaderJustification",134,{"$f":"LEN(resultats_textes_durs[[#This Row],[Texte en dur]])","v":22},null,{"$f":"_xlfn.IFS(Language=\"EN\",I2364,Language=\"FR\",H2364,Language=\"SP\",J2364)","v":0}]
[null,"UserForm1","Justification",135,{"$f":"LEN(resultats_textes_durs[[#This Row],[Texte en dur]])","v":13},null,{"$f":"_xlfn.IFS(Language=\"EN\",I2365,Language=\"FR\",H2365,Language=\"SP\",J2365)","v":0}]
[null,"UserForm1","Forms.TextBox.1",159,{"$f":"LEN(resultats_textes_durs[[#This Row],[Texte en dur]])","v":15},null,{"$f":"_xlfn.IFS(Language=\"EN\",I2366,Language=\"FR\",H2366,Language=\"SP\",J2366)","v":0}]
[null,"UserForm1","txtCategorie",159,{"$f":"LEN(resultats_textes_durs[[#This Row],[Texte en dur]])","v":12},null,{"$f":"_xlfn.IFS(Language=\"EN\",I2367,Language=\"FR\",H2367,Language=\"SP\",J2367)","v":0}]
[null,"UserForm1","Forms.TextBox.1",168,{"$f":"LEN(resultats_textes_durs[[#This Row],[Texte en dur]])","v":15},null,{"$f":"_xlfn.IFS(Language=\"EN\",I2368,Language=\"FR\",H2368,Language=\"SP\",J2368)","v":0}]
[null,"UserForm1","txtScore",168,{"$f":"LEN(resultats_textes_durs[[#This Row],[Texte en dur]])","v":8},null,{"$f":"_xlfn.IFS(Language=\"EN\",I2369,Language=\"FR\",H2369,Language=\"SP\",J2369)","v":0}]
[null,"UserForm1","0.0",170,{"$f":"LEN(resultats_textes_durs[[#This Row],[Texte en dur]])","v":3},null,{"$f":"_xlfn.IFS(Language=\"EN\",I2370,Language=\"FR\",H2370,Language=\"SP\",J2370)","v":0}]
[null,"UserForm1","Forms.TextBox.1",197,{"$f":"LEN(resultats_textes_durs[[#This Row],[Texte en dur]])","v":15},null,{"$f":"_xlfn.IFS(Language=\"EN\",I2371,Language=\"FR\",H2371,Language=\"SP\",J2371)","v":0}]
[null,"UserForm1","txtJustification",197,{"$f":"LEN(resultats_textes_durs[[#This Row],[Texte en dur]])","v":16},null,{"$f":"_xlfn.IFS(Language=\"EN\",I2372,Language=\"FR\",H2372,Language=\"SP\",J2372)","v":0}]
[null,"UserFormAIcompanion","",22,{"$f":"LEN(resultats_textes_durs[[#This Row],[Texte en dur]])","v":0},null,{"$f":"_xlfn.IFS(Language=\"EN\",I2373,Language=\"FR\",H2373,Language=\"SP\",J2373)","v":0}]
[null,"UserFormAIcompanion","Veuillez entrer votre demande.",23,{"$f":"LEN(resultats_textes_durs[[#This Row],[Texte en dur]])","v":30},null,{"$f":"_xlfn.IFS(Language=\"EN\",I2374,Language=\"FR\",H2374,Language=\"SP\",J2374)","v":0}]
[null,"UserFormAIcompanion","Onglet_AP_Fiche_SPL",28,{"$f":"LEN(resultats_textes_durs[[#This Row],[Texte en dur]])","v":19},null,{"$f":"_xlfn.IFS(Language=\"EN\",I2375,Language=\"FR\",H2375,Language=\"SP\",J2375)","v":0}]
[null,"UserFormAIcompanion","Onglet_Consult_Database",29,{"$f":"LEN(resultats_textes_durs[[#This Row],[Texte en dur]])","v":23},null,{"$f":"_xlfn.IFS(Language=\"EN\",I2376,Language=\"FR\",H2376,Language=\"SP\",J2376)","v":0}]
[null,"UserFormAIcompanion","Onglet_AP_Fiche_SPL",31,{"$f":"LEN(resultats_textes_durs[[#This Row],[Texte en dur]])","v":19},null,{"$f":"_xlfn.IFS(Language=\"EN\",I2377,Language=\"FR\",H2377,Language=\"SP\",J2377)","v":0}]
[null,"UserFormAIcompanion","L8",32,{"$f":"LEN(resultats_textes_durs[[#This Row],[Texte en dur]])","v":2},null,{"$f":"_xlfn.IFS(Language=\"EN\",I2378,Language=\"FR\",H2378,Language=\"SP\",J2378)","v":0}]
[null,"UserFormAIcompanion","sk-proj-74MfVj6335Ki5aSP5ukET3BlbkFJ4CrzskyJm22XmHxAIIZm",35,{"$f":"LEN(resultats_textes_durs[[#This Row],[Texte en dur]])","v":56},null,{"$f":"_xlfn.IFS(Language=\"EN\",I2379,Language=\"FR\",H2379,Language=\"SP\",J2379)","v":0}]
[null,"UserFormAIcompanion","https://api.openai.com/v1/chat/completions",36,{"$f":"LEN(resultats_textes_durs[[#This Row],[Texte en dur]])","v":42},null,{"$f":"_xlfn.IFS(Language=\"EN\",I2380,Language=\"FR\",H2380,Language=\"SP\",J2380)","v":0}]
[null,"UserFormAIcompanion","Onglet_Consult_Database",38,{"$f":"LEN(resultats_textes_durs[[#This Row],[Texte en dur]])","v":23},null,{"$f":"_xlfn.IFS(Language=\"EN\",I2381,Language=\"FR\",H2381,Language=\"SP\",J2381)","v":0}]
[null,"UserFormAIcompanion","",41,{"$f":"LEN(resultats_textes_durs[[#This Row],[Texte en dur]])","v":0},null,{"$f":"_xlfn.IFS(Language=\"EN\",I2382,Language=\"FR\",H2382,Language=\"SP\",J2382)","v":0}]
[null,"UserFormAIcompanion","CodeIND: ",46,{"$f":"LEN(resultats_textes_durs[[#This Row],[Texte en dur]])","v":9},null,{"$f":"_xlfn.IFS(Language=\"EN\",I2383,Language=\"FR\",H2383,Language=\"SP\",J2383)","v":0}]
[null,"UserFormAIcompanion",", ",46,{"$f":"LEN(resultats_textes_durs[[#This Row],[Texte en dur]])","v":2},null,{"$f":"_xlfn.IFS(Language=\"EN\",I2384,Language=\"FR\",H2384,Language=\"SP\",J2384)","v":0}]
[null,"UserFormAIcompanion","Commentaires: ",47,{"$f":"LEN(resultats_textes_durs[[#This Row],[Texte en dur]])","v":14},null,{"$f":"_xlfn.IFS(Language=\"EN\",I2385,Language=\"FR\",H2385,Language=\"SP\",J2385)","v":0}]
[null,"UserFormAIcompanion",", ",47,{"$f":"LEN(resultats_textes_durs[[#This Row],[Texte en dur]])","v":2},null,{"$f":"_xlfn.IFS(Language=\"EN\",I2386,Language=\"FR\",H2386,Language=\"SP\",J2386)","v":0}]
[null,"UserFormAIcompanion","Score: ",48,{"$f":"LEN(resultats_textes_durs[[#This Row],[Texte en dur]])","v":7},null,{"$f":"_xlfn.IFS(Language=\"EN\",I2387,Language=\"FR\",H2387,Language=\"SP\",J2387)","v":0}]
[null,"UserFormAIcompanion",", ",48,{"$f":"LEN(resultats_textes_durs[[#This Row],[Texte en dur]])","v":2},null,{"$f":"_xlfn.IFS(Language=\"EN\",I2388,Language=\"FR\",H2388,Language=\"SP\",J2388)","v":0}]
[null,"UserFormAIcompanion","Stakeholder: ",49,{"$f":"LEN(resultats_textes_durs[[#This Row],[Texte en dur]])","v":13},null,{"$f":"_xlfn.IFS(Language=\"EN\",I2389,Language=\"FR\",H2389,Language=\"SP\",J2389)","v":0}]
[null,"UserFormAIcompanion",", ",49,{"$f":"LEN(resultats_textes_durs[[#This Row],[Texte en dur]])","v":2},null,{"$f":"_xlfn.IFS(Language=\"EN\",I2390,Language=\"FR\",H2390,Language=\"SP\",J2390)","v":0}]
[null,"UserFormAIcompanion","Categorie: ",50,{"$f":"LEN(resultats_textes_durs[[#This Row],[Texte en dur]])","v":11},null,{"$f":"_xlfn.IFS(Language=\"EN\",I2391,Language=\"FR\",H2391,Language=\"SP\",J2391)","v":0}]
[null,"UserFormAIcompanion","gpt-3.5-turbo",62,{"$f":"LEN(resultats_textes_durs[[#This Row],[Texte en dur]])","v":13},null,{"$f":"_xlfn.IFS(Language=\"EN\",I2392,Language=\"FR\",H2392,Language=\"SP\",J2392)","v":0}]
[null,"UserFormAIcompanion","Voici les données pertinentes. ",63,{"$f":"LEN(resultats_textes_durs[[#This Row],[Texte en dur]])","v":31},null,{"$f":"_xlfn.IFS(Language=\"EN\",I2393,Language=\"FR\",H2393,Language=\"SP\",J2393)","v":0}]
[null,"UserFormAIcompanion","[{",64,{"$f":"LEN(resultats_textes_durs[[#This Row],[Texte en dur]])","v":2},null,{"$f":"_xlfn.IFS(Language=\"EN\",I2394,Language=\"FR\",H2394,Language=\"SP\",J2394)","v":0}]
[null,"UserFormAIcompanion","role",64,{"$f":"LEN(resultats_textes_durs[[#This Row],[Texte en dur]])","v":4},null,{"$f":"_xlfn.IFS(Language=\"EN\",I2395,Language=\"FR\",H2395,Language=\"SP\",J2395)","v":0}]
[null,"UserFormAIcompanion",": ",64,{"$f":"LEN(resultats_textes_durs[[#This Row],[Texte en dur]])","v":2},null,{"$f":"_xlfn.IFS(Language=\"EN\",I2396,Language=\"FR\",H2396,Language=\"SP\",J2396)","v":0}]
[null,"UserFormAIcompanion","user",64,{"$f":"LEN(resultats_textes_durs[[#This Row],[Texte en dur]])","v":4},null,{"$f":"_xlfn.IFS(Language=\"EN\",I2397,Language=\"FR\",H2397,Language=\"SP\",J2397)","v":0}]
[null,"UserFormAIcompanion",", ",64,{"$f":"LEN(resultats_textes_durs[[#This Row],[Texte en dur]])","v":2},null,{"$f":"_xlfn.IFS(Language=\"EN\",I2398,Language=\"FR\",H2398,Language=\"SP\",J2398)","v":0}]
[null,"UserFormAIcompanion","content",64,{"$f":"LEN(resultats_textes_durs[[#This Row],[Texte en dur]])","v":7},null,{"$f":"_xlfn.IFS(Language=\"EN\",I2399,Language=\"FR\",H2399,Language=\"SP\",J2399)","v":0}]
[null,"UserFormAIcompanion",": ",64,{"$f":"LEN(resultats_textes_durs[[#This Row],[Texte en dur]])","v":2},null,{"$f":"_xlfn.IFS(Language=\"EN\",I2400,Language=\"FR\",H2400,Language=\"SP\",J2400)","v":0}]
[null,"UserFormAIcompanion","",64,{"$f":"LEN(resultats_textes_durs[[#This Row],[Texte en dur]])","v":0},null,{"$f":"_xlfn.IFS(Language=\"EN\",I2401,Language=\"FR\",H2401,Language=\"SP\",J2401)","v":0}]
[null,"UserFormAIcompanion","",64,{"$f":"LEN(resultats_textes_durs[[#This Row],[Texte en dur]])","v":0},null,{"$f":"_xlfn.IFS(Language=\"EN\",I2402,Language=\"FR\",H2402,Language=\"SP\",J2402)","v":0}]
[null,"UserFormAIcompanion","}]",64,{"$f":"LEN(resultats_textes_durs[[#This Row],[Texte en dur]])","v":2},null,{"$f":"_xlfn.IFS(Language=\"EN\",I2403,Language=\"FR\",H2403,Language=\"SP\",J2403)","v":0}]
[null,"UserFormAIcompanion","{",66,{"$f":"LEN(resultats_textes_durs[[#This Row],[Texte en dur]])","v":1},null,{"$f":"_xlfn.IFS(Language=\"EN\",I2404,Language=\"FR\",H2404,Language=\"SP\",J2404)","v":0}]
[null,"UserFormAIcompanion","model",66,{"$f":"LEN(resultats_textes_durs[[#This Row],[Texte en dur]])","v":5},null,{"$f":"_xlfn.IFS(Language=\"EN\",I2405,Language=\"FR\",H2405,Language=\"SP\",J2405)","v":0}]
[null,"UserFormAIcompanion",": ",66,{"$f":"LEN(resultats_textes_durs[[#This Row],[Texte en dur]])","v":2},null,{"$f":"_xlfn.IFS(Language=\"EN\",I2406,Language=\"FR\",H2406,Language=\"SP\",J2406)","v":0}]
[null,"UserFormAIcompanion","",66,{"$f":"LEN(resultats_textes_durs[[#This Row],[Texte en dur]])","v":0},null,{"$f":"_xlfn.IFS(Language=\"EN\",I2407,Language=\"FR\",H2407,Language=\"SP\",J2407)","v":0}]
[null,"UserFormAIcompanion","",66,{"$f":"LEN(resultats_textes_durs[[#This Row],[Texte en dur]])","v":0},null,{"$f":"_xlfn.IFS(Language=\"EN\",I2408,Language=\"FR\",H2408,Language=\"SP\",J2408)","v":0}]
[null,"UserFormAIcompanion",", ",66,{"$f":"LEN(resultats_textes_durs[[#This Row],[Texte en dur]])","v":2},null,{"$f":"_xlfn.IFS(Language=\"EN\",I2409,Language=\"FR\",H2409,Language=\"SP\",J2409)","v":0}]
[null,"UserFormAIcompanion","messages",66,{"$f":"LEN(resultats_textes_durs[[#This Row],[Texte en dur]])","v":8},null,{"$f":"_xlfn.IFS(Language=\"EN\",I2410,Language=\"FR\",H2410,Language=\"SP\",J2410)","v":0}]
[null,"UserFormAIcompanion",": ",66,{"$f":"LEN(resultats_textes_durs[[#This Row],[Texte en dur]])","v":2},null,{"$f":"_xlfn.IFS(Language=\"EN\",I2411,Language=\"FR\",H2411,Language=\"SP\",J2411)","v":0}]
[null,"UserFormAIcompanion",", ",66,{"$f":"LEN(resultats_textes_durs[[#This Row],[Texte en dur]])","v":2},null,{"$f":"_xlfn.IFS(Language=\"EN\",I2412,Language=\"FR\",H2412,Language=\"SP\",J2412)","v":0}]
[null,"UserFormAIcompanion","max_tokens",66,{"$f":"LEN(resultats_textes_durs[[#This Row],[Texte en dur]])","v":10},null,{"$f":"_xlfn.IFS(Language=\"EN\",I2413,Language=\"FR\",H2413,Language=\"SP\",J2413)","v":0}]
[null,"UserFormAIcompanion",": 1500}",66,{"$f":"LEN(resultats_textes_durs[[#This Row],[Texte en dur]])","v":7},null,{"$f":"_xlfn.IFS(Language=\"EN\",I2414,Language=\"FR\",H2414,Language=\"SP\",J2414)","v":0}]
[null,"UserFormAIcompanion","MSXML2.XMLHTTP",69,{"$f":"LEN(resultats_textes_durs[[#This Row],[Texte en dur]])","v":14},null,{"$f":"_xlfn.IFS(Language=\"EN\",I2415,Language=\"FR\",H2415,Language=\"SP\",J2415)","v":0}]
[null,"UserFormAIcompanion","POST",71,{"$f":"LEN(resultats_textes_durs[[#This Row],[Texte en dur]])","v":4},null,{"$f":"_xlfn.IFS(Language=\"EN\",I2416,Language=\"FR\",H2416,Language=\"SP\",J2416)","v":0}]
[null,"UserFormAIcompanion","Content-Type",72,{"$f":"LEN(resultats_textes_durs[[#This Row],[Texte en dur]])","v":12},null,{"$f":"_xlfn.IFS(Language=\"EN\",I2417,Language=\"FR\",H2417,Language=\"SP\",J2417)","v":0}]
[null,"UserFormAIcompanion","application/json",72,{"$f":"LEN(resultats_textes_durs[[#This Row],[Texte en dur]])","v":16},null,{"$f":"_xlfn.IFS(Language=\"EN\",I2418,Language=\"FR\",H2418,Language=\"SP\",J2418)","v":0}]
[null,"UserFormAIcompanion","Authorization",73,{"$f":"LEN(resultats_textes_durs[[#This Row],[Texte en dur]])","v":13},null,{"$f":"_xlfn.IFS(Language=\"EN\",I2419,Language=\"FR\",H2419,Language=\"SP\",J2419)","v":0}]
[null,"UserFormAIcompanion","Bearer ",73,{"$f":"LEN(resultats_textes_durs[[#This Row],[Texte en dur]])","v":7},null,{"$f":"_xlfn.IFS(Language=\"EN\",I2420,Language=\"FR\",H2420,Language=\"SP\",J2420)","v":0}]
[null,"UserFormAIcompanion","choices",83,{"$f":"LEN(resultats_textes_durs[[#This Row],[Texte en dur]])","v":7},null,{"$f":"_xlfn.IFS(Language=\"EN\",I2421,Language=\"FR\",H2421,Language=\"SP\",J2421)","v":0}]
[null,"UserFormAIcompanion","choices",84,{"$f":"LEN(resultats_textes_durs[[#This Row],[Texte en dur]])","v":7},null,{"$f":"_xlfn.IFS(Language=\"EN\",I2422,Language=\"FR\",H2422,Language=\"SP\",J2422)","v":0}]
[null,"UserFormAIcompanion","choices",85,{"$f":"LEN(resultats_textes_durs[[#This Row],[Texte en dur]])","v":7},null,{"$f":"_xlfn.IFS(Language=\"EN\",I2423,Language=\"FR\",H2423,Language=\"SP\",J2423)","v":0}]
[null,"UserFormAIcompanion","message",85,{"$f":"LEN(resultats_textes_durs[[#This Row],[Texte en dur]])","v":7},null,{"$f":"_xlfn.IFS(Language=\"EN\",I2424,Language=\"FR\",H2424,Language=\"SP\",J2424)","v":0}]
[null,"UserFormAIcompanion","content",85,{"$f":"LEN(resultats_textes_durs[[#This Row],[Texte en dur]])","v":7},null,{"$f":"_xlfn.IFS(Language=\"EN\",I2425,Language=\"FR\",H2425,Language=\"SP\",J2425)","v":0}]
[null,"UserFormAIcompanion","La réponse JSON ne contient pas de choix.",87,{"$f":"LEN(resultats_textes_durs[[#This Row],[Texte en dur]])","v":41},null,{"$f":"_xlfn.IFS(Language=\"EN\",I2426,Language=\"FR\",H2426,Language=\"SP\",J2426)","v":0}]
[null,"UserFormAIcompanion","error",89,{"$f":"LEN(resultats_textes_durs[[#This Row],[Texte en dur]])","v":5},null,{"$f":"_xlfn.IFS(Language=\"EN\",I2427,Language=\"FR\",H2427,Language=\"SP\",J2427)","v":0}]
[null,"UserFormAIcompanion","Erreur de l'API : ",90,{"$f":"LEN(resultats_textes_durs[[#This Row],[Texte en dur]])","v":18},null,{"$f":"_xlfn.IFS(Language=\"EN\",I2428,Language=\"FR\",H2428,Language=\"SP\",J2428)","v":0}]
[null,"UserFormAIcompanion","error",90,{"$f":"LEN(resultats_textes_durs[[#This Row],[Texte en dur]])","v":5},null,{"$f":"_xlfn.IFS(Language=\"EN\",I2429,Language=\"FR\",H2429,Language=\"SP\",J2429)","v":0}]
[null,"UserFormAIcompanion","message",90,{"$f":"LEN(resultats_textes_durs[[#This Row],[Texte en dur]])","v":7},null,{"$f":"_xlfn.IFS(Language=\"EN\",I2430,Language=\"FR\",H2430,Language=\"SP\",J2430)","v":0}]
[null,"UserFormAIcompanion","La réponse JSON ne contient pas d'élément 'choices'.",92,{"$f":"LEN(resultats_textes_durs[[#This Row],[Texte en dur]])","v":52},null,{"$f":"_xlfn.IFS(Language=\"EN\",I2431,Language=\"FR\",H2431,Language=\"SP\",J2431)","v":0}]
[null,"UserFormAIcompanion","La réponse JSON est vide ou invalide.",95,{"$f":"LEN(resultats_textes_durs[[#This Row],[Texte en dur]])","v":37},null,{"$f":"_xlfn.IFS(Language=\"EN\",I2432,Language=\"FR\",H2432,Language=\"SP\",J2432)","v":0}]
[null,"UserFormAIcompanion","F55",99,{"$f":"LEN(resultats_textes_durs[[#This Row],[Texte en dur]])","v":3},null,{"$f":"_xlfn.IFS(Language=\"EN\",I2433,Language=\"FR\",H2433,Language=\"SP\",J2433)","v":0}]
[null,"UserFormLoading",".",7,{"$f":"LEN(resultats_textes_durs[[#This Row],[Texte en dur]])","v":1},null,{"$f":"_xlfn.IFS(Language=\"EN\",I2434,Language=\"FR\",H2434,Language=\"SP\",J2434)","v":0}]
[null,"UserFormLoading","Traitement en cours",8,{"$f":"LEN(resultats_textes_durs[[#This Row],[Texte en dur]])","v":19},null,{"$f":"_xlfn.IFS(Language=\"EN\",I2435,Language=\"FR\",H2435,Language=\"SP\",J2435)","v":0}]
[null,"UserFormLoading","00:00:01",10,{"$f":"LEN(resultats_textes_durs[[#This Row],[Texte en dur]])","v":8},null,{"$f":"_xlfn.IFS(Language=\"EN\",I2436,Language=\"FR\",H2436,Language=\"SP\",J2436)","v":0}]

{"sheet":"Onglet_trad_menus","index":48,"n_rows":318,"n_cols":5,"rows_kept":318,"cut":false,"hidden":false,"merged":[]}
[]
[]
[]
[]
[null,"CURRENT",null,"FR","EN"]
[]
[null,"PAGE D'ACCUEIL"]
[]
[null,{"$f":"_xlfn.IFS(Language=\"EN\",E9,Language=\"FR\",D9,Language=\"SP\",F9)","v":"YOUR PROFILE"},null,"VOTRE PROFIL","YOUR PROFILE"]
[]
[]
[null,{"$f":"_xlfn.IFS(Language=\"EN\",E12,Language=\"FR\",D12,Language=\"SP\",F12)","v":"Your Branch"},null,"Votre branche","Your Branch"]
[]
[null,{"$f":"_xlfn.IFS(Language=\"EN\",E14,Language=\"FR\",D14,Language=\"SP\",F14)","v":"Name of your entity"},null,"Nom de votre entité","Name of your entity"]
[]
[null,{"$f":"_xlfn.IFS(Language=\"EN\",E16,Language=\"FR\",D16,Language=\"SP\",F16)","v":"Language"},null,"Langue","Language"]
[]
[null,{"$f":"_xlfn.IFS(Language=\"EN\",E18,Language=\"FR\",D18,Language=\"SP\",F18)","v":"Are you planning a stakeholder consultation?"},null,"Prévoyez-vous faire une consultation de parties prenantes","Are you planning a stakeholder consultation?"]
[]
[null,{"$f":"_xlfn.IFS(Language=\"EN\",E20,Language=\"FR\",D20,Language=\"SP\",F20)","v":"Name of One SRM+ project manager"},null,"Nom du responsable de projet One SRM+","Name of One SRM+ project manager"]
[]
[null,{"$f":"_xlfn.IFS(Language=\"EN\",E22,Language=\"FR\",D22,Language=\"SP\",F22)","v":"Date of last update:"},null,"Date de la dernière mise à jour :","Date of last update:"]
[]
[null,{"$f":"_xlfn.IFS(Language=\"EN\",E24,Language=\"FR\",D24,Language=\"SP\",F24)","v":"Use the navigation bar to move through each of the modules"},null,"Utilisez la barre de navigation pour vous déplacer dans chacun des modules","Use the navigation bar to move through each of the modules"]
[]
[null,{"$f":"_xlfn.IFS(Language=\"EN\",E26,Language=\"FR\",D26,Language=\"SP\",F26)","v":"Module 1"},null,"Module 1","Module 1"]
[null,{"$f":"_xlfn.IFS(Language=\"EN\",E27,Language=\"FR\",D27,Language=\"SP\",F27)","v":"Module 2"},null,"Module 2","Module 2"]
[null,{"$f":"_xlfn.IFS(Language=\"EN\",E28,Language=\"FR\",D28,Language=\"SP\",F28)","v":"Module 3"},null,"Module 3","Module 3"]
[null,{"$f":"_xlfn.IFS(Language=\"EN\",E29,Language=\"FR\",D29,Language=\"SP\",F29)","v":"Module 4"},null,"Module 4","Module 4"]
[null,{"$f":"_xlfn.IFS(Language=\"EN\",E30,Language=\"FR\",D30,Language=\"SP\",F30)","v":"Module 5"},null,"Module 5","Module 5"]
[]
[]
[null,{"$f":"_xlfn.IFS(Language=\"EN\",E33,Language=\"FR\",D33,Language=\"SP\",F33)","v":"Click on the logo to return to the home page"},null,"Cliquez sur le logo pour revenir à la page d'accueil","Click on the logo to return to the home page"]
[]
[null,{"$f":"_xlfn.IFS(Language=\"EN\",E35,Language=\"FR\",D35,Language=\"SP\",F35)","v":"Report to the Social Performance Academy to find additional info and tools"},null,"Rendez vous sur la Social Performance Academy pour trouver des informations et des outils supplémentaires.","Report to the Social Performance Academy to find additional info and tools"]
[]
[null,{"$f":"_xlfn.IFS(Language=\"EN\",E37,Language=\"FR\",D37,Language=\"SP\",F37)","v":"Societal Risks Review"},null,"Revue des risques sociétaux","Societal Risks Review"]
[null,{"$f":"_xlfn.IFS(Language=\"EN\",E38,Language=\"FR\",D38,Language=\"SP\",F38)","v":"Stakeholder mapping"},null,"Cartographie des parties prenantes","Stakeholder mapping"]
[null,{"$f":"_xlfn.IFS(Language=\"EN\",E39,Language=\"FR\",D39,Language=\"SP\",F39)","v":"Stakeholder consultation"},null,"Consultation de parties prenantes","Stakeholder consultation"]
[null,{"$f":"_xlfn.IFS(Language=\"EN\",E40,Language=\"FR\",D40,Language=\"SP\",F40)","v":"Gap analysis and action plan"},null,"Analyse des écarts et plan d'actions","Gap analysis and action plan"]
[null,{"$f":"_xlfn.IFS(Language=\"EN\",E41,Language=\"FR\",D41,Language=\"SP\",F41)","v":"Reports"},null,"Rapports","Reports"]
[null,{"$f":"_xlfn.IFS(Language=\"EN\",E42,Language=\"FR\",D42,Language=\"SP\",F42)","v":"Stakeholder Engagement Plan"},null,"Plan d'Engagement des Parties Prenantes","Stakeholder Engagement Plan"]
[]
[null,"Onglets SRR ALL"]
[]
[null,{"$f":"_xlfn.IFS(Language=\"EN\",E46,Language=\"FR\",D46,Language=\"SP\",F46)","v":"Pillar 1 - RELATIONSHIPS & DIALOGUE"},null,"Pilier 1 - RELATIONS & DIALOGUE","Pillar 1 - RELATIONSHIPS & DIALOGUE"]
[null,{"$f":"_xlfn.IFS(Language=\"EN\",E47,Language=\"FR\",D47,Language=\"SP\",F47)","v":"Pillar 2 - NEGATIVE IMPACTS"},null,"Pilier 2 - IMPACTS NÉGATIFS","Pillar 2 - NEGATIVE IMPACTS"]
[null,{"$f":"_xlfn.IFS(Language=\"EN\",E48,Language=\"FR\",D48,Language=\"SP\",F48)","v":"Pillar 3 - POSITIVE IMPACTS"},null,"Pilier 3 - IMPACTS POSITIFS","Pillar 3 - POSITIVE IMPACTS"]
[null,{"$f":"_xlfn.IFS(Language=\"EN\",E49,Language=\"FR\",D49,Language=\"SP\",F49)","v":"SOCIAL PERFORMANCE GOVERNANCE"},null,"GOUVERNANCE PERFORMANCE SOCIETALE","SOCIAL PERFORMANCE GOVERNANCE"]
[]
[null,{"$f":"_xlfn.IFS(Language=\"EN\",E51,Language=\"FR\",D51,Language=\"SP\",F51)","v":"RISKS LINKED TO SOCIETAL CONTEXT"},null,"RISQUES LIÉS AU CONTEXTE SOCIÉTAL","RISKS LINKED TO SOCIETAL CONTEXT"]
[]
[null,{"$f":"_xlfn.IFS(Language=\"EN\",E53,Language=\"FR\",D53,Language=\"SP\",F53)","v":"Tuto #1: Social Risks Review"},null,"Tuto #1 : Revue des risques sociétaux","Tuto #1: Social Risks Review"]
[null,{"$f":"_xlfn.IFS(Language=\"EN\",E54,Language=\"FR\",D54,Language=\"SP\",F54)","v":"Watch tutorial on video to understand the results of the Social Risk Review"},null,"Regarder le tutoriel en vidéo pour comprendre les résultats de la Revue de Risques Sociétaux","Watch tutorial on video to understand the results of the Social Risk Review"]
[]
[null,{"$f":"_xlfn.IFS(Language=\"EN\",E56,Language=\"FR\",D56,Language=\"SP\",F56)","v":"Review each context indicator and score it according to rating scale"},null,"Examiner chaque indicateur de contexte et le scorer selon l'échelle d'évaluation","Review each context indicator and score it according to rating scale"]
[null,{"$f":"_xlfn.IFS(Language=\"EN\",E57,Language=\"FR\",D57,Language=\"SP\",F57)","v":"Double click on each indicator to show/hide details of rating scale"},null,"Double-cliquez sur chaque indicateur pour afficher/masquer les détails de l'échelle de notation","Double click on each indicator to show/hide details of rating scale"]
[null,{"$f":"_xlfn.IFS(Language=\"EN\",E58,Language=\"FR\",D58,Language=\"SP\",F58)","v":"Make sure to justify (briefly) on your scores"},null,"Veillez à justifier (brièvement) vos scores.","Make sure to justify (briefly) on your scores"]
[]
[null,{"$f":"_xlfn.IFS(Language=\"EN\",E60,Language=\"FR\",D60,Language=\"SP\",F60)","v":"Apply the following risk scale:"},null,"Appliquez l'échelle de risque suivante :","Apply the following risk scale:"]
[]
[null,{"$f":"_xlfn.IFS(Language=\"EN\",E62,Language=\"FR\",D62,Language=\"SP\",F62)","v":"Low risk"},null,"Risque faible","Low risk"]
[null,{"$f":"_xlfn.IFS(Language=\"EN\",E63,Language=\"FR\",D63,Language=\"SP\",F63)","v":"Moderate risk"},null,"Risque modéré","Moderate risk"]
[null,{"$f":"_xlfn.IFS(Language=\"EN\",E64,Language=\"FR\",D64,Language=\"SP\",F64)","v":"High risk"},null,"Risque élevé","High risk"]
[null,{"$f":"_xlfn.IFS(Language=\"EN\",E65,Language=\"FR\",D65,Language=\"SP\",F65)","v":"Critical risk"},null,"Risque critique","Critical risk"]
[null,{"$f":"_xlfn.IFS(Language=\"EN\",E66,Language=\"FR\",D66,Language=\"SP\",F66)","v":"Not applicable"},null,"Non applicable","Not applicable"]
[]
[null,{"$f":"_xlfn.IFS(Language=\"EN\",E68,Language=\"FR\",D68,Language=\"SP\",F68)","v":"Context"},null,"Contexte","Context"]
[null,{"$f":"_xlfn.IFS(Language=\"EN\",E69,Language=\"FR\",D69,Language=\"SP\",F69)","v":"Score"},null,"Score","Score"]
[null,{"$f":"_xlfn.IFS(Language=\"EN\",E70,Language=\"FR\",D70,Language=\"SP\",F70)","v":"Justification of your score"},null,"Justification du score","Justification of your score"]
[]
[]
[]
[null,{"$f":"_xlfn.IFS(Language=\"EN\",E74,Language=\"FR\",D74,Language=\"SP\",F74)","v":"Impacts"},null,"Impacts","Impacts"]
[null,{"$f":"_xlfn.IFS(Language=\"EN\",E75,Language=\"FR\",D75,Language=\"SP\",F75)","v":"Score"},null,"Score","Score"]
[null,{"$f":"_xlfn.IFS(Language=\"EN\",E76,Language=\"FR\",D76,Language=\"SP\",F76)","v":"Justification of your score"},null,"Justification de votre score","Justification of your score"]
[]
[null,{"$f":"_xlfn.IFS(Language=\"EN\",E78,Language=\"FR\",D78,Language=\"SP\",F78)","v":"SOCIAL PERFORMANCE REVIEW"},null,"REVUE DES PERFORMANCES SOCIETALES","SOCIAL PERFORMANCE REVIEW"]
[]
[null,{"$f":"_xlfn.IFS(Language=\"EN\",E80,Language=\"FR\",D80,Language=\"SP\",F80)","v":"Review each social performance lever and score it according to rating scale"},null,"Examinez chaque levier de performance sociétale et attribuez-lui un score selon l'échelle d'évaluation.","Review each social performance lever and score it according to rating scale"]
[null,{"$f":"_xlfn.IFS(Language=\"EN\",E81,Language=\"FR\",D81,Language=\"SP\",F81)","v":"Double click on each lever to show/hide details of rating scale"},null,"Double-cliquez sur chaque levier pour afficher/masquer les détails de l'échelle de notation.","Double click on each lever to show/hide details of rating scale"]
[null,{"$f":"_xlfn.IFS(Language=\"EN\",E82,Language=\"FR\",D82,Language=\"SP\",F82)","v":"To justify your scores:"},null,"Pour justifier vos scores :","To justify your scores:"]
[null,{"$f":"_xlfn.IFS(Language=\"EN\",E83,Language=\"FR\",D83,Language=\"SP\",F83)","v":"> comment briefly on your score"},null,"> Commentez brièvement votre score","> comment briefly on your score"]
[null,{"$f":"_xlfn.IFS(Language=\"EN\",E84,Language=\"FR\",D84,Language=\"SP\",F84)","v":"> list existing actions that justify your score"},null,"> dressez la liste des actions existantes qui justifient votre score","> list existing actions that justify your score"]
[null,{"$f":"_xlfn.IFS(Language=\"EN\",E85,Language=\"FR\",D85,Language=\"SP\",F85)","v":"> suggest possible actions to improve performance"},null,"> suggérer des actions possibles pour améliorer la performance","> suggest possible actions to improve performance"]
[null,{"$f":"_xlfn.IFS(Language=\"EN\",E86,Language=\"FR\",D86,Language=\"SP\",F86)","v":"You  can list up to 5 actions by performance lever"},null,"Vous pouvez lister jusqu'à 5 actions par levier de performance","You  can list up to 5 actions by performance lever"]
[null,{"$f":"_xlfn.IFS(Language=\"EN\",E87,Language=\"FR\",D87,Language=\"SP\",F87)","v":"The objective is not to list as many actions as possible but rather to limit"},null,"L'objectif n'est pas de lister autant d'actions que possible mais plutôt de se limiter","The objective is not to list as many actions as possible but rather to limit"]
[null,{"$f":"_xlfn.IFS(Language=\"EN\",E88,Language=\"FR\",D88,Language=\"SP\",F88)","v":"to the key ones"},null," aux actions clés.","to the key ones"]
[null,{"$f":"_xlfn.IFS(Language=\"EN\",E89,Language=\"FR\",D89,Language=\"SP\",F89)","v":"All actions listed will be directly reported in your final SRM+ action plan"},null,"Toutes les actions listées seront directement reportées dans votre plan d'action SRM+ final.","All actions listed will be directly reported in your final SRM+ action plan"]
[]
[null,{"$f":"_xlfn.IFS(Language=\"EN\",E91,Language=\"FR\",D91,Language=\"SP\",F91)","v":"The maturity scale below applies to each social performance lever:"},null,"L'échelle de maturité ci-dessous s'applique à chaque levier de performance sociétale :","The maturity scale below applies to each social performance lever:"]
[]
[null,{"$f":"_xlfn.IFS(Language=\"EN\",E93,Language=\"FR\",D93,Language=\"SP\",F93)","v":"Not started"},null,{"$f":"Onglet_SRR_Table!E17","v":"Non démarré"},{"$f":"Onglet_SRR_Table!D17","v":"Not started"}]
[null,{"$f":"_xlfn.IFS(Language=\"EN\",E94,Language=\"FR\",D94,Language=\"SP\",F94)","v":"Intermediate"},null,{"$f":"Onglet_SRR_Table!E18","v":"Intermédiaire"},{"$f":"Onglet_SRR_Table!D18","v":"Intermediate"}]
[null,{"$f":"_xlfn.IFS(Language=\"EN\",E95,Language=\"FR\",D95,Language=\"SP\",F95)","v":"Mature"},null,{"$f":"Onglet_SRR_Table!E19","v":"Mature"},{"$f":"Onglet_SRR_Table!D19","v":"Mature"}]
[null,{"$f":"_xlfn.IFS(Language=\"EN\",E96,Language=\"FR\",D96,Language=\"SP\",F96)","v":"Excellent"},null,{"$f":"Onglet_SRR_Table!E20","v":"Excellent"},{"$f":"Onglet_SRR_Table!D20","v":"Excellent"}]
[null,{"$f":"_xlfn.IFS(Language=\"EN\",E97,Language=\"FR\",D97,Language=\"SP\",F97)","v":"Not applicable"},null,"Non applicable","Not applicable"]
[]
[null,{"$f":"_xlfn.IFS(Language=\"EN\",E99,Language=\"FR\",D99,Language=\"SP\",F99)","v":"Social performance levers"},null,"Leviers de performance sociétale","Social performance levers"]
[null,{"$f":"_xlfn.IFS(Language=\"EN\",E100,Language=\"FR\",D100,Language=\"SP\",F100)","v":"Score"},null,"Score","Score"]
[null,{"$f":"_xlfn.IFS(Language=\"EN\",E101,Language=\"FR\",D101,Language=\"SP\",F101)","v":"Justification of your score"},null,"Justification du score","Justification of your score"]
[null,{"$f":"_xlfn.IFS(Language=\"EN\",E102,Language=\"FR\",D102,Language=\"SP\",F102)","v":"List below existing and/or new actions to reduce social risks and improve your social performance."},null,"Listez ci-dessous des actions existantes et/ou nouvelles pour réduire les risques sociétaux et améliorer votre performance sociétale","List below existing and/or new actions to reduce social risks and improve your social performance."]
[null,{"$f":"_xlfn.IFS(Language=\"EN\",E103,Language=\"FR\",D103,Language=\"SP\",F103)","v":"Actions"},null,"Actions","Actions"]
[null,{"$f":"_xlfn.IFS(Language=\"EN\",E104,Language=\"FR\",D104,Language=\"SP\",F104)","v":"Action status"},null,"Statut de l'action","Action status"]
[null,{"$f":"_xlfn.IFS(Language=\"EN\",E105,Language=\"FR\",D105,Language=\"SP\",F105)","v":"Targeted stakeholders"},null,"Parties prenantes ciblées","Targeted stakeholders"]
[]
[null,"Onglet SRR P1"]
[]
[null,{"$f":"_xlfn.IFS(Language=\"EN\",E109,Language=\"FR\",D109,Language=\"SP\",F109)","v":"RISKS RELATED TO STAKEHOLDER RELATIONS"},null,"RISQUES LIÉS AUX RELATIONS AVEC LES PARTIES PRENANTES","RISKS RELATED TO STAKEHOLDER RELATIONS"]
[null,{"$f":"_xlfn.IFS(Language=\"EN\",E110,Language=\"FR\",D110,Language=\"SP\",F110)","v":"Assess the quality of relationships with your key stakeholders"},null,"Évaluez la qualité des relations avec vos principales parties prenantes","Assess the quality of relationships with your key stakeholders"]
[null,{"$f":"_xlfn.IFS(Language=\"EN\",E111,Language=\"FR\",D111,Language=\"SP\",F111)","v":"- Double click on each indicator to show/hide sub categories of stakeholders"},null,"- Double-cliquez sur chaque indicateur pour afficher/masquer les sous-catégories de parties prenantes.","- Double click on each indicator to show/hide sub categories of stakeholders"]
[null,{"$f":"_xlfn.IFS(Language=\"EN\",E112,Language=\"FR\",D112,Language=\"SP\",F112)","v":"- Make sure to rate and comment on each subcategory of stakeholder"},null,"- Veillez à évaluer et à commenter chaque sous-catégorie de partie prenante.","- Make sure to rate and comment on each subcategory of stakeholder"]
[null,{"$f":"_xlfn.IFS(Language=\"EN\",E113,Language=\"FR\",D113,Language=\"SP\",F113)","v":"- Average score is automatically calculated by type of stakeholder,"},null,"- La note moyenne est automatiquement calculée par type de partie prenante,","- Average score is automatically calculated by type of stakeholder,"]
[null,{"$f":"_xlfn.IFS(Language=\"EN\",E114,Language=\"FR\",D114,Language=\"SP\",F114)","v":"based on the scores of subcategories"},null,"sur la base des scores des sous-catégories","based on the scores of subcategories"]
[null,{"$f":"_xlfn.IFS(Language=\"EN\",E115,Language=\"FR\",D115,Language=\"SP\",F115)","v":"-You can make a summarized comment by type of stakeholder"},null,"-Vous pouvez faire un commentaire résumé par type de partie prenante.","-You can make a summarized comment by type of stakeholder"]
[]
[null,{"$f":"_xlfn.IFS(Language=\"EN\",E117,Language=\"FR\",D117,Language=\"SP\",F117)","v":"The following risk scale applies to each subcategory of stakeholders:"},null,"L'échelle de risque suivante s'applique à chaque sous-catégorie de parties prenantes :","The following risk scale applies to each subcategory of stakeholders:"]
[]
[null,{"$f":"_xlfn.IFS(Language=\"EN\",E119,Language=\"FR\",D119,Language=\"SP\",F119)","v":"Low risk - No history of conflict"},null,"Risque faible - Pas d'antécédents de conflit","Low risk - No history of conflict"]
[null,{"$f":"_xlfn.IFS(Language=\"EN\",E120,Language=\"FR\",D120,Language=\"SP\",F120)","v":"Moderate risk - Few minor incidents quickly solved"},null,"Risque modéré - Quelques incidents mineurs rapidement résolus","Moderate risk - Few minor incidents quickly solved"]
[null,{"$f":"_xlfn.IFS(Language=\"EN\",E121,Language=\"FR\",D121,Language=\"SP\",F121)","v":"High risk - Difficult relationship with potential conflicts"},null,"Risque élevé - Relation difficile avec des conflits potentiels","High risk - Difficult relationship with potential conflicts"]
[null,{"$f":"_xlfn.IFS(Language=\"EN\",E122,Language=\"FR\",D122,Language=\"SP\",F122)","v":"Critical risk - Clear risk of conflict"},null,"Risque critique - Risque évident de conflit","Critical risk - Clear risk of conflict"]
[null,{"$f":"_xlfn.IFS(Language=\"EN\",E123,Language=\"FR\",D123,Language=\"SP\",F123)","v":"Not applicable"},null,"Non applicable","Not applicable"]
[]
[null,"Onglet SRR P2"]
[]
[null,{"$f":"_xlfn.IFS(Language=\"EN\",E127,Language=\"FR\",D127,Language=\"SP\",F127)","v":"RISKS LINKED TO IMPACTS BEFORE MITIGATION"},null,"RISQUES LIÉS AUX IMPACTS AVANT MITIGATION","RISKS LINKED TO IMPACTS BEFORE MITIGATION"]
[null,{"$f":"_xlfn.IFS(Language=\"EN\",E128,Language=\"FR\",D128,Language=\"SP\",F128)","v":"Assess the potential risk of negative impacts on stakeholders"},null,"Évaluer le risque potentiel d'impacts négatifs sur les parties prenantes","Assess the potential risk of negative impacts on stakeholders"]
[null,{"$f":"_xlfn.IFS(Language=\"EN\",E129,Language=\"FR\",D129,Language=\"SP\",F129)","v":"in your area of influence, linked to our operations/activities."},null,"dans votre zone d'influence, liés à nos opérations/activités.","in your area of influence, linked to our operations/activities."]
[null,{"$f":"_xlfn.IFS(Language=\"EN\",E130,Language=\"FR\",D130,Language=\"SP\",F130)","v":"- Make sure to rate and comment on each specific impact"},null,"• Veillez à évaluer et à commenter chaque impact spécifique.","- Make sure to rate and comment on each specific impact"]
[null,{"$f":"_xlfn.IFS(Language=\"EN\",E131,Language=\"FR\",D131,Language=\"SP\",F131)","v":"- Average score is automatically calculated by impact,"},null,"• La note moyenne est automatiquement calculée par impact,","- Average score is automatically calculated by impact,"]
[null,{"$f":"_xlfn.IFS(Language=\"EN\",E132,Language=\"FR\",D132,Language=\"SP\",F132)","v":"based on the scores of specific impact"},null,"sur la base des notes attribuées à chaque impact spécifique","based on the scores of specific impact"]
[null,{"$f":"_xlfn.IFS(Language=\"EN\",E133,Language=\"FR\",D133,Language=\"SP\",F133)","v":"-You can make a summarized comment by impact"},null,"• Vous pouvez faire un commentaire résumé par impact","-You can make a summarized comment by impact"]
[]
[]
[null,{"$f":"_xlfn.IFS(Language=\"EN\",E136,Language=\"FR\",D136,Language=\"SP\",F136)","v":"Low risk - Nothing identified"},null,"Risque faible - Rien d'identifié","Low risk - Nothing identified"]
[null,{"$f":"_xlfn.IFS(Language=\"EN\",E137,Language=\"FR\",D137,Language=\"SP\",F137)","v":"Moderate risk - Low impact"},null,"Risque modéré - Impact faible","Moderate risk - Low impact"]
[null,{"$f":"_xlfn.IFS(Language=\"EN\",E138,Language=\"FR\",D138,Language=\"SP\",F138)","v":"High risk - Significant impact"},null,"Risque élevé - Impact important","High risk - Significant impact"]
[null,{"$f":"_xlfn.IFS(Language=\"EN\",E139,Language=\"FR\",D139,Language=\"SP\",F139)","v":"Critical risk - Critical impact"},null,"Risque critique - Impact critique","Critical risk - Critical impact"]
[null,{"$f":"_xlfn.IFS(Language=\"EN\",E140,Language=\"FR\",D140,Language=\"SP\",F140)","v":"Not applicable"},null,"Non applicable","Not applicable"]
[]
[null,"Onglet SRR P3"]
[]
[null,{"$f":"_xlfn.IFS(Language=\"EN\",E144,Language=\"FR\",D144,Language=\"SP\",F144)","v":"RISKS LINKED TO IMPACTS"},null,"RISQUES LIÉS AUX IMPACTS","RISKS LINKED TO IMPACTS"]
[null,{"$f":"_xlfn.IFS(Language=\"EN\",E145,Language=\"FR\",D145,Language=\"SP\",F145)","v":"Assess the risks and opportunities linked to your contribution"},null,"Évaluer les risques et les opportunités liés à votre contribution","Assess the risks and opportunities linked to your contribution"]
[null,{"$f":"_xlfn.IFS(Language=\"EN\",E146,Language=\"FR\",D146,Language=\"SP\",F146)","v":"to local economic and human development."},null,"au développement économique et humain local.","to local economic and human development."]
[null,{"$f":"_xlfn.IFS(Language=\"EN\",E147,Language=\"FR\",D147,Language=\"SP\",F147)","v":"Make sure to rate and comment on each impact."},null,"Veillez à évaluer et à commenter chaque impact.","Make sure to rate and comment on each impact."]
[]
[null,{"$f":"_xlfn.IFS(Language=\"EN\",E149,Language=\"FR\",D149,Language=\"SP\",F149)","v":"Major positive impacts"},null,"Impacts positifs majeurs","Major positive impacts"]
[null,{"$f":"_xlfn.IFS(Language=\"EN\",E150,Language=\"FR\",D150,Language=\"SP\",F150)","v":"Significant positive impacts"},null,"Impacts positifs significatifs","Significant positive impacts"]
[null,{"$f":"_xlfn.IFS(Language=\"EN\",E151,Language=\"FR\",D151,Language=\"SP\",F151)","v":"Moderate positive impacts"},null,"Impacts positifs modérés","Moderate positive impacts"]
[null,{"$f":"_xlfn.IFS(Language=\"EN\",E152,Language=\"FR\",D152,Language=\"SP\",F152)","v":"Very limited positive impacts"},null,"Impacts positifs très limités","Very limited positive impacts"]
[null,{"$f":"_xlfn.IFS(Language=\"EN\",E153,Language=\"FR\",D153,Language=\"SP\",F153)","v":"Not applicable"},null,"Non applicable","Not applicable"]
[]
[]
[]
[]
[null,"Onglet Data Visualization Consult"]
[]
[null,{"$f":"_xlfn.IFS(Language=\"EN\",E160,Language=\"FR\",D160,Language=\"SP\",F160)","v":"You can visualize the results of the consultation in the graphs below"},null,"Vous pouvez visualiser les résultats de la consultation dans les graphiques présentés ci-dessous.","You can visualize the results of the consultation in the graphs below"]
[null,{"$f":"_xlfn.IFS(Language=\"EN\",E161,Language=\"FR\",D161,Language=\"SP\",F161)","v":"- The results are organized around the 3 pillars of Social Performance"},null,"- Les résultats sont organisés autour des 3 piliers de la performance sociétale.","- The results are organized around the 3 pillars of Social Performance"]
[null,{"$f":"_xlfn.IFS(Language=\"EN\",E162,Language=\"FR\",D162,Language=\"SP\",F162)","v":"- The graphs on the left represent the results for the panel as a whole"},null,"- Les graphiques de gauche représentent les résultats pour l'ensemble du panel.","- The graphs on the left represent the results for the panel as a whole"]
[null,{"$f":"_xlfn.IFS(Language=\"EN\",E163,Language=\"FR\",D163,Language=\"SP\",F163)","v":"- The graphs on the right represent the results by stakeholder category"},null,"- Les graphiques de droite représentent les résultats par catégorie de parties prenantes.","- The graphs on the right represent the results by stakeholder category"]
[]
[null,{"$f":"_xlfn.IFS(Language=\"EN\",E165,Language=\"FR\",D165,Language=\"SP\",F165)","v":"Issues of important or major concern (average score >=2.5) are circled in red."},null,"Les enjeux qui représentent des points de préoccupation importants (Score moyen >=2,5) sont entourés en rouge","Issues of important or major concern (average score >=2.5) are circled in red."]
[]
[null,{"$f":"_xlfn.IFS(Language=\"EN\",E167,Language=\"FR\",D167,Language=\"SP\",F167)","v":"Issues for which less than 50% of stakeholders responded are hatched"},null,"Les enjeux pour lesquels moins de 50% de parties prenantes ont répondu sont hachurés","Issues for which less than 50% of stakeholders responded are hatched"]
[null,{"$f":"_xlfn.IFS(Language=\"EN\",E168,Language=\"FR\",D168,Language=\"SP\",F168)","v":"and the percentage indicates the response rate"},null,"et le pourcentage indique le taux de réponse","and the percentage indicates the response rate"]
[]
[]
[null,"Onglet Progress Report - SRR P1"]
[]
[null,{"$f":"_xlfn.IFS(Language=\"EN\",E173,Language=\"FR\",D173,Language=\"SP\",F173)","v":"Progress report of Social Risks & performance Review"},null,"Rapport d'avancement sur la Revue des Risques Sociétaux","Progress report of Social Risks & performance Review"]
[null,{"$f":"_xlfn.IFS(Language=\"EN\",E174,Language=\"FR\",D174,Language=\"SP\",F174)","v":"Social performance governance"},null,"Gouvernance de la performance sociale","Social performance governance"]
[null,{"$f":"_xlfn.IFS(Language=\"EN\",E175,Language=\"FR\",D175,Language=\"SP\",F175)","v":"Overall progress "},null,"Avancement global","Overall progress "]
[null,{"$f":"_xlfn.IFS(Language=\"EN\",E176,Language=\"FR\",D176,Language=\"SP\",F176)","v":"(based on number of questions)"},null,"(basé sur le nombre de questions)","(based on number of questions)"]
[]
[null,{"$f":"_xlfn.IFS(Language=\"EN\",E178,Language=\"FR\",D178,Language=\"SP\",F178)","v":"The % shows the progress of the Social Risks & performance Review"},null,"Le pourcentage montre l'état d'avancement sur la Revue des Risques Sociétaux","The % shows the progress of the Social Risks & performance Review"]
[]
[null,{"$f":"_xlfn.IFS(Language=\"EN\",E180,Language=\"FR\",D180,Language=\"SP\",F180)","v":"Each section is divided into 3 parts: "},null,"Chaque section est divisée en trois parties :","Each section is divided into 3 parts: "]
[null,{"$f":"_xlfn.IFS(Language=\"EN\",E181,Language=\"FR\",D181,Language=\"SP\",F181)","v":"Part 1 - Review of risks linked to societal context"},null,"Partie 1 - Revue des risques liés au contexte sociétal","Part 1 - Review of risks linked to societal context"]
[null,{"$f":"_xlfn.IFS(Language=\"EN\",E182,Language=\"FR\",D182,Language=\"SP\",F182)","v":"Part 2 - Review of risks linked to impacts of our activities"},null,"Partie 2 - Revue des risques liés aux impacts de nos activités","Part 2 - Review of risks linked to impacts of our activities"]
[null,{"$f":"_xlfn.IFS(Language=\"EN\",E183,Language=\"FR\",D183,Language=\"SP\",F183)","v":"Part 3 - Review of social performance"},null,"Partie 3 - Revue de la performance sociétales","Part 3 - Review of social performance"]
[]
[null,{"$f":"_xlfn.IFS(Language=\"EN\",E185,Language=\"FR\",D185,Language=\"SP\",F185)","v":"Overall Progress status"},null,"État d'avancement global","Overall Progress status"]
[]
[null,{"$f":"_xlfn.IFS(Language=\"EN\",E187,Language=\"FR\",D187,Language=\"SP\",F187)","v":"SOCIETAL INVESTMENT PRIORITIES"},null,"PRIORITES D'INVESTISSEMENT SOCIETAL","SOCIETAL INVESTMENT PRIORITIES"]
[null,{"$f":"_xlfn.IFS(Language=\"EN\",E188,Language=\"FR\",D188,Language=\"SP\",F188)","v":"Review your entity's societal investment priorities"},null,"Revoir les priorités d'investissement sociétal pour votre entité","Review your entity's societal investment priorities"]
[null,{"$f":"_xlfn.IFS(Language=\"EN\",E189,Language=\"FR\",D189,Language=\"SP\",F189)","v":"Draw on your knowledge of local needs,"},null,"Appuyez-vous sur votre connaissance des besoins locaux,","Draw on your knowledge of local needs,"]
[null,{"$f":"_xlfn.IFS(Language=\"EN\",E190,Language=\"FR\",D190,Language=\"SP\",F190)","v":"the Company's social investment priorities,"},null,"les priorités d'investissement sociétal de la Compagnie,","the Company's social investment priorities,"]
[null,{"$f":"_xlfn.IFS(Language=\"EN\",E191,Language=\"FR\",D191,Language=\"SP\",F191)","v":"and your entity's strengths"},null,"et les atouts de votre entité","and your entity's strengths"]
[]
[null,{"$f":"_xlfn.IFS(Language=\"EN\",E193,Language=\"FR\",D193,Language=\"SP\",F193)","v":"Apply the following prioritization scale:"},null,"Appliquez l'échelle de priorisation suivante :","Apply the following prioritization scale:"]
[]
[null,{"$f":"_xlfn.IFS(Language=\"EN\",E195,Language=\"FR\",D195,Language=\"SP\",F195)","v":"Societal investment areas"},null,"Domaines d'investissement sociétal","Societal investment areas"]
[]
[null,"Onglet Save & restore data"]
[]
[null,{"$f":"_xlfn.IFS(Language=\"EN\",E199,Language=\"FR\",D199,Language=\"SP\",F199)","v":"Exporting and importing data"},null,"Exporter et importer les données","Exporting and importing data"]
[null,{"$f":"_xlfn.IFS(Language=\"EN\",E200,Language=\"FR\",D200,Language=\"SP\",F200)","v":"Click on the links below to export or import useful data"},null,"Cliquez sur les liens ci-dessous pour exporter ou importer les données utiles","Click on the links below to export or import useful data"]
[null,{"$f":"_xlfn.IFS(Language=\"EN\",E201,Language=\"FR\",D201,Language=\"SP\",F201)","v":"Export"},null,"Exporter","Export"]
[null,{"$f":"_xlfn.IFS(Language=\"EN\",E202,Language=\"FR\",D202,Language=\"SP\",F202)","v":"Import"},null,"Importer","Import"]
[null,{"$f":"_xlfn.IFS(Language=\"EN\",E203,Language=\"FR\",D203,Language=\"SP\",F203)","v":"If you're importing data, we recommend using a blank file."},null,"Si vous importez des données, il est recommandé d'utiliser un fichier vierge.","If you're importing data, we recommend using a blank file."]
[null,{"$f":"_xlfn.IFS(Language=\"EN\",E204,Language=\"FR\",D204,Language=\"SP\",F204)","v":"Make sure you select the correct language on the home page, otherwise you'll get errors."},null,"Assurez-vous de sélectionner la bonne langue en page d'accueil, sans quoi vous rencontrerez des erreurs","Make sure you select the correct language on the home page, otherwise you'll get errors."]
[null,{"$f":"_xlfn.IFS(Language=\"EN\",E205,Language=\"FR\",D205,Language=\"SP\",F205)","v":"Imported data must be compatible with the data formats required for SRM+."},null,"Les données importées doivent être compatibles avec les formats de données requis pour SRM+","Imported data must be compatible with the data formats required for SRM+."]
[]
[null,{"$f":"_xlfn.IFS(Language=\"EN\",E207,Language=\"FR\",D207,Language=\"SP\",F207)","v":"Click on the link to export and import data"},null,"Cliquer sur le lien pour exporter et importer des données","Click on the link to export and import data"]
[]
[null,{"$f":"_xlfn.IFS(Language=\"EN\",E209,Language=\"FR\",D209,Language=\"SP\",F209)","v":"Useful data"},null,"Données utiles","Useful data"]
[]
[]
[null,{"$f":"_xlfn.IFS(Language=\"EN\",E212,Language=\"FR\",D212,Language=\"SP\",F212)","v":"Social Risks Review ▼"},null,"Revue des Risques Sociétaux ▼","Social Risks Review ▼"]
[null,{"$f":"_xlfn.IFS(Language=\"EN\",E213,Language=\"FR\",D213,Language=\"SP\",F213)","v":"Stakeholder Mapping ▼"},null,"Cartographie des parties prenantes ▼","Stakeholder Mapping ▼"]
[null,{"$f":"_xlfn.IFS(Language=\"EN\",E214,Language=\"FR\",D214,Language=\"SP\",F214)","v":"Stakeholder Consultation ▼"},null,"Consultation des parties prenantes ▼","Stakeholder Consultation ▼"]
[null,{"$f":"_xlfn.IFS(Language=\"EN\",E215,Language=\"FR\",D215,Language=\"SP\",F215)","v":"Gap analysis and action plan ▼"},null,"Analyse des écarts et plan d'actions ▼","Gap analysis and action plan ▼"]
[null,{"$f":"_xlfn.IFS(Language=\"EN\",E216,Language=\"FR\",D216,Language=\"SP\",F216)","v":"Reports ▼"},null,"Rapports ▼","Reports ▼"]
[]
[null,{"$f":"_xlfn.IFS(Language=\"EN\",E218,Language=\"FR\",D218,Language=\"SP\",F218)","v":"Build your stakeholder consultation panel"},null,"Constituer votre panel de consultation de parties prenantes","Build your stakeholder consultation panel"]
[null,{"$f":"_xlfn.IFS(Language=\"EN\",E219,Language=\"FR\",D219,Language=\"SP\",F219)","v":"Click on the buttons to select stakeholders to include in your panel"},null,"Cliquez sur les boutons pour sélectionner les parties prenantes à inclure dans votre panel","Click on the buttons to select stakeholders to include in your panel"]
[null,{"$f":"_xlfn.IFS(Language=\"EN\",E220,Language=\"FR\",D220,Language=\"SP\",F220)","v":"Adjust your panel to meet the 4 balance criteria"},null,"Ajustez votre panel pour qu'il réponde aux 4 critères d'équilibre","Adjust your panel to meet the 4 balance criteria"]
[null,{"$f":"_xlfn.IFS(Language=\"EN\",E221,Language=\"FR\",D221,Language=\"SP\",F221)","v":"STAKEHOLDERS"},null,"PARTIES PRENANTES","STAKEHOLDERS"]
[null,{"$f":"_xlfn.IFS(Language=\"EN\",E222,Language=\"FR\",D222,Language=\"SP\",F222)","v":"PANEL BALANCE CRITERIA"},null,"CRITÈRES D'ÉQUILIBRE DU PANEL","PANEL BALANCE CRITERIA"]
[null,{"$f":"_xlfn.IFS(Language=\"EN\",E223,Language=\"FR\",D223,Language=\"SP\",F223)","v":"Strategic"},null,"Stratégique","Strategic"]
[null,{"$f":"_xlfn.IFS(Language=\"EN\",E224,Language=\"FR\",D224,Language=\"SP\",F224)","v":"Balanced between categories"},null,"Équilibré entre les catégories","Balanced between categories"]
[null,{"$f":"_xlfn.IFS(Language=\"EN\",E225,Language=\"FR\",D225,Language=\"SP\",F225)","v":"most important category"},null,"catégorie la plus importante","most important category"]
[null,{"$f":"_xlfn.IFS(Language=\"EN\",E226,Language=\"FR\",D226,Language=\"SP\",F226)","v":"Balanced between local and national stakeholders"},null,"Équilibré entre parties prenantes locales et nationales","Balanced between local and national stakeholders"]
[null,{"$f":"_xlfn.IFS(Language=\"EN\",E227,Language=\"FR\",D227,Language=\"SP\",F227)","v":"share of local stakeholders"},null,"% de parties prenantes locales","share of local stakeholders"]
[null,{"$f":"_xlfn.IFS(Language=\"EN\",E228,Language=\"FR\",D228,Language=\"SP\",F228)","v":"Community component"},null,"Composante Communautés","Community component"]
[null,{"$f":"_xlfn.IFS(Language=\"EN\",E229,Language=\"FR\",D229,Language=\"SP\",F229)","v":"number of individuals"},null,"nombre d'individus","number of individuals"]
[null,{"$f":"_xlfn.IFS(Language=\"EN\",E230,Language=\"FR\",D230,Language=\"SP\",F230)","v":"current result"},null,"équilibre actuel","current result"]
[null,{"$f":"_xlfn.IFS(Language=\"EN\",E231,Language=\"FR\",D231,Language=\"SP\",F231)","v":"at least 30% in tier 1 of the matrix"},null,"au moins 30 % dans la zone 1 de la matrice","at least 30% in tier 1 of the matrix"]
[null,{"$f":"_xlfn.IFS(Language=\"EN\",E232,Language=\"FR\",D232,Language=\"SP\",F232)","v":"no category exceeding 35%"},null,"aucune catégorie n'excède 35 %","no category exceeding 35%"]
[null,{"$f":"_xlfn.IFS(Language=\"EN\",E233,Language=\"FR\",D233,Language=\"SP\",F233)","v":"at least 25% from panel"},null,"au moins 25 % dans le panel","at least 25% from panel"]
[null,{"$f":"_xlfn.IFS(Language=\"EN\",E234,Language=\"FR\",D234,Language=\"SP\",F234)","v":"or number of individuals >= 10"},null,"ou nombre d'individus >= 10","or number of individuals >= 10"]
[null,{"$f":"_xlfn.IFS(Language=\"EN\",E235,Language=\"FR\",D235,Language=\"SP\",F235)","v":"at least 50% of local and regional"},null,"au moins 50 % de parties prenantes","at least 50% of local and regional"]
[null,{"$f":"_xlfn.IFS(Language=\"EN\",E236,Language=\"FR\",D236,Language=\"SP\",F236)","v":"stakeholders in panel"},null,"locales et régionales dans le panel","stakeholders in panel"]
[null,{"$f":"_xlfn.IFS(Language=\"EN\",E237,Language=\"FR\",D237,Language=\"SP\",F237)","v":" individuals engaged"},null," personnes engagées"," individuals engaged"]
[null,{"$f":"_xlfn.IFS(Language=\"EN\",E238,Language=\"FR\",D238,Language=\"SP\",F238)","v":"Criteria"},null,"Critère","Criteria"]
[null,{"$f":"_xlfn.IFS(Language=\"EN\",E239,Language=\"FR\",D239,Language=\"SP\",F239)","v":"Select Authorities"},null,"Sélectionner Autorités","Select Authorities"]
[null,{"$f":"_xlfn.IFS(Language=\"EN\",E240,Language=\"FR\",D240,Language=\"SP\",F240)","v":"Select Business"},null,"Sélectionner Business","Select Business"]
[null,{"$f":"_xlfn.IFS(Language=\"EN\",E241,Language=\"FR\",D241,Language=\"SP\",F241)","v":"Select Civil society"},null,"Sélectionner Société Civile","Select Civil society"]
[null,{"$f":"_xlfn.IFS(Language=\"EN\",E242,Language=\"FR\",D242,Language=\"SP\",F242)","v":"Select Community"},null,"Sélectionner Communautés","Select Community"]
[]
[null,{"$f":"_xlfn.IFS(Language=\"EN\",E244,Language=\"FR\",D244,Language=\"SP\",F244)","v":"Before downloading interview form, make sure that you have completed your panel selection:"},null,"Avant de télécharger le formulaire d'entretien, assurez-vous d'avoir terminé la sélection de votre panel :","Before downloading interview form, make sure that you have completed your panel selection:"]
[null,{"$f":"_xlfn.IFS(Language=\"EN\",E245,Language=\"FR\",D245,Language=\"SP\",F245)","v":"Stakeholder names are automatically reported in interview forms based on stakeholders selected in panel, so this is the unique way to ensure that interviews will be properly consolidated"},null,"Les noms des parties prenantes sont automatiquement reportés dans les formulaires d'entretien en fonction des parties prenantes sélectionnées dans le panel. Il s'agit donc de l'unique moyen de garantir que les entretiens seront correctement consolidés.","Stakeholder names are automatically reported in interview forms based on stakeholders selected in panel, so this is the unique way to ensure that interviews will be properly consolidated"]
[]
[null,{"$f":"_xlfn.IFS(Language=\"EN\",E247,Language=\"FR\",D247,Language=\"SP\",F247)","v":"Before uploading interviews, make sure that:"},null,"Avant de télécharger les entretiens, assurez-vous que :","Before uploading interviews, make sure that:"]
[null,{"$f":"_xlfn.IFS(Language=\"EN\",E248,Language=\"FR\",D248,Language=\"SP\",F248)","v":"- you have gathered the interviews you want to upload in one folder on your computer"},null,"- vous avez rassemblé les entretiens que vous souhaitez télécharger dans un dossier sur votre ordinateur","- you have gathered the interviews you want to upload in one folder on your computer"]
[null,{"$f":"_xlfn.IFS(Language=\"EN\",E249,Language=\"FR\",D249,Language=\"SP\",F249)","v":"- you have selected a stakeholder name in the interview file before uploading it. If you try to upload an interview file without stakeholder name, it will not work"},null,"- vous avez sélectionné un nom de partie prenante dans le fichier d'entretien avant de le télécharger. Si vous essayez de télécharger un fichier d'entretien sans nom de partie prenante, cela ne fonctionnera pas","- you have selected a stakeholder name in the interview file before uploading it. If you try to upload an interview file without stakeholder name, it will not work"]
[null,{"$f":"_xlfn.IFS(Language=\"EN\",E250,Language=\"FR\",D250,Language=\"SP\",F250)","v":"- if the stakeholder name is not available in your interview file, it means that the stakeholder was not properly selected in the panel or identified in the mapping. In that case you need to check you panel and / or mapping and add the stakeholder"},null,"- si le nom de la partie prenante n'est pas disponible dans votre fichier d'entretien, cela signifie que la partie prenante n'a pas été correctement sélectionnée dans le panel ou identifiée dans la cartographie. Dans ce cas, vous devez vérifier votre panel et/ou votre cartographie et ajouter la partie prenante.","- if the stakeholder name is not available in your interview file, it means that the stakeholder was not properly selected in the panel or identified in the mapping. In that case you need to check you panel and / or mapping and add the stakeholder"]
[null,{"$f":"_xlfn.IFS(Language=\"EN\",E251,Language=\"FR\",D251,Language=\"SP\",F251)","v":"- if you upload an interview that has already been uploaded before, you will be asked if you want to replace it. If you say yes, you will loose any information that was linked to the previous interview"},null,"- si vous téléchargez une interview qui a déjà été téléchargée auparavant, il vous sera demandé si vous souhaitez la remplacer. Si vous répondez par l'affirmative, vous perdrez toutes les informations liées à l'entretien précédent.","- if you upload an interview that has already been uploaded before, you will be asked if you want to replace it. If you say yes, you will loose any information that was linked to the previous interview"]
[]
[null,{"$f":"_xlfn.IFS(Language=\"EN\",E253,Language=\"FR\",D253,Language=\"SP\",F253)","v":"Manage interviews"},null,"Gérer les entretiens","Manage interviews"]
[null,{"$f":"_xlfn.IFS(Language=\"EN\",E254,Language=\"FR\",D254,Language=\"SP\",F254)","v":"You will find below highlighted in green and in bold, the stakeholder reports already imported in the tool:"},null,"Vous trouverez ci-dessous, en vert et en gras, les rapports d'interviews déjà importés dans l'outil:","You will find below highlighted in green and in bold, the stakeholder reports already imported in the tool:"]
[null,{"$f":"_xlfn.IFS(Language=\"EN\",E255,Language=\"FR\",D255,Language=\"SP\",F255)","v":"Imported interviews"},null,"Interviews importées","Imported interviews"]
[]
[null,{"$f":"_xlfn.IFS(Language=\"EN\",E257,Language=\"FR\",D257,Language=\"SP\",F257)","v":"Stakeholder categories"},null,"Catégories de parties prenantes","Stakeholder categories"]
[null,{"$f":"_xlfn.IFS(Language=\"EN\",E258,Language=\"FR\",D258,Language=\"SP\",F258)","v":"Number of interviews in panel"},null,"Nombre d'entretiens dans le panel","Number of interviews in panel"]
[null,{"$f":"_xlfn.IFS(Language=\"EN\",E259,Language=\"FR\",D259,Language=\"SP\",F259)","v":"% of interviews imported in the tool"},null,"% d'interviews importées dans l'outil","% of interviews imported in the tool"]
[null,{"$f":"_xlfn.IFS(Language=\"EN\",E260,Language=\"FR\",D260,Language=\"SP\",F260)","v":"Progress report on stakeholder consultation"},null,"Etat d'avancement de la consultation","Progress report on stakeholder consultation"]
[null,{"$f":"_xlfn.IFS(Language=\"EN\",E261,Language=\"FR\",D261,Language=\"SP\",F261)","v":"The % shows the progress of the Stakeholder consultation"},null,"Le pourcentage montre l'état d'avancement de la consultation des parties prenantes","The % shows the progress of the Stakeholder consultation"]
[]
[null,{"$f":"_xlfn.IFS(Language=\"EN\",E263,Language=\"FR\",D263,Language=\"SP\",F263)","v":"Completion"},null,"Avancement","Completion"]
[null,{"$f":"_xlfn.IFS(Language=\"EN\",E264,Language=\"FR\",D264,Language=\"SP\",F264)","v":"Key indicators"},null,"Indicateurs clés","Key indicators"]
[]
[null,{"$f":"_xlfn.IFS(Language=\"EN\",E266,Language=\"FR\",D266,Language=\"SP\",F266)","v":" important risks to mitigate"},null," risques importants à atténuer"," important risks to mitigate"]
[null,{"$f":"_xlfn.IFS(Language=\"EN\",E267,Language=\"FR\",D267,Language=\"SP\",F267)","v":" stakeholders mapped"},null," parties prenantes cartographiées"," stakeholders mapped"]
[null,{"$f":"_xlfn.IFS(Language=\"EN\",E268,Language=\"FR\",D268,Language=\"SP\",F268)","v":" stakeholders in panel"},null," parties prenantes dans le panel"," stakeholders in panel"]
[null,{"$f":"_xlfn.IFS(Language=\"EN\",E269,Language=\"FR\",D269,Language=\"SP\",F269)","v":" new actions to implement"},null," nouvelles actions à mettre en œuvre"," new actions to implement"]
[]
[null,{"$f":"_xlfn.IFS(Language=\"EN\",E271,Language=\"FR\",D271,Language=\"SP\",F271)","v":"Welcome"},null,"Bienvenue","Welcome"]
[null,{"$f":"_xlfn.IFS(Language=\"EN\",E272,Language=\"FR\",D272,Language=\"SP\",F272)","v":"WELCOME TO ONE SRM+"},null,"BIENVENUE DANS ONE SRM+","WELCOME TO ONE SRM+"]
[]
[null,{"$f":"_xlfn.IFS(Language=\"EN\",E274,Language=\"FR\",D274,Language=\"SP\",F274)","v":"PROGRESS STATUS"},null,"ÉTAT D'AVANCEMENT","PROGRESS STATUS"]
[]
[]
[null,{"$f":"_xlfn.IFS(Language=\"EN\",E277,Language=\"FR\",D277,Language=\"SP\",F277)","v":"To finalize your action plan :"},null,"Pour finaliser votre plan d'actions :","To finalize your action plan :"]
[null,{"$f":"_xlfn.IFS(Language=\"EN\",E278,Language=\"FR\",D278,Language=\"SP\",F278)","v":"- assign responsibilities to each action"},null,"- assignez des responsabilités à chaque action","- assign responsibilities to each action"]
[null,{"$f":"_xlfn.IFS(Language=\"EN\",E279,Language=\"FR\",D279,Language=\"SP\",F279)","v":"- define implementation deadlines"},null,"- définissez les délais de mise en œuvre","- define implementation deadlines"]
[null,{"$f":"_xlfn.IFS(Language=\"EN\",E280,Language=\"FR\",D280,Language=\"SP\",F280)","v":"You can also qualify the impact of the action and the effort required for implementation"},null,"Vous pouvez également qualifier l'impact de l'action et l'effort requis pour la","You can also qualify the impact of the action and the effort required for implementation"]
[null,{"$f":"_xlfn.IFS(Language=\"EN\",E281,Language=\"FR\",D281,Language=\"SP\",F281)","v":"implementation, as well as the associated budget and KPI."},null,"mise en œuvre, ainsi que le budget et le KPI associés","implementation, as well as the associated budget and KPI."]
[null,{"$f":"_xlfn.IFS(Language=\"EN\",E282,Language=\"FR\",D282,Language=\"SP\",F282)","v":"You can modify action descriptions, targeted stakeholders and status"},null,"Vous pouvez modifier les intitulés, les parties prenantes ciblées et le statut des actions","You can modify action descriptions, targeted stakeholders and status"]
[null,{"$f":"_xlfn.IFS(Language=\"EN\",E283,Language=\"FR\",D283,Language=\"SP\",F283)","v":"Changes are automatically reflected throughout the tool"},null,"Les changements sont automatiquement répercutés partout dans l'outil","Changes are automatically reflected throughout the tool"]
[null,{"$f":"_xlfn.IFS(Language=\"EN\",E284,Language=\"FR\",D284,Language=\"SP\",F284)","v":"You can filter the action plan by stakeholders"},null,"Vous pouvez filtrer le plan d'action sur les parties prenantes","You can filter the action plan by stakeholders"]
[]
[null,{"$f":"_xlfn.IFS(Language=\"EN\",E286,Language=\"FR\",D286,Language=\"SP\",F286)","v":"FINAL ACTION PLAN"},null,"PLAN D'ACTION FINAL","FINAL ACTION PLAN"]
[]
[]
[null,{"$f":"_xlfn.IFS(Language=\"EN\",E289,Language=\"FR\",D289,Language=\"SP\",F289)","v":"Use the filters on the right to show the selected stakeholder category or group. The position of the stakeholders on the matrix is generated automatically. If you change the position on the matrix, it will not be saved."},null,"Utilisez les filtres à droite pour afficher la catégorie ou le groupe de parties prenantes sélectionné. La position des parties prenantes sur la matrice est générée automatiquement. Si vous changez la position sur la matrice, elle ne sera pas sauvegardée.","Use the filters on the right to show the selected stakeholder category or group. The position of the stakeholders on the matrix is generated automatically. If you change the position on the matrix, it will not be saved."]
[]
[null,{"$f":"_xlfn.IFS(Language=\"EN\",E291,Language=\"FR\",D291,Language=\"SP\",F291)","v":"Visualize stakeholder matrix"},null,"Visualiser la matrice des parties prenantes","Visualize stakeholder matrix"]
[null,{"$f":"_xlfn.IFS(Language=\"EN\",E292,Language=\"FR\",D292,Language=\"SP\",F292)","v":"Select stakeholder category"},null,"Sélectionner la catégorie de parties prenantes","Select stakeholder category"]
[null,{"$f":"_xlfn.IFS(Language=\"EN\",E293,Language=\"FR\",D293,Language=\"SP\",F293)","v":"Select stakeholder group"},null,"Sélectionner un groupe de parties prenantes","Select stakeholder group"]
[null,{"$f":"_xlfn.IFS(Language=\"EN\",E294,Language=\"FR\",D294,Language=\"SP\",F294)","v":"Select a specific zone"},null,"Sélectionner une zone spécifique","Select a specific zone"]
[null,{"$f":"_xlfn.IFS(Language=\"EN\",E295,Language=\"FR\",D295,Language=\"SP\",F295)","v":"OR"},null,"OU","OR"]
[]
[null,{"$f":"_xlfn.IFS(Language=\"EN\",E297,Language=\"FR\",D297,Language=\"SP\",F297)","v":"Tutorial #0: Welcome to One SRM+"},null,"Tuto #0 : Bienvenue dans One SRM+","Tutorial #0: Welcome to One SRM+"]
[]
[null,{"$f":"_xlfn.IFS(Language=\"EN\",E299,Language=\"FR\",D299,Language=\"SP\",F299)","v":"Tutorial #3: Setting up a panel"},null,"Tuto #3 : Constituer le panel","Tutorial #3: Setting up a panel"]
[null,{"$f":"_xlfn.IFS(Language=\"EN\",E300,Language=\"FR\",D300,Language=\"SP\",F300)","v":"Tutorial #3: Interviewing stakeholders"},null,"Tuto #3 : Interviewer les parties prenantes","Tutorial #3: Interviewing stakeholders"]
[]
[null,{"$f":"_xlfn.IFS(Language=\"EN\",E302,Language=\"FR\",D302,Language=\"SP\",F302)","v":"Sections"},null,"Sections","Sections"]
[null,{"$f":"_xlfn.IFS(Language=\"EN\",E303,Language=\"FR\",D303,Language=\"SP\",F303)","v":"Nb of actions required"},null,"Nb d'actions requises","Nb of actions required"]
[null,{"$f":"_xlfn.IFS(Language=\"EN\",E304,Language=\"FR\",D304,Language=\"SP\",F304)","v":"% Progress review"},null,"% avancement","% Progress review"]
[null,{"$f":"_xlfn.IFS(Language=\"EN\",E305,Language=\"FR\",D305,Language=\"SP\",F305)","v":"Nb of existing actions in action plan"},null,"Nb d'actions existantes dans le plan d'actions","Nb of existing actions in action plan"]
[null,{"$f":"_xlfn.IFS(Language=\"EN\",E306,Language=\"FR\",D306,Language=\"SP\",F306)","v":"Nb of new actions in action plan"},null,"Nb d'actions nouvelles dans le plan d'actions","Nb of new actions in action plan"]
[]
[null,{"$f":"_xlfn.IFS(Language=\"EN\",E308,Language=\"FR\",D308,Language=\"SP\",F308)","v":"The % shows your progress status on"},null,"Le pourcentage indique votre état d'avancement dans","The % shows your progress status on"]
[null,{"$f":"_xlfn.IFS(Language=\"EN\",E309,Language=\"FR\",D309,Language=\"SP\",F309)","v":"the gap analysis and action plan definition"},null,"l'analyse des écarts et la définition du plan d'action","the gap analysis and action plan definition"]
[null,{"$f":"_xlfn.IFS(Language=\"EN\",E310,Language=\"FR\",D310,Language=\"SP\",F310)","v":"based on the number of actions required"},null,"basé sur le nombre d'actions requises","based on the number of actions required"]
[]
[null,{"$f":"_xlfn.IFS(Language=\"EN\",E312,Language=\"FR\",D312,Language=\"SP\",F312)","v":"Tutorial #5 : Action plan"},null,"Tuto #5 : Plan d'actions","Tutorial #5 : Action plan"]
[]
[null,{"$f":"_xlfn.IFS(Language=\"EN\",E314,Language=\"FR\",D314,Language=\"SP\",F314)","v":"Show or hide stakeholders"},null,"Afficher ou masquer les parties prenantes","Show or hide stakeholders"]
[]
[null,{"$f":"_xlfn.IFS(Language=\"EN\",E316,Language=\"FR\",D316,Language=\"SP\",F316)","v":"Some fields contain invalid values. Please correct them before continuing."},null,"Certains champs contiennent des valeurs non valides. Veuillez les corriger avant de continuer.","Some fields contain invalid values. Please correct them before continuing."]
[]
[null,{"$f":"_xlfn.IFS(Language=\"EN\",E318,Language=\"FR\",D318,Language=\"SP\",F318)","v":"Show only stakeholders to be consulted"},null,"Afficher uniquement les parties prenantes à consulter","Show only stakeholders to be consulted"]

{"sheet":"Onglet_trad_msg","index":49,"n_rows":94,"n_cols":7,"rows_kept":94,"cut":false,"hidden":false,"merged":[]}
[null,null,"Syntaxe","Report dans VBA"]
[null,null,"Worksheets(\"Onglet_trad_msg\").Range(\"B6\").value","Worksheets(\"Onglet_trad_msg\").Range(\"B76\").Value"]
[null,"Messages utilisateurs"]
[]
[null,"Trad","FR","EN","SP","MODULE","Trad"]
[null,{"$f":"_xlfn.IFS(Language=\"EN\",D6,Language=\"FR\",C6,Language=\"SP\",E6)","v":"No stakeholder group found in the selected cell."},"Aucun groupe de stakeholders trouvé dans la cellule sélectionnée.","No stakeholder group found in the selected cell.",null,"Feuil30"]
[null,{"$f":"_xlfn.IFS(Language=\"EN\",D7,Language=\"FR\",C7,Language=\"SP\",E7)","v":"No stakeholder found for the selected groups."},"Aucun stakeholder trouvé pour les groupes sélectionnés.","No stakeholder found for the selected groups.",null,"Feuil30"]
[null,{"$f":"_xlfn.IFS(Language=\"EN\",D8,Language=\"FR\",C8,Language=\"SP\",E8)","v":"An error has occurred. The list of stakeholders will be reloaded."},"Une erreur est survenue. La liste des stakeholders sera rechargée.","An error has occurred. The list of stakeholders will be reloaded.",null,"Feuil30"]
[null,{"$f":"_xlfn.IFS(Language=\"EN\",D9,Language=\"FR\",C9,Language=\"SP\",E9)","v":"Do you want to delete the line?"},"Voulez-vous supprimer la ligne ?","Do you want to delete the line?",null,"Feuil30"]
[null,{"$f":"_xlfn.IFS(Language=\"EN\",D10,Language=\"FR\",C10,Language=\"SP\",E10)","v":"Confirm deletion"},"Confirmer la suppression","Confirm deletion",null,"Feuil30"]
[null,{"$f":"_xlfn.IFS(Language=\"EN\",D11,Language=\"FR\",C11,Language=\"SP\",E11)","v":"The table 'Tableau2' does not exist on this sheet."},"La table 'Tableau2' n'existe pas sur cette feuille.","The table 'Tableau2' does not exist on this sheet.",null,"Feuil30"]
[null,{"$f":"_xlfn.IFS(Language=\"EN\",D12,Language=\"FR\",C12,Language=\"SP\",E12)","v":"No stakeholder has been found in Zone 1. Please fill in your list of stakeholders."},"Aucun stakeholder n'a été trouvé dans la Zone 1. Veuillez remplir votre liste de stakeholders.","No stakeholder has been found in Zone 1. Please fill in your list of stakeholders.",null,"Feuil30"]
[null,{"$f":"_xlfn.IFS(Language=\"EN\",D13,Language=\"FR\",C13,Language=\"SP\",E13)","v":"Error"},"Erreur","Error",null,"Feuil30"]
[null,{"$f":"_xlfn.IFS(Language=\"EN\",D14,Language=\"FR\",C14,Language=\"SP\",E14)","v":"The table 'Tableau2' does not exist."},"Le tableau 'Tableau2' n'existe pas.","The table 'Tableau2' does not exist.",null,"frm_shlist"]
[null,{"$f":"_xlfn.IFS(Language=\"EN\",D15,Language=\"FR\",C15,Language=\"SP\",E15)","v":"Error"},"Erreur","Error",null,"frm_shlist"]
[null,{"$f":"_xlfn.IFS(Language=\"EN\",D16,Language=\"FR\",C16,Language=\"SP\",E16)","v":"Please select a cell in column F of 'Tableau2'."},"Veuillez sélectionner une cellule dans la colonne F de 'Tableau2'.","Please select a cell in column F of 'Tableau2'.",null,"frm_shlist"]
[null,{"$f":"_xlfn.IFS(Language=\"EN\",D17,Language=\"FR\",C17,Language=\"SP\",E17)","v":"Error"},"Erreur","Error",null,"frm_shlist"]
[null,{"$f":"_xlfn.IFS(Language=\"EN\",D18,Language=\"FR\",C18,Language=\"SP\",E18)","v":"Error: For the stakeholder '"},"Erreur : Pour le stakeholder '","Error: For the stakeholder '",null,"ModuleMapping"]
[null,{"$f":"_xlfn.IFS(Language=\"EN\",D19,Language=\"FR\",C19,Language=\"SP\",E19)","v":"columns D and E must be filled in 'Onglet_mapping_SHlist'."},"les colonnes D et E doivent être remplies dans 'Onglet_mapping_SHlist'.","columns D and E must be filled in 'Onglet_mapping_SHlist'.",null,"ModuleMapping"]
[null,{"$f":"_xlfn.IFS(Language=\"EN\",D20,Language=\"FR\",C20,Language=\"SP\",E20)","v":"Missing data"},"Données manquantes","Missing data",null,"ModuleMapping"]
[null,{"$f":"_xlfn.IFS(Language=\"EN\",D21,Language=\"FR\",C21,Language=\"SP\",E21)","v":"No graph found on sheet 'Onglet_mapping_matrix_single'."},"Aucun graphique trouvé sur la feuille 'Onglet_mapping_matrix_single'.","No graph found on sheet 'Onglet_mapping_matrix_single'.",null,"ModuleMapping"]
[null,{"$f":"_xlfn.IFS(Language=\"EN\",D22,Language=\"FR\",C22,Language=\"SP\",E22)","v":"The graph does not contain any data."},"Le graphique ne contient aucune donnée.","The graph does not contain any data.",null,"ModuleMapping"]
[null,{"$f":"_xlfn.IFS(Language=\"EN\",D23,Language=\"FR\",C23,Language=\"SP\",E23)","v":"The file is opened via Teams or OneDrive. The image will be saved locally in: "},"Le fichier est ouvert via Teams ou OneDrive. L'image sera enregistrée localement dans : ","The file is opened via Teams or OneDrive. The image will be saved locally in: ",null,"ModuleMapping"]
[null,{"$f":"_xlfn.IFS(Language=\"EN\",D24,Language=\"FR\",C24,Language=\"SP\",E24)","v":"The graphic has been successfully exported to: "},"Le graphique a été exporté avec succès vers : ","The graphic has been successfully exported to: ",null,"ModuleMapping"]
[null,{"$f":"_xlfn.IFS(Language=\"EN\",D25,Language=\"FR\",C25,Language=\"SP\",E25)","v":"An error has occurred: "},"Une erreur est survenue : ","An error has occurred: ",null,"ModuleMapping"]
[null,{"$f":"_xlfn.IFS(Language=\"EN\",D26,Language=\"FR\",C26,Language=\"SP\",E26)","v":"The SHIDs have been successfully generated and completed."},"Les SHID ont été générés et complétés avec succès.","The SHIDs have been successfully generated and completed.",null,"ModuleMapping"]
[null,{"$f":"_xlfn.IFS(Language=\"EN\",D27,Language=\"FR\",C27,Language=\"SP\",E27)","v":"The QuestionIDs have been successfully copied and the sh_groups updated."},"Les QuestionID ont été copiés et les sh_groups mis à jour avec succès.","The QuestionIDs have been successfully copied and the sh_groups updated.",null,"ModuleMapping"]
[null,{"$f":"_xlfn.IFS(Language=\"EN\",D28,Language=\"FR\",C28,Language=\"SP\",E28)","v":"Database update completed."},"Mise à jour de la base de données terminée.","Database update completed.",null,"ModuleMapping"]
[null,{"$f":"_xlfn.IFS(Language=\"EN\",D29,Language=\"FR\",C29,Language=\"SP\",E29)","v":"Values copied successfully to header row."},"Valeurs copiées avec succès dans la ligne d'en-tête.","Values copied successfully to header row.",null,"ModuleMapping"]
[null,{"$f":"_xlfn.IFS(Language=\"EN\",D30,Language=\"FR\",C30,Language=\"SP\",E30)","v":"Values copied successfully to header row."},"Valeurs copiées avec succès dans la ligne d'en-tête.","Values copied successfully to header row.",null,"ModuleMapping"]
[null,{"$f":"_xlfn.IFS(Language=\"EN\",D31,Language=\"FR\",C31,Language=\"SP\",E31)","v":"Column D in the table contains empty cells. Please fill them in before applying validation."},"La colonne D du tableau contient des cellules vides. Veuillez les remplir avant d'appliquer la validation.","Column D in the table contains empty cells. Please fill them in before applying validation.",null,"ModuleMapping"]
[null,{"$f":"_xlfn.IFS(Language=\"EN\",D32,Language=\"FR\",C32,Language=\"SP\",E32)","v":"Data validation successfully applied!"},"Validation de données appliquée avec succès!","Data validation successfully applied!",null,"ModuleMapping"]
[null,{"$f":"_xlfn.IFS(Language=\"EN\",D33,Language=\"FR\",C33,Language=\"SP\",E33)","v":"Table 'Tableau1' does not exist in the active sheet."},"Le tableau 'Tableau1' n'existe pas dans la feuille active.","Table 'Tableau1' does not exist in the active sheet.",null,"ModuleMapping"]
[null,{"$f":"_xlfn.IFS(Language=\"EN\",D34,Language=\"FR\",C34,Language=\"SP\",E34)","v":"Import successfully completed!"},"Importation terminée avec succès!","Import successfully completed!",null,"ModuleSRRconsodatabase"]
[null,{"$f":"_xlfn.IFS(Language=\"EN\",D35,Language=\"FR\",C35,Language=\"SP\",E35)","v":"Consolidation completed!"},"Consolidation terminée!","Consolidation completed!",null,"ModuleSRRconsodatabase"]
[null,{"$f":"_xlfn.IFS(Language=\"EN\",D36,Language=\"FR\",C36,Language=\"SP\",E36)","v":"Scores and comments update completed!"},"Mise à jour des scores et commentaires terminée!","Scores and comments update completed!",null,"ModuleSRRconsodatabase"]
[null,{"$f":"_xlfn.IFS(Language=\"EN\",D37,Language=\"FR\",C37,Language=\"SP\",E37)","v":"File could not be opened. Check its location and try again."},"Le fichier n'a pas pu être ouvert. Vérifiez son emplacement et réessayez.","File could not be opened. Check its location and try again.",null,"ModuleSRRconsodatabase"]
[null,{"$f":"_xlfn.IFS(Language=\"EN\",D38,Language=\"FR\",C38,Language=\"SP\",E38)","v":"The first step is to set up your panel"},"Il faut d'abord constituer votre panel","The first step is to set up your panel",null,"Module_consult"]
[null,{"$f":"_xlfn.IFS(Language=\"EN\",D39,Language=\"FR\",C39,Language=\"SP\",E39)","v":"No validated interviews."},"Aucune interview validée.","No validated interviews.",null,"Module_consult"]
[null,{"$f":"_xlfn.IFS(Language=\"EN\",D40,Language=\"FR\",C40,Language=\"SP\",E40)","v":"Point to the directory containing the interview files to be imported. Select an interview at random from those displayed and click on \"OK\""},"Pointez le répertoire où se trouvent les fichiers des interviews à importer. Sélectionnez une interview au hasard parmi celles qui s'affichent et cliquer sur \"OK\"","Point to the directory containing the interview files to be imported. Select an interview at random from those displayed and click on \"OK\"",null,"Module_consult","done"]
[null,{"$f":"_xlfn.IFS(Language=\"EN\",D41,Language=\"FR\",C41,Language=\"SP\",E41)","v":"Directory selection"},"Sélection du répertoire","Directory selection",null,"Module_consult","done"]
[null,{"$f":"_xlfn.IFS(Language=\"EN\",D42,Language=\"FR\",C42,Language=\"SP\",E42)","v":"Select an interview at random from those displayed and click on \"OK\""},"Sélectionnez une interview au hasard parmi celles qui s'affichent et cliquer sur \"OK\"","Select an interview at random from those displayed and click on \"OK\"",null,"Module_consult","done"]
[null,{"$f":"_xlfn.IFS(Language=\"EN\",D43,Language=\"FR\",C43,Language=\"SP\",E43)","v":"Directory not selected"},"Répertoire non sélectionné","Directory not selected",null,"Module_consult","done"]
[null,{"$f":"_xlfn.IFS(Language=\"EN\",D44,Language=\"FR\",C44,Language=\"SP\",E44)","v":"I will list the files to be imported"},"Je vais lister les fichiers à importer","I will list the files to be imported",null,"Module_consult","done"]
[null,{"$f":"_xlfn.IFS(Language=\"EN\",D45,Language=\"FR\",C45,Language=\"SP\",E45)","v":"Files to import"},"Fichiers à importer","Files to import",null,"Module_consult","done"]
[null,{"$f":"_xlfn.IFS(Language=\"EN\",D46,Language=\"FR\",C46,Language=\"SP\",E46)","v":"No interviews selected for import"},"Aucune interview sélectionnée pour import","No interviews selected for import",null,"Module_consult","done"]
[null,{"$f":"_xlfn.IFS(Language=\"EN\",D47,Language=\"FR\",C47,Language=\"SP\",E47)","v":"Import of validated interviews is complete"},"L'import des interviews validées est terminé","Import of validated interviews is complete",null,"Module_consult","done"]
[null,{"$f":"_xlfn.IFS(Language=\"EN\",D48,Language=\"FR\",C48,Language=\"SP\",E48)","v":"You must first set up your panel before downloading the interview form"},"Vous devez d'abord créer votre panel avant de télécharger le formulaire d'entretien.","You must first set up your panel before downloading the interview form",null,"Module_consult","done"]
[null,{"$f":"_xlfn.IFS(Language=\"EN\",D49,Language=\"FR\",C49,Language=\"SP\",E49)","v":"No folder selected. Process cancelled"},"Aucun dossier n'est sélectionné. Processus annulé","No folder selected. Process cancelled",null,"Module_consult","done"]
[null,{"$f":"_xlfn.IFS(Language=\"EN\",D50,Language=\"FR\",C50,Language=\"SP\",E50)","v":"The file '"},"Le fichier '","The file '",null,"Module_consult","done"]
[null,{"$f":"_xlfn.IFS(Language=\"EN\",D51,Language=\"FR\",C51,Language=\"SP\",E51)","v":"' already exists. Would you like to replace it?"},"' existe déjà. Voulez-vous le remplacer ?","' already exists. Would you like to replace it?",null,"Module_consult","done"]
[null,{"$f":"_xlfn.IFS(Language=\"EN\",D52,Language=\"FR\",C52,Language=\"SP\",E52)","v":"Existing file"},"Fichier existant","Existing file",null,"Module_consult","done"]
[null,{"$f":"_xlfn.IFS(Language=\"EN\",D53,Language=\"FR\",C53,Language=\"SP\",E53)","v":"The process has been cancelled by the user"},"Le processus a été annulé par l'utilisateur","The process has been cancelled by the user",null,"Module_consult","done"]
[null,{"$f":"_xlfn.IFS(Language=\"EN\",D54,Language=\"FR\",C54,Language=\"SP\",E54)","v":"The file has been created and saved"},"Le fichier a été créé et enregistré","The file has been created and saved",null,"Module_consult","done"]
[null,{"$f":"_xlfn.IFS(Language=\"EN\",D55,Language=\"FR\",C55,Language=\"SP\",E55)","v":"Select a folder in which to save the interview file"},"Sélectionnez un dossier pour enregistrer le fichier d'interview","Select a folder in which to save the interview file",null,"Module_consult","done"]
[null,{"$f":"_xlfn.IFS(Language=\"EN\",D56,Language=\"FR\",C56,Language=\"SP\",E56)","v":"Your list of stakeholders is not empty"},"Votre liste des parties prenantes n'est pas vide","Your list of stakeholders is not empty",null,"ModuleImportSH","done"]
[null,{"$f":"_xlfn.IFS(Language=\"EN\",D57,Language=\"FR\",C57,Language=\"SP\",E57)","v":"Import cancelled or failed. No further action will be taken."},"Importation annulée ou échouée. Aucune action supplémentaire ne sera effectuée.","Import cancelled or failed. No further action will be taken.",null,"ModuleImportSH","done"]
[null,{"$f":"_xlfn.IFS(Language=\"EN\",D58,Language=\"FR\",C58,Language=\"SP\",E58)","v":"No files selected. Operation cancelled."},"Aucun fichier sélectionné. Opération annulée.","No files selected. Operation cancelled.",null,"ModuleImportSH","done"]
[null,{"$f":"_xlfn.IFS(Language=\"EN\",D59,Language=\"FR\",C59,Language=\"SP\",E59)","v":"Unable to open selected file"},"Impossible d'ouvrir le fichier sélectionné","Unable to open selected file",null,"ModuleImportSH","done"]
[null,{"$f":"_xlfn.IFS(Language=\"EN\",D60,Language=\"FR\",C60,Language=\"SP\",E60)","v":"Operation completed"},"Opération terminée","Operation completed",null,"ModuleImportSH","done"]
[null,{"$f":"_xlfn.IFS(Language=\"EN\",D61,Language=\"FR\",C61,Language=\"SP\",E61)","v":"Your stakeholder list has been successfully imported"},"Votre liste de parties prenantes a été importée avec succès","Your stakeholder list has been successfully imported",null,"ModuleImportSH","done"]
[null,{"$f":"_xlfn.IFS(Language=\"EN\",D62,Language=\"FR\",C62,Language=\"SP\",E62)","v":"Please select at least one filter or zone"},"Veuillez sélectionner au moins un filtre ou une zone","Please select at least one filter or zone",null,"ModuleMappingMatrix","done"]
[null,{"$f":"_xlfn.IFS(Language=\"EN\",D63,Language=\"FR\",C63,Language=\"SP\",E63)","v":"No filter"},"Aucun filtre","No filter",null,"ModuleMappingMatrix","done"]
[null,{"$f":"_xlfn.IFS(Language=\"EN\",D64,Language=\"FR\",C64,Language=\"SP\",E64)","v":"No stakeholders match the selected filters"},"Aucune partie prenante ne correspond aux filtres sélectionnés","No stakeholders match the selected filters",null,"ModuleMappingMatrix","done"]
[null,{"$f":"_xlfn.IFS(Language=\"EN\",D65,Language=\"FR\",C65,Language=\"SP\",E65)","v":"No results"},"Aucun résultat","No results",null,"ModuleMappingMatrix","done"]
[null,{"$f":"_xlfn.IFS(Language=\"EN\",D66,Language=\"FR\",C66,Language=\"SP\",E66)","v":"The menu configuration has not been loaded. Please click on the ONE SRM+ logo to reload the menu configuration."},"La configuration du menu n'a pas été chargée. Veuillez cliquer sur le logo ONE SRM+ pour recharger la configuration du menu","The menu configuration has not been loaded. Please click on the ONE SRM+ logo to reload the menu configuration.",null,"ModuleMenuConfig","done"]
[null,{"$f":"_xlfn.IFS(Language=\"EN\",D67,Language=\"FR\",C67,Language=\"SP\",E67)","v":"Operation cancelled"},"Opération annulée","Operation cancelled",null,"frm_importSH","done"]
[null,{"$f":"_xlfn.IFS(Language=\"EN\",D68,Language=\"FR\",C68,Language=\"SP\",E68)","v":"Import cancelled by user"},"Importation annulée par l'utilisateur","Import cancelled by user",null,"frm_importSH","done"]
[null,{"$f":"_xlfn.IFS(Language=\"EN\",D69,Language=\"FR\",C69,Language=\"SP\",E69)","v":"The data has been successfully saved in the"},"Les données ont été sauvegardées avec succès dans la feuille","The data has been successfully saved in the",null,"frm_stakeholderlist","done"]
[null,{"$f":"_xlfn.IFS(Language=\"EN\",D70,Language=\"FR\",C70,Language=\"SP\",E70)","v":"No stakeholders were found in Zone 1. Please complete your stakeholder list."},"Aucun stakeholder n'a été trouvé dans la Zone 1. Veuillez remplir votre liste de stakeholders.","No stakeholders were found in Zone 1. Please complete your stakeholder list.",null,"Onglet_Mapping_SEP","done"]
[null,{"$f":"_xlfn.IFS(Language=\"EN\",D71,Language=\"FR\",C71,Language=\"SP\",E71)","v":"Error"},"Erreur","Error",null,"Onglet_Mapping_SEP","done"]
[null,{"$f":"_xlfn.IFS(Language=\"EN\",D72,Language=\"FR\",C72,Language=\"SP\",E72)","v":"Macros are still running. Please wait until they have finished before closing the workbook."},"Des macros sont encore en cours d'exécution. Veuillez attendre qu'elles soient terminées avant de fermer le classeur.","Macros are still running. Please wait until they have finished before closing the workbook.",null,"ThisWorkbook","done"]
[null,{"$f":"_xlfn.IFS(Language=\"EN\",D73,Language=\"FR\",C73,Language=\"SP\",E73)","v":"All macros are finished. You can safely close the application."},"Toutes les macros sont terminées. Vous pouvez fermer l'application en toute sécurité.","All macros are finished. You can safely close the application.",null,"ThisWorkbook","done"]
[null,{"$f":"_xlfn.IFS(Language=\"EN\",D74,Language=\"FR\",C74,Language=\"SP\",E74)","v":"Do you really want to delete this stakeholder? All information (including any interview) will be deleted."},"Voulez-vous vraiment supprimer cette partie prenante ? Toutes les infos (y compris une interview éventuelle) seront supprimées.","Do you really want to delete this stakeholder? All information (including any interview) will be deleted.",null,"Onglet_mapping_SHlist","done"]
[null,{"$f":"_xlfn.IFS(Language=\"EN\",D75,Language=\"FR\",C75,Language=\"SP\",E75)","v":"Confirmation of deletion"},"Confirmation de suppression","Confirmation of deletion",null,"Onglet_mapping_SHlist","done"]
[null,{"$f":"_xlfn.IFS(Language=\"EN\",D76,Language=\"FR\",C76,Language=\"SP\",E76)","v":"The stakeholder has been successfully removed"},"La partie prenante a été supprimée avec succès","The stakeholder has been successfully removed",null,"Onglet_mapping_SHlist","done"]
[null,{"$f":"_xlfn.IFS(Language=\"EN\",D77,Language=\"FR\",C77,Language=\"SP\",E77)","v":0}]
[null,{"$f":"_xlfn.IFS(Language=\"EN\",D78,Language=\"FR\",C78,Language=\"SP\",E78)","v":0}]
[null,{"$f":"_xlfn.IFS(Language=\"EN\",D79,Language=\"FR\",C79,Language=\"SP\",E79)","v":0}]
[null,{"$f":"_xlfn.IFS(Language=\"EN\",D80,Language=\"FR\",C80,Language=\"SP\",E80)","v":0}]
[null,{"$f":"_xlfn.IFS(Language=\"EN\",D81,Language=\"FR\",C81,Language=\"SP\",E81)","v":0}]
[null,{"$f":"_xlfn.IFS(Language=\"EN\",D82,Language=\"FR\",C82,Language=\"SP\",E82)","v":0}]
[null,{"$f":"_xlfn.IFS(Language=\"EN\",D83,Language=\"FR\",C83,Language=\"SP\",E83)","v":0}]
[null,{"$f":"_xlfn.IFS(Language=\"EN\",D84,Language=\"FR\",C84,Language=\"SP\",E84)","v":0}]
[null,{"$f":"_xlfn.IFS(Language=\"EN\",D85,Language=\"FR\",C85,Language=\"SP\",E85)","v":0}]
[null,{"$f":"_xlfn.IFS(Language=\"EN\",D86,Language=\"FR\",C86,Language=\"SP\",E86)","v":0}]
[null,{"$f":"_xlfn.IFS(Language=\"EN\",D87,Language=\"FR\",C87,Language=\"SP\",E87)","v":0}]
[null,{"$f":"_xlfn.IFS(Language=\"EN\",D88,Language=\"FR\",C88,Language=\"SP\",E88)","v":0}]
[null,{"$f":"_xlfn.IFS(Language=\"EN\",D89,Language=\"FR\",C89,Language=\"SP\",E89)","v":0}]
[null,{"$f":"_xlfn.IFS(Language=\"EN\",D90,Language=\"FR\",C90,Language=\"SP\",E90)","v":0}]
[null,{"$f":"_xlfn.IFS(Language=\"EN\",D91,Language=\"FR\",C91,Language=\"SP\",E91)","v":0}]
[null,{"$f":"_xlfn.IFS(Language=\"EN\",D92,Language=\"FR\",C92,Language=\"SP\",E92)","v":0}]
[null,{"$f":"_xlfn.IFS(Language=\"EN\",D93,Language=\"FR\",C93,Language=\"SP\",E93)","v":0}]
[null,{"$f":"_xlfn.IFS(Language=\"EN\",D94,Language=\"FR\",C94,Language=\"SP\",E94)","v":0}]

{"sheet":"Onglet_trad_vba","index":50,"n_rows":36,"n_cols":8,"rows_kept":36,"cut":false,"hidden":false,"merged":[]}
[null,null,"Syntaxe","Report dans VBA"]
[null,null,"Worksheets(\"Onglet_trad_vba\").Range(\"B6\").value","Worksheets(\"Onglet_trad_vba\").Range(\"B10\").value"]
[null,"Texte en dur"]
[]
[null,"Trad","FR","EN","SP","MODULE","Trad","Onglet"]
[null,{"$f":"_xlfn.IFS(Language=\"EN\",D6,Language=\"FR\",C6,Language=\"SP\",E6)","v":"Not Rated"},"Non scoré","Not Rated",null,"Feuil30","Done"]
[null,{"$f":"_xlfn.IFS(Language=\"EN\",D7,Language=\"FR\",C7,Language=\"SP\",E7)","v":"Unknown"},"Inconnu","Unknown",null,"Feuil30","Done"]
[null,{"$f":"_xlfn.IFS(Language=\"EN\",D8,Language=\"FR\",C8,Language=\"SP\",E8)","v":"Zone 1 stakeholders"},"Parties prenantes de la zone 1","Zone 1 stakeholders",null,"Feuil30","Done"]
[null,{"$f":"_xlfn.IFS(Language=\"EN\",D9,Language=\"FR\",C9,Language=\"SP\",E9)","v":"Included in SEP"},"Inclus dans le PEPP","Included in SEP",null,"Feuil30","Done"]
[null,{"$f":"_xlfn.IFS(Language=\"EN\",D10,Language=\"FR\",C10,Language=\"SP\",E10)","v":"Completed"},"Terminé","Completed",null,"Feuil30","Done"]
[null,{"$f":"_xlfn.IFS(Language=\"EN\",D11,Language=\"FR\",C11,Language=\"SP\",E11)","v":"Ongoing"},"En cours","Ongoing",null,"Feuil30","Done"]
[null,{"$f":"_xlfn.IFS(Language=\"EN\",D12,Language=\"FR\",C12,Language=\"SP\",E12)","v":"Not started"},"Non lancé","Not started",null,"Feuil30","Done"]
[null,{"$f":"_xlfn.IFS(Language=\"EN\",D13,Language=\"FR\",C13,Language=\"SP\",E13)","v":"Stakeholder Name"},"Nom de la partie prenante","Stakeholder Name",null,"frm_shlist","Done"]
[null,{"$f":"_xlfn.IFS(Language=\"EN\",D14,Language=\"FR\",C14,Language=\"SP\",E14)","v":"Authorities"},"Autorités","Authorities",null,"Feuil30"]
[null,{"$f":"_xlfn.IFS(Language=\"EN\",D15,Language=\"FR\",C15,Language=\"SP\",E15)","v":"Business"},"Business","Business",null,"Feuil30"]
[null,{"$f":"_xlfn.IFS(Language=\"EN\",D16,Language=\"FR\",C16,Language=\"SP\",E16)","v":"Civil society"},"Société civile","Civil society",null,"Feuil30"]
[null,{"$f":"_xlfn.IFS(Language=\"EN\",D17,Language=\"FR\",C17,Language=\"SP\",E17)","v":"Communities"},"Communautés","Communities",null,"Feuil30"]
[null,{"$f":"_xlfn.IFS(Language=\"EN\",D18,Language=\"FR\",C18,Language=\"SP\",E18)","v":"Targeted stakeholder"},"Partie prenante ciblée","Targeted stakeholder"]
[null,{"$f":"_xlfn.IFS(Language=\"EN\",D19,Language=\"FR\",C19,Language=\"SP\",E19)","v":"Impact"},"Impact","Impact"]
[null,{"$f":"_xlfn.IFS(Language=\"EN\",D20,Language=\"FR\",C20,Language=\"SP\",E20)","v":"Effort"},"Effort","Effort"]
[null,{"$f":"_xlfn.IFS(Language=\"EN\",D21,Language=\"FR\",C21,Language=\"SP\",E21)","v":"Priority"},"Priorité","Priority"]
[null,{"$f":"_xlfn.IFS(Language=\"EN\",D22,Language=\"FR\",C22,Language=\"SP\",E22)","v":"Status"},"Statut","Status"]
[null,{"$f":"_xlfn.IFS(Language=\"EN\",D23,Language=\"FR\",C23,Language=\"SP\",E23)","v":"ACTION_CODE"},"ACTION_CODE","ACTION_CODE"]
[null,{"$f":"_xlfn.IFS(Language=\"EN\",D24,Language=\"FR\",C24,Language=\"SP\",E24)","v":"Responsibility"},"Responsabilité","Responsibility"]
[null,{"$f":"_xlfn.IFS(Language=\"EN\",D25,Language=\"FR\",C25,Language=\"SP\",E25)","v":"Timeframe"},"Calendrier","Timeframe"]
[null,{"$f":"_xlfn.IFS(Language=\"EN\",D26,Language=\"FR\",C26,Language=\"SP\",E26)","v":"Budget"},"Budget","Budget"]
[null,{"$f":"_xlfn.IFS(Language=\"EN\",D27,Language=\"FR\",C27,Language=\"SP\",E27)","v":"KPI"},"KPI","KPI"]
[null,{"$f":"_xlfn.IFS(Language=\"EN\",D28,Language=\"FR\",C28,Language=\"SP\",E28)","v":"Select in the list below the stakeholders to interview"},"Sélectionnez dans la liste ci-dessous les parties prenantes à consulter","Select in the list below the stakeholders to interview",null,"frm_panel"]
[null,{"$f":"_xlfn.IFS(Language=\"EN\",D29,Language=\"FR\",C29,Language=\"SP\",E29)","v":"Stakeholders to interview"},"Parties prenantes à interviewer","Stakeholders to interview",null,"frm_panel"]
[null,{"$f":"_xlfn.IFS(Language=\"EN\",D30,Language=\"FR\",C30,Language=\"SP\",E30)","v":"Validate"},"Valider","Validate",null,"frm_panel"]
[null,{"$f":"_xlfn.IFS(Language=\"EN\",D31,Language=\"FR\",C31,Language=\"SP\",E31)","v":"Cancel"},"Annuler","Cancel",null,"frm_panel"]
[null,{"$f":"_xlfn.IFS(Language=\"EN\",D32,Language=\"FR\",C32,Language=\"SP\",E32)","v":"File processing (0 of"},"Traitement des fichiers (0 sur","File processing (0 of",null,"Module_consult"]
[null,{"$f":"_xlfn.IFS(Language=\"EN\",D33,Language=\"FR\",C33,Language=\"SP\",E33)","v":"File processing ("},"Traitement des fichiers (","File processing (",null,"Module_consult"]
[null,{"$f":"_xlfn.IFS(Language=\"EN\",D34,Language=\"FR\",C34,Language=\"SP\",E34)","v":"of"},"sur","of",null,"Module_consult"]
[null,{"$f":"_xlfn.IFS(Language=\"EN\",D35,Language=\"FR\",C35,Language=\"SP\",E35)","v":"I'm now generating the interview form"},"Je suis en train de générer le formulaire d'interview ","I'm now generating the interview form",null,"Module_consult"]
[null,{"$f":"_xlfn.IFS(Language=\"EN\",D36,Language=\"FR\",C36,Language=\"SP\",E36)","v":"Import of validated interviews is complete"},"L'import des interviews validées est terminé","Import of validated interviews is complete",null,"Module_consult"]

{"sheet":"Onglet_uploads","index":51,"n_rows":20,"n_cols":4,"rows_kept":20,"cut":false,"hidden":false,"merged":[]}
[]
[]
[]
[]
[]
[null,{"$f":"Onglet_trad_menus!B199","v":"Exporting and importing data"}]
[]
[null,null,null,"INSTRUCTIONS"]
[null,null,null,{"$f":"Onglet_trad_menus!B200","v":"Click on the links below to export or import useful data"}]
[null,null,null,{"$f":"Onglet_trad_menus!B203","v":"If you're importing data, we recommend using a blank file."}]
[null,null,null,{"$f":"Onglet_trad_menus!B204","v":"Make sure you select the correct language on the home page, otherwise you'll get errors."}]
[null,null,null,{"$f":"Onglet_trad_menus!B205","v":"Imported data must be compatible with the data formats required for SRM+."}]
[]
[]
[null,null,null,{"$f":"Onglet_trad_menus!B209","v":"Useful data"}]
[null,null,null,{"$f":"Onglet_trad_menus!$B$37","v":"Societal Risks Review"}]
[null,null,null,{"$f":"Onglet_trad_menus!$B$38","v":"Stakeholder mapping"}]
[null,null,null,{"$f":"Onglet_trad_menus!$B$39","v":"Stakeholder consultation"}]
[null,null,null,{"$f":"Onglet_trad_menus!$B$40","v":"Gap analysis and action plan"}]
[null,null,null,{"$f":"Onglet_trad_menus!$B$42","v":"Stakeholder Engagement Plan"}]

{"sheet":"Progress_dataset","index":52,"n_rows":13,"n_cols":9,"rows_kept":13,"cut":false,"hidden":false,"merged":[]}
[]
[]
[]
[null,null,null,null,null,"Module 1","Module 2","Module 3","Module 4"]
[null,null,null,null,null,"SRR","Mapping","Consult","AP"]
[]
[null,null,null,null,"Couleur 1",1,1,1,1]
[null,null,null,null,"Couleur 2",1,1,1,1]
[null,null,null,null,"Couleur 3",1,1,1,1]
[null,null,null,null,"Vide",{"$f":"SUM(F7:F9)","v":3},{"$f":"SUM(G7:G9)","v":3},{"$f":"SUM(H7:H9)","v":3},{"$f":"SUM(I7:I9)","v":3}]
[null,null,null,null,"Indicateur",{"$f":"Onglet_SRR_progress!H18","v":0},{"$f":"Onglet_Mapping_progress!F18","v":0},{"$f":"Onglet_Consult_Progress!F18","v":0},{"$f":"Onglet_AP_progress!F18","v":0}]
[null,null,null,null,"Aiguille",0.02,0.02,0.02,0.02]
[null,null,null,null,"Reste",{"$f":"2-F11","v":2},{"$f":"2-G11","v":2},{"$f":"2-H11","v":2},{"$f":"2-I11","v":2}]

{"sheet":"Raccourcis","index":53,"n_rows":13,"n_cols":6,"rows_kept":13,"cut":false,"hidden":false,"merged":[]}
[]
[]
[]
[]
[]
[]
[null,null,null,"Afficher les onglets","CTRL+SHIFT","T"]
[null,null,null,"Déprotéger la feuille","CTRL+SHIFT","P"]
[null,null,null,"Aller à la page d'accueil","CTRL+SHIFT","H"]
[null,null,null,"Aller à la cellule source","CTRL+SHIFT","M"]
[null,null,null,"Aller à la ligne de la macro","CTRL+SHIFT","L"]
[null,null,null,"Reporter la cellule dans la formule ","CTRL+SHIFT","N"]
[null,null,null,"Stopper / Activer les macros","CTRL+SHIFT","S"]

{"sheet":"table","index":54,"n_rows":106,"n_cols":11,"rows_kept":106,"cut":false,"hidden":false,"merged":[[1,4,1,6],[1,8,1,10]]}
[]
[null,null,null,null,"OPERATIONS",null,null,null,"PROJECT"]
[]
[null,null,null,null,"EN","FR","SP",null,"EN","FR","SP"]
[]
[null,null,{"$f":"_xlfn.IFS(Language=\"EN\",E6,Language=\"FR\",F6,Language=\"SP\",G6)","v":"Authorities"},null,"Authorities","Autorités"]
[null,null,{"$f":"_xlfn.IFS(Language=\"EN\",E7,Language=\"FR\",F7,Language=\"SP\",G7)","v":"Business"},null,"Business","Business"]
[null,null,{"$f":"_xlfn.IFS(Language=\"EN\",E8,Language=\"FR\",F8,Language=\"SP\",G8)","v":"Civil society"},null,"Civil society","Société civile"]
[null,null,{"$f":"_xlfn.IFS(Language=\"EN\",E9,Language=\"FR\",F9,Language=\"SP\",G9)","v":"Communities"},null,"Communities","Communautés"]
[null,null,{"$f":"_xlfn.IFS(Language=\"EN\",E10,Language=\"FR\",F10,Language=\"SP\",G10)","v":"All stakeholders"},null,"All stakeholders","Toutes les parties prenantes"]
[]
[]
[null,null,{"$f":"_xlfn.IFS(Language=\"EN\",E13,Language=\"FR\",F13,Language=\"SP\",G13)","v":"-"},null,"-","-"]
[null,null,{"$f":"_xlfn.IFS(Language=\"EN\",E14,Language=\"FR\",F14,Language=\"SP\",G14)","v":"No contact yet"},null,"No contact yet","Pas encore de contact"]
[null,null,{"$f":"_xlfn.IFS(Language=\"EN\",E15,Language=\"FR\",F15,Language=\"SP\",G15)","v":"Interview booked"},null,"Interview booked","Entretien réservé"]
[null,null,{"$f":"_xlfn.IFS(Language=\"EN\",E16,Language=\"FR\",F16,Language=\"SP\",G16)","v":"Interview performed"},null,"Interview performed","Interview réalisée"]
[]
[null,null,"Pour la matrice"]
[]
[null,null,{"$f":"_xlfn.IFS(Language=\"EN\",E20,Language=\"FR\",F20,Language=\"SP\",G20)","v":"ALL"},null,"ALL","TOUS"]
[null,null,{"$f":"_xlfn.IFS(Language=\"EN\",E21,Language=\"FR\",F21,Language=\"SP\",G21)","v":"Authorities"},null,"Authorities","Autorités"]
[null,null,{"$f":"_xlfn.IFS(Language=\"EN\",E22,Language=\"FR\",F22,Language=\"SP\",G22)","v":"Business"},null,"Business","Business"]
[null,null,{"$f":"_xlfn.IFS(Language=\"EN\",E23,Language=\"FR\",F23,Language=\"SP\",G23)","v":"Civil society"},null,"Civil society","Société civile"]
[null,null,{"$f":"_xlfn.IFS(Language=\"EN\",E24,Language=\"FR\",F24,Language=\"SP\",G24)","v":"Communities"},null,"Communities","Communautés"]
[]
[]
[null,null,{"$f":"_xlfn.IFS(Language=\"EN\",E27,Language=\"FR\",F27,Language=\"SP\",G27)","v":"ALL"},null,"ALL","TOUS"]
[null,null,{"$f":"_xlfn.IFS(Language=\"EN\",E28,Language=\"FR\",F28,Language=\"SP\",G28)","v":"Regulator"},null,"Regulator","Régulateur"]
[null,null,{"$f":"_xlfn.IFS(Language=\"EN\",E29,Language=\"FR\",F29,Language=\"SP\",G29)","v":"Administration"},null,"Administration","Administration"]
[null,null,{"$f":"_xlfn.IFS(Language=\"EN\",E30,Language=\"FR\",F30,Language=\"SP\",G30)","v":"Local authorities"},null,"Local authorities","Autorités locales"]
[null,null,{"$f":"_xlfn.IFS(Language=\"EN\",E31,Language=\"FR\",F31,Language=\"SP\",G31)","v":"Other authorities"},null,"Other authorities","Autres autorités"]
[null,null,{"$f":"_xlfn.IFS(Language=\"EN\",E32,Language=\"FR\",F32,Language=\"SP\",G32)","v":"Contractors"},null,"Contractors","Entrepreneurs"]
[null,null,{"$f":"_xlfn.IFS(Language=\"EN\",E33,Language=\"FR\",F33,Language=\"SP\",G33)","v":"Local suppliers"},null,"Local suppliers","Fournisseurs locaux"]
[null,null,{"$f":"_xlfn.IFS(Language=\"EN\",E34,Language=\"FR\",F34,Language=\"SP\",G34)","v":"Industrial neighbors"},null,"Industrial neighbors","Voisins industriels"]
[null,null,{"$f":"_xlfn.IFS(Language=\"EN\",E35,Language=\"FR\",F35,Language=\"SP\",G35)","v":"Professional organizations"},null,"Professional organizations","Organisations professionnelles"]
[null,null,{"$f":"_xlfn.IFS(Language=\"EN\",E36,Language=\"FR\",F36,Language=\"SP\",G36)","v":"JV partners"},null,"JV partners","Partenaires JV"]
[null,null,{"$f":"_xlfn.IFS(Language=\"EN\",E37,Language=\"FR\",F37,Language=\"SP\",G37)","v":"Customers"},null,"Customers","Clients"]
[null,null,{"$f":"_xlfn.IFS(Language=\"EN\",E38,Language=\"FR\",F38,Language=\"SP\",G38)","v":"Education & research"},null,"Education & research","Éducation et recherche"]
[null,null,{"$f":"_xlfn.IFS(Language=\"EN\",E39,Language=\"FR\",F39,Language=\"SP\",G39)","v":"Other business stakeholders"},null,"Other business stakeholders","Autres parties prenantes de l'entreprise"]
[null,null,{"$f":"_xlfn.IFS(Language=\"EN\",E40,Language=\"FR\",F40,Language=\"SP\",G40)","v":"NGOs and associations"},null,"NGOs and associations","ONG et associations"]
[null,null,{"$f":"_xlfn.IFS(Language=\"EN\",E41,Language=\"FR\",F41,Language=\"SP\",G41)","v":"Media & opinion leaders"},null,"Media & opinion leaders","Médias et leaders d'opinion"]
[null,null,{"$f":"_xlfn.IFS(Language=\"EN\",E42,Language=\"FR\",F42,Language=\"SP\",G42)","v":"Other civil society stakeholders"},null,"Other civil society stakeholders","Autres acteurs de la société civile"]
[null,null,{"$f":"_xlfn.IFS(Language=\"EN\",E43,Language=\"FR\",F43,Language=\"SP\",G43)","v":"Community representatives"},null,"Community representatives","Représentants de la communauté"]
[null,null,{"$f":"_xlfn.IFS(Language=\"EN\",E44,Language=\"FR\",F44,Language=\"SP\",G44)","v":"Specific groups"},null,"Specific groups","Groupes spécifiques"]
[null,null,{"$f":"_xlfn.IFS(Language=\"EN\",E45,Language=\"FR\",F45,Language=\"SP\",G45)","v":"Schools and universities"},null,"Schools and universities","Écoles et universités"]
[null,null,{"$f":"_xlfn.IFS(Language=\"EN\",E46,Language=\"FR\",F46,Language=\"SP\",G46)","v":"Other community stakeholders"},null,"Other community stakeholders","Autres acteurs communautaires"]
[]
[null,null,"Pour la fiche AP"]
[]
[null,null,{"$f":"_xlfn.IFS(Language=\"EN\",E50,Language=\"FR\",F50,Language=\"SP\",G50)","v":"No comment"},null,"No comment","Pas de commentaire"]
[]
[]
[]
[null,null,"Pour les graphs Consult"]
[]
[null,null,{"$f":"IF(OR(LifeCycle_Status=table!$C$105,LifeCycle_Status=\"\"),_xlfn.IFS(Language=\"EN\",E56,Language=\"FR\",F56,Language=\"SP\",G56),IF(LifeCycle_Status=table!$C$106,_xlfn.IFS(Language=\"EN\",I56,Language=\"FR\",J56,Language=\"SP\",K56)))","v":"Pillar 1 - RELATIONSHIPS & DIALOGUE"},null,"Pillar 1 - RELATIONSHIPS & DIALOGUE","Pilier 1 - RELATIONS & DIALOGUE",null,null,"Pillar 1 - RELATIONSHIPS & DIALOGUE"]
[null,null,{"$f":"IF(OR(LifeCycle_Status=table!$C$105,LifeCycle_Status=\"\"),_xlfn.IFS(Language=\"EN\",E57,Language=\"FR\",F57,Language=\"SP\",G57),IF(LifeCycle_Status=table!$C$106,_xlfn.IFS(Language=\"EN\",I57,Language=\"FR\",J57,Language=\"SP\",K57)))","v":"Quality of relationships"},null,"Quality of relationships","Qualité de la relation",null,null,"Quality of relationships"]
[null,null,{"$f":"IF(OR(LifeCycle_Status=table!$C$105,LifeCycle_Status=\"\"),_xlfn.IFS(Language=\"EN\",E58,Language=\"FR\",F58,Language=\"SP\",G58),IF(LifeCycle_Status=table!$C$106,_xlfn.IFS(Language=\"EN\",I58,Language=\"FR\",J58,Language=\"SP\",K58)))","v":"Possible areas for improvement"},null,"Possible areas for improvement","Axes d'amélioration possibles",null,null,"Priority areas of vigilance"]
[null,null,{"$f":"IF(OR(LifeCycle_Status=table!$C$105,LifeCycle_Status=\"\"),_xlfn.IFS(Language=\"EN\",E59,Language=\"FR\",F59,Language=\"SP\",G59),IF(LifeCycle_Status=table!$C$106,_xlfn.IFS(Language=\"EN\",I59,Language=\"FR\",J59,Language=\"SP\",K59)))","v":"Pillar 2 - NEGATIVE IMPACTS"},null,"Pillar 2 - NEGATIVE IMPACTS","Pilier 2 - IMPACTS NÉGATIFS",null,null,"Pillar 2 - NEGATIVE IMPACTS"]
[null,null,{"$f":"IF(OR(LifeCycle_Status=table!$C$105,LifeCycle_Status=\"\"),_xlfn.IFS(Language=\"EN\",E60,Language=\"FR\",F60,Language=\"SP\",G60),IF(LifeCycle_Status=table!$C$106,_xlfn.IFS(Language=\"EN\",I60,Language=\"FR\",J60,Language=\"SP\",K60)))","v":"Level of concern about negative impacts"},null,"Level of concern about negative impacts","Niveau de préoccupation concernant les impacts négatifs",null,null,"Level of concern about project's potential negative impacts"]
[null,null,{"$f":"IF(OR(LifeCycle_Status=table!$C$105,LifeCycle_Status=\"\"),_xlfn.IFS(Language=\"EN\",E61,Language=\"FR\",F61,Language=\"SP\",G61),IF(LifeCycle_Status=table!$C$106,_xlfn.IFS(Language=\"EN\",I61,Language=\"FR\",J61,Language=\"SP\",K61)))","v":"Pillar 3 - POSITIVE IMPACTS"},null,"Pillar 3 - POSITIVE IMPACTS","Pilier 3 - IMPACTS POSITIFS",null,null,"Pillar 3 - POSITIVE IMPACTS"]
[null,null,{"$f":"IF(OR(LifeCycle_Status=table!$C$105,LifeCycle_Status=\"\"),_xlfn.IFS(Language=\"EN\",E62,Language=\"FR\",F62,Language=\"SP\",G62),IF(LifeCycle_Status=table!$C$106,_xlfn.IFS(Language=\"EN\",I62,Language=\"FR\",J62,Language=\"SP\",K62)))","v":"Level of satisfaction with local contribution"},null,"Level of satisfaction with local contribution","Niveau de satisfaction concernant la contribution locale",null,null,"Level of concern regarding project's ability to deliver positive impacts"]
[null,null,{"$f":"IF(OR(LifeCycle_Status=table!$C$105,LifeCycle_Status=\"\"),_xlfn.IFS(Language=\"EN\",E63,Language=\"FR\",F63,Language=\"SP\",G63),IF(LifeCycle_Status=table!$C$106,_xlfn.IFS(Language=\"EN\",I63,Language=\"FR\",J63,Language=\"SP\",K63)))","v":"Social Investment priorities"},null,"Social Investment priorities","Priorités d'investissement sociétal",null,null,"Social Investment priorities"]
[null,null,{"$f":"IF(OR(LifeCycle_Status=table!$C$105,LifeCycle_Status=\"\"),_xlfn.IFS(Language=\"EN\",E64,Language=\"FR\",F64,Language=\"SP\",G64),IF(LifeCycle_Status=table!$C$106,_xlfn.IFS(Language=\"EN\",I64,Language=\"FR\",J64,Language=\"SP\",K64)))","v":"CONSULTATION RESULTS"},null,"CONSULTATION RESULTS","RÉSULTATS DE LA CONSULTATION",null,null,"CONSULTATION RESULTS"]
[]
[null,null,"Pour les menus"]
[]
[]
[]
[]
[null,null,"Réponse Oui / Non"]
[]
[null,null,{"$f":"_xlfn.IFS(Language=\"EN\",E73,Language=\"FR\",F73,Language=\"SP\",G73)","v":"Yes"},null,"Yes","Oui"]
[null,null,{"$f":"_xlfn.IFS(Language=\"EN\",E74,Language=\"FR\",F74,Language=\"SP\",G74)","v":"No"},null,"No","Non"]
[]
[]
[null,null,"Pour les branches"]
[]
[null,null,{"$f":"_xlfn.IFS(Language=\"EN\",E79,Language=\"FR\",F79,Language=\"SP\",G79)","v":"EP"},null,"EP","EP"]
[null,null,{"$f":"_xlfn.IFS(Language=\"EN\",E80,Language=\"FR\",F80,Language=\"SP\",G80)","v":"RC"},null,"RC","RC"]
[null,null,{"$f":"_xlfn.IFS(Language=\"EN\",E81,Language=\"FR\",F81,Language=\"SP\",G81)","v":"MS"},null,"MS","MS"]
[null,null,{"$f":"_xlfn.IFS(Language=\"EN\",E82,Language=\"FR\",F82,Language=\"SP\",G82)","v":"GRP"},null,"GRP","GRP"]
[]
[]
[null,null,"Pour la langue"]
[]
[null,null,"FR",null,"FR","FR"]
[null,null,"EN",null,"EN","EN"]
[]
[]
[null,null,"Statut action"]
[]
[null,null,{"$f":"_xlfn.IFS(Language=\"EN\",E93,Language=\"FR\",F93,Language=\"SP\",G93)","v":"Existing"},null,"Existing","Existant"]
[null,null,{"$f":"_xlfn.IFS(Language=\"EN\",E94,Language=\"FR\",F94,Language=\"SP\",G94)","v":"New"},null,"New","Nouveau"]
[]
[null,null,"Graph consult"]
[]
[null,null,{"$f":"_xlfn.IFS(Language=\"EN\",E98,Language=\"FR\",F98,Language=\"SP\",G98)","v":"All stakeholders"},null,"All stakeholders","Tous ensemble"]
[null,null,{"$f":"_xlfn.IFS(Language=\"EN\",E99,Language=\"FR\",F99,Language=\"SP\",G99)","v":"Critical points"},null,"Critical points","Points critiques"]
[null,null,{"$f":"_xlfn.IFS(Language=\"EN\",E100,Language=\"FR\",F100,Language=\"SP\",G100)","v":"Less than 50% of responses"},null,"Less than 50% of responses","Moins de 50% de réponses"]
[null,null,{"$f":"_xlfn.IFS(Language=\"EN\",E101,Language=\"FR\",F101,Language=\"SP\",G101)","v":"Colors for each stakeholder category"},null,"Colors for each stakeholder category","Couleurs pour chaque catégorie de parties prenantes"]
[]
[]
[null,null,{"$f":"_xlfn.IFS(Language=\"EN\",E104,Language=\"FR\",F104,Language=\"SP\",G104)","v":"Asset lifecycle phase"},null,"Asset lifecycle phase","Phase de cycle de vie de l'asset"]
[null,null,{"$f":"_xlfn.IFS(Language=\"EN\",E105,Language=\"FR\",F105,Language=\"SP\",G105)","v":"Operations"},null,"Operations","Opérations"]
[null,null,{"$f":"_xlfn.IFS(Language=\"EN\",E106,Language=\"FR\",F106,Language=\"SP\",G106)","v":"Project"},null,"Project","Projet"]